Workbook
Name B.Code: '[1]CPO-Temp'!$F$3:$F$45
Name MSN_MoneyCentral_Investor_Currency_Rates: working!#REF!

Sheet working
A1: FM - Bot | C1: 959.960.977.956 | U1: Calculation based on Actual Sales | ET1: Calculation based on W/H Issuing
J2: HO+Branches | K2: At the Port | L2: On The Way | M2: Waiting Shipment | FL2: HO
A3: No. | B3: Brand | C3: Description | D3: Pack Size | H3: Part No | I3: Unit Code | J3: Closing Balance Qty 23-4-25 & Branch Closing of 31-3-25 | K3: At the Port (Qty) | L3: On The Way (Qty) | M3: Waiting Shipment (Qty) | T3: Branch Outstanding PO Qty | U3: Feb | V3: Mar | W3: Apr | X3: May | Y3: Jun | Z3: Jul | AA3: Aug | AB3: Sep | AC3: Oct | AD3: Nov | AE3: Dec | AF3: Jan'16 | AG3: Feb'16 | AH3: Mar'16 | AI3: Apr'16 | AJ3: May'16 | AK3: Jun'16 | AL3: Jul'16 | AM3: Aug'16 | AN3: Sep'16 | AO3: Oct'16 | AP3: Nov'16 | AQ3: Dec'16 | AR3: Jan'17 | AS3: Feb'17 | AT3: Mar'17 | AU3: Apr'17 | AV3: May'17 | AW3: Jun'17 | AX3: Jul'17 | AY3: Aug'17 | AZ3: Sep'17 | BA3: Oct'17 | BB3: Nov'17 | BC3: Dec'17 | BD3: Jan'18 | BE3: Feb'18 | BF3: Mar'18 | BG3: Apr'18 | BH3: May'18 | BI3: Jun'18 | BJ3: Jul'18 | BK3: Aug'18 | BL3: Sep'18 | BM3: Oct'18 | BN3: Nov'18 | BO3: Dec'18 | BP3: Jan'19 | BQ3: Feb'19 | BR3: Mar'19 | BS3: Apr'19 | BT3: May'19 | BU3: Jun'19 | BV3: Jul'19 | BW3: Aug'19 | BX3: Sep'19 | BY3: Oct'19 | BZ3: Nov'19 | CA3: Dec'19 | CB3: Jan'20 | CC3: Feb'20 | CD3: Mar'20 | CE3: Apr'20 | CF3: May'20 | CG3: Jun'20 | CH3: Jul'20 | CI3: Aug'20 | CJ3: Sep'20 | CK3: Oct'20 | CL3: Nov'20 | CM3: Dec'20 | CN3: Jan'21 | CO3: Feb'21 | CP3: Mar'21 | CQ3: Apr'21 | CR3: May'21 | CS3: Jun'21 | CT3: Jul'21 | CU3: Aug'21 | CV3: Sep'21 | CW3: Oct'21 | CX3: Nov'21 | CY3: Dec'21 | CZ3: Jan'22 | DA3: Feb'22 | DB3: Mar'22 | DC3: Apr'22 | DD3: May'22 | DE3: Jun'22 | DF3: Jul'22 | DG3: Aug'22 | DH3: Sep'22 | DI3: Oct'22 | DJ3: Nov'22 | DK3: Dec'22 | DL3: Jan'23 | DM3: Feb'23 | DN3: Mar'23 | DO3: Apr'23 | DP3: May'23 | DQ3: Jun'23 | DR3: Jul'23 | DS3: Aug'23 | DT3: Sep'23 | DU3: Oct'23 | DV3: Nov'23 | DW3: Dec'23 | DX3: Jan'24 | DY3: Feb'24 | DZ3: Mar'24 | EA3: Apr'24 | EB3: May'24 | EC3: Jun'24 | ED3: Jul'24 | EE3: Aug'24 | EF3: Sep'24 | EG3: Oct'24 | EH3: Nov'24 | EI3: Dec'24 | EJ3: Jan'25 | EK3: Feb'25 | EL3: Mar'25 | EM3: 4 month average sale | EN3: Estimated Stk in hand condition | EO3: Estimated Order Plan | EQ3: Final Order Qty | ET3: Feb | EU3: Mar | EV3: Apr | EW3: May | EX3: Jun | EY3: Jul | EZ3: Aug | FA3: Sep | FB3: Oct | FC3: Nov | FD3: Dec | FE3: Jan'16 | FF3: Feb'16 | FG3: Mar'16 | FH3: Apr'16 | FI3: May'16 | FJ3: Jun'16 | FK3: Jul'16 | FL3: Aug'16 | FM3: Sep'16 | FN3: Oct'16 | FO3: Nov'16 | FP3: Dec'16 | FQ3: Jan'17 | FR3: Feb'17 | FS3: Mar'17 | FT3: Apr'17 | FU3: May'17 | FV3: Avg Issue | FW3: Estimated Stk in hand condition | FX3: Estimated Order Plan
N4: Myeik Est order | O4: Mandalay Est order | P4: CMD MDY Est order | Q4: Monywa Est order | R4: BTB Hot Prospect | S4: BTB CCO Order & Hot Prospect | ES4: MOQ | GC4: PO 1027 | GD4: PO 1028 | GE4: PO 1029 | GF4: PO 1041 | GG4: PO 1042 | GH4: PO 1043 | GI4: PO 1044 | GJ4: PO 1046 | GK4: PO 1047 | GN4: PO 146 | GO4: PO 147 | GP4: PO 148 | GQ4: PO 149 | GR4: PO 150 | GS4: PO 151 | GT4: PO 152 | GU4: PO 153 | GV4: PO 154 | GW4: PO 155
A5: 1 | B5: Valvoline | C5: 4T Premium 20W40, SL, JASO MA | D5: 24 | E5: x | F5: 1 | G5: L | H5: 692247 | I5: Bottle | J5: 210 | M5: =480*24 -> 11520 | U5: 892 | V5: 299 | W5: 342 | X5: 490 | Y5: 775 | Z5: 853 | AA5: 1119 | AB5: 966 | AC5: 974 | AD5: 590 | AE5: 1265 | AF5: 1043 | AG5: 849 | AH5: 1291 | AI5: 468 | AJ5: 709 | AK5: 951 | AL5: 1042 | AM5: 1167 | AN5: 1953 | AO5: 1639 | AP5: 1383 | AQ5: 1948.125 | AR5: 2579 | AS5: 3228 | AT5: 2207 | AU5: 1426 | AV5: 1754 | AW5: 2375 | AX5: 999 | AY5: 1844 | AZ5: 2035 | BA5: 1864 | BB5: 2044 | BC5: 2236 | BD5: 3176 | BE5: 3617 | BF5: 3987 | BG5: 2355 | BH5: 2610 | BI5: 2973 | BJ5: 2982 | BK5: 3159 | BL5: 2047 | BM5: 2692 | BN5: 1997 | BO5: 3102 | BP5: 1991 | BQ5: 2808 | BR5: 2142 | BS5: 3860 | BT5: 3260 | BU5: 2272 | BV5: 3222 | BW5: 2797 | BX5: 3882 | BY5: 2813 | BZ5: 3267 | CA5: 3619 | CB5: 3785 | CC5: 4304 | CD5: 2179 | CE5: 1513 | CF5: 2586 | CG5: 3688 | CH5: 2458 | CI5: 2861 | CJ5: 2677 | CK5: 2098 | CL5: 4191 | CM5: 3016 | CN5: 3817 | CO5: 4751 | CP5: 2250 | CQ5: 4513 | CR5: 1802 | CS5: 1220 | CT5: 1026 | CU5: 5297 | CV5: 4050 | CW5: 1294 | CX5: 915 | CY5: 1968 | CZ5: 3306 | DA5: 3477 | DB5: 5583 | DC5: 289 | DD5: 499 | DE5: 3975 | DF5: 3822 | DG5: 1555 | DH5: 567 | DI5: 1654 | DJ5: 2211 | DK5: 1410 | DL5: 1568 | DM5: 2662 | DN5: 1589 | DO5: 1267 | DP5: 2590 | DQ5: 5179 | DR5: 2570 | DS5: 1440 | DT5: 1247 | DU5: 894 | DV5: 416 | DW5: 179 | DX5: 3760 | DY5: 1606 | DZ5: 3868 | EA5: 2014 | EB5: 3541 | EC5: 1596 | ED5: 1993 | EE5: 86 | EF5: 235 | EG5: 3456 | EH5: 2617 | EI5: 3047 | EJ5: 1543 | EK5: =VLOOKUP(H5,'Sale Data'!I:J,2,) -> 242 | EL5: 38 | EM5: =AVERAGE(EG5:EJ5) -> 2665.75 | EN5: =(J5+K5+L5+M5)-(N5+O5+P5+Q5+T5+R5+S5+EM5) -> 9064.25 | EO5: =(EM5*6)-EN5 -> 6930.25 | EQ5: =40*7*24 -> 6720 | ES5: MOQ - 40 CS | ET5: 1488 | EU5: 1584 | EV5: 1776 | EW5: 3649 | EX5: 721 | EY5: 2568 | EZ5: 1141 | FA5: 1304 | FB5: 1270 | FC5: 792 | FD5: 1094 | FE5: 711 | FF5: 1042 | FG5: 1004 | FH5: 301 | FI5: 763 | FJ5: 1937 | FK5: 1957 | FL5: 853 | FM5: 1742 | FN5: 1239 | FO5: 3333 | FP5: 1609 | FQ5: 1617 | FR5: 5059 | FS5: 2165 | FT5: =VLOOKUP(H5,#REF!,2,) -> #REF! | FU5: 1655 | FV5: =AVERAGE(FO5:FU5) -> #REF! | FW5: =(J5+K5+L5+M5)-(T5+FV5) -> #REF! | FX5: =(FV5*3)-FW5 -> #REF! | GA5: =EQ5*F5 -> 6720 | GC5: =40*3 -> 120 | GG5: =40*5 -> 200 | GK5: 40 | GN5: =40*7 -> 280
A6: 2 | B6: Valvoline | C6: 4T Premium 20W40, SL, JASO MA | D6: 24 | E6: x | F6: 0.8 | G6: L | H6: 732728 | I6: Bottle | J6: 0 | U6: 69 | V6: 21 | X6: 27 | Y6: 14 | Z6: 332 | AA6: 2 | AB6: 90 | AC6: 24 | AD6: 0 | AE6: 134 | AF6: 5 | AG6: 26 | AH6: 143 | AI6: 9 | AJ6: 27 | AK6: 109 | AL6: 69 | AM6: 697 | AN6: 80 | AO6: 39 | AP6: 36 | AQ6: 8 | AR6: 26 | AS6: 2 | AT6: 0 | AU6: 38 | AV6: 0 | AW6: 0 | AX6: 48 | AY6: 48 | AZ6: 41 | BA6: 140 | BB6: 222 | BC6: 24 | BD6: 121 | BE6: 30 | BF6: 14 | BG6: 40 | BH6: 29 | BI6: 87 | BJ6: 120 | BK6: 108 | BL6: 1 | BM6: 27 | BN6: 25 | BO6: 24 | BP6: 3 | BQ6: 0 | BR6: 2 | BS6: 4 | BT6: 1 | BU6: 4 | BV6: 25 | BW6: 28 | BX6: 26 | BY6: 1 | BZ6: 8 | CA6: 0 | CB6: 4 | CC6: 2 | CD6: 0 | CE6: 0 | CF6: 1 | CG6: 5 | CH6: 3 | CI6: 0 | CJ6: 2 | CK6: 26 | CL6: 3 | CM6: 2 | CN6: 2 | CO6: 0 | CP6: 0 | CQ6: 0 | CR6: 0 | CS6: 0 | CT6: 4 | CU6: 2 | CV6: 0 | CW6: 0 | CX6: 97 | CY6: 8 | CZ6: 64 | DA6: 72 | DB6: 48 | DC6: 172 | DD6: 25 | DE6: 60 | DF6: 0 | DG6: 0 | DH6: 0 | DI6: 0 | DJ6: 0 | DK6: 0 | DL6: 0 | DM6: 0 | DN6: 0 | DO6: 0 | DP6: 25 | DQ6: 0 | DR6: 0 | DS6: 0 | DT6: 0 | DU6: 6 | DV6: 0 | DW6: 0 | DX6: 0 | DY6: 0 | DZ6: 0 | EA6: 0 | EB6: 0 | EC6: 0 | ED6: 0 | EE6: 0 | EF6: 0 | EG6: 0 | EH6: 0 | EI6: 0 | EJ6: 0 | EK6: =VLOOKUP(H6,'Sale Data'!I:J,2,) -> 0 | EL6: 0 | EM6: =AVERAGE(EG6:EJ6) -> 0 | EN6: =(J6+K6+L6+M6)-(N6+O6+P6+Q6+T6+R6+S6+EM6) -> 0 | EO6: =(EM6*2)-EN6 -> 0 | EQ6: 0 | ES6: MOQ - 40 CS | ET6: 0 | EU6: 0 | EV6: 0 | EW6: 72 | EX6: 0 | EY6: 120 | EZ6: 0 | FA6: 0 | FB6: 0 | FC6: 0 | FD6: 126 | FE6: 120 | FF6: 120 | FG6: 120 | FH6: 0 | FI6: 73 | FJ6: 72 | FK6: 48 | FL6: 0 | FM6: 0 | FN6: 75 | FO6: 0 | FP6: 48 | FQ6: 0 | FR6: 0 | FS6: 0 | FT6: =VLOOKUP(H6,#REF!,2,) -> #REF! | FU6: 0 | FV6: =AVERAGE(FO6:FU6) -> #REF! | FW6: =(J6+K6+L6+M6)-(T6+FV6) -> #REF! | FX6: =(FV6*2)-FW6 -> #REF! | GA6: =EQ6*F6 -> 0
A7: 3 | B7: Valvoline | C7: All Fleet Premium 15W40, CI-4/SL | D7: 24 | E7: x | F7: 1 | G7: L | H7: 691970 | I7: Bottle | J7: 1060 | L7: =40*24 -> 960 | U7: 351 | V7: 70 | W7: 354 | X7: 337 | Y7: 174 | Z7: 130 | AA7: 225 | AB7: 225 | AC7: 224 | AD7: 438 | AE7: 265 | AF7: 298 | AG7: 383 | AH7: 459 | AI7: 509 | AJ7: 490 | AK7: 299 | AL7: 379 | AM7: 738 | AN7: 394 | AO7: 757 | AP7: 531 | AQ7: 514.25 | AR7: 506 | AS7: 241 | AT7: 410 | AU7: 266 | AV7: 258 | AW7: 448 | AX7: 402 | AY7: 388 | AZ7: 397 | BA7: 413 | BB7: 389 | BC7: 296 | BD7: 356 | BE7: 556 | BF7: 453 | BG7: 432 | BH7: 434 | BI7: 326 | BJ7: 350 | BK7: 303 | BL7: 266 | BM7: 202 | BN7: 260 | BO7: 295 | BP7: 315 | BQ7: 324 | BR7: 278 | BS7: 163 | BT7: 337 | BU7: 220 | BV7: 132 | BW7: 375 | BX7: 259 | BY7: 228 | BZ7: 143 | CA7: 165 | CB7: 193 | CC7: 143 | CD7: 118 | CE7: 23 | CF7: 93 | CG7: 154 | CH7: 168 | CI7: 163 | CJ7: 86 | CK7: 22 | CL7: 64 | CM7: 73 | CN7: 104 | CO7: 72 | CP7: 43 | CQ7: 98 | CR7: 34 | CS7: 59 | CT7: 45 | CU7: 53 | CV7: 22 | CW7: 32 | CX7: 46 | CY7: 149 | CZ7: 55 | DA7: 113 | DB7: 106 | DC7: 113 | DD7: 140 | DE7: 57 | DF7: 51 | DG7: 39 | DH7: 14 | DI7: 1 | DJ7: 0 | DK7: 183 | DL7: 23 | DM7: 51 | DN7: 51 | DO7: 72 | DP7: 36 | DQ7: 110 | DR7: 68 | DS7: 38 | DT7: 60 | DU7: 8 | DV7: 39 | DW7: 12 | DX7: 47 | DY7: 21 | DZ7: 11 | EA7: 22 | EB7: 57 | EC7: 8 | ED7: 3 | EE7: 2 | EF7: 0 | EG7: 0 | EH7: 6 | EI7: 16 | EJ7: 161 | EK7: =VLOOKUP(H7,'Sale Data'!I:J,2,) -> 210 | EL7: 59 | EM7: =AVERAGE(EG7:EJ7) -> 45.75 | EN7: =(J7+K7+L7+M7)-(N7+O7+P7+Q7+T7+R7+S7+EM7) -> 1974.25 | EO7: =(EM7*4)-EN7 -> -1791.25 | EQ7: 0 | ES7: MOQ - 40 CS | ET7: 446 | EU7: 171 | EV7: 930 | EW7: 973 | EX7: 572 | EY7: 527 | EZ7: 582 | FA7: 563 | FB7: 471 | FC7: 149 | FD7: 1054 | FE7: 270 | FF7: 190 | FG7: 708 | FH7: 253 | FI7: 880 | FJ7: 715 | FK7: 360 | FL7: 384 | FM7: 122 | FN7: 210 | FO7: 450 | FP7: 337 | FQ7: 744 | FR7: 422 | FS7: 265 | FT7: =VLOOKUP(H7,#REF!,2,) -> #REF! | FU7: 473 | FV7: =AVERAGE(FO7:FU7) -> #REF! | FW7: =(J7+K7+L7+M7)-(T7+FV7) -> #REF! | FX7: =(FV7*2)-FW7 -> #REF! | GA7: =EQ7*F7 -> 0
A8: 4 | B8: Valvoline | C8: All Fleet Premium 15W40, CI-4/SL | D8: 1 | E8: x | F8: 200 | G8: L | H8: 692052 | I8: Drum | J8: 11.275 | K8: =80 -> 80 | M8: =80 -> 80 | U8: 85.2 | V8: 83 | W8: 94 | X8: 114.11 | Y8: 115.16 | Z8: 76 | AA8: 58 | AB8: 149 | AC8: 164 | AD8: 194.04 | AE8: 385.889 | AF8: 295 | AG8: 120 | AH8: 139.3 | AI8: 131.225 | AJ8: 151.595 | AK8: 111.735 | AL8: 100.21 | AM8: 93.77 | AN8: 56.327692 | AO8: 79.3 | AP8: 94.27 | AQ8: 105.26 | AR8: 109.06 | AS8: 104.8 | AT8: 88.13 | AU8: 118.15 | AV8: 63 | AW8: 45.1 | AX8: 37.1 | AY8: 36.715 | AZ8: 62.505 | BA8: 32.1 | BB8: 65 | BC8: 41.54 | BD8: 86 | BE8: 84.26 | BF8: 69.065 | BG8: 80.04 | BH8: 67.12 | BI8: 43.02 | BJ8: 42.5 | BK8: 34.175 | BL8: 40.06 | BM8: 50 | BN8: 90.055 | BO8: 50 | BP8: 83.24 | BQ8: 80.2 | BR8: 64.41 | BS8: 62.1 | BT8: 74.05 | BU8: 105.16 | BV8: 63.25 | BW8: 70 | BX8: 69.63 | BY8: 79.21 | BZ8: 69 | CA8: 97.28 | CB8: 114.33 | CC8: 109.24 | CD8: 107.27 | CE8: 68.175 | CF8: 113.1 | CG8: 53.33 | CH8: 46.14 | CI8: 76.195 | CJ8: 52.16 | CK8: 77.55 | CL8: 67 | CM8: 88 | CN8: 113.45 | CO8: 53.63 | CP8: 93.405 | CQ8: 93.2 | CR8: 37.18 | CS8: 48.355 | CT8: 41.12 | CU8: 44 | CV8: 35 | CW8: 24.2 | CX8: 44 | CY8: 36.2 | CZ8: 31 | DA8: 38.07 | DB8: 46 | DC8: 41 | DD8: 28.13 | DE8: 26.2 | DF8: 38.05 | DG8: 8 | DH8: 18 | DI8: 19 | DJ8: 24 | DK8: 18 | DL8: 74 | DM8: 87 | DN8: 101 | DO8: 40 | DP8: 89 | DQ8: 95 | DR8: 70 | DS8: 54 | DT8: 32 | DU8: 69 | DV8: 65 | DW8: 36 | DX8: 70 | DY8: 58 | DZ8: 42 | EA8: 51.53 | EB8: 69.47 | EC8: 17 | ED8: 0 | EE8: 2 | EF8: 34 | EG8: 10 | EH8: 20 | EI8: 94 | EJ8: 87 | EK8: =VLOOKUP(H8,'Sale Data'!I:J,2,) -> 169.9 | EL8: 73.825 | EM8: =AVERAGE(EG8:EJ8) -> 52.75 | EN8: =(J8+K8+L8+M8)-(N8+O8+P8+Q8+T8+R8+S8+EM8) -> 118.525 | EO8: =(EM8*6)-EN8 -> 197.975 | EQ8: 240 | ES8: MOQ - 4 DR | ET8: 67 | EU8: 110 | EV8: 148 | EW8: 172 | EX8: 96 | EY8: 75 | EZ8: 43 | FA8: 162 | FB8: 145 | FC8: 209 | FD8: 438 | FE8: 276 | FF8: 64 | FG8: 262 | FH8: 149.06 | FI8: 147 | FJ8: 138 | FK8: 77 | FL8: 89 | FM8: 32 | FN8: 69 | FO8: 78 | FP8: 62 | FQ8: 135 | FR8: 69 | FS8: 97 | FT8: =VLOOKUP(H8,#REF!,2,) -> #REF! | FU8: 78 | FV8: =AVERAGE(FO8:FU8) -> #REF! | FW8: =(J8+K8+#REF!+L8)-(T8+FV8) -> #REF! | FX8: =(FV8*2)-FW8 -> #REF! | GA8: =EQ8*F8 -> 48000 | GC8: 20 | GF8: 80 | GJ8: 80 | GO8: 80 | GP8: 80 | GQ8: 80
A9: 5 | B9: Valvoline | C9: All Fleet Premium 15W40, CI-4/SL | D9: 1 | E9: x | F9: 18 | G9: L | H9: 692053 | I9: Can | J9: 190.69889 | L9: =192+288 -> 480 | M9: =816 -> 816 | U9: 300 | V9: 408 | W9: 258 | X9: 387 | Y9: 360 | Z9: 261 | AA9: 289 | AB9: 241 | AC9: 216 | AD9: 246 | AE9: 295 | AF9: 359 | AG9: 416 | AH9: 435 | AI9: 470 | AJ9: 614 | AK9: 478 | AL9: 315 | AM9: 384 | AN9: 241.22222 | AO9: 325.55556 | AP9: 448 | AQ9: 584 | AR9: 469 | AS9: 387.33333 | AT9: 595 | AU9: 318 | AV9: 528 | AW9: 543 | AX9: 293 | AY9: 289 | AZ9: 476 | BA9: 317 | BB9: 382 | BC9: 548 | BD9: 481 | BE9: 438 | BF9: 587 | BG9: 509 | BH9: 635 | BI9: 415 | BJ9: 411 | BK9: 359 | BL9: 237 | BM9: 428 | BN9: 315 | BO9: 307.8 | BP9: 458 | BQ9: 261 | BR9: 463 | BS9: 307 | BT9: 614 | BU9: 427 | BV9: 639 | BW9: 338.09 | BX9: 259 | BY9: 429 | BZ9: 362 | CA9: 397 | CB9: 365 | CC9: 336 | CD9: 418 | CE9: 241 | CF9: 360 | CG9: 318 | CH9: 248 | CI9: 275 | CJ9: 250 | CK9: 164 | CL9: 291 | CM9: 357 | CN9: 419 | CO9: 251 | CP9: 269 | CQ9: 396 | CR9: 329 | CS9: 253 | CT9: 295 | CU9: 299 | CV9: 109 | CW9: 94 | CX9: 164 | CY9: 143 | CZ9: 236 | DA9: 242 | DB9: 271 | DC9: 178 | DD9: 203 | DE9: 178 | DF9: 147 | DG9: 201 | DH9: 130 | DI9: 193 | DJ9: 133 | DK9: 476 | DL9: 391 | DM9: 92 | DN9: 340 | DO9: 236 | DP9: 386 | DQ9: 209 | DR9: 163 | DS9: 218 | DT9: 177 | DU9: 395 | DV9: 383 | DW9: 284 | DX9: 398 | DY9: 350 | DZ9: 366 | EA9: 179 | EB9: 115 | EC9: 13 | ED9: 9 | EE9: 16 | EF9: 2 | EG9: 329 | EH9: 170 | EI9: 65 | EJ9: 400 | EK9: =VLOOKUP(H9,'Sale Data'!I:J,2,) -> 45 | EL9: 120.34 | EM9: =AVERAGE(EG9:EJ9) -> 241 | EN9: =(J9+K9+L9+M9)-(N9+O9+P9+Q9+T9+R9+S9+EM9) -> 1245.6989 | EO9: =(EM9*6)-EN9 -> 200.30111 | EQ9: =48*10 -> 480 | ER9: =EQ9*18 -> 8640 | ES9: MOQ - 48 Can | ET9: 255 | EU9: 362 | EV9: 356 | EW9: 569 | EX9: 421 | EY9: 269 | EZ9: 386 | FA9: 312 | FB9: 329 | FC9: 312 | FD9: 289 | FE9: 337 | FF9: 429 | FG9: 537 | FH9: 332 | FI9: 669 | FJ9: 571 | FK9: 299 | FL9: 495 | FM9: 169 | FN9: 364 | FO9: 391 | FP9: 496 | FQ9: 537 | FR9: 403 | FS9: 699.05556 | FT9: =VLOOKUP(H9,#REF!,2,) -> #REF! | FU9: 593 | FV9: =AVERAGE(FO9:FU9) -> #REF! | FW9: =(J9+K9+#REF!+L9)-(T9+FV9) -> #REF! | FX9: =(FV9*2)-FW9 -> #REF! | GA9: =EQ9*F9 -> 8640 | GD9: 240 | GG9: =48*5 -> 240 | GK9: =48*2 -> 96 | GN9: =48*10 -> 480
A10: 6 | B10: Valvoline | C10: All Fleet Premium 15W40, CI-4/SL | D10: 4 | E10: x | F10: 5 | G10: L | H10: 692054 | I10: Bottle | J10: 219 | L10: =48*4 -> 192 | U10: 405 | V10: 186 | W10: 209 | X10: 305 | Y10: 280 | Z10: 154 | AA10: 261 | AB10: 403 | AC10: 311 | AD10: 403 | AE10: 730 | AF10: 383 | AG10: 464 | AH10: 597 | AI10: 581 | AJ10: 650 | AK10: 380 | AL10: 548 | AM10: 827 | AN10: 612 | AO10: 739 | AP10: 702 | AQ10: 676.2 | AR10: 599 | AS10: 741 | AT10: 639 | AU10: 572 | AV10: 417 | AW10: 505 | AX10: 514.4 | AY10: 433 | AZ10: 553 | BA10: 477.1 | BB10: 528.02 | BC10: 465 | BD10: 652 | BE10: 523 | BF10: 584 | BG10: 780 | BH10: 623 | BI10: 531 | BJ10: 637 | BK10: 482 | BL10: 456 | BM10: 355 | BN10: 367 | BO10: 368 | BP10: 391 | BQ10: 342 | BR10: 280 | BS10: 242 | BT10: 371 | BU10: 288 | BV10: 278 | BW10: 318 | BX10: 274 | BY10: 294 | BZ10: 234 | CA10: 216 | CB10: 301 | CC10: 261 | CD10: 204 | CE10: 111 | CF10: 161 | CG10: 188 | CH10: 154 | CI10: 249 | CJ10: 135 | CK10: 110 | CL10: 192 | CM10: 123 | CN10: 183 | CO10: 125 | CP10: 120 | CQ10: 235 | CR10: 149 | CS10: 88 | CT10: 93 | CU10: 97 | CV10: 89 | CW10: 56 | CX10: 74 | CY10: 105 | CZ10: 121 | DA10: 86 | DB10: 173 | DC10: 113 | DD10: 168 | DE10: 190 | DF10: 77 | DG10: 93 | DH10: 72 | DI10: 99 | DJ10: 75 | DK10: 122 | DL10: 148 | DM10: 148 | DN10: 93 | DO10: 76 | DP10: 82 | DQ10: 130 | DR10: 110 | DS10: 97 | DT10: 64 | DU10: 85 | DV10: 113 | DW10: 69 | DX10: 51 | DY10: 64 | DZ10: 85 | EA10: 52 | EB10: 55 | EC10: 17 | ED10: 18 | EE10: 4 | EF10: 3 | EG10: 4 | EH10: 2 | EI10: 27 | EJ10: 100 | EK10: =VLOOKUP(H10,'Sale Data'!I:J,2,) -> 50 | EL10: 7 | EM10: =AVERAGE(EG10:EJ10) -> 33.25 | EN10: =(J10+K10+L10+M10)-(N10+O10+P10+Q10+T10+R10+S10+EM10) -> 377.75 | EO10: =(EM10*6)-EN10 -> -178.25 | EQ10: =48*4 -> 192 | ES10: MOQ - 48 CS | ET10: 659 | EU10: 502 | EV10: 525 | EW10: 765 | EX10: 756 | EY10: 351 | EZ10: 444 | FA10: 460 | FB10: 629 | FC10: 269 | FD10: 609 | FE10: 379 | FF10: 313 | FG10: 627 | FH10: 401 | FI10: 774 | FJ10: 718 | FK10: 547 | FL10: 574 | FM10: 312 | FN10: 251 | FO10: 807 | FP10: 694 | FQ10: 560 | FR10: 901 | FS10: 767 | FT10: =VLOOKUP(H10,#REF!,2,) -> #REF! | FU10: 554 | FV10: =AVERAGE(FO10:FU10) -> #REF! | FW10: =(J10+K10+#REF!+L10)-(T10+FV10) -> #REF! | FX10: =(FV10*3)-FW10 -> #REF! | GA10: =EQ10*F10 -> 960 | GG10: =48 -> 48 | GS10: =48 -> 48
A11: 7 | B11: Valvoline | C11: All Fleet Turbo 15W40, CF-4/SG | D11: 4 | E11: x | F11: 5 | G11: L | H11: 692128 | I11: Bottle | J11: 37 | U11: 66 | V11: 73 | W11: 38 | X11: 63 | Y11: 99 | Z11: 80 | AA11: 100 | AB11: 86 | AC11: 95 | AD11: 80 | AE11: 81 | AF11: 108 | AG11: 136 | AH11: 133 | AI11: 135 | AJ11: 171 | AK11: 127 | AL11: 158 | AM11: 189 | AN11: 141 | AO11: 183 | AP11: 183 | AQ11: 88.6 | AR11: 130 | AS11: 103 | AT11: 181 | AU11: 96.6 | AV11: 61 | AW11: 139 | AX11: 66 | AY11: 81 | AZ11: 126 | BA11: 133 | BB11: 98 | BC11: 56 | BD11: 125 | BE11: 166 | BF11: 121 | BG11: 142 | BH11: 93 | BI11: 125 | BJ11: 103 | BK11: 184 | BL11: 93 | BM11: 232 | BN11: 118 | BO11: 165 | BP11: 116 | BQ11: 84 | BR11: 47 | BS11: 53 | BT11: 165 | BU11: 82 | BV11: 66 | BW11: 81 | BX11: 105 | BY11: 72 | BZ11: 53 | CA11: 96 | CB11: 67 | CC11: 64 | CD11: 105 | CE11: 12 | CF11: 55 | CG11: 18 | CH11: 48 | CI11: 52 | CJ11: 23 | CK11: 18 | CL11: 82 | CM11: 15 | CN11: 50 | CO11: 5 | CP11: 35 | CQ11: 81 | CR11: 69 | CS11: 28 | CT11: 28 | CU11: 23 | CV11: 31 | CW11: 19 | CX11: 14 | CY11: 16 | CZ11: 0 | DA11: 2 | DB11: 13 | DC11: 8 | DD11: 18 | DE11: 0 | DF11: 9 | DG11: 0 | DH11: 5 | DI11: 7 | DJ11: 6 | DK11: 8 | DL11: 6 | DM11: 2 | DN11: 6 | DO11: 7 | DP11: 9 | DQ11: 24 | DR11: 5 | DS11: 8 | DT11: 20 | DU11: 1 | DV11: 40 | DW11: 0 | DX11: 3 | DY11: 1 | DZ11: 4 | EA11: 17 | EB11: 47 | EC11: 26 | ED11: 37 | EE11: 7 | EF11: 5 | EG11: 5 | EH11: 8 | EI11: 11 | EJ11: 0 | EK11: =VLOOKUP(H11,'Sale Data'!I:J,2,) -> 0 | EL11: 0 | EM11: =AVERAGE(EG11:EJ11) -> 6 | EN11: =(J11+K11+L11+M11)-(N11+O11+P11+Q11+T11+R11+S11+EM11) -> 31 | EO11: =(EM11*4)-EN11 -> -7 | EQ11: 0 | ER11: =EQ11*5 -> 0 | ES11: MOQ - 48 CS | ET11: 76 | EU11: 176 | EV11: 136 | EW11: 176 | EX11: 244 | EY11: 343 | EZ11: 212 | FA11: 148 | FB11: 85 | FC11: 48 | FD11: 94 | FE11: 132 | FF11: 132 | FG11: 127 | FH11: 14 | FI11: 210 | FJ11: 246 | FK11: 63 | FL11: 166 | FM11: 76 | FN11: 88 | FO11: 204 | FP11: 76 | FQ11: 186 | FR11: 192 | FS11: 216 | FT11: =VLOOKUP(H11,#REF!,2,) -> #REF! | FU11: 96 | FV11: =AVERAGE(FO11:FU11) -> #REF! | FW11: =(J11+K11+#REF!+L11)-(T11+FV11) -> #REF! | FX11: =(FV11*2)-FW11 -> #REF! | GA11: =EQ11*F11 -> 0
A12: 8 | B12: Valvoline | C12: All Fleet Turbo 15W40, CF-4/SG | D12: 24 | E12: x | F12: 1 | G12: L | H12: 692171 | I12: Bottle | J12: 47 | U12: 78 | V12: 3 | W12: 27 | X12: 34 | Y12: 34 | Z12: 136 | AA12: 42 | AB12: 62 | AC12: 75 | AD12: 7 | AE12: 83 | AF12: 111 | AG12: 32 | AH12: 67 | AI12: 77 | AJ12: 59 | AK12: 85 | AL12: 51 | AM12: 89 | AN12: 130 | AO12: 154 | AP12: 147 | AQ12: 87 | AR12: 94 | AS12: 27 | AT12: 92 | AU12: 106 | AV12: 82 | AW12: 89 | AX12: 59 | AY12: 105 | AZ12: 67 | BA12: 122 | BB12: 72 | BC12: 29 | BD12: 48 | BE12: 129 | BF12: 81 | BG12: 60 | BH12: 99 | BI12: 51 | BJ12: 69 | BK12: 46 | BL12: 194 | BM12: 71 | BN12: 38 | BO12: 98 | BP12: 80 | BQ12: 40 | BR12: 14 | BS12: 46 | BT12: 35 | BU12: 52 | BV12: 73 | BW12: 36 | BX12: 53 | BY12: 21 | BZ12: 25 | CA12: 58 | CB12: 18 | CC12: 40 | CD12: 22 | CE12: 1 | CF12: 35 | CG12: 19 | CH12: 1 | CI12: 28 | CJ12: 0 | CK12: 23 | CL12: 24 | CM12: 2 | CN12: 70 | CO12: 3 | CP12: 80 | CQ12: 86 | CR12: 9 | CS12: 1 | CT12: 12 | CU12: 35 | CV12: 13 | CW12: 210 | CX12: 211 | CY12: 70 | CZ12: 84 | DA12: 11 | DB12: 15 | DC12: 3 | DD12: 23 | DE12: 14 | DF12: 8 | DG12: 470 | DH12: 24 | DI12: 11 | DJ12: 1 | DK12: 63 | DL12: 1 | DM12: 2 | DN12: 24 | DO12: 0 | DP12: 67 | DQ12: 15 | DR12: 0 | DS12: 0 | DT12: 0 | DU12: 11 | DV12: 0 | DW12: 0 | DX12: 2 | DY12: 21 | DZ12: 0 | EA12: 0 | EB12: 0 | EC12: 0 | ED12: 2 | EE12: 1 | EF12: 0 | EG12: 0 | EH12: 2 | EI12: 0 | EJ12: 16 | EK12: =VLOOKUP(H12,'Sale Data'!I:J,2,) -> 0 | EL12: 0 | EM12: =AVERAGE(EG12:EJ12) -> 4.5 | EN12: =(J12+K12+L12+M12)-(N12+O12+P12+Q12+T12+R12+S12+EM12) -> 42.5 | EO12: =(EM12*2)-EN12 -> -33.5 | EQ12: 0 | ES12: MOQ - 40 CS | ET12: 73 | EU12: 85 | EV12: 105 | EW12: 180 | EX12: 72 | EY12: 371 | EZ12: 270 | FA12: 84 | FB12: 60 | FC12: 0 | FD12: 46 | FE12: 28 | FF12: 114 | FG12: 180 | FH12: 0 | FI12: 132 | FJ12: 226 | FK12: 390 | FL12: 2 | FM12: 24 | FN12: 48 | FO12: 22 | FP12: 120 | FQ12: 41 | FR12: 72 | FS12: 171 | FT12: =VLOOKUP(H12,#REF!,2,) -> #REF! | FU12: 120 | FV12: =AVERAGE(FO12:FU12) -> #REF! | FW12: =(J12+K12+#REF!+L12)-(T12+FV12) -> #REF! | FX12: =(FV12*2)-FW12 -> #REF! | GA12: =EQ12*F12 -> 0
A13: 9 | B13: Valvoline | C13: Champ 4T 20W50, SG/CD | D13: 24 | E13: x | F13: 1 | G13: L | H13: 692249 | I13: Bottle | J13: 3876 | L13: =(440*24)+(160*24) -> 14400 | T13: =400*24 -> 9600 | U13: 4144 | V13: 1948 | W13: 1464 | X13: 2968 | Y13: 3538 | Z13: 3167 | AA13: 3971 | AB13: 4193 | AC13: 4065 | AD13: 4114 | AE13: 6280 | AF13: 4617 | AG13: 5021 | AH13: 6330 | AI13: 4629 | AJ13: 4812 | AK13: 6195 | AL13: 5707 | AM13: 5848 | AN13: 6632 | AO13: 6230 | AP13: 6506 | AQ13: 7937 | AR13: 9704 | AS13: 9667 | AT13: 8211 | AU13: 6484 | AV13: 4513 | AW13: 8962 | AX13: 5489 | AY13: 6061 | AZ13: 8559 | BA13: 7758 | BB13: 10081 | BC13: 10961 | BD13: 10380 | BE13: 12623 | BF13: 13440 | BG13: 13411 | BH13: 5876 | BI13: 9284 | BJ13: 9648 | BK13: 10992 | BL13: 7164 | BM13: 8292 | BN13: 6782 | BO13: 9040 | BP13: 8479 | BQ13: 9505 | BR13: 5201 | BS13: 6628 | BT13: 9304 | BU13: 6331 | BV13: 7166 | BW13: 8452 | BX13: 9029 | BY13: 8654 | BZ13: 8371 | CA13: 8054 | CB13: 7553 | CC13: 6915 | CD13: 5180 | CE13: 3407 | CF13: 5596 | CG13: 6776 | CH13: 6413 | CI13: 5649 | CJ13: 5477 | CK13: 4921 | CL13: 6784 | CM13: 7456 | CN13: 6752 | CO13: 5813 | CP13: 8500 | CQ13: 11836 | CR13: 5425 | CS13: 2987 | CT13: 1385 | CU13: 6003 | CV13: 3786 | CW13: 3039 | CX13: 3998 | CY13: 4119 | CZ13: 8165 | DA13: 4984 | DB13: 9387 | DC13: 1348 | DD13: 6434 | DE13: 4524 | DF13: 7028 | DG13: 2014 | DH13: 823 | DI13: 2598 | DJ13: 3951 | DK13: 2555 | DL13: 4513 | DM13: 4271 | DN13: 1674 | DO13: 2770 | DP13: 4274 | DQ13: 6780 | DR13: 4806 | DS13: 2564 | DT13: 3831 | DU13: 4496 | DV13: 1049 | DW13: 377 | DX13: 4591 | DY13: 605 | DZ13: 7993 | EA13: 3111 | EB13: 5414 | EC13: 2972 | ED13: 1811 | EE13: 284 | EF13: 594 | EG13: 666 | EH13: 6850 | EI13: 6914 | EJ13: 3674 | EK13: =VLOOKUP(H13,'Sale Data'!I:J,2,) -> 883 | EL13: 263 | EM13: =AVERAGE(EG13:EJ13) -> 4526 | EN13: =(J13+K13+L13+M13)-(N13+O13+P13+Q13+T13+R13+S13+EM13) -> 4150 | EO13: =(EM13*6)-EN13 -> 23006 | EQ13: =40*27*24 -> 25920 | ER13: =EQ13*1 -> 25920 | ES13: MOQ - 40 CS | ET13: 4800 | EU13: 7192 | EV13: 5136 | EW13: 8233 | EX13: 5545 | EY13: 7015 | EZ13: 4863 | FA13: 4973 | FB13: 4315 | FC13: 6180 | FD13: 5242 | FE13: 5195 | FF13: 4897 | FG13: 6619 | FH13: 2281 | FI13: 5871 | FJ13: 8736 | FK13: 5868 | FL13: 2253 | FM13: 6274 | FN13: 7217 | FO13: 8242 | FP13: 8857 | FQ13: 9992 | FR13: 13721 | FS13: 11443 | FT13: =VLOOKUP(H13,#REF!,2,) -> #REF! | FU13: 7295 | FV13: =AVERAGE(FO13:FU13) -> #REF! | FW13: =(J13+K13+#REF!+L13)-(T13+FV13) -> #REF! | FX13: =(FV13*3)-FW13 -> #REF! | GA13: =EQ13*F13 -> 25920 | GE13: =40*7 -> 280 | GH13: =40*9 -> 360 | GK13: =40*4 -> 160 | GR13: =40*16 -> 640 | GU13: =40*10 -> 400
A14: 10 | B14: Valvoline | C14: Champ 4T 20W50, SG/CD | D14: 24 | E14: x | F14: 0.8 | G14: L | H14: 772588 | I14: Bottle | J14: 0 | U14: 108 | V14: 188 | W14: 4 | X14: 144 | Y14: 86 | Z14: 311 | AA14: 160 | AB14: 127 | AC14: 245 | AD14: 191 | AE14: 164 | AF14: 168 | AG14: 238 | AH14: 292 | AI14: 126 | AJ14: 278 | AK14: 351 | AL14: 158 | AM14: 56 | AN14: 467 | AO14: 54 | AP14: 174 | AQ14: 151 | AR14: 190 | AS14: 111 | AT14: 178 | AU14: 8 | AV14: 84 | AW14: 101 | AX14: 25 | AY14: 150 | AZ14: 115 | BA14: 395 | BB14: 136 | BC14: 79 | BD14: 60 | BE14: 24 | BF14: 24 | BG14: 1 | BH14: 97 | BI14: 17 | BJ14: 17 | BK14: 3 | BL14: 5 | BM14: 15 | BN14: 3 | BO14: 3 | BP14: 0 | BQ14: 24 | BR14: 4 | BS14: 6 | BT14: 8 | BU14: 0 | BV14: 1 | BW14: 9 | BX14: 5 | BY14: 11 | BZ14: 6 | CA14: 1 | CB14: 6 | CC14: 20 | CD14: 73 | CE14: 0 | CF14: 0 | CG14: 5 | CH14: 2 | CI14: 2 | CJ14: 29 | CK14: 3 | CL14: 2 | CM14: 0 | CN14: 3 | CO14: 1 | CP14: 0 | CQ14: 0 | CR14: 1 | CS14: 6 | CT14: 36 | CU14: 4 | CV14: 0 | CW14: 24 | CX14: 476 | CY14: 36 | CZ14: 1 | DA14: 2 | DB14: 0 | DC14: 2 | DD14: 0 | DE14: 0 | DF14: 0 | DG14: 2 | DH14: 0 | DI14: 60 | DJ14: 0 | DK14: 0 | DL14: 0 | DM14: 0 | DN14: 0 | DO14: 0 | DP14: 9 | DQ14: 0 | DR14: 0 | DS14: 0 | DT14: 0 | DU14: 0 | DV14: 0 | DW14: 0 | DX14: 0 | DY14: 0 | DZ14: 0 | EA14: 0 | EB14: 0 | EC14: 0 | ED14: 0 | EE14: 0 | EF14: 0 | EG14: 0 | EH14: 0 | EI14: 0 | EJ14: 0 | EK14: =VLOOKUP(H14,'Sale Data'!I:J,2,) -> 0 | EL14: 0 | EM14: =AVERAGE(EG14:EJ14) -> 0 | EN14: =(J14+K14+L14+M14)-(N14+O14+P14+Q14+T14+R14+S14+EM14) -> 0 | EO14: =(EM14*2)-EN14 -> 0 | EQ14: 0 | ES14: MOQ - 40 CS | ET14: 0 | EU14: 240 | EV14: 408 | EW14: 48 | EX14: 360 | EY14: 120 | EZ14: 360 | FA14: 301 | FB14: 48 | FC14: 0 | FD14: 720 | FE14: 24 | FF14: 120 | FG14: 264 | FH14: 0 | FI14: 145 | FJ14: 312 | FK14: 240 | FL14: 360 | FM14: 168 | FN14: 0 | FO14: 312 | FP14: 48 | FQ14: 528 | FR14: 0 | FS14: 312 | FT14: =VLOOKUP(H14,#REF!,2,) -> #REF! | FU14: 0 | FV14: =AVERAGE(FO14:FU14) -> #REF! | FW14: =(J14+K14+L14+M14)-(T14+FV14) -> #REF! | FX14: =(FV14*2)-FW14 -> #REF! | GA14: =EQ14*F14 -> 0
A15: 11 | B15: Valvoline | C15: Champ 4T Scooter 10W30 (24x1L) | D15: 24 | E15: x | F15: 1 | G15: L | H15: 841092 | I15: Bottle | J15: 0 | U15: 69 | V15: 32 | W15: 7 | X15: 54 | Y15: 35 | Z15: 266 | AA15: 180 | AB15: 82 | AC15: 43 | AD15: 119 | AE15: 94 | AF15: 130 | AG15: 70 | AH15: 153 | AI15: 34 | AJ15: 161 | AK15: 11 | AL15: 118 | AM15: 124 | AN15: 164 | AO15: 133 | AP15: 84 | AQ15: 59 | AR15: 49 | AS15: 229 | AT15: 96 | AU15: 8 | AV15: 32 | AW15: 122 | AX15: 73 | AY15: 75 | AZ15: 50 | BA15: 150 | BB15: 179 | BC15: 181 | BD15: 275 | BE15: 6 | BF15: 57 | BG15: 49 | BH15: 0 | BI15: 125 | BJ15: 284 | BK15: 24 | BL15: 0 | BM15: 2 | BN15: 32 | BO15: 0 | BP15: 0 | BQ15: 2 | BR15: 12 | BS15: 0 | BT15: 1 | BU15: 22 | BV15: 15 | BW15: 0 | BX15: 18 | BY15: 12 | BZ15: 14 | CA15: 12 | CB15: 0 | CC15: 1 | CD15: 0 | CE15: 6 | CF15: 11 | CG15: 0 | CH15: 0 | CI15: 0 | CJ15: 6 | CK15: 5 | CL15: 0 | CM15: 6 | CN15: 24 | CO15: 1 | CP15: 0 | CQ15: 0 | CR15: 0 | CS15: 6 | CT15: 0 | CU15: 0 | CV15: 0 | CW15: 0 | CX15: 96 | CY15: 0 | CZ15: 48 | DA15: 0 | DB15: 0 | DC15: 0 | DD15: 0 | DE15: 0 | DF15: 0 | DG15: 0 | DH15: 0 | DI15: 0 | DJ15: 0 | DK15: 0 | DL15: 20 | DM15: 0 | DN15: 0 | DO15: 0 | DP15: 12 | DQ15: 0 | DR15: 0 | DS15: 0 | DT15: 0 | DU15: 8 | DV15: 0 | DW15: 0 | DX15: 0 | DY15: 0 | DZ15: 0 | EA15: 0 | EB15: 0 | EC15: 0 | ED15: 0 | EE15: 0 | EF15: 0 | EG15: 0 | EH15: 0 | EI15: 0 | EJ15: 0 | EK15: =VLOOKUP(H15,'Sale Data'!I:J,2,) -> 0 | EL15: 0 | EM15: =AVERAGE(EG15:EJ15) -> 0 | EN15: =(J15+K15+L15+M15)-(N15+O15+P15+Q15+T15+R15+S15+EM15) -> 0 | EO15: =(EM15*3)-EN15 -> 0 | EQ15: 0 | ER15: =EQ15*1 -> 0 | ES15: MOQ - 160 CS, Multiple 40 | ET15: 600 | EU15: 48 | EV15: 240 | EW15: 589 | EX15: 131 | EY15: 816 | EZ15: 360 | FA15: 209 | FB15: 0 | FC15: 0 | FD15: 24 | FE15: 169 | FF15: 133 | FG15: 120 | FH15: 0 | FI15: 120 | FJ15: 72 | FK15: 144 | FL15: 144 | FM15: 0 | FN15: 0 | FO15: 120 | FP15: 116 | FQ15: 192 | FR15: 120 | FS15: 18 | FT15: =VLOOKUP(H15,#REF!,2,) -> #REF! | FU15: 72 | FV15: =AVERAGE(FO15:FU15) -> #REF! | FW15: =(J15+K15+L15+M15)-(T15+FV15) -> #REF! | FX15: =(FV15*2)-FW15 -> #REF! | FY15: under MOQ | GA15: =EQ15*F15 -> 0
A16: 12 | B16: Valvoline | C16: Champ 4T Scooter 10W40 (24x1L) | D16: 24 | E16: x | F16: 1 | G16: L | H16: 841078 | I16: Bottle | J16: 2 | U16: 153 | V16: 16 | W16: 37 | X16: 79 | Y16: 132 | Z16: 284 | AA16: 11 | AB16: 43 | AC16: 76 | AD16: 33 | AE16: 78 | AF16: 275 | AG16: 73 | AH16: 116 | AI16: 32 | AJ16: 154 | AK16: 219 | AL16: 92 | AM16: 168 | AN16: 145 | AO16: 145 | AP16: 14 | AQ16: 30 | AR16: 75 | AS16: 40 | AT16: 14 | AU16: 77 | AV16: 1 | AW16: 5 | AX16: 23 | AY16: 3 | AZ16: 2 | BA16: 1 | BB16: 51 | BC16: 24 | BD16: 30 | BE16: 123 | BF16: 97 | BG16: 241 | BH16: 28 | BI16: 2 | BJ16: 74 | BK16: 379 | BL16: 3 | BM16: 28 | BN16: 26 | BO16: 24 | BP16: 1 | BQ16: 1 | BR16: 24 | BS16: 144 | BT16: 0 | BU16: 12 | BV16: 10 | BW16: 12 | BX16: 6 | BY16: 12 | BZ16: 35 | CA16: 10 | CB16: 2 | CC16: 7 | CD16: 18 | CE16: 2 | CF16: 46 | CG16: 11 | CH16: 16 | CI16: 6 | CJ16: 41 | CK16: 6 | CL16: 6 | CM16: 13 | CN16: 3 | CO16: 3 | CP16: 0 | CQ16: 0 | CR16: 13 | CS16: 0 | CT16: 96 | CU16: 46 | CV16: 2 | CW16: 0 | CX16: 0 | CY16: 2 | CZ16: 1 | DA16: 0 | DB16: 0 | DC16: 0 | DD16: 0 | DE16: 0 | DF16: 0 | DG16: 0 | DH16: 2 | DI16: 0 | DJ16: 0 | DK16: 0 | DL16: 1 | DM16: 0 | DN16: 4 | DO16: 0 | DP16: 0 | DQ16: 0 | DR16: 41 | DS16: 0 | DT16: 1 | DU16: 4 | DV16: 0 | DW16: 1 | DX16: 0 | DY16: 0 | DZ16: 0 | EA16: 0 | EB16: 0 | EC16: 0 | ED16: 0 | EE16: 0 | EF16: 0 | EG16: 0 | EH16: 0 | EI16: 3 | EJ16: 0 | EK16: =VLOOKUP(H16,'Sale Data'!I:J,2,) -> 0 | EL16: 0 | EM16: =AVERAGE(EG16:EJ16) -> 0.75 | EN16: =(J16+K16+L16+M16)-(N16+O16+P16+Q16+T16+R16+S16+EM16) -> 1.25 | EO16: =(EM16*3)-EN16 -> 1 | EQ16: 0 | ER16: =EQ16*1 -> 0 | ES16: MOQ - 160 CS, Multiple 40 | ET16: 48 | EU16: 192 | EV16: 0 | EW16: 49 | EX16: 480 | EY16: 576 | EZ16: 264 | FA16: 174 | FB16: 386 | FC16: 240 | FD16: 168 | FE16: 50 | FF16: 0 | FG16: 25 | FH16: 0 | FI16: 0 | FJ16: 0 | FK16: 93 | FL16: 27 | FM16: 48 | FN16: 24 | FO16: 24 | FP16: 34 | FQ16: 0 | FR16: 0 | FS16: 120 | FT16: =VLOOKUP(H16,#REF!,2,) -> #REF! | FU16: 0 | FV16: =AVERAGE(FO16:FU16) -> #REF! | FW16: =(J16+K16+L16+M16)-(T16+FV16) -> #REF! | FX16: =(FV16*2)-FW16 -> #REF! | GA16: =EQ16*F16 -> 0
A17: 13 | B17: Valvoline | C17: Champ 4T Synth 10W40, SJ/JASO MA2 | D17: 24 | E17: x | F17: 1 | G17: L | H17: 807562 | I17: Bottle | J17: 0 | U17: 50 | V17: 61 | W17: 37 | X17: 66 | Y17: 98 | Z17: 333 | AA17: 34 | AB17: 69 | AC17: 107 | AD17: 11 | AE17: 272 | AF17: 63 | AG17: 0 | AH17: 30 | AI17: 48 | AJ17: 59 | AK17: 80 | AL17: 72 | AM17: 84 | AN17: 173 | AO17: 77 | AP17: 48 | AQ17: 161 | AR17: 144 | AS17: 58 | AT17: 123 | AU17: 59 | AV17: 63 | AW17: 22 | AX17: 89 | AY17: 132 | AZ17: 79 | BA17: 39 | BB17: 97 | BC17: 90 | BD17: 78 | BE17: 224 | BF17: 193 | BG17: 68 | BH17: 88 | BI17: 80 | BJ17: 206 | BK17: 12 | BL17: 36 | BM17: 43 | BN17: 45 | BO17: 108 | BP17: 89 | BQ17: 55 | BR17: 94 | BS17: 28 | BT17: 45 | BU17: 75 | BV17: 26 | BW17: 54 | BX17: 16 | BY17: 85 | BZ17: 86 | CA17: 12 | CB17: 13 | CC17: 1 | CD17: 0 | CE17: 4 | CF17: 0 | CG17: 0 | CH17: 0 | CI17: 2 | CJ17: 0 | CK17: 0 | CL17: 0 | CM17: 0 | CN17: 0 | CO17: 0 | CP17: 0 | CQ17: 0 | CR17: 0 | CS17: 0 | CT17: 0 | CU17: 0 | CV17: 0 | CW17: 0 | CX17: 0 | CY17: 0 | CZ17: 0 | DA17: 0 | DB17: 0 | DC17: 0 | DD17: 0 | DE17: 0 | DF17: 0 | DG17: 0 | DH17: 0 | DI17: 0 | DJ17: 0 | DK17: 0 | DL17: 0 | DM17: 0 | DN17: 0 | DO17: 0 | DP17: 0 | DQ17: 0 | DR17: 0 | DS17: 0 | DT17: 10 | DU17: 6 | DV17: 0 | DW17: 0 | DX17: 0 | DY17: 0 | DZ17: 0 | EA17: 0 | EB17: 0 | EC17: 0 | ED17: 0 | EE17: 0 | EF17: 0 | EG17: 0 | EH17: 0 | EI17: 0 | EJ17: 0 | EK17: =VLOOKUP(H17,'Sale Data'!I:J,2,) -> 0 | EL17: 0 | EM17: =AVERAGE(EG17:EJ17) -> 0 | EN17: =(J17+K17+L17+M17)-(N17+O17+P17+Q17+T17+R17+S17+EM17) -> 0 | EO17: =(EM17*2)-EN17 -> 0 | EQ17: 0 | ES17: MOQ - 192 CS, Multiple 32 | ET17: 264 | EU17: 48 | EV17: 48 | EW17: 141 | EX17: 48 | EY17: 480 | EZ17: 0 | FA17: 7 | FB17: 107 | FC17: 2 | FD17: 179 | FE17: 96 | FF17: 636 | FG17: 48 | FH17: 24 | FI17: 150 | FJ17: 24 | FK17: 24 | FL17: 96 | FM17: 53 | FN17: 73 | FO17: 216 | FP17: 216 | FQ17: 152 | FR17: 24 | FS17: 176 | FT17: =VLOOKUP(H17,#REF!,2,) -> #REF! | FU17: 96 | FV17: =AVERAGE(FO17:FU17) -> #REF! | FW17: =(J17+K17+L17+M17)-(T17+FV17) -> #REF! | FX17: =(FV17*2)-FW17 -> #REF! | FY17: under MOQ | GA17: =EQ17*F17 -> 0
A18: 14 | B18: Valvoline | C18: Crimson Grease, NLGI 3 | D18: 1 | E18: x | F18: 18 | G18: KG | H18: 793317 | I18: Can | J18: 69 | L18: =54 -> 54 | U18: 8 | V18: 33 | W18: 24 | X18: 27 | Y18: 45 | Z18: 28 | AA18: 14 | AB18: 16 | AC18: 22 | AD18: 19 | AE18: 33 | AF18: 17 | AG18: 26 | AH18: 27 | AI18: 25 | AJ18: 29 | AK18: 30 | AL18: 11 | AM18: 19 | AN18: 19 | AO18: 24 | AP18: 44 | AQ18: 26 | AR18: 34 | AS18: 45 | AT18: 26 | AU18: 20 | AV18: 12 | AW18: 26 | AX18: 12 | AY18: 7 | AZ18: 7 | BA18: 14 | BB18: 18 | BC18: 12 | BD18: 22 | BE18: 29 | BF18: 16 | BG18: 13 | BH18: 22 | BI18: 32 | BJ18: 5 | BK18: 22 | BL18: 6 | BM18: 17 | BN18: 9 | BO18: 20 | BP18: 22 | BQ18: 14 | BR18: 23 | BS18: 7 | BT18: 5 | BU18: 9 | BV18: 49 | BW18: 7 | BX18: 3 | BY18: 41 | BZ18: 10 | CA18: 13 | CB18: 14 | CC18: 15 | CD18: 18 | CE18: 24 | CF18: 19 | CG18: 24 | CH18: 11 | CI18: 24 | CJ18: 6 | CK18: 9 | CL18: 25 | CM18: 25 | CN18: 35 | CO18: 14 | CP18: 8 | CQ18: 21 | CR18: 13 | CS18: 6 | CT18: 5 | CU18: 5 | CV18: 1 | CW18: 5 | CX18: 1 | CY18: 8 | CZ18: 7 | DA18: 4 | DB18: 11 | DC18: 3 | DD18: 11 | DE18: 4 | DF18: 16.78 | DG18: 15 | DH18: 6 | DI18: 0 | DJ18: 12 | DK18: 9 | DL18: 8 | DM18: 9 | DN18: 6 | DO18: 6 | DP18: 9 | DQ18: 6 | DR18: 25 | DS18: 1 | DT18: 6 | DU18: 13 | DV18: 2 | DW18: 1 | DX18: 0 | DY18: 1 | DZ18: 0 | EA18: 11 | EB18: 6 | EC18: 8 | ED18: 10 | EE18: 8 | EF18: 11 | EG18: 17 | EH18: 7 | EI18: 10 | EJ18: 17 | EK18: =VLOOKUP(H18,'Sale Data'!I:J,2,) -> 14 | EL18: 9 | EM18: =AVERAGE(EG18:EJ18) -> 12.75 | EN18: =(J18+K18+L18+M18)-(N18+O18+P18+Q18+T18+R18+S18+EM18) -> 110.25 | EO18: =(EM18*6)-EN18 -> -33.75 | EQ18: =27*2 -> 54 | ER18: =EQ18*20 -> 1080 | ES18: MOQ - 27 Can | ET18: 14 | EU18: 42 | EV18: 35 | EW18: 98 | EX18: 14 | EY18: 1 | EZ18: 62 | FA18: 49 | FB18: 39 | FC18: 8 | FD18: 48 | FE18: 22 | FF18: 9 | FG18: 15 | FH18: 10 | FI18: 29 | FJ18: 33 | FK18: 15 | FL18: 15 | FM18: 15 | FN18: 30 | FO18: 34 | FP18: 28 | FQ18: 35 | FR18: 55 | FS18: 9 | FT18: =VLOOKUP(H18,#REF!,2,) -> #REF! | FU18: 4 | FV18: =AVERAGE(FO18:FU18) -> #REF! | FW18: =(J18+K18+L18+M18)-(T18+FV18) -> #REF! | FX18: =(FV18*2)-FW18 -> #REF! | FY18: India | GA18: =EQ18*F18 -> 972 | GC18: =27*3 -> 81 | GT18: =27*2 -> 54
A19: 15 | B19: Valvoline | C19: DEX III ATF | D19: 24 | E19: x | F19: 1 | G19: L | H19: 692180 | I19: Bottle | J19: 0 | U19: 163 | V19: 96 | W19: 138 | X19: 60 | Y19: 94 | Z19: 215 | AA19: 130 | AB19: 203 | AC19: 81 | AD19: 151 | AE19: 223 | AF19: 166 | AG19: 238 | AH19: 173 | AI19: 259 | AJ19: 417 | AK19: 238 | AL19: 187 | AM19: 393 | AN19: 222 | AO19: 474 | AP19: 294 | AQ19: 218 | AR19: 284 | AS19: 78 | AT19: 160 | AU19: 174 | AV19: 53 | AW19: 135 | AX19: 120 | AY19: 58 | AZ19: 24 | BA19: 79 | BB19: 38 | BC19: 40 | BD19: 45 | BE19: 138 | BF19: 39 | BG19: 39 | BH19: 27 | BI19: 5 | BJ19: 7 | BK19: 62 | BL19: 16 | BM19: 0 | BN19: 2 | BO19: 5 | BP19: 33 | BQ19: 10 | BR19: 9 | BS19: 13 | BT19: 96 | BU19: 1 | BV19: 25 | BW19: 61 | BX19: 30 | BY19: 54 | BZ19: 23 | CA19: 60 | CB19: 72 | CC19: 43 | CD19: 44 | CE19: 0 | CF19: 92 | CG19: 72 | CH19: 13 | CI19: 75 | CJ19: 14 | CK19: 2 | CL19: 22 | CM19: 1 | CN19: 10 | CO19: 24 | CP19: 18 | CQ19: 0 | CR19: 40 | CS19: 85 | CT19: 31 | CU19: 81 | CV19: 8 | CW19: 41 | CX19: 23 | CY19: 134 | CZ19: 191 | DA19: 92 | DB19: 665 | DC19: 1 | DD19: 50 | DE19: 9 | DF19: 0 | DG19: 2 | DH19: 1 | DI19: 5 | DJ19: 7 | DK19: 0 | DL19: 0 | DM19: 0 | DN19: 5 | DO19: 0 | DP19: 0 | DQ19: 0 | DR19: 0 | DS19: 0 | DT19: 0 | DU19: 0 | DV19: 0 | DW19: 0 | DX19: 1 | DY19: 0 | DZ19: 0 | EA19: 0 | EB19: 0 | EC19: 0 | ED19: 0 | EE19: 1 | EF19: 0 | EG19: 0 | EH19: 0 | EI19: 0 | EJ19: 0 | EK19: =VLOOKUP(H19,'Sale Data'!I:J,2,) -> 0 | EL19: 0 | EM19: =AVERAGE(EG19:EJ19) -> 0 | EN19: =(J19+K19+L19+M19)-(N19+O19+P19+Q19+T19+R19+S19+EM19) -> 0 | EO19: =(EM19*2)-EN19 -> 0 | EQ19: 0 | ES19: MOQ - 40 CS | ET19: 146 | EU19: 120 | EV19: 120 | EW19: 204 | EX19: 198 | EY19: 957 | EZ19: 606 | FA19: 72 | FB19: 711 | FC19: 254 | FD19: 128 | FE19: 96 | FF19: 206 | FG19: 273 | FH19: 110 | FI19: 477 | FJ19: 244 | FK19: 240 | FL19: 254 | FM19: 34 | FN19: 287 | FO19: 506 | FP19: 154 | FQ19: 315 | FR19: 125 | FS19: 251 | FT19: =VLOOKUP(H19,#REF!,2,) -> #REF! | FU19: 29 | FV19: =AVERAGE(FO19:FU19) -> #REF! | FW19: =(J19+K19+L19+M19)-(T19+FV19) -> #REF! | FX19: =(FV19*2)-FW19 -> #REF! | GA19: =EQ19*F19 -> 0
A20: 16 | B20: Valvoline | C20: Durablend 10W40, SN | D20: 4 | E20: x | F20: 4 | G20: L | H20: 690814 | I20: Bottle | J20: 0 | U20: 362 | V20: 122 | W20: 243 | X20: 349 | Y20: 406 | Z20: 224 | AA20: 393 | AB20: 485 | AC20: 354 | AD20: 559 | AE20: 658 | AF20: 671 | AG20: 528 | AH20: 796 | AI20: 641 | AJ20: 834 | AK20: 546 | AL20: 709 | AM20: 1113 | AN20: 1044 | AO20: 1089 | AP20: 720 | AQ20: 644.25 | AR20: 883 | AS20: 1000 | AT20: 858 | AU20: 794 | AV20: 489 | AW20: 846 | AX20: 512 | AY20: 472 | AZ20: 796 | BA20: 725 | BB20: 876 | BC20: 674 | BD20: 1161 | BE20: 1141 | BF20: 938 | BG20: 1240 | BH20: 950 | BI20: 896 | BJ20: 939 | BK20: 1160 | BL20: 551 | BM20: 546 | BN20: 634 | BO20: 591 | BP20: 528 | BQ20: 511 | BR20: 526 | BS20: 444 | BT20: 745 | BU20: 408 | BV20: 452 | BW20: 296 | BX20: 108 | BY20: 63 | BZ20: 53 | CA20: 42 | CB20: 32 | CC20: 62 | CD20: 103 | CE20: 23 | CF20: 25 | CG20: 30 | CH20: 16 | CI20: 17 | CJ20: 6 | CK20: 4 | CL20: 2 | CM20: 3 | CN20: 1 | CO20: 5 | CP20: 0 | CQ20: 0 | CR20: 1 | CS20: 1 | CT20: 2 | CU20: 15 | CV20: 12 | CW20: 0 | CX20: 0 | CY20: 1 | CZ20: 1 | DA20: 1 | DB20: 0 | DC20: 0 | DD20: 0 | DE20: 0 | DF20: 0 | DG20: 0 | DH20: 0 | DI20: 0 | DJ20: 0 | DK20: 0 | DL20: 0 | DM20: 0 | DN20: 0 | DO20: 0 | DP20: 0 | DQ20: 0 | DR20: 0 | DS20: 0 | DT20: 0 | DU20: 0 | DV20: 0 | DW20: 0 | DX20: 0 | DY20: 0 | DZ20: 0 | EA20: 0 | EB20: 0 | EC20: 0 | ED20: 0 | EE20: 0 | EF20: 0 | EG20: 0 | EH20: 0 | EI20: 0 | EJ20: 0 | EK20: =VLOOKUP(H20,'Sale Data'!I:J,2,) -> 0 | EL20: 0 | EM20: =AVERAGE(EG20:EJ20) -> 0 | EN20: =(J20+K20+L20+M20)-(N20+O20+P20+Q20+T20+R20+S20+EM20) -> 0 | EO20: =(EM20*4)-EN20 -> 0 | EQ20: 0 | ER20: =EQ20*4 -> 0 | ES20: MOQ - 48 CS | ET20: 584 | EU20: 369 | EV20: 570 | EW20: 643 | EX20: 844 | EY20: 461 | EZ20: 440 | FA20: 562 | FB20: 453 | FC20: 403 | FD20: 544 | FE20: 521 | FF20: 456 | FG20: 696 | FH20: 398 | FI20: 637 | FJ20: 1069 | FK20: 632 | FL20: 827 | FM20: 407 | FN20: 654 | FO20: 819 | FP20: 836 | FQ20: 874 | FR20: 1148 | FS20: 942 | FT20: =VLOOKUP(H20,#REF!,2,) -> #REF! | FU20: 996 | FV20: =AVERAGE(FO20:FU20) -> #REF! | FW20: =(J20+K20+L20+M20)-(T20+FV20) -> #REF! | FX20: =(FV20*3)-FW20 -> #REF! | GA20: =EQ20*F20 -> 0
A21: 17 | B21: Valvoline | C21: Durablend 10W40, SN | D21: 6 | E21: x | F21: 1 | G21: L | H21: 691848 | I21: Bottle | J21: 0 | U21: 86 | V21: 26 | W21: 113 | X21: 107 | Y21: 84 | Z21: 162 | AA21: 156 | AB21: 150 | AC21: 77 | AD21: 211 | AE21: 152 | AF21: 254 | AG21: 223 | AH21: 340 | AI21: 162 | AJ21: 320 | AK21: 243 | AL21: 368 | AM21: 458 | AN21: 364 | AO21: 619 | AP21: 304 | AQ21: 354 | AR21: 495 | AS21: 302 | AT21: 349 | AU21: 253 | AV21: 223 | AW21: 366 | AX21: 197 | AY21: 213 | AZ21: 401 | BA21: 415 | BB21: 266 | BC21: 357 | BD21: 258 | BE21: 347 | BF21: 265 | BG21: 410 | BH21: 353 | BI21: 214 | BJ21: 158 | BK21: 264 | BL21: 240 | BM21: 159 | BN21: 162 | BO21: 229 | BP21: 342 | BQ21: 192 | BR21: 137 | BS21: 157 | BT21: 221 | BU21: 106 | BV21: 123 | BW21: 136 | BX21: 153 | BY21: 98 | BZ21: 194 | CA21: 94 | CB21: 146 | CC21: 20 | CD21: 46 | CE21: 6 | CF21: 7 | CG21: 4 | CH21: 0 | CI21: 11 | CJ21: 0 | CK21: 2 | CL21: 1 | CM21: 4 | CN21: 10 | CO21: 1 | CP21: 13 | CQ21: 2 | CR21: 2 | CS21: 2 | CT21: 1 | CU21: 3 | CV21: 0 | CW21: 8 | CX21: 1 | CY21: 4 | CZ21: 0 | DA21: 0 | DB21: 0 | DC21: 0 | DD21: 0 | DE21: 0 | DF21: 0 | DG21: 0 | DH21: 0 | DI21: 0 | DJ21: 0 | DK21: 0 | DL21: 1 | DM21: 1 | DN21: 0 | DO21: 0 | DP21: 0 | DQ21: 0 | DR21: 0 | DS21: 1 | DT21: 3 | DU21: 0 | DV21: 0 | DW21: 0 | DX21: 0 | DY21: 0 | DZ21: 0 | EA21: 0 | EB21: 0 | EC21: 0 | ED21: 0 | EE21: 0 | EF21: 0 | EG21: 0 | EH21: 0 | EI21: 0 | EJ21: 0 | EK21: =VLOOKUP(H21,'Sale Data'!I:J,2,) -> 2 | EL21: 5 | EM21: =AVERAGE(EG21:EJ21) -> 0 | EN21: =(J21+K21+L21+M21)-(N21+O21+P21+Q21+T21+R21+S21+EM21) -> 0 | EO21: =(EM21*4)-EN21 -> 0 | EQ21: 0 | ES21: MOQ - 120 CS | ET21: 242 | EU21: 180 | EV21: 210 | EW21: 369 | EX21: 211 | EY21: 210 | EZ21: 174 | FA21: 167 | FB21: 332 | FC21: 204 | FD21: 142 | FE21: 246 | FF21: 198 | FG21: 182 | FH21: 90 | FI21: 361 | FJ21: 383 | FK21: 270 | FL21: 300 | FM21: 124 | FN21: 82 | FO21: 405 | FP21: 407 | FQ21: 484 | FR21: 352 | FS21: 491 | FT21: =VLOOKUP(H21,#REF!,2,) -> #REF! | FU21: 321 | FV21: =AVERAGE(FO21:FU21) -> #REF! | FW21: =(J21+K21+L21+M21)-(T21+FV21) -> #REF! | FX21: =(FV21*3)-FW21 -> #REF! | GA21: =EQ21*F21 -> 0
A22: 18 | B22: Valvoline | C22: Gear Gard Super 140, GL-5 | D22: 1 | E22: x | F22: 18 | G22: L | H22: 692079 | I22: Can | J22: 15 | U22: 22 | V22: 39 | W22: 18 | X22: 18 | Y22: 13 | Z22: 14 | AA22: 15 | AB22: 30 | AC22: 5 | AD22: 14 | AE22: 21 | AF22: 14.222222 | AG22: 37 | AH22: 30 | AI22: 26 | AJ22: 12 | AK22: 8 | AL22: 12 | AM22: 8 | AN22: 9.1 | AO22: 3.1111111 | AP22: 11 | AQ22: 20 | AR22: 29 | AS22: 20 | AT22: 18 | AU22: 9 | AV22: 13 | AW22: 6 | AX22: 5 | AY22: 5 | AZ22: 7 | BA22: 6 | BB22: 13 | BC22: 16 | BD22: 17 | BE22: 17 | BF22: 17 | BG22: 26 | BH22: 12 | BI22: 7 | BJ22: 4 | BK22: 7 | BL22: 3 | BM22: 5 | BN22: 6 | BO22: 15 | BP22: 35 | BQ22: 8 | BR22: 5 | BS22: 9 | BT22: 7 | BU22: 2 | BV22: 3 | BW22: 5 | BX22: 8 | BY22: 13 | BZ22: 4 | CA22: 9 | CB22: 17 | CC22: 12 | CD22: 6 | CE22: 5 | CF22: 8 | CG22: 10 | CH22: 3 | CI22: 2 | CJ22: 4 | CK22: 5 | CL22: 6 | CM22: 2 | CN22: 5 | CO22: 7 | CP22: 25 | CQ22: 9 | CR22: 26 | CS22: 11 | CT22: 6 | CU22: 16 | CV22: 8 | CW22: 2 | CX22: 8 | CY22: 5 | CZ22: 2 | DA22: 7 | DB22: 4 | DC22: 4 | DD22: 5 | DE22: 0 | DF22: 0 | DG22: 3 | DH22: 1 | DI22: 0 | DJ22: 4 | DK22: 1 | DL22: 2 | DM22: 2 | DN22: 5 | DO22: 9 | DP22: 0 | DQ22: 3 | DR22: 2 | DS22: 4 | DT22: 1 | DU22: 0 | DV22: 1 | DW22: 2 | DX22: 2 | DY22: 1 | DZ22: 5 | EA22: 6 | EB22: 15 | EC22: 5 | ED22: 5 | EE22: 6 | EF22: 1 | EG22: 5 | EH22: 4 | EI22: 0 | EJ22: 0 | EK22: =VLOOKUP(H22,'Sale Data'!I:J,2,) -> 0 | EL22: 2 | EM22: =AVERAGE(EG22:EJ22) -> 2.25 | EN22: =(J22+K22+L22+M22)-(N22+O22+P22+Q22+T22+R22+S22+EM22) -> 12.75 | EO22: =(EM22*6)-EN22 -> 0.75 | EQ22: 0 | ER22: =EQ22*18 -> 0 | ES22: MOQ - 144 Can | ET22: 19 | EU22: 20 | EV22: 1 | EW22: 75 | EX22: 15 | EY22: 5 | EZ22: 73 | FA22: 35 | FB22: 25 | FC22: 32 | FD22: 2 | FE22: 22 | FF22: 35 | FG22: 40 | FH22: 3 | FI22: 23 | FJ22: 0 | FK22: 5 | FL22: 8 | FM22: 15 | FN22: 0 | FO22: 23 | FP22: 7 | FQ22: 11 | FR22: 14 | FS22: 9 | FT22: =VLOOKUP(H22,#REF!,2,) -> #REF! | FU22: 0 | FV22: =AVERAGE(FO22:FU22) -> #REF! | FW22: =(J22+K22+L22+M22)-(T22+FV22) -> #REF! | FX22: =(FV22*2)-FW22 -> #REF! | GA22: =EQ22*F22 -> 0 | GG22: =48*3 -> 144
A23: 19 | B23: Valvoline | C23: Gear Oil Tube | D23: 60 | E23: x | F23: 0.12 | G23: L | H23: 3140015-120 | I23: Bottle | J23: 17 | X23: 195 | Y23: 170 | Z23: 306 | AA23: 512 | AB23: 648 | AC23: 191 | AD23: 231 | AE23: 1319 | AF23: 485 | AG23: 278 | AH23: 0 | AI23: 329 | AJ23: 316 | AK23: 210 | AL23: 136 | AM23: 152 | AN23: 323 | AO23: 420 | AP23: 118 | AQ23: 75 | AR23: 5 | AS23: 0 | AT23: 0 | AU23: 0 | AV23: 26 | AW23: 74 | AX23: 120 | AY23: 72 | AZ23: 7 | BA23: 10 | BB23: 13 | BC23: 2 | BD23: 4 | BE23: 0 | BF23: 97 | BG23: 397 | BH23: 24 | BI23: 26 | BJ23: 50 | BK23: 50 | BL23: 0 | BM23: 1 | BN23: 24 | BO23: 142 | BP23: 86 | BQ23: 10 | BR23: 0 | BS23: 0 | BT23: 0 | BU23: 0 | BV23: 0 | BW23: 0 | BX23: 0 | BY23: 0 | BZ23: 0 | CA23: 0 | CB23: 0 | CC23: 0 | CD23: 0 | CE23: 0 | CF23: 0 | CG23: 0 | CH23: 0 | CI23: 0 | CJ23: 0 | CK23: 0 | CL23: 0 | CM23: 0 | CN23: 0 | CO23: 0 | CP23: 0 | CQ23: 0 | CR23: 0 | CS23: 48 | CT23: 0 | CU23: 0 | CV23: 0 | CW23: 24 | CX23: 0 | CY23: 10 | CZ23: 0 | DA23: 24 | DB23: 0 | DC23: 0 | DD23: 0 | DE23: 0 | DF23: 0 | DG23: 0 | DH23: 0 | DI23: 0 | DJ23: 0 | DK23: 0 | DL23: 0 | DM23: 0 | DN23: 0 | DO23: 0 | DP23: 0 | DQ23: 0 | DR23: 0 | DS23: 0 | DT23: 0 | DU23: 2 | DV23: 0 | DW23: 0 | DX23: 0 | DY23: 0 | DZ23: 0 | EA23: 0 | EB23: 0 | EC23: 0 | ED23: 0 | EE23: 0 | EF23: 0 | EG23: 0 | EH23: 0 | EI23: 0 | EJ23: 0 | EK23: =VLOOKUP(H23,'Sale Data'!I:J,2,) -> 0 | EL23: 0 | EM23: =AVERAGE(EG23:EJ23) -> 0 | EN23: =(J23+K23+L23+M23)-(N23+O23+P23+Q23+T23+R23+S23+EM23) -> 17 | EO23: =(EM23*2)-EN23 -> -17 | EQ23: 0 | ET23: 332 | EU23: 360 | EV23: 637 | EW23: 1133 | EX23: 2101 | EY23: 360 | EZ23: 2340 | FA23: 327 | FB23: 420 | FC23: 540 | FD23: 732 | FE23: 7 | FF23: 0 | FG23: 0 | FH23: 0 | FI23: 0 | FJ23: 0 | FK23: 0 | FL23: 539 | FM23: 0 | FN23: 0 | FO23: 0 | FP23: 0 | FQ23: 0 | FR23: 0 | FS23: 10 | FT23: =VLOOKUP(H23,#REF!,2,) -> #REF! | FU23: 0 | FV23: =AVERAGE(FO23:FU23) -> #REF! | FW23: =(J23+K23+L23+M23)-(T23+FV23) -> #REF! | FX23: =(FV23*2)-FW23 -> #REF! | GA23: =EQ23*F23 -> 0
A24: 20 | B24: Valvoline | C24: Gear Oil Tube | D24: 60 | E24: x | F24: 0.12 | G24: L | H24: 3140115-120 | I24: Bottle | J24: 5 | M24: =250*60 -> 15000 | AF24: 235 | AG24: 540 | AH24: 1444 | AI24: 329 | AJ24: 1134 | AK24: 455 | AL24: 689 | AM24: 692.48 | AN24: 1161 | AO24: 1171 | AP24: 1735 | AQ24: 1411 | AR24: 2793 | AS24: 2725 | AT24: 626 | AU24: 2223 | AV24: 1650 | AW24: 1359 | AX24: 2293 | AY24: 2222 | AZ24: 2998 | BA24: 2804 | BB24: 2082 | BC24: 3301 | BD24: 3891 | BE24: 4826 | BF24: 5765 | BG24: 5531 | BH24: 2161 | BI24: 5034 | BJ24: 5245 | BK24: 6517 | BL24: 4198 | BM24: 4435 | BN24: 2444 | BO24: 4377 | BP24: 4618 | BQ24: 3419 | BR24: 3385 | BS24: 3235 | BT24: 3644 | BU24: 4457 | BV24: 3247 | BW24: 3774 | BX24: 4588 | BY24: 3818 | BZ24: 2803 | CA24: 3200 | CB24: 5382 | CC24: 2925 | CD24: 2499 | CE24: 1336 | CF24: 2650 | CG24: 2852 | CH24: 3235 | CI24: 3519 | CJ24: 2581 | CK24: 2481 | CL24: 2164 | CM24: 2529 | CN24: 2608 | CO24: 2696 | CP24: 3761 | CQ24: 5182 | CR24: 4209 | CS24: 2127 | CT24: 343 | CU24: 2383 | CV24: 3907 | CW24: 814 | CX24: 1660 | CY24: 2415 | CZ24: 2098 | DA24: 3093 | DB24: 3615 | DC24: 1477 | DD24: 2723 | DE24: 1832 | DF24: 3667 | DG24: 2213 | DH24: 1816 | DI24: 998 | DJ24: 965 | DK24: 2437 | DL24: 3043 | DM24: 2076 | DN24: 2047 | DO24: 1326 | DP24: 3044 | DQ24: 3804 | DR24: 3029 | DS24: 2048 | DT24: 787 | DU24: 1129 | DV24: 1777 | DW24: 2720 | DX24: 1894 | DY24: 3487 | DZ24: 1204 | EA24: 715 | EB24: 150 | EC24: 71 | ED24: 334 | EE24: 48 | EF24: 171 | EG24: 0 | EH24: 1 | EI24: 30 | EJ24: 0 | EK24: =VLOOKUP(H24,'Sale Data'!I:J,2,) -> 0 | EL24: 0 | EM24: =AVERAGE(EG24:EJ24) -> 7.75 | EN24: =(J24+K24+L24+M24)-(N24+O24+P24+Q24+T24+R24+S24+EM24) -> 14997.25 | EO24: =(EM24*4)-EN24 -> -14966.25 | EQ24: 0 | FD24: 200 | FE24: 1549 | FF24: 1323 | FG24: 2021 | FH24: 90 | FI24: 1639 | FJ24: 2034 | FK24: 468 | FL24: 655 | FM24: 1680 | FN24: 1986 | FO24: 2209 | FP24: 1130 | FQ24: 5077 | FR24: 1176 | FS24: 2915 | FT24: =VLOOKUP(H24,#REF!,2,) -> #REF! | FU24: 1076 | FV24: =AVERAGE(FO24:FU24) -> #REF! | FW24: =(J24+K24+L24+M24)-(T24+FV24) -> #REF! | FX24: =(FV24*2)-FW24 -> #REF! | GA24: =EQ24*F24 -> 0
A25: 21 | B25: Valvoline | C25: Premium Conventional Motor Oil 10W30, SM/CF | D25: 4 | E25: x | F25: 4 | G25: L | H25: 691849 | I25: Bottle | J25: 1 | U25: 231 | V25: 19 | W25: 232 | X25: 269 | Y25: 264 | Z25: 128 | AA25: 278 | AB25: 355 | AC25: 468 | AD25: 609 | AE25: 639 | AF25: 411 | AG25: 443 | AH25: 610 | AI25: 535 | AJ25: 761 | AK25: 621 | AL25: 744 | AM25: 785 | AN25: 800 | AO25: 1045 | AP25: 772 | AQ25: 646 | AR25: 778 | AS25: 806 | AT25: 914 | AU25: 833 | AV25: 678 | AW25: 928 | AX25: 580 | AY25: 761 | AZ25: 765 | BA25: 737 | BB25: 892 | BC25: 912 | BD25: 1078 | BE25: 1124 | BF25: 915 | BG25: 1075 | BH25: 1029 | BI25: 1004 | BJ25: 942 | BK25: 1049 | BL25: 531 | BM25: 749 | BN25: 621 | BO25: 813 | BP25: 911 | BQ25: 506 | BR25: 557 | BS25: 747 | BT25: 818 | BU25: 490 | BV25: 622 | BW25: 396 | BX25: 335 | BY25: 66 | BZ25: 79 | CA25: 24 | CB25: 21 | CC25: 19 | CD25: 49 | CE25: 20 | CF25: 0 | CG25: 2 | CH25: 2 | CI25: 6 | CJ25: 0 | CK25: 0 | CL25: 1 | CM25: 2 | CN25: 3 | CO25: 0 | CP25: 1 | CQ25: 1 | CR25: 0 | CS25: 0 | CT25: 0 | CU25: 0 | CV25: 4 | CW25: 0 | CX25: 0 | CY25: 0 | CZ25: 0 | DA25: 0 | DB25: 0 | DC25: 0 | DD25: 0 | DE25: 0 | DF25: 0 | DG25: 0 | DH25: 0 | DI25: 0 | DJ25: 1 | DK25: 0 | DL25: 0 | DM25: 0 | DN25: 2 | DO25: 0 | DP25: 0 | DQ25: 0 | DR25: 0 | DS25: 0 | DT25: 0 | DU25: 0 | DV25: 0 | DW25: 0 | DX25: 0 | DY25: 0 | DZ25: 0 | EA25: 0 | EB25: 0 | EC25: 0 | ED25: 0 | EE25: 0 | EF25: 0 | EG25: 0 | EH25: 0 | EI25: 0 | EJ25: 0 | EK25: =VLOOKUP(H25,'Sale Data'!I:J,2,) -> 0 | EL25: 0 | EM25: =AVERAGE(EG25:EJ25) -> 0 | EN25: =(J25+K25+L25+M25)-(N25+O25+P25+Q25+T25+R25+S25+EM25) -> 1 | EO25: =(EM25*4)-EN25 -> -1 | EQ25: 0 | ER25: =EQ25*4 -> 0 | ES25: MOQ - 48 CS | ET25: 228 | EU25: 188 | EV25: 321 | EW25: 576 | EX25: 270 | EY25: 604 | EZ25: 706 | FA25: 499 | FB25: 609 | FC25: 331 | FD25: 758 | FE25: 493 | FF25: 364 | FG25: 631 | FH25: 227 | FI25: 766 | FJ25: 1100 | FK25: 848 | FL25: 402 | FM25: 739 | FN25: 471 | FO25: 1034 | FP25: 644 | FQ25: 891 | FR25: 904 | FS25: 1060 | FT25: =VLOOKUP(H25,#REF!,2,) -> #REF! | FU25: 1182 | FV25: =AVERAGE(FO25:FU25) -> #REF! | FW25: =(J25+K25+L25+M25)-(T25+FV25) -> #REF! | FX25: =(FV25*3)-FW25 -> #REF! | GA25: =EQ25*F25 -> 0
A26: 22 | B26: Valvoline | C26: Premium Conventional Motor Oil 10W30, SM/CF | D26: 24 | E26: x | F26: 1 | G26: L | H26: 691918 | I26: Bottle | J26: 22 | U26: 67 | V26: 204 | W26: 122 | X26: 173 | Y26: 114 | Z26: 143 | AA26: 70 | AB26: 84 | AC26: 24 | AD26: 218 | AE26: 182 | AF26: 228 | AG26: 128 | AH26: 315 | AI26: 187 | AJ26: 255 | AK26: 178 | AL26: 94 | AM26: 382 | AN26: 321 | AO26: 484 | AP26: 378 | AQ26: 301 | AR26: 253 | AS26: 181 | AT26: 309 | AU26: 146 | AV26: 138 | AW26: 166 | AX26: 139 | AY26: 163 | AZ26: 189 | BA26: 376 | BB26: 234 | BC26: 92 | BD26: 146 | BE26: 346 | BF26: 267 | BG26: 120 | BH26: 169 | BI26: 203 | BJ26: 33 | BK26: 156 | BL26: 139 | BM26: 105 | BN26: 223 | BO26: 265 | BP26: 151 | BQ26: 92 | BR26: 261 | BS26: 64 | BT26: 206 | BU26: 144 | BV26: 114 | BW26: 54 | BX26: 87 | BY26: 78 | BZ26: 67 | CA26: 69 | CB26: 86 | CC26: 143 | CD26: 83 | CE26: 35 | CF26: 109 | CG26: 44 | CH26: 57 | CI26: 113 | CJ26: 53 | CK26: 29 | CL26: 12 | CM26: 4 | CN26: 72 | CO26: 37 | CP26: 15 | CQ26: 98 | CR26: 8 | CS26: 14 | CT26: 12 | CU26: 38 | CV26: 41 | CW26: 31 | CX26: 3 | CY26: 9 | CZ26: 8 | DA26: 4 | DB26: 1 | DC26: 1 | DD26: 1 | DE26: 1 | DF26: 2 | DG26: 0 | DH26: 0 | DI26: 168 | DJ26: 0 | DK26: 1 | DL26: 1 | DM26: 5 | DN26: 5 | DO26: 0 | DP26: 0 | DQ26: 2 | DR26: 4 | DS26: 0 | DT26: 0 | DU26: 12 | DV26: 0 | DW26: 0 | DX26: 0 | DY26: 0 | DZ26: 0 | EA26: 0 | EB26: 0 | EC26: 0 | ED26: 0 | EE26: 0 | EF26: 0 | EG26: 0 | EH26: 0 | EI26: 0 | EJ26: 0 | EK26: =VLOOKUP(H26,'Sale Data'!I:J,2,) -> 0 | EL26: 0 | EM26: =AVERAGE(EG26:EJ26) -> 0 | EN26: =(J26+K26+L26+M26)-(N26+O26+P26+Q26+T26+R26+S26+EM26) -> 22 | EO26: =(EM26*4)-EN26 -> -22 | EQ26: 0 | ES26: MOQ - 40 CS | ET26: 166 | EU26: 484 | EV26: 210 | EW26: 519 | EX26: 276 | EY26: 168 | EZ26: 105 | FA26: 8 | FB26: 446 | FC26: 72 | FD26: 490 | FE26: 246 | FF26: 36 | FG26: 240 | FH26: 60 | FI26: 328 | FJ26: 576 | FK26: 118 | FL26: 418 | FM26: 72 | FN26: 100 | FO26: 612 | FP26: 390 | FQ26: 407 | FR26: 106 | FS26: 232 | FT26: =VLOOKUP(H26,#REF!,2,) -> #REF! | FU26: 544 | FV26: =AVERAGE(FO26:FU26) -> #REF! | FW26: =(J26+K26+L26+M26)-(T26+FV26) -> #REF! | FX26: =(FV26*2)-FW26 -> #REF! | GA26: =EQ26*F26 -> 0 | GI26: 40
A27: 23 | B27: Valvoline | C27: Premium Conventional Motor Oil 20W50, SM/CF | D27: 24 | E27: x | F27: 1 | G27: L | H27: 691781 | I27: Bottle | J27: 0 | U27: 146 | V27: 161 | W27: 141 | X27: 112 | Y27: 200 | Z27: 266 | AA27: 86 | AB27: 238 | AC27: 129 | AD27: 65 | AE27: 130 | AF27: 111 | AG27: 178 | AH27: 80 | AI27: 73 | AJ27: 146 | AK27: 329 | AL27: 72 | AM27: 103 | AN27: 107 | AO27: 182 | AP27: 60 | AQ27: 138 | AR27: 81 | AS27: 103 | AT27: 3 | AU27: 68 | AV27: 47 | AW27: 36 | AX27: 1 | AY27: 65 | AZ27: 75 | BA27: 19 | BB27: 14 | BC27: 222 | BD27: 290 | BE27: 0 | BF27: 26 | BG27: 14 | BH27: 51 | BI27: 31 | BJ27: 22 | BK27: 0 | BL27: 0 | BM27: 26 | BN27: 0 | BO27: 0 | BP27: 10 | BQ27: 0 | BR27: 1 | BS27: 0 | BT27: 0 | BU27: 0 | BV27: 1 | BW27: 0 | BX27: 107 | BY27: 1 | BZ27: 0 | CA27: 0 | CB27: 22 | CC27: 48 | CD27: 4 | CE27: 2 | CF27: 25 | CG27: 0 | CH27: 0 | CI27: 1 | CJ27: 0 | CK27: 24 | CL27: 2 | CM27: 0 | CN27: 0 | CO27: 218 | CP27: 13 | CQ27: 0 | CR27: 592 | CS27: 534 | CT27: 2 | CU27: 0 | CV27: 57 | CW27: 28 | CX27: 221 | CY27: 14 | CZ27: 0 | DA27: 0 | DB27: 0 | DC27: 0 | DD27: 0 | DE27: 0 | DF27: 0 | DG27: 0 | DH27: 162 | DI27: 0 | DJ27: 0 | DK27: 0 | DL27: 0 | DM27: 0 | DN27: 0 | DO27: 0 | DP27: 0 | DQ27: 0 | DR27: 0 | DS27: 0 | DT27: 20 | DU27: 0 | DV27: 0 | DW27: 0 | DX27: 0 | DY27: 0 | DZ27: 0 | EA27: 0 | EB27: 0 | EC27: 0 | ED27: 0 | EE27: 0 | EF27: 0 | EG27: 0 | EH27: 0 | EI27: 0 | EJ27: 0 | EK27: =VLOOKUP(H27,'Sale Data'!I:J,2,) -> 0 | EL27: 0 | EM27: =AVERAGE(EG27:EJ27) -> 0 | EN27: =(J27+K27+L27+M27)-(N27+O27+P27+Q27+T27+R27+S27+EM27) -> 0 | EO27: =(EM27*2)-EN27 -> 0 | EQ27: 0 | ES27: MOQ - 40 CS | ET27: 432 | EU27: 253 | EV27: 122 | EW27: 416 | EX27: 144 | EY27: 304 | EZ27: 108 | FA27: 472 | FB27: 600 | FC27: 0 | FD27: 45 | FE27: 246 | FF27: 120 | FG27: 310 | FH27: 0 | FI27: 544 | FJ27: 157 | FK27: 0 | FL27: 0 | FM27: 0 | FN27: 4 | FO27: 73 | FP27: 10 | FQ27: 120 | FR27: 120 | FS27: 120 | FT27: =VLOOKUP(H27,#REF!,2,) -> #REF! | FU27: 0 | FV27: =AVERAGE(FO27:FU27) -> #REF! | FW27: =(J27+K27+L27+M27)-(T27+FV27) -> #REF! | FX27: =(FV27*2)-FW27 -> #REF! | GA27: =EQ27*F27 -> 0
A28: 24 | B28: Valvoline | C28: Premium Conventional Motor Oil 20W50, SM/CF | D28: 4 | E28: x | F28: 4 | G28: L | H28: 691911 | I28: Bottle | J28: 0 | U28: 59 | V28: 40 | W28: 38 | X28: 96 | Y28: 68 | Z28: 123 | AA28: 71 | AB28: 64 | AC28: 35 | AD28: 71 | AE28: 110 | AF28: 66 | AG28: 38 | AH28: 120 | AI28: 80 | AJ28: 115 | AK28: 74 | AL28: 51 | AM28: 117 | AN28: 91 | AO28: 133 | AP28: 75 | AQ28: 51 | AR28: 20 | AS28: 34 | AT28: 8 | AU28: 24 | AV28: 19 | AW28: 13 | AX28: 10 | AY28: 5 | AZ28: 16 | BA28: 5 | BB28: 8 | BC28: 12 | BD28: 43 | BE28: 1 | BF28: 0 | BG28: 8 | BH28: 4 | BI28: 6 | BJ28: 2 | BK28: 1 | BL28: 1 | BM28: 11 | BN28: 0 | BO28: 2 | BP28: 0 | BQ28: 2 | BR28: 2 | BS28: 1 | BT28: 2 | BU28: 1 | BV28: 2 | BW28: 0 | BX28: 0 | BY28: 1 | BZ28: 4 | CA28: 2 | CB28: 1 | CC28: 0 | CD28: 0 | CE28: 1 | CF28: 1 | CG28: 0 | CH28: 0 | CI28: 1 | CJ28: 0 | CK28: 0 | CL28: 0 | CM28: 0 | CN28: 0 | CO28: 303 | CP28: 0 | CQ28: 0 | CR28: 0 | CS28: 0 | CT28: 0 | CU28: 0 | CV28: 0 | CW28: 0 | CX28: 0 | CY28: 0 | CZ28: 0 | DA28: 0 | DB28: 0 | DC28: 0 | DD28: 0 | DE28: 0 | DF28: 0 | DG28: 0 | DH28: 0 | DI28: 0 | DJ28: 0 | DK28: 4 | DL28: 0 | DM28: 0 | DN28: 0 | DO28: 0 | DP28: 0 | DQ28: 0 | DR28: 0 | DS28: 0 | DT28: 10 | DU28: 0 | DV28: 0 | DW28: 0 | DX28: 0 | DY28: 0 | DZ28: 0 | EA28: 0 | EB28: 0 | EC28: 0 | ED28: 0 | EE28: 0 | EF28: 0 | EG28: 0 | EH28: 0 | EI28: 0 | EJ28: 0 | EK28: =VLOOKUP(H28,'Sale Data'!I:J,2,) -> 0 | EL28: 0 | EM28: =AVERAGE(EG28:EJ28) -> 0 | EN28: =(J28+K28+L28+M28)-(N28+O28+P28+Q28+T28+R28+S28+EM28) -> 0 | EO28: =(EM28*2)-EN28 -> 0 | EQ28: 0 | ES28: MOQ - 48 CS | ET28: 1332 | EU28: 85 | EV28: 376 | EW28: 296 | EX28: 68 | EY28: 286 | EZ28: 288 | FA28: 205 | FB28: 86 | FC28: 144 | FD28: 20 | FE28: 149 | FF28: 8 | FG28: 227 | FH28: 19 | FI28: 99 | FJ28: 27 | FK28: 8 | FL28: 64 | FM28: 22 | FN28: 4 | FO28: 54 | FP28: 4 | FQ28: 0 | FR28: 28 | FS28: 28 | FT28: =VLOOKUP(H28,#REF!,2,) -> #REF! | FU28: 1 | FV28: =AVERAGE(FO28:FU28) -> #REF! | FW28: =(J28+K28+L28+M28)-(T28+FV28) -> #REF! | FX28: =(FV28*2)-FW28 -> #REF! | GA28: =EQ28*F28 -> 0
A29: 25 | B29: Valvoline | C29: Syn power 4T 10W30 (10x0.9L) | D29: 10 | E29: x | F29: 0.9 | G29: L | H29: 795005 | I29: Bottle | J29: 1 | U29: 1 | V29: 11 | Y29: 1 | Z29: 107 | AA29: 0 | AB29: 41 | AC29: 40 | AD29: 10 | AE29: 39 | AF29: 1 | AG29: 10 | AH29: 32 | AI29: 10 | AJ29: 25 | AK29: 20 | AL29: 0 | AM29: 57 | AN29: 12 | AO29: 10 | AP29: 52 | AQ29: 49 | AR29: 1 | AS29: 25 | AT29: 70 | AU29: 8 | AV29: 0 | AW29: 0 | AX29: 120 | AY29: 1 | AZ29: 0 | BA29: 0 | BB29: 1 | BC29: 3 | BD29: 10 | BE29: 0 | BF29: 0 | BG29: 0 | BH29: 2 | BI29: 0 | BJ29: 0 | BK29: 5 | BL29: 0 | BM29: 2 | BN29: 0 | BO29: 12 | BP29: 15 | BQ29: 0 | BR29: 0 | BS29: 0 | BT29: 10 | BU29: 0 | BV29: 0 | BW29: 0 | BX29: 0 | BY29: 13 | BZ29: 11 | CA29: 3 | CB29: 0 | CC29: 0 | CD29: 0 | CE29: 0 | CF29: 0 | CG29: 1 | CH29: 0 | CI29: 0 | CJ29: 0 | CK29: 1 | CL29: 0 | CM29: 0 | CN29: 0 | CO29: 0 | CP29: 0 | CQ29: 0 | CR29: 0 | CS29: 0 | CT29: 0 | CU29: 0 | CV29: 0 | CW29: 0 | CX29: 0 | CY29: 0 | CZ29: 0 | DA29: 1 | DB29: 0 | DC29: 0 | DD29: 0 | DE29: 0 | DF29: 0 | DG29: 0 | DH29: 0 | DI29: 0 | DJ29: 0 | DK29: 0 | DL29: 0 | DM29: 0 | DN29: 0 | DO29: 0 | DP29: 0 | DQ29: 0 | DR29: 0 | DS29: 1 | DT29: 0 | DU29: 24 | DV29: 3 | DW29: 0 | DX29: 0 | DY29: 0 | DZ29: 1 | EA29: 0 | EB29: 0 | EC29: 0 | ED29: 13 | EE29: 2 | EF29: 0 | EG29: 0 | EH29: 0 | EI29: 0 | EJ29: 0 | EK29: =VLOOKUP(H29,'Sale Data'!I:J,2,) -> 0 | EL29: 0 | EM29: =AVERAGE(EG29:EJ29) -> 0 | EN29: =(J29+K29+L29+M29)-(N29+O29+P29+Q29+T29+R29+S29+EM29) -> 1 | EO29: =(EM29*2)-EN29 -> -1 | EQ29: 0 | ET29: 50 | EU29: 10 | EV29: 0 | EW29: 110 | EX29: 40 | EY29: 50 | EZ29: 0 | FA29: 58 | FB29: 70 | FC29: 20 | FD29: 31 | FE29: 50 | FF29: 0 | FG29: 10 | FH29: 10 | FI29: 52 | FJ29: 10 | FK29: 40 | FL29: 30 | FM29: 10 | FN29: 0 | FO29: 159 | FP29: 44 | FQ29: 0 | FR29: 0 | FS29: 52 | FT29: =VLOOKUP(H29,#REF!,2,) -> #REF! | FU29: 100 | FV29: =AVERAGE(FO29:FU29) -> #REF! | FW29: =(J29+K29+L29+M29)-(T29+FV29) -> #REF! | FX29: =(FV29*2)-FW29 -> #REF! | GA29: =EQ29*F29 -> 0
A30: 26 | B30: Valvoline | C30: SynPower 5W30, SN/GF-4 | D30: 4 | E30: x | F30: 4 | G30: L | H30: 685850 | I30: Bottle | J30: 1 | U30: 52 | V30: 13 | W30: 41 | X30: 41 | Y30: 19 | Z30: 38 | AA30: 66 | AB30: 79 | AC30: 15 | AD30: 49 | AE30: 60 | AF30: 59 | AG30: 67 | AH30: 54 | AI30: 67 | AJ30: 73 | AK30: 60 | AL30: 84 | AM30: 116 | AN30: 151 | AO30: 176 | AP30: 39 | AQ30: 27 | AR30: 30 | AS30: 29 | AT30: 27 | AU30: 29 | AV30: 15 | AW30: 26 | AX30: 27 | AY30: 36 | AZ30: 54 | BA30: 12 | BB30: 24 | BC30: 103 | BD30: 21 | BE30: 14 | BF30: 32 | BG30: 12 | BH30: 18 | BI30: 2 | BJ30: 14 | BK30: 3 | BL30: 10 | BM30: 10 | BN30: 4 | BO30: 15 | BP30: 6 | BQ30: 11 | BR30: 7 | BS30: 11 | BT30: 11 | BU30: 13 | BV30: 15 | BW30: 2 | BX30: 16 | BY30: 6 | BZ30: 29 | CA30: 13 | CB30: 5 | CC30: 11 | CD30: 8 | CE30: 1 | CF30: 3 | CG30: 7 | CH30: 8 | CI30: 1 | CJ30: 11 | CK30: 4 | CL30: 11 | CM30: 5 | CN30: 8 | CO30: 0 | CP30: 10 | CQ30: 11 | CR30: 4 | CS30: 10 | CT30: 0 | CU30: 15 | CV30: 13 | CW30: 1 | CX30: 10 | CY30: 1 | CZ30: 9 | DA30: 0 | DB30: 0 | DC30: 0 | DD30: 2 | DE30: 1 | DF30: 1 | DG30: 0 | DH30: 0 | DI30: 0 | DJ30: 0 | DK30: 0 | DL30: 0 | DM30: 0 | DN30: 2 | DO30: 0 | DP30: 0 | DQ30: 0 | DR30: 0 | DS30: 0 | DT30: 0 | DU30: 3 | DV30: 0 | DW30: 0 | DX30: 0 | DY30: 0 | DZ30: 0 | EA30: 0 | EB30: 0 | EC30: 0 | ED30: 0 | EE30: 0 | EF30: 0 | EG30: 0 | EH30: 0 | EI30: 0 | EJ30: 0 | EK30: =VLOOKUP(H30,'Sale Data'!I:J,2,) -> 1 | EL30: 0 | EM30: =AVERAGE(EG30:EJ30) -> 0 | EN30: =(J30+K30+L30+M30)-(N30+O30+P30+Q30+T30+R30+S30+EM30) -> 1 | EO30: =(EM30*2)-EN30 -> -1 | EQ30: 0 | ES30: MOQ - 48 CS | ET30: 32 | EU30: 24 | EV30: 52 | EW30: 140 | EX30: 80 | EY30: 80 | EZ30: 71 | FA30: 116 | FB30: 61 | FC30: 16 | FD30: 70 | FE30: 107 | FF30: 47 | FG30: 63 | FH30: 42 | FI30: 81 | FJ30: 97 | FK30: 89 | FL30: 36 | FM30: 74 | FN30: 20 | FO30: 22 | FP30: 86 | FQ30: 28 | FR30: 55 | FS30: 13 | FT30: =VLOOKUP(H30,#REF!,2,) -> #REF! | FU30: 18 | FV30: =AVERAGE(FO30:FU30) -> #REF! | FW30: =(J30+K30+L30+M30)-(T30+FV30) -> #REF! | FX30: =(FV30*2)-FW30 -> #REF! | GA30: =EQ30*F30 -> 0
