Workbook
Name B.Code: '[1]CPO-Temp'!$F$3:$F$45
Name MSN_MoneyCentral_Investor_Currency_Rates: working!#REF!

Sheet working
A1: FM - Bot | C1: 959.960.977.956 | U1: Calculation based on Actual Sales | ET1: Calculation based on W/H Issuing
J2: HO+Branches | K2: At the Port | L2: On The Way | M2: Waiting Shipment | FL2: HO
A3: No. | B3: Brand | C3: Description | D3: Pack Size | H3: Part No | I3: Unit Code | J3: Closing Balance Qty 23-4-25 & Branch Closing of 31-3-25 | K3: At the Port (Qty) | L3: On The Way (Qty) | M3: Waiting Shipment (Qty) | T3: Branch Outstanding PO Qty | U3: Feb | V3: Mar | W3: Apr | X3: May | Y3: Jun | Z3: Jul | AA3: Aug | AB3: Sep | AC3: Oct | AD3: Nov | AE3: Dec | AF3: Jan'16 | AG3: Feb'16 | AH3: Mar'16 | AI3: Apr'16 | AJ3: May'16 | AK3: Jun'16 | AL3: Jul'16 | AM3: Aug'16 | AN3: Sep'16 | AO3: Oct'16 | AP3: Nov'16 | AQ3: Dec'16 | AR3: Jan'17 | AS3: Feb'17 | AT3: Mar'17 | AU3: Apr'17 | AV3: May'17 | AW3: Jun'17 | AX3: Jul'17 | AY3: Aug'17 | AZ3: Sep'17 | BA3: Oct'17 | BB3: Nov'17 | BC3: Dec'17 | BD3: Jan'18 | BE3: Feb'18 | BF3: Mar'18 | BG3: Apr'18 | BH3: May'18 | BI3: Jun'18 | BJ3: Jul'18 | BK3: Aug'18 | BL3: Sep'18 | BM3: Oct'18 | BN3: Nov'18 | BO3: Dec'18 | BP3: Jan'19 | BQ3: Feb'19 | BR3: Mar'19 | BS3: Apr'19 | BT3: May'19 | BU3: Jun'19 | BV3: Jul'19 | BW3: Aug'19 | BX3: Sep'19 | BY3: Oct'19 | BZ3: Nov'19 | CA3: Dec'19 | CB3: Jan'20 | CC3: Feb'20 | CD3: Mar'20 | CE3: Apr'20 | CF3: May'20 | CG3: Jun'20 | CH3: Jul'20 | CI3: Aug'20 | CJ3: Sep'20 | CK3: Oct'20 | CL3: Nov'20 | CM3: Dec'20 | CN3: Jan'21 | CO3: Feb'21 | CP3: Mar'21 | CQ3: Apr'21 | CR3: May'21 | CS3: Jun'21 | CT3: Jul'21 | CU3: Aug'21 | CV3: Sep'21 | CW3: Oct'21 | CX3: Nov'21 | CY3: Dec'21 | CZ3: Jan'22 | DA3: Feb'22 | DB3: Mar'22 | DC3: Apr'22 | DD3: May'22 | DE3: Jun'22 | DF3: Jul'22 | DG3: Aug'22 | DH3: Sep'22 | DI3: Oct'22 | DJ3: Nov'22 | DK3: Dec'22 | DL3: Jan'23 | DM3: Feb'23 | DN3: Mar'23 | DO3: Apr'23 | DP3: May'23 | DQ3: Jun'23 | DR3: Jul'23 | DS3: Aug'23 | DT3: Sep'23 | DU3: Oct'23 | DV3: Nov'23 | DW3: Dec'23 | DX3: Jan'24 | DY3: Feb'24 | DZ3: Mar'24 | EA3: Apr'24 | EB3: May'24 | EC3: Jun'24 | ED3: Jul'24 | EE3: Aug'24 | EF3: Sep'24 | EG3: Oct'24 | EH3: Nov'24 | EI3: Dec'24 | EJ3: Jan'25 | EK3: Feb'25 | EL3: Mar'25 | EM3: 4 month average sale | EN3: Estimated Stk in hand condition | EO3: Estimated Order Plan | EQ3: Final Order Qty | ET3: Feb | EU3: Mar | EV3: Apr | EW3: May | EX3: Jun | EY3: Jul | EZ3: Aug | FA3: Sep | FB3: Oct | FC3: Nov | FD3: Dec | FE3: Jan'16 | FF3: Feb'16 | FG3: Mar'16 | FH3: Apr'16 | FI3: May'16 | FJ3: Jun'16 | FK3: Jul'16 | FL3: Aug'16 | FM3: Sep'16 | FN3: Oct'16 | FO3: Nov'16 | FP3: Dec'16 | FQ3: Jan'17 | FR3: Feb'17 | FS3: Mar'17 | FT3: Apr'17 | FU3: May'17 | FV3: Avg Issue | FW3: Estimated Stk in hand condition | FX3: Estimated Order Plan
N4: Myeik Est order | O4: Mandalay Est order | P4: CMD MDY Est order | Q4: Monywa Est order | R4: BTB Hot Prospect | S4: BTB CCO Order & Hot Prospect | ES4: MOQ | GC4: PO 1027 | GD4: PO 1028 | GE4: PO 1029 | GF4: PO 1041 | GG4: PO 1042 | GH4: PO 1043 | GI4: PO 1044 | GJ4: PO 1046 | GK4: PO 1047 | GN4: PO 146 | GO4: PO 147 | GP4: PO 148 | GQ4: PO 149 | GR4: PO 150 | GS4: PO 151 | GT4: PO 152 | GU4: PO 153 | GV4: PO 154 | GW4: PO 155
A5: 1 | B5: Valvoline | C5: 4T Premium 20W40, SL, JASO MA | D5: 24 | E5: x | F5: 1 | G5: L | H5: 692247 | I5: Bottle | J5: 210 | M5: =480*24 -> 11520 | U5: 892 | V5: 299 | W5: 342 | X5: 490 | Y5: 775 | Z5: 853 | AA5: 1119 | AB5: 966 | AC5: 974 | AD5: 590 | AE5: 1265 | AF5: 1043 | AG5: 849 | AH5: 1291 | AI5: 468 | AJ5: 709 | AK5: 951 | AL5: 1042 | AM5: 1167 | AN5: 1953 | AO5: 1639 | AP5: 1383 | AQ5: 1948.125 | AR5: 2579 | AS5: 3228 | AT5: 2207 | AU5: 1426 | AV5: 1754 | AW5: 2375 | AX5: 999 | AY5: 1844 | AZ5: 2035 | BA5: 1864 | BB5: 2044 | BC5: 2236 | BD5: 3176 | BE5: 3617 | BF5: 3987 | BG5: 2355 | BH5: 2610 | BI5: 2973 | BJ5: 2982 | BK5: 3159 | BL5: 2047 | BM5: 2692 | BN5: 1997 | BO5: 3102 | BP5: 1991 | BQ5: 2808 | BR5: 2142 | BS5: 3860 | BT5: 3260 | BU5: 2272 | BV5: 3222 | BW5: 2797 | BX5: 3882 | BY5: 2813 | BZ5: 3267 | CA5: 3619 | CB5: 3785 | CC5: 4304 | CD5: 2179 | CE5: 1513 | CF5: 2586 | CG5: 3688 | CH5: 2458 | CI5: 2861 | CJ5: 2677 | CK5: 2098 | CL5: 4191 | CM5: 3016 | CN5: 3817 | CO5: 4751 | CP5: 2250 | CQ5: 4513 | CR5: 1802 | CS5: 1220 | CT5: 1026 | CU5: 5297 | CV5: 4050 | CW5: 1294 | CX5: 915 | CY5: 1968 | CZ5: 3306 | DA5: 3477 | DB5: 5583 | DC5: 289 | DD5: 499 | DE5: 3975 | DF5: 3822 | DG5: 1555 | DH5: 567 | DI5: 1654 | DJ5: 2211 | DK5: 1410 | DL5: 1568 | DM5: 2662 | DN5: 1589 | DO5: 1267 | DP5: 2590 | DQ5: 5179 | DR5: 2570 | DS5: 1440 | DT5: 1247 | DU5: 894 | DV5: 416 | DW5: 179 | DX5: 3760 | DY5: 1606 | DZ5: 3868 | EA5: 2014 | EB5: 3541 | EC5: 1596 | ED5: 1993 | EE5: 86 | EF5: 235 | EG5: 3456 | EH5: 2617 | EI5: 3047 | EJ5: 1543 | EK5: =VLOOKUP(H5,'Sale Data'!I:J,2,) -> 242 | EL5: 38 | EM5: =AVERAGE(EG5:EJ5) -> 2665.75 | EN5: =(J5+K5+L5+M5)-(N5+O5+P5+Q5+T5+R5+S5+EM5) -> 9064.25 | EO5: =(EM5*6)-EN5 -> 6930.25 | EQ5: =40*7*24 -> 6720 | ES5: MOQ - 40 CS | ET5: 1488 | EU5: 1584 | EV5: 1776 | EW5: 3649 | EX5: 721 | EY5: 2568 | EZ5: 1141 | FA5: 1304 | FB5: 1270 | FC5: 792 | FD5: 1094 | FE5: 711 | FF5: 1042 | FG5: 1004 | FH5: 301 | FI5: 763 | FJ5: 1937 | FK5: 1957 | FL5: 853 | FM5: 1742 | FN5: 1239 | FO5: 3333 | FP5: 1609 | FQ5: 1617 | FR5: 5059 | FS5: 2165 | FT5: =VLOOKUP(H5,#REF!,2,) -> #REF! | FU5: 1655 | FV5: =AVERAGE(FO5:FU5) -> #REF! | FW5: =(J5+K5+L5+M5)-(T5+FV5) -> #REF! | FX5: =(FV5*3)-FW5 -> #REF! | GA5: =EQ5*F5 -> 6720 | GC5: =40*3 -> 120 | GG5: =40*5 -> 200 | GK5: 40 | GN5: =40*7 -> 280
A6: 2 | B6: Valvoline | C6: 4T Premium 20W40, SL, JASO MA | D6: 24 | E6: x | F6: 0.8 | G6: L | H6: 732728 | I6: Bottle | J6: 0 | U6: 69 | V6: 21 | X6: 27 | Y6: 14 | Z6: 332 | AA6: 2 | AB6: 90 | AC6: 24 | AD6: 0 | AE6: 134 | AF6: 5 | AG6: 26 | AH6: 143 | AI6: 9 | AJ6: 27 | AK6: 109 | AL6: 69 | AM6: 697 | AN6: 80 | AO6: 39 | AP6: 36 | AQ6: 8 | AR6: 26 | AS6: 2 | AT6: 0 | AU6: 38 | AV6: 0 | AW6: 0 | AX6: 48 | AY6: 48 | AZ6: 41 | BA6: 140 | BB6: 222 | BC6: 24 | BD6: 121 | BE6: 30 | BF6: 14 | BG6: 40 | BH6: 29 | BI6: 87 | BJ6: 120 | BK6: 108 | BL6: 1 | BM6: 27 | BN6: 25 | BO6: 24 | BP6: 3 | BQ6: 0 | BR6: 2 | BS6: 4 | BT6: 1 | BU6: 4 | BV6: 25 | BW6: 28 | BX6: 26 | BY6: 1 | BZ6: 8 | CA6: 0 | CB6: 4 | CC6: 2 | CD6: 0 | CE6: 0 | CF6: 1 | CG6: 5 | CH6: 3 | CI6: 0 | CJ6: 2 | CK6: 26 | CL6: 3 | CM6: 2 | CN6: 2 | CO6: 0 | CP6: 0 | CQ6: 0 | CR6: 0 | CS6: 0 | CT6: 4 | CU6: 2 | CV6: 0 | CW6: 0 | CX6: 97 | CY6: 8 | CZ6: 64 | DA6: 72 | DB6: 48 | DC6: 172 | DD6: 25 | DE6: 60 | DF6: 0 | DG6: 0 | DH6: 0 | DI6: 0 | DJ6: 0 | DK6: 0 | DL6: 0 | DM6: 0 | DN6: 0 | DO6: 0 | DP6: 25 | DQ6: 0 | DR6: 0 | DS6: 0 | DT6: 0 | DU6: 6 | DV6: 0 | DW6: 0 | DX6: 0 | DY6: 0 | DZ6: 0 | EA6: 0 | EB6: 0 | EC6: 0 | ED6: 0 | EE6: 0 | EF6: 0 | EG6: 0 | EH6: 0 | EI6: 0 | EJ6: 0 | EK6: =VLOOKUP(H6,'Sale Data'!I:J,2,) -> 0 | EL6: 0 | EM6: =AVERAGE(EG6:EJ6) -> 0 | EN6: =(J6+K6+L6+M6)-(N6+O6+P6+Q6+T6+R6+S6+EM6) -> 0 | EO6: =(EM6*2)-EN6 -> 0 | EQ6: 0 | ES6: MOQ - 40 CS | ET6: 0 | EU6: 0 | EV6: 0 | EW6: 72 | EX6: 0 | EY6: 120 | EZ6: 0 | FA6: 0 | FB6: 0 | FC6: 0 | FD6: 126 | FE6: 120 | FF6: 120 | FG6: 120 | FH6: 0 | FI6: 73 | FJ6: 72 | FK6: 48 | FL6: 0 | FM6: 0 | FN6: 75 | FO6: 0 | FP6: 48 | FQ6: 0 | FR6: 0 | FS6: 0 | FT6: =VLOOKUP(H6,#REF!,2,) -> #REF! | FU6: 0 | FV6: =AVERAGE(FO6:FU6) -> #REF! | FW6: =(J6+K6+L6+M6)-(T6+FV6) -> #REF! | FX6: =(FV6*2)-FW6 -> #REF! | GA6: =EQ6*F6 -> 0
A7: 3 | B7: Valvoline | C7: All Fleet Premium 15W40, CI-4/SL | D7: 24 | E7: x | F7: 1 | G7: L | H7: 691970 | I7: Bottle | J7: 1060 | L7: =40*24 -> 960 | U7: 351 | V7: 70 | W7: 354 | X7: 337 | Y7: 174 | Z7: 130 | AA7: 225 | AB7: 225 | AC7: 224 | AD7: 438 | AE7: 265 | AF7: 298 | AG7: 383 | AH7: 459 | AI7: 509 | AJ7: 490 | AK7: 299 | AL7: 379 | AM7: 738 | AN7: 394 | AO7: 757 | AP7: 531 | AQ7: 514.25 | AR7: 506 | AS7: 241 | AT7: 410 | AU7: 266 | AV7: 258 | AW7: 448 | AX7: 402 | AY7: 388 | AZ7: 397 | BA7: 413 | BB7: 389 | BC7: 296 | BD7: 356 | BE7: 556 | BF7: 453 | BG7: 432 | BH7: 434 | BI7: 326 | BJ7: 350 | BK7: 303 | BL7: 266 | BM7: 202 | BN7: 260 | BO7: 295 | BP7: 315 | BQ7: 324 | BR7: 278 | BS7: 163 | BT7: 337 | BU7: 220 | BV7: 132 | BW7: 375 | BX7: 259 | BY7: 228 | BZ7: 143 | CA7: 165 | CB7: 193 | CC7: 143 | CD7: 118 | CE7: 23 | CF7: 93 | CG7: 154 | CH7: 168 | CI7: 163 | CJ7: 86 | CK7: 22 | CL7: 64 | CM7: 73 | CN7: 104 | CO7: 72 | CP7: 43 | CQ7: 98 | CR7: 34 | CS7: 59 | CT7: 45 | CU7: 53 | CV7: 22 | CW7: 32 | CX7: 46 | CY7: 149 | CZ7: 55 | DA7: 113 | DB7: 106 | DC7: 113 | DD7: 140 | DE7: 57 | DF7: 51 | DG7: 39 | DH7: 14 | DI7: 1 | DJ7: 0 | DK7: 183 | DL7: 23 | DM7: 51 | DN7: 51 | DO7: 72 | DP7: 36 | DQ7: 110 | DR7: 68 | DS7: 38 | DT7: 60 | DU7: 8 | DV7: 39 | DW7: 12 | DX7: 47 | DY7: 21 | DZ7: 11 | EA7: 22 | EB7: 57 | EC7: 8 | ED7: 3 | EE7: 2 | EF7: 0 | EG7: 0 | EH7: 6 | EI7: 16 | EJ7: 161 | EK7: =VLOOKUP(H7,'Sale Data'!I:J,2,) -> 210 | EL7: 59 | EM7: =AVERAGE(EG7:EJ7) -> 45.75 | EN7: =(J7+K7+L7+M7)-(N7+O7+P7+Q7+T7+R7+S7+EM7) -> 1974.25 | EO7: =(EM7*4)-EN7 -> -1791.25 | EQ7: 0 | ES7: MOQ - 40 CS | ET7: 446 | EU7: 171 | EV7: 930 | EW7: 973 | EX7: 572 | EY7: 527 | EZ7: 582 | FA7: 563 | FB7: 471 | FC7: 149 | FD7: 1054 | FE7: 270 | FF7: 190 | FG7: 708 | FH7: 253 | FI7: 880 | FJ7: 715 | FK7: 360 | FL7: 384 | FM7: 122 | FN7: 210 | FO7: 450 | FP7: 337 | FQ7: 744 | FR7: 422 | FS7: 265 | FT7: =VLOOKUP(H7,#REF!,2,) -> #REF! | FU7: 473 | FV7: =AVERAGE(FO7:FU7) -> #REF! | FW7: =(J7+K7+L7+M7)-(T7+FV7) -> #REF! | FX7: =(FV7*2)-FW7 -> #REF! | GA7: =EQ7*F7 -> 0
A8: 4 | B8: Valvoline | C8: All Fleet Premium 15W40, CI-4/SL | D8: 1 | E8: x | F8: 200 | G8: L | H8: 692052 | I8: Drum | J8: 11.275 | K8: =80 -> 80 | M8: =80 -> 80 | U8: 85.2 | V8: 83 | W8: 94 | X8: 114.11 | Y8: 115.16 | Z8: 76 | AA8: 58 | AB8: 149 | AC8: 164 | AD8: 194.04 | AE8: 385.889 | AF8: 295 | AG8: 120 | AH8: 139.3 | AI8: 131.225 | AJ8: 151.595 | AK8: 111.735 | AL8: 100.21 | AM8: 93.77 | AN8: 56.327692 | AO8: 79.3 | AP8: 94.27 | AQ8: 105.26 | AR8: 109.06 | AS8: 104.8 | AT8: 88.13 | AU8: 118.15 | AV8: 63 | AW8: 45.1 | AX8: 37.1 | AY8: 36.715 | AZ8: 62.505 | BA8: 32.1 | BB8: 65 | BC8: 41.54 | BD8: 86 | BE8: 84.26 | BF8: 69.065 | BG8: 80.04 | BH8: 67.12 | BI8: 43.02 | BJ8: 42.5 | BK8: 34.175 | BL8: 40.06 | BM8: 50 | BN8: 90.055 | BO8: 50 | BP8: 83.24 | BQ8: 80.2 | BR8: 64.41 | BS8: 62.1 | BT8: 74.05 | BU8: 105.16 | BV8: 63.25 | BW8: 70 | BX8: 69.63 | BY8: 79.21 | BZ8: 69 | CA8: 97.28 | CB8: 114.33 | CC8: 109.24 | CD8: 107.27 | CE8: 68.175 | CF8: 113.1 | CG8: 53.33 | CH8: 46.14 | CI8: 76.195 | CJ8: 52.16 | CK8: 77.55 | CL8: 67 | CM8: 88 | CN8: 113.45 | CO8: 53.63 | CP8: 93.405 | CQ8: 93.2 | CR8: 37.18 | CS8: 48.355 | CT8: 41.12 | CU8: 44 | CV8: 35 | CW8: 24.2 | CX8: 44 | CY8: 36.2 | CZ8: 31 | DA8: 38.07 | DB8: 46 | DC8: 41 | DD8: 28.13 | DE8: 26.2 | DF8: 38.05 | DG8: 8 | DH8: 18 | DI8: 19 | DJ8: 24 | DK8: 18 | DL8: 74 | DM8: 87 | DN8: 101 | DO8: 40 | DP8: 89 | DQ8: 95 | DR8: 70 | DS8: 54 | DT8: 32 | DU8: 69 | DV8: 65 | DW8: 36 | DX8: 70 | DY8: 58 | DZ8: 42 | EA8: 51.53 | EB8: 69.47 | EC8: 17 | ED8: 0 | EE8: 2 | EF8: 34 | EG8: 10 | EH8: 20 | EI8: 94 | EJ8: 87 | EK8: =VLOOKUP(H8,'Sale Data'!I:J,2,) -> 169.9 | EL8: 73.825 | EM8: =AVERAGE(EG8:EJ8) -> 52.75 | EN8: =(J8+K8+L8+M8)-(N8+O8+P8+Q8+T8+R8+S8+EM8) -> 118.525 | EO8: =(EM8*6)-EN8 -> 197.975 | EQ8: 240 | ES8: MOQ - 4 DR | ET8: 67 | EU8: 110 | EV8: 148 | EW8: 172 | EX8: 96 | EY8: 75 | EZ8: 43 | FA8: 162 | FB8: 145 | FC8: 209 | FD8: 438 | FE8: 276 | FF8: 64 | FG8: 262 | FH8: 149.06 | FI8: 147 | FJ8: 138 | FK8: 77 | FL8: 89 | FM8: 32 | FN8: 69 | FO8: 78 | FP8: 62 | FQ8: 135 | FR8: 69 | FS8: 97 | FT8: =VLOOKUP(H8,#REF!,2,) -> #REF! | FU8: 78 | FV8: =AVERAGE(FO8:FU8) -> #REF! | FW8: =(J8+K8+#REF!+L8)-(T8+FV8) -> #REF! | FX8: =(FV8*2)-FW8 -> #REF! | GA8: =EQ8*F8 -> 48000 | GC8: 20 | GF8: 80 | GJ8: 80 | GO8: 80 | GP8: 80 | GQ8: 80
A9: 5 | B9: Valvoline | C9: All Fleet Premium 15W40, CI-4/SL | D9: 1 | E9: x | F9: 18 | G9: L | H9: 692053 | I9: Can | J9: 190.69889 | L9: =192+288 -> 480 | M9: =816 -> 816 | U9: 300 | V9: 408 | W9: 258 | X9: 387 | Y9: 360 | Z9: 261 | AA9: 289 | AB9: 241 | AC9: 216 | AD9: 246 | AE9: 295 | AF9: 359 | AG9: 416 | AH9: 435 | AI9: 470 | AJ9: 614 | AK9: 478 | AL9: 315 | AM9: 384 | AN9: 241.22222 | AO9: 325.55556 | AP9: 448 | AQ9: 584 | AR9: 469 | AS9: 387.33333 | AT9: 595 | AU9: 318 | AV9: 528 | AW9: 543 | AX9: 293 | AY9: 289 | AZ9: 476 | BA9: 317 | BB9: 382 | BC9: 548 | BD9: 481 | BE9: 438 | BF9: 587 | BG9: 509 | BH9: 635 | BI9: 415 | BJ9: 411 | BK9: 359 | BL9: 237 | BM9: 428 | BN9: 315 | BO9: 307.8 | BP9: 458 | BQ9: 261 | BR9: 463 | BS9: 307 | BT9: 614 | BU9: 427 | BV9: 639 | BW9: 338.09 | BX9: 259 | BY9: 429 | BZ9: 362 | CA9: 397 | CB9: 365 | CC9: 336 | CD9: 418 | CE9: 241 | CF9: 360 | CG9: 318 | CH9: 248 | CI9: 275 | CJ9: 250 | CK9: 164 | CL9: 291 | CM9: 357 | CN9: 419 | CO9: 251 | CP9: 269 | CQ9: 396 | CR9: 329 | CS9: 253 | CT9: 295 | CU9: 299 | CV9: 109 | CW9: 94 | CX9: 164 | CY9: 143 | CZ9: 236 | DA9: 242 | DB9: 271 | DC9: 178 | DD9: 203 | DE9: 178 | DF9: 147 | DG9: 201 | DH9: 130 | DI9: 193 | DJ9: 133 | DK9: 476 | DL9: 391 | DM9: 92 | DN9: 340 | DO9: 236 | DP9: 386 | DQ9: 209 | DR9: 163 | DS9: 218 | DT9: 177 | DU9: 395 | DV9: 383 | DW9: 284 | DX9: 398 | DY9: 350 | DZ9: 366 | EA9: 179 | EB9: 115 | EC9: 13 | ED9: 9 | EE9: 16 | EF9: 2 | EG9: 329 | EH9: 170 | EI9: 65 | EJ9: 400 | EK9: =VLOOKUP(H9,'Sale Data'!I:J,2,) -> 45 | EL9: 120.34 | EM9: =AVERAGE(EG9:EJ9) -> 241 | EN9: =(J9+K9+L9+M9)-(N9+O9+P9+Q9+T9+R9+S9+EM9) -> 1245.6989 | EO9: =(EM9*6)-EN9 -> 200.30111 | EQ9: =48*10 -> 480 | ER9: =EQ9*18 -> 8640 | ES9: MOQ - 48 Can | ET9: 255 | EU9: 362 | EV9: 356 | EW9: 569 | EX9: 421 | EY9: 269 | EZ9: 386 | FA9: 312 | FB9: 329 | FC9: 312 | FD9: 289 | FE9: 337 | FF9: 429 | FG9: 537 | FH9: 332 | FI9: 669 | FJ9: 571 | FK9: 299 | FL9: 495 | FM9: 169 | FN9: 364 | FO9: 391 | FP9: 496 | FQ9: 537 | FR9: 403 | FS9: 699.05556 | FT9: =VLOOKUP(H9,#REF!,2,) -> #REF! | FU9: 593 | FV9: =AVERAGE(FO9:FU9) -> #REF! | FW9: =(J9+K9+#REF!+L9)-(T9+FV9) -> #REF! | FX9: =(FV9*2)-FW9 -> #REF! | GA9: =EQ9*F9 -> 8640 | GD9: 240 | GG9: =48*5 -> 240 | GK9: =48*2 -> 96 | GN9: =48*10 -> 480
A10: 6 | B10: Valvoline | C10: All Fleet Premium 15W40, CI-4/SL | D10: 4 | E10: x | F10: 5 | G10: L | H10: 692054 | I10: Bottle | J10: 219 | L10: =48*4 -> 192 | U10: 405 | V10: 186 | W10: 209 | X10: 305 | Y10: 280 | Z10: 154 | AA10: 261 | AB10: 403 | AC10: 311 | AD10: 403 | AE10: 730 | AF10: 383 | AG10: 464 | AH10: 597 | AI10: 581 | AJ10: 650 | AK10: 380 | AL10: 548 | AM10: 827 | AN10: 612 | AO10: 739 | AP10: 702 | AQ10: 676.2 | AR10: 599 | AS10: 741 | AT10: 639 | AU10: 572 | AV10: 417 | AW10: 505 | AX10: 514.4 | AY10: 433 | AZ10: 553 | BA10: 477.1 | BB10: 528.02 | BC10: 465 | BD10: 652 | BE10: 523 | BF10: 584 | BG10: 780 | BH10: 623 | BI10: 531 | BJ10: 637 | BK10: 482 | BL10: 456 | BM10: 355 | BN10: 367 | BO10: 368 | BP10: 391 | BQ10: 342 | BR10: 280 | BS10: 242 | BT10: 371 | BU10: 288 | BV10: 278 | BW10: 318 | BX10: 274 | BY10: 294 | BZ10: 234 | CA10: 216 | CB10: 301 | CC10: 261 | CD10: 204 | CE10: 111 | CF10: 161 | CG10: 188 | CH10: 154 | CI10: 249 | CJ10: 135 | CK10: 110 | CL10: 192 | CM10: 123 | CN10: 183 | CO10: 125 | CP10: 120 | CQ10: 235 | CR10: 149 | CS10: 88 | CT10: 93 | CU10: 97 | CV10: 89 | CW10: 56 | CX10: 74 | CY10: 105 | CZ10: 121 | DA10: 86 | DB10: 173 | DC10: 113 | DD10: 168 | DE10: 190 | DF10: 77 | DG10: 93 | DH10: 72 | DI10: 99 | DJ10: 75 | DK10: 122 | DL10: 148 | DM10: 148 | DN10: 93 | DO10: 76 | DP10: 82 | DQ10: 130 | DR10: 110 | DS10: 97 | DT10: 64 | DU10: 85 | DV10: 113 | DW10: 69 | DX10: 51 | DY10: 64 | DZ10: 85 | EA10: 52 | EB10: 55 | EC10: 17 | ED10: 18 | EE10: 4 | EF10: 3 | EG10: 4 | EH10: 2 | EI10: 27 | EJ10: 100 | EK10: =VLOOKUP(H10,'Sale Data'!I:J,2,) -> 50 | EL10: 7 | EM10: =AVERAGE(EG10:EJ10) -> 33.25 | EN10: =(J10+K10+L10+M10)-(N10+O10+P10+Q10+T10+R10+S10+EM10) -> 377.75 | EO10: =(EM10*6)-EN10 -> -178.25 | EQ10: =48*4 -> 192 | ES10: MOQ - 48 CS | ET10: 659 | EU10: 502 | EV10: 525 | EW10: 765 | EX10: 756 | EY10: 351 | EZ10: 444 | FA10: 460 | FB10: 629 | FC10: 269 | FD10: 609 | FE10: 379 | FF10: 313 | FG10: 627 | FH10: 401 | FI10: 774 | FJ10: 718 | FK10: 547 | FL10: 574 | FM10: 312 | FN10: 251 | FO10: 807 | FP10: 694 | FQ10: 560 | FR10: 901 | FS10: 767 | FT10: =VLOOKUP(H10,#REF!,2,) -> #REF! | FU10: 554 | FV10: =AVERAGE(FO10:FU10) -> #REF! | FW10: =(J10+K10+#REF!+L10)-(T10+FV10) -> #REF! | FX10: =(FV10*3)-FW10 -> #REF! | GA10: =EQ10*F10 -> 960 | GG10: =48 -> 48 | GS10: =48 -> 48
A11: 7 | B11: Valvoline | C11: All Fleet Turbo 15W40, CF-4/SG | D11: 4 | E11: x | F11: 5 | G11: L | H11: 692128 | I11: Bottle | J11: 37 | U11: 66 | V11: 73 | W11: 38 | X11: 63 | Y11: 99 | Z11: 80 | AA11: 100 | AB11: 86 | AC11: 95 | AD11: 80 | AE11: 81 | AF11: 108 | AG11: 136 | AH11: 133 | AI11: 135 | AJ11: 171 | AK11: 127 | AL11: 158 | AM11: 189 | AN11: 141 | AO11: 183 | AP11: 183 | AQ11: 88.6 | AR11: 130 | AS11: 103 | AT11: 181 | AU11: 96.6 | AV11: 61 | AW11: 139 | AX11: 66 | AY11: 81 | AZ11: 126 | BA11: 133 | BB11: 98 | BC11: 56 | BD11: 125 | BE11: 166 | BF11: 121 | BG11: 142 | BH11: 93 | BI11: 125 | BJ11: 103 | BK11: 184 | BL11: 93 | BM11: 232 | BN11: 118 | BO11: 165 | BP11: 116 | BQ11: 84 | BR11: 47 | BS11: 53 | BT11: 165 | BU11: 82 | BV11: 66 | BW11: 81 | BX11: 105 | BY11: 72 | BZ11: 53 | CA11: 96 | CB11: 67 | CC11: 64 | CD11: 105 | CE11: 12 | CF11: 55 | CG11: 18 | CH11: 48 | CI11: 52 | CJ11: 23 | CK11: 18 | CL11: 82 | CM11: 15 | CN11: 50 | CO11: 5 | CP11: 35 | CQ11: 81 | CR11: 69 | CS11: 28 | CT11: 28 | CU11: 23 | CV11: 31 | CW11: 19 | CX11: 14 | CY11: 16 | CZ11: 0 | DA11: 2 | DB11: 13 | DC11: 8 | DD11: 18 | DE11: 0 | DF11: 9 | DG11: 0 | DH11: 5 | DI11: 7 | DJ11: 6 | DK11: 8 | DL11: 6 | DM11: 2 | DN11: 6 | DO11: 7 | DP11: 9 | DQ11: 24 | DR11: 5 | DS11: 8 | DT11: 20 | DU11: 1 | DV11: 40 | DW11: 0 | DX11: 3 | DY11: 1 | DZ11: 4 | EA11: 17 | EB11: 47 | EC11: 26 | ED11: 37 | EE11: 7 | EF11: 5 | EG11: 5 | EH11: 8 | EI11: 11 | EJ11: 0 | EK11: =VLOOKUP(H11,'Sale Data'!I:J,2,) -> 0 | EL11: 0 | EM11: =AVERAGE(EG11:EJ11) -> 6 | EN11: =(J11+K11+L11+M11)-(N11+O11+P11+Q11+T11+R11+S11+EM11) -> 31 | EO11: =(EM11*4)-EN11 -> -7 | EQ11: 0 | ER11: =EQ11*5 -> 0 | ES11: MOQ - 48 CS | ET11: 76 | EU11: 176 | EV11: 136 | EW11: 176 | EX11: 244 | EY11: 343 | EZ11: 212 | FA11: 148 | FB11: 85 | FC11: 48 | FD11: 94 | FE11: 132 | FF11: 132 | FG11: 127 | FH11: 14 | FI11: 210 | FJ11: 246 | FK11: 63 | FL11: 166 | FM11: 76 | FN11: 88 | FO11: 204 | FP11: 76 | FQ11: 186 | FR11: 192 | FS11: 216 | FT11: =VLOOKUP(H11,#REF!,2,) -> #REF! | FU11: 96 | FV11: =AVERAGE(FO11:FU11) -> #REF! | FW11: =(J11+K11+#REF!+L11)-(T11+FV11) -> #REF! | FX11: =(FV11*2)-FW11 -> #REF! | GA11: =EQ11*F11 -> 0
A12: 8 | B12: Valvoline | C12: All Fleet Turbo 15W40, CF-4/SG | D12: 24 | E12: x | F12: 1 | G12: L | H12: 692171 | I12: Bottle | J12: 47 | U12: 78 | V12: 3 | W12: 27 | X12: 34 | Y12: 34 | Z12: 136 | AA12: 42 | AB12: 62 | AC12: 75 | AD12: 7 | AE12: 83 | AF12: 111 | AG12: 32 | AH12: 67 | AI12: 77 | AJ12: 59 | AK12: 85 | AL12: 51 | AM12: 89 | AN12: 130 | AO12: 154 | AP12: 147 | AQ12: 87 | AR12: 94 | AS12: 27 | AT12: 92 | AU12: 106 | AV12: 82 | AW12: 89 | AX12: 59 | AY12: 105 | AZ12: 67 | BA12: 122 | BB12: 72 | BC12: 29 | BD12: 48 | BE12: 129 | BF12: 81 | BG12: 60 | BH12: 99 | BI12: 51 | BJ12: 69 | BK12: 46 | BL12: 194 | BM12: 71 | BN12: 38 | BO12: 98 | BP12: 80 | BQ12: 40 | BR12: 14 | BS12: 46 | BT12: 35 | BU12: 52 | BV12: 73 | BW12: 36 | BX12: 53 | BY12: 21 | BZ12: 25 | CA12: 58 | CB12: 18 | CC12: 40 | CD12: 22 | CE12: 1 | CF12: 35 | CG12: 19 | CH12: 1 | CI12: 28 | CJ12: 0 | CK12: 23 | CL12: 24 | CM12: 2 | CN12: 70 | CO12: 3 | CP12: 80 | CQ12: 86 | CR12: 9 | CS12: 1 | CT12: 12 | CU12: 35 | CV12: 13 | CW12: 210 | CX12: 211 | CY12: 70 | CZ12: 84 | DA12: 11 | DB12: 15 | DC12: 3 | DD12: 23 | DE12: 14 | DF12: 8 | DG12: 470 | DH12: 24 | DI12: 11 | DJ12: 1 | DK12: 63 | DL12: 1 | DM12: 2 | DN12: 24 | DO12: 0 | DP12: 67 | DQ12: 15 | DR12: 0 | DS12: 0 | DT12: 0 | DU12: 11 | DV12: 0 | DW12: 0 | DX12: 2 | DY12: 21 | DZ12: 0 | EA12: 0 | EB12: 0 | EC12: 0 | ED12: 2 | EE12: 1 | EF12: 0 | EG12: 0 | EH12: 2 | EI12: 0 | EJ12: 16 | EK12: =VLOOKUP(H12,'Sale Data'!I:J,2,) -> 0 | EL12: 0 | EM12: =AVERAGE(EG12:EJ12) -> 4.5 | EN12: =(J12+K12+L12+M12)-(N12+O12+P12+Q12+T12+R12+S12+EM12) -> 42.5 | EO12: =(EM12*2)-EN12 -> -33.5 | EQ12: 0 | ES12: MOQ - 40 CS | ET12: 73 | EU12: 85 | EV12: 105 | EW12: 180 | EX12: 72 | EY12: 371 | EZ12: 270 | FA12: 84 | FB12: 60 | FC12: 0 | FD12: 46 | FE12: 28 | FF12: 114 | FG12: 180 | FH12: 0 | FI12: 132 | FJ12: 226 | FK12: 390 | FL12: 2 | FM12: 24 | FN12: 48 | FO12: 22 | FP12: 120 | FQ12: 41 | FR12: 72 | FS12: 171 | FT12: =VLOOKUP(H12,#REF!,2,) -> #REF! | FU12: 120 | FV12: =AVERAGE(FO12:FU12) -> #REF! | FW12: =(J12+K12+#REF!+L12)-(T12+FV12) -> #REF! | FX12: =(FV12*2)-FW12 -> #REF! | GA12: =EQ12*F12 -> 0
A13: 9 | B13: Valvoline | C13: Champ 4T 20W50, SG/CD | D13: 24 | E13: x | F13: 1 | G13: L | H13: 692249 | I13: Bottle | J13: 3876 | L13: =(440*24)+(160*24) -> 14400 | T13: =400*24 -> 9600 | U13: 4144 | V13: 1948 | W13: 1464 | X13: 2968 | Y13: 3538 | Z13: 3167 | AA13: 3971 | AB13: 4193 | AC13: 4065 | AD13: 4114 | AE13: 6280 | AF13: 4617 | AG13: 5021 | AH13: 6330 | AI13: 4629 | AJ13: 4812 | AK13: 6195 | AL13: 5707 | AM13: 5848 | AN13: 6632 | AO13: 6230 | AP13: 6506 | AQ13: 7937 | AR13: 9704 | AS13: 9667 | AT13: 8211 | AU13: 6484 | AV13: 4513 | AW13: 8962 | AX13: 5489 | AY13: 6061 | AZ13: 8559 | BA13: 7758 | BB13: 10081 | BC13: 10961 | BD13: 10380 | BE13: 12623 | BF13: 13440 | BG13: 13411 | BH13: 5876 | BI13: 9284 | BJ13: 9648 | BK13: 10992 | BL13: 7164 | BM13: 8292 | BN13: 6782 | BO13: 9040 | BP13: 8479 | BQ13: 9505 | BR13: 5201 | BS13: 6628 | BT13: 9304 | BU13: 6331 | BV13: 7166 | BW13: 8452 | BX13: 9029 | BY13: 8654 | BZ13: 8371 | CA13: 8054 | CB13: 7553 | CC13: 6915 | CD13: 5180 | CE13: 3407 | CF13: 5596 | CG13: 6776 | CH13: 6413 | CI13: 5649 | CJ13: 5477 | CK13: 4921 | CL13: 6784 | CM13: 7456 | CN13: 6752 | CO13: 5813 | CP13: 8500 | CQ13: 11836 | CR13: 5425 | CS13: 2987 | CT13: 1385 | CU13: 6003 | CV13: 3786 | CW13: 3039 | CX13: 3998 | CY13: 4119 | CZ13: 8165 | DA13: 4984 | DB13: 9387 | DC13: 1348 | DD13: 6434 | DE13: 4524 | DF13: 7028 | DG13: 2014 | DH13: 823 | DI13: 2598 | DJ13: 3951 | DK13: 2555 | DL13: 4513 | DM13: 4271 | DN13: 1674 | DO13: 2770 | DP13: 4274 | DQ13: 6780 | DR13: 4806 | DS13: 2564 | DT13: 3831 | DU13: 4496 | DV13: 1049 | DW13: 377 | DX13: 4591 | DY13: 605 | DZ13: 7993 | EA13: 3111 | EB13: 5414 | EC13: 2972 | ED13: 1811 | EE13: 284 | EF13: 594 | EG13: 666 | EH13: 6850 | EI13: 6914 | EJ13: 3674 | EK13: =VLOOKUP(H13,'Sale Data'!I:J,2,) -> 883 | EL13: 263 | EM13: =AVERAGE(EG13:EJ13) -> 4526 | EN13: =(J13+K13+L13+M13)-(N13+O13+P13+Q13+T13+R13+S13+EM13) -> 4150 | EO13: =(EM13*6)-EN13 -> 23006 | EQ13: =40*27*24 -> 25920 | ER13: =EQ13*1 -> 25920 | ES13: MOQ - 40 CS | ET13: 4800 | EU13: 7192 | EV13: 5136 | EW13: 8233 | EX13: 5545 | EY13: 7015 | EZ13: 4863 | FA13: 4973 | FB13: 4315 | FC13: 6180 | FD13: 5242 | FE13: 5195 | FF13: 4897 | FG13: 6619 | FH13: 2281 | FI13: 5871 | FJ13: 8736 | FK13: 5868 | FL13: 2253 | FM13: 6274 | FN13: 7217 | FO13: 8242 | FP13: 8857 | FQ13: 9992 | FR13: 13721 | FS13: 11443 | FT13: =VLOOKUP(H13,#REF!,2,) -> #REF! | FU13: 7295 | FV13: =AVERAGE(FO13:FU13) -> #REF! | FW13: =(J13+K13+#REF!+L13)-(T13+FV13) -> #REF! | FX13: =(FV13*3)-FW13 -> #REF! | GA13: =EQ13*F13 -> 25920 | GE13: =40*7 -> 280 | GH13: =40*9 -> 360 | GK13: =40*4 -> 160 | GR13: =40*16 -> 640 | GU13: =40*10 -> 400
A14: 10 | B14: Valvoline | C14: Champ 4T 20W50, SG/CD | D14: 24 | E14: x | F14: 0.8 | G14: L | H14: 772588 | I14: Bottle | J14: 0 | U14: 108 | V14: 188 | W14: 4 | X14: 144 | Y14: 86 | Z14: 311 | AA14: 160 | AB14: 127 | AC14: 245 | AD14: 191 | AE14: 164 | AF14: 168 | AG14: 238 | AH14: 292 | AI14: 126 | AJ14: 278 | AK14: 351 | AL14: 158 | AM14: 56 | AN14: 467 | AO14: 54 | AP14: 174 | AQ14: 151 | AR14: 190 | AS14: 111 | AT14: 178 | AU14: 8 | AV14: 84 | AW14: 101 | AX14: 25 | AY14: 150 | AZ14: 115 | BA14: 395 | BB14: 136 | BC14: 79 | BD14: 60 | BE14: 24 | BF14: 24 | BG14: 1 | BH14: 97 | BI14: 17 | BJ14: 17 | BK14: 3 | BL14: 5 | BM14: 15 | BN14: 3 | BO14: 3 | BP14: 0 | BQ14: 24 | BR14: 4 | BS14: 6 | BT14: 8 | BU14: 0 | BV14: 1 | BW14: 9 | BX14: 5 | BY14: 11 | BZ14: 6 | CA14: 1 | CB14: 6 | CC14: 20 | CD14: 73 | CE14: 0 | CF14: 0 | CG14: 5 | CH14: 2 | CI14: 2 | CJ14: 29 | CK14: 3 | CL14: 2 | CM14: 0 | CN14: 3 | CO14: 1 | CP14: 0 | CQ14: 0 | CR14: 1 | CS14: 6 | CT14: 36 | CU14: 4 | CV14: 0 | CW14: 24 | CX14: 476 | CY14: 36 | CZ14: 1 | DA14: 2 | DB14: 0 | DC14: 2 | DD14: 0 | DE14: 0 | DF14: 0 | DG14: 2 | DH14: 0 | DI14: 60 | DJ14: 0 | DK14: 0 | DL14: 0 | DM14: 0 | DN14: 0 | DO14: 0 | DP14: 9 | DQ14: 0 | DR14: 0 | DS14: 0 | DT14: 0 | DU14: 0 | DV14: 0 | DW14: 0 | DX14: 0 | DY14: 0 | DZ14: 0 | EA14: 0 | EB14: 0 | EC14: 0 | ED14: 0 | EE14: 0 | EF14: 0 | EG14: 0 | EH14: 0 | EI14: 0 | EJ14: 0 | EK14: =VLOOKUP(H14,'Sale Data'!I:J,2,) -> 0 | EL14: 0 | EM14: =AVERAGE(EG14:EJ14) -> 0 | EN14: =(J14+K14+L14+M14)-(N14+O14+P14+Q14+T14+R14+S14+EM14) -> 0 | EO14: =(EM14*2)-EN14 -> 0 | EQ14: 0 | ES14: MOQ - 40 CS | ET14: 0 | EU14: 240 | EV14: 408 | EW14: 48 | EX14: 360 | EY14: 120 | EZ14: 360 | FA14: 301 | FB14: 48 | FC14: 0 | FD14: 720 | FE14: 24 | FF14: 120 | FG14: 264 | FH14: 0 | FI14: 145 | FJ14: 312 | FK14: 240 | FL14: 360 | FM14: 168 | FN14: 0 | FO14: 312 | FP14: 48 | FQ14: 528 | FR14: 0 | FS14: 312 | FT14: =VLOOKUP(H14,#REF!,2,) -> #REF! | FU14: 0 | FV14: =AVERAGE(FO14:FU14) -> #REF! | FW14: =(J14+K14+L14+M14)-(T14+FV14) -> #REF! | FX14: =(FV14*2)-FW14 -> #REF! | GA14: =EQ14*F14 -> 0
A15: 11 | B15: Valvoline | C15: Champ 4T Scooter 10W30 (24x1L) | D15: 24 | E15: x | F15: 1 | G15: L | H15: 841092 | I15: Bottle | J15: 0 | U15: 69 | V15: 32 | W15: 7 | X15: 54 | Y15: 35 | Z15: 266 | AA15: 180 | AB15: 82 | AC15: 43 | AD15: 119 | AE15: 94 | AF15: 130 | AG15: 70 | AH15: 153 | AI15: 34 | AJ15: 161 | AK15: 11 | AL15: 118 | AM15: 124 | AN15: 164 | AO15: 133 | AP15: 84 | AQ15: 59 | AR15: 49 | AS15: 229 | AT15: 96 | AU15: 8 | AV15: 32 | AW15: 122 | AX15: 73 | AY15: 75 | AZ15: 50 | BA15: 150 | BB15: 179 | BC15: 181 | BD15: 275 | BE15: 6 | BF15: 57 | BG15: 49 | BH15: 0 | BI15: 125 | BJ15: 284 | BK15: 24 | BL15: 0 | BM15: 2 | BN15: 32 | BO15: 0 | BP15: 0 | BQ15: 2 | BR15: 12 | BS15: 0 | BT15: 1 | BU15: 22 | BV15: 15 | BW15: 0 | BX15: 18 | BY15: 12 | BZ15: 14 | CA15: 12 | CB15: 0 | CC15: 1 | CD15: 0 | CE15: 6 | CF15: 11 | CG15: 0 | CH15: 0 | CI15: 0 | CJ15: 6 | CK15: 5 | CL15: 0 | CM15: 6 | CN15: 24 | CO15: 1 | CP15: 0 | CQ15: 0 | CR15: 0 | CS15: 6 | CT15: 0 | CU15: 0 | CV15: 0 | CW15: 0 | CX15: 96 | CY15: 0 | CZ15: 48 | DA15: 0 | DB15: 0 | DC15: 0 | DD15: 0 | DE15: 0 | DF15: 0 | DG15: 0 | DH15: 0 | DI15: 0 | DJ15: 0 | DK15: 0 | DL15: 20 | DM15: 0 | DN15: 0 | DO15: 0 | DP15: 12 | DQ15: 0 | DR15: 0 | DS15: 0 | DT15: 0 | DU15: 8 | DV15: 0 | DW15: 0 | DX15: 0 | DY15: 0 | DZ15: 0 | EA15: 0 | EB15: 0 | EC15: 0 | ED15: 0 | EE15: 0 | EF15: 0 | EG15: 0 | EH15: 0 | EI15: 0 | EJ15: 0 | EK15: =VLOOKUP(H15,'Sale Data'!I:J,2,) -> 0 | EL15: 0 | EM15: =AVERAGE(EG15:EJ15) -> 0 | EN15: =(J15+K15+L15+M15)-(N15+O15+P15+Q15+T15+R15+S15+EM15) -> 0 | EO15: =(EM15*3)-EN15 -> 0 | EQ15: 0 | ER15: =EQ15*1 -> 0 | ES15: MOQ - 160 CS, Multiple 40 | ET15: 600 | EU15: 48 | EV15: 240 | EW15: 589 | EX15: 131 | EY15: 816 | EZ15: 360 | FA15: 209 | FB15: 0 | FC15: 0 | FD15: 24 | FE15: 169 | FF15: 133 | FG15: 120 | FH15: 0 | FI15: 120 | FJ15: 72 | FK15: 144 | FL15: 144 | FM15: 0 | FN15: 0 | FO15: 120 | FP15: 116 | FQ15: 192 | FR15: 120 | FS15: 18 | FT15: =VLOOKUP(H15,#REF!,2,) -> #REF! | FU15: 72 | FV15: =AVERAGE(FO15:FU15) -> #REF! | FW15: =(J15+K15+L15+M15)-(T15+FV15) -> #REF! | FX15: =(FV15*2)-FW15 -> #REF! | FY15: under MOQ | GA15: =EQ15*F15 -> 0
A16: 12 | B16: Valvoline | C16: Champ 4T Scooter 10W40 (24x1L) | D16: 24 | E16: x | F16: 1 | G16: L | H16: 841078 | I16: Bottle | J16: 2 | U16: 153 | V16: 16 | W16: 37 | X16: 79 | Y16: 132 | Z16: 284 | AA16: 11 | AB16: 43 | AC16: 76 | AD16: 33 | AE16: 78 | AF16: 275 | AG16: 73 | AH16: 116 | AI16: 32 | AJ16: 154 | AK16: 219 | AL16: 92 | AM16: 168 | AN16: 145 | AO16: 145 | AP16: 14 | AQ16: 30 | AR16: 75 | AS16: 40 | AT16: 14 | AU16: 77 | AV16: 1 | AW16: 5 | AX16: 23 | AY16: 3 | AZ16: 2 | BA16: 1 | BB16: 51 | BC16: 24 | BD16: 30 | BE16: 123 | BF16: 97 | BG16: 241 | BH16: 28 | BI16: 2 | BJ16: 74 | BK16: 379 | BL16: 3 | BM16: 28 | BN16: 26 | BO16: 24 | BP16: 1 | BQ16: 1 | BR16: 24 | BS16: 144 | BT16: 0 | BU16: 12 | BV16: 10 | BW16: 12 | BX16: 6 | BY16: 12 | BZ16: 35 | CA16: 10 | CB16: 2 | CC16: 7 | CD16: 18 | CE16: 2 | CF16: 46 | CG16: 11 | CH16: 16 | CI16: 6 | CJ16: 41 | CK16: 6 | CL16: 6 | CM16: 13 | CN16: 3 | CO16: 3 | CP16: 0 | CQ16: 0 | CR16: 13 | CS16: 0 | CT16: 96 | CU16: 46 | CV16: 2 | CW16: 0 | CX16: 0 | CY16: 2 | CZ16: 1 | DA16: 0 | DB16: 0 | DC16: 0 | DD16: 0 | DE16: 0 | DF16: 0 | DG16: 0 | DH16: 2 | DI16: 0 | DJ16: 0 | DK16: 0 | DL16: 1 | DM16: 0 | DN16: 4 | DO16: 0 | DP16: 0 | DQ16: 0 | DR16: 41 | DS16: 0 | DT16: 1 | DU16: 4 | DV16: 0 | DW16: 1 | DX16: 0 | DY16: 0 | DZ16: 0 | EA16: 0 | EB16: 0 | EC16: 0 | ED16: 0 | EE16: 0 | EF16: 0 | EG16: 0 | EH16: 0 | EI16: 3 | EJ16: 0 | EK16: =VLOOKUP(H16,'Sale Data'!I:J,2,) -> 0 | EL16: 0 | EM16: =AVERAGE(EG16:EJ16) -> 0.75 | EN16: =(J16+K16+L16+M16)-(N16+O16+P16+Q16+T16+R16+S16+EM16) -> 1.25 | EO16: =(EM16*3)-EN16 -> 1 | EQ16: 0 | ER16: =EQ16*1 -> 0 | ES16: MOQ - 160 CS, Multiple 40 | ET16: 48 | EU16: 192 | EV16: 0 | EW16: 49 | EX16: 480 | EY16: 576 | EZ16: 264 | FA16: 174 | FB16: 386 | FC16: 240 | FD16: 168 | FE16: 50 | FF16: 0 | FG16: 25 | FH16: 0 | FI16: 0 | FJ16: 0 | FK16: 93 | FL16: 27 | FM16: 48 | FN16: 24 | FO16: 24 | FP16: 34 | FQ16: 0 | FR16: 0 | FS16: 120 | FT16: =VLOOKUP(H16,#REF!,2,) -> #REF! | FU16: 0 | FV16: =AVERAGE(FO16:FU16) -> #REF! | FW16: =(J16+K16+L16+M16)-(T16+FV16) -> #REF! | FX16: =(FV16*2)-FW16 -> #REF! | GA16: =EQ16*F16 -> 0
A17: 13 | B17: Valvoline | C17: Champ 4T Synth 10W40, SJ/JASO MA2 | D17: 24 | E17: x | F17: 1 | G17: L | H17: 807562 | I17: Bottle | J17: 0 | U17: 50 | V17: 61 | W17: 37 | X17: 66 | Y17: 98 | Z17: 333 | AA17: 34 | AB17: 69 | AC17: 107 | AD17: 11 | AE17: 272 | AF17: 63 | AG17: 0 | AH17: 30 | AI17: 48 | AJ17: 59 | AK17: 80 | AL17: 72 | AM17: 84 | AN17: 173 | AO17: 77 | AP17: 48 | AQ17: 161 | AR17: 144 | AS17: 58 | AT17: 123 | AU17: 59 | AV17: 63 | AW17: 22 | AX17: 89 | AY17: 132 | AZ17: 79 | BA17: 39 | BB17: 97 | BC17: 90 | BD17: 78 | BE17: 224 | BF17: 193 | BG17: 68 | BH17: 88 | BI17: 80 | BJ17: 206 | BK17: 12 | BL17: 36 | BM17: 43 | BN17: 45 | BO17: 108 | BP17: 89 | BQ17: 55 | BR17: 94 | BS17: 28 | BT17: 45 | BU17: 75 | BV17: 26 | BW17: 54 | BX17: 16 | BY17: 85 | BZ17: 86 | CA17: 12 | CB17: 13 | CC17: 1 | CD17: 0 | CE17: 4 | CF17: 0 | CG17: 0 | CH17: 0 | CI17: 2 | CJ17: 0 | CK17: 0 | CL17: 0 | CM17: 0 | CN17: 0 | CO17: 0 | CP17: 0 | CQ17: 0 | CR17: 0 | CS17: 0 | CT17: 0 | CU17: 0 | CV17: 0 | CW17: 0 | CX17: 0 | CY17: 0 | CZ17: 0 | DA17: 0 | DB17: 0 | DC17: 0 | DD17: 0 | DE17: 0 | DF17: 0 | DG17: 0 | DH17: 0 | DI17: 0 | DJ17: 0 | DK17: 0 | DL17: 0 | DM17: 0 | DN17: 0 | DO17: 0 | DP17: 0 | DQ17: 0 | DR17: 0 | DS17: 0 | DT17: 10 | DU17: 6 | DV17: 0 | DW17: 0 | DX17: 0 | DY17: 0 | DZ17: 0 | EA17: 0 | EB17: 0 | EC17: 0 | ED17: 0 | EE17: 0 | EF17: 0 | EG17: 0 | EH17: 0 | EI17: 0 | EJ17: 0 | EK17: =VLOOKUP(H17,'Sale Data'!I:J,2,) -> 0 | EL17: 0 | EM17: =AVERAGE(EG17:EJ17) -> 0 | EN17: =(J17+K17+L17+M17)-(N17+O17+P17+Q17+T17+R17+S17+EM17) -> 0 | EO17: =(EM17*2)-EN17 -> 0 | EQ17: 0 | ES17: MOQ - 192 CS, Multiple 32 | ET17: 264 | EU17: 48 | EV17: 48 | EW17: 141 | EX17: 48 | EY17: 480 | EZ17: 0 | FA17: 7 | FB17: 107 | FC17: 2 | FD17: 179 | FE17: 96 | FF17: 636 | FG17: 48 | FH17: 24 | FI17: 150 | FJ17: 24 | FK17: 24 | FL17: 96 | FM17: 53 | FN17: 73 | FO17: 216 | FP17: 216 | FQ17: 152 | FR17: 24 | FS17: 176 | FT17: =VLOOKUP(H17,#REF!,2,) -> #REF! | FU17: 96 | FV17: =AVERAGE(FO17:FU17) -> #REF! | FW17: =(J17+K17+L17+M17)-(T17+FV17) -> #REF! | FX17: =(FV17*2)-FW17 -> #REF! | FY17: under MOQ | GA17: =EQ17*F17 -> 0
A18: 14 | B18: Valvoline | C18: Crimson Grease, NLGI 3 | D18: 1 | E18: x | F18: 18 | G18: KG | H18: 793317 | I18: Can | J18: 69 | L18: =54 -> 54 | U18: 8 | V18: 33 | W18: 24 | X18: 27 | Y18: 45 | Z18: 28 | AA18: 14 | AB18: 16 | AC18: 22 | AD18: 19 | AE18: 33 | AF18: 17 | AG18: 26 | AH18: 27 | AI18: 25 | AJ18: 29 | AK18: 30 | AL18: 11 | AM18: 19 | AN18: 19 | AO18: 24 | AP18: 44 | AQ18: 26 | AR18: 34 | AS18: 45 | AT18: 26 | AU18: 20 | AV18: 12 | AW18: 26 | AX18: 12 | AY18: 7 | AZ18: 7 | BA18: 14 | BB18: 18 | BC18: 12 | BD18: 22 | BE18: 29 | BF18: 16 | BG18: 13 | BH18: 22 | BI18: 32 | BJ18: 5 | BK18: 22 | BL18: 6 | BM18: 17 | BN18: 9 | BO18: 20 | BP18: 22 | BQ18: 14 | BR18: 23 | BS18: 7 | BT18: 5 | BU18: 9 | BV18: 49 | BW18: 7 | BX18: 3 | BY18: 41 | BZ18: 10 | CA18: 13 | CB18: 14 | CC18: 15 | CD18: 18 | CE18: 24 | CF18: 19 | CG18: 24 | CH18: 11 | CI18: 24 | CJ18: 6 | CK18: 9 | CL18: 25 | CM18: 25 | CN18: 35 | CO18: 14 | CP18: 8 | CQ18: 21 | CR18: 13 | CS18: 6 | CT18: 5 | CU18: 5 | CV18: 1 | CW18: 5 | CX18: 1 | CY18: 8 | CZ18: 7 | DA18: 4 | DB18: 11 | DC18: 3 | DD18: 11 | DE18: 4 | DF18: 16.78 | DG18: 15 | DH18: 6 | DI18: 0 | DJ18: 12 | DK18: 9 | DL18: 8 | DM18: 9 | DN18: 6 | DO18: 6 | DP18: 9 | DQ18: 6 | DR18: 25 | DS18: 1 | DT18: 6 | DU18: 13 | DV18: 2 | DW18: 1 | DX18: 0 | DY18: 1 | DZ18: 0 | EA18: 11 | EB18: 6 | EC18: 8 | ED18: 10 | EE18: 8 | EF18: 11 | EG18: 17 | EH18: 7 | EI18: 10 | EJ18: 17 | EK18: =VLOOKUP(H18,'Sale Data'!I:J,2,) -> 14 | EL18: 9 | EM18: =AVERAGE(EG18:EJ18) -> 12.75 | EN18: =(J18+K18+L18+M18)-(N18+O18+P18+Q18+T18+R18+S18+EM18) -> 110.25 | EO18: =(EM18*6)-EN18 -> -33.75 | EQ18: =27*2 -> 54 | ER18: =EQ18*20 -> 1080 | ES18: MOQ - 27 Can | ET18: 14 | EU18: 42 | EV18: 35 | EW18: 98 | EX18: 14 | EY18: 1 | EZ18: 62 | FA18: 49 | FB18: 39 | FC18: 8 | FD18: 48 | FE18: 22 | FF18: 9 | FG18: 15 | FH18: 10 | FI18: 29 | FJ18: 33 | FK18: 15 | FL18: 15 | FM18: 15 | FN18: 30 | FO18: 34 | FP18: 28 | FQ18: 35 | FR18: 55 | FS18: 9 | FT18: =VLOOKUP(H18,#REF!,2,) -> #REF! | FU18: 4 | FV18: =AVERAGE(FO18:FU18) -> #REF! | FW18: =(J18+K18+L18+M18)-(T18+FV18) -> #REF! | FX18: =(FV18*2)-FW18 -> #REF! | FY18: India | GA18: =EQ18*F18 -> 972 | GC18: =27*3 -> 81 | GT18: =27*2 -> 54
A19: 15 | B19: Valvoline | C19: DEX III ATF | D19: 24 | E19: x | F19: 1 | G19: L | H19: 692180 | I19: Bottle | J19: 0 | U19: 163 | V19: 96 | W19: 138 | X19: 60 | Y19: 94 | Z19: 215 | AA19: 130 | AB19: 203 | AC19: 81 | AD19: 151 | AE19: 223 | AF19: 166 | AG19: 238 | AH19: 173 | AI19: 259 | AJ19: 417 | AK19: 238 | AL19: 187 | AM19: 393 | AN19: 222 | AO19: 474 | AP19: 294 | AQ19: 218 | AR19: 284 | AS19: 78 | AT19: 160 | AU19: 174 | AV19: 53 | AW19: 135 | AX19: 120 | AY19: 58 | AZ19: 24 | BA19: 79 | BB19: 38 | BC19: 40 | BD19: 45 | BE19: 138 | BF19: 39 | BG19: 39 | BH19: 27 | BI19: 5 | BJ19: 7 | BK19: 62 | BL19: 16 | BM19: 0 | BN19: 2 | BO19: 5 | BP19: 33 | BQ19: 10 | BR19: 9 | BS19: 13 | BT19: 96 | BU19: 1 | BV19: 25 | BW19: 61 | BX19: 30 | BY19: 54 | BZ19: 23 | CA19: 60 | CB19: 72 | CC19: 43 | CD19: 44 | CE19: 0 | CF19: 92 | CG19: 72 | CH19: 13 | CI19: 75 | CJ19: 14 | CK19: 2 | CL19: 22 | CM19: 1 | CN19: 10 | CO19: 24 | CP19: 18 | CQ19: 0 | CR19: 40 | CS19: 85 | CT19: 31 | CU19: 81 | CV19: 8 | CW19: 41 | CX19: 23 | CY19: 134 | CZ19: 191 | DA19: 92 | DB19: 665 | DC19: 1 | DD19: 50 | DE19: 9 | DF19: 0 | DG19: 2 | DH19: 1 | DI19: 5 | DJ19: 7 | DK19: 0 | DL19: 0 | DM19: 0 | DN19: 5 | DO19: 0 | DP19: 0 | DQ19: 0 | DR19: 0 | DS19: 0 | DT19: 0 | DU19: 0 | DV19: 0 | DW19: 0 | DX19: 1 | DY19: 0 | DZ19: 0 | EA19: 0 | EB19: 0 | EC19: 0 | ED19: 0 | EE19: 1 | EF19: 0 | EG19: 0 | EH19: 0 | EI19: 0 | EJ19: 0 | EK19: =VLOOKUP(H19,'Sale Data'!I:J,2,) -> 0 | EL19: 0 | EM19: =AVERAGE(EG19:EJ19) -> 0 | EN19: =(J19+K19+L19+M19)-(N19+O19+P19+Q19+T19+R19+S19+EM19) -> 0 | EO19: =(EM19*2)-EN19 -> 0 | EQ19: 0 | ES19: MOQ - 40 CS | ET19: 146 | EU19: 120 | EV19: 120 | EW19: 204 | EX19: 198 | EY19: 957 | EZ19: 606 | FA19: 72 | FB19: 711 | FC19: 254 | FD19: 128 | FE19: 96 | FF19: 206 | FG19: 273 | FH19: 110 | FI19: 477 | FJ19: 244 | FK19: 240 | FL19: 254 | FM19: 34 | FN19: 287 | FO19: 506 | FP19: 154 | FQ19: 315 | FR19: 125 | FS19: 251 | FT19: =VLOOKUP(H19,#REF!,2,) -> #REF! | FU19: 29 | FV19: =AVERAGE(FO19:FU19) -> #REF! | FW19: =(J19+K19+L19+M19)-(T19+FV19) -> #REF! | FX19: =(FV19*2)-FW19 -> #REF! | GA19: =EQ19*F19 -> 0
A20: 16 | B20: Valvoline | C20: Durablend 10W40, SN | D20: 4 | E20: x | F20: 4 | G20: L | H20: 690814 | I20: Bottle | J20: 0 | U20: 362 | V20: 122 | W20: 243 | X20: 349 | Y20: 406 | Z20: 224 | AA20: 393 | AB20: 485 | AC20: 354 | AD20: 559 | AE20: 658 | AF20: 671 | AG20: 528 | AH20: 796 | AI20: 641 | AJ20: 834 | AK20: 546 | AL20: 709 | AM20: 1113 | AN20: 1044 | AO20: 1089 | AP20: 720 | AQ20: 644.25 | AR20: 883 | AS20: 1000 | AT20: 858 | AU20: 794 | AV20: 489 | AW20: 846 | AX20: 512 | AY20: 472 | AZ20: 796 | BA20: 725 | BB20: 876 | BC20: 674 | BD20: 1161 | BE20: 1141 | BF20: 938 | BG20: 1240 | BH20: 950 | BI20: 896 | BJ20: 939 | BK20: 1160 | BL20: 551 | BM20: 546 | BN20: 634 | BO20: 591 | BP20: 528 | BQ20: 511 | BR20: 526 | BS20: 444 | BT20: 745 | BU20: 408 | BV20: 452 | BW20: 296 | BX20: 108 | BY20: 63 | BZ20: 53 | CA20: 42 | CB20: 32 | CC20: 62 | CD20: 103 | CE20: 23 | CF20: 25 | CG20: 30 | CH20: 16 | CI20: 17 | CJ20: 6 | CK20: 4 | CL20: 2 | CM20: 3 | CN20: 1 | CO20: 5 | CP20: 0 | CQ20: 0 | CR20: 1 | CS20: 1 | CT20: 2 | CU20: 15 | CV20: 12 | CW20: 0 | CX20: 0 | CY20: 1 | CZ20: 1 | DA20: 1 | DB20: 0 | DC20: 0 | DD20: 0 | DE20: 0 | DF20: 0 | DG20: 0 | DH20: 0 | DI20: 0 | DJ20: 0 | DK20: 0 | DL20: 0 | DM20: 0 | DN20: 0 | DO20: 0 | DP20: 0 | DQ20: 0 | DR20: 0 | DS20: 0 | DT20: 0 | DU20: 0 | DV20: 0 | DW20: 0 | DX20: 0 | DY20: 0 | DZ20: 0 | EA20: 0 | EB20: 0 | EC20: 0 | ED20: 0 | EE20: 0 | EF20: 0 | EG20: 0 | EH20: 0 | EI20: 0 | EJ20: 0 | EK20: =VLOOKUP(H20,'Sale Data'!I:J,2,) -> 0 | EL20: 0 | EM20: =AVERAGE(EG20:EJ20) -> 0 | EN20: =(J20+K20+L20+M20)-(N20+O20+P20+Q20+T20+R20+S20+EM20) -> 0 | EO20: =(EM20*4)-EN20 -> 0 | EQ20: 0 | ER20: =EQ20*4 -> 0 | ES20: MOQ - 48 CS | ET20: 584 | EU20: 369 | EV20: 570 | EW20: 643 | EX20: 844 | EY20: 461 | EZ20: 440 | FA20: 562 | FB20: 453 | FC20: 403 | FD20: 544 | FE20: 521 | FF20: 456 | FG20: 696 | FH20: 398 | FI20: 637 | FJ20: 1069 | FK20: 632 | FL20: 827 | FM20: 407 | FN20: 654 | FO20: 819 | FP20: 836 | FQ20: 874 | FR20: 1148 | FS20: 942 | FT20: =VLOOKUP(H20,#REF!,2,) -> #REF! | FU20: 996 | FV20: =AVERAGE(FO20:FU20) -> #REF! | FW20: =(J20+K20+L20+M20)-(T20+FV20) -> #REF! | FX20: =(FV20*3)-FW20 -> #REF! | GA20: =EQ20*F20 -> 0
A21: 17 | B21: Valvoline | C21: Durablend 10W40, SN | D21: 6 | E21: x | F21: 1 | G21: L | H21: 691848 | I21: Bottle | J21: 0 | U21: 86 | V21: 26 | W21: 113 | X21: 107 | Y21: 84 | Z21: 162 | AA21: 156 | AB21: 150 | AC21: 77 | AD21: 211 | AE21: 152 | AF21: 254 | AG21: 223 | AH21: 340 | AI21: 162 | AJ21: 320 | AK21: 243 | AL21: 368 | AM21: 458 | AN21: 364 | AO21: 619 | AP21: 304 | AQ21: 354 | AR21: 495 | AS21: 302 | AT21: 349 | AU21: 253 | AV21: 223 | AW21: 366 | AX21: 197 | AY21: 213 | AZ21: 401 | BA21: 415 | BB21: 266 | BC21: 357 | BD21: 258 | BE21: 347 | BF21: 265 | BG21: 410 | BH21: 353 | BI21: 214 | BJ21: 158 | BK21: 264 | BL21: 240 | BM21: 159 | BN21: 162 | BO21: 229 | BP21: 342 | BQ21: 192 | BR21: 137 | BS21: 157 | BT21: 221 | BU21: 106 | BV21: 123 | BW21: 136 | BX21: 153 | BY21: 98 | BZ21: 194 | CA21: 94 | CB21: 146 | CC21: 20 | CD21: 46 | CE21: 6 | CF21: 7 | CG21: 4 | CH21: 0 | CI21: 11 | CJ21: 0 | CK21: 2 | CL21: 1 | CM21: 4 | CN21: 10 | CO21: 1 | CP21: 13 | CQ21: 2 | CR21: 2 | CS21: 2 | CT21: 1 | CU21: 3 | CV21: 0 | CW21: 8 | CX21: 1 | CY21: 4 | CZ21: 0 | DA21: 0 | DB21: 0 | DC21: 0 | DD21: 0 | DE21: 0 | DF21: 0 | DG21: 0 | DH21: 0 | DI21: 0 | DJ21: 0 | DK21: 0 | DL21: 1 | DM21: 1 | DN21: 0 | DO21: 0 | DP21: 0 | DQ21: 0 | DR21: 0 | DS21: 1 | DT21: 3 | DU21: 0 | DV21: 0 | DW21: 0 | DX21: 0 | DY21: 0 | DZ21: 0 | EA21: 0 | EB21: 0 | EC21: 0 | ED21: 0 | EE21: 0 | EF21: 0 | EG21: 0 | EH21: 0 | EI21: 0 | EJ21: 0 | EK21: =VLOOKUP(H21,'Sale Data'!I:J,2,) -> 2 | EL21: 5 | EM21: =AVERAGE(EG21:EJ21) -> 0 | EN21: =(J21+K21+L21+M21)-(N21+O21+P21+Q21+T21+R21+S21+EM21) -> 0 | EO21: =(EM21*4)-EN21 -> 0 | EQ21: 0 | ES21: MOQ - 120 CS | ET21: 242 | EU21: 180 | EV21: 210 | EW21: 369 | EX21: 211 | EY21: 210 | EZ21: 174 | FA21: 167 | FB21: 332 | FC21: 204 | FD21: 142 | FE21: 246 | FF21: 198 | FG21: 182 | FH21: 90 | FI21: 361 | FJ21: 383 | FK21: 270 | FL21: 300 | FM21: 124 | FN21: 82 | FO21: 405 | FP21: 407 | FQ21: 484 | FR21: 352 | FS21: 491 | FT21: =VLOOKUP(H21,#REF!,2,) -> #REF! | FU21: 321 | FV21: =AVERAGE(FO21:FU21) -> #REF! | FW21: =(J21+K21+L21+M21)-(T21+FV21) -> #REF! | FX21: =(FV21*3)-FW21 -> #REF! | GA21: =EQ21*F21 -> 0
A22: 18 | B22: Valvoline | C22: Gear Gard Super 140, GL-5 | D22: 1 | E22: x | F22: 18 | G22: L | H22: 692079 | I22: Can | J22: 15 | U22: 22 | V22: 39 | W22: 18 | X22: 18 | Y22: 13 | Z22: 14 | AA22: 15 | AB22: 30 | AC22: 5 | AD22: 14 | AE22: 21 | AF22: 14.222222 | AG22: 37 | AH22: 30 | AI22: 26 | AJ22: 12 | AK22: 8 | AL22: 12 | AM22: 8 | AN22: 9.1 | AO22: 3.1111111 | AP22: 11 | AQ22: 20 | AR22: 29 | AS22: 20 | AT22: 18 | AU22: 9 | AV22: 13 | AW22: 6 | AX22: 5 | AY22: 5 | AZ22: 7 | BA22: 6 | BB22: 13 | BC22: 16 | BD22: 17 | BE22: 17 | BF22: 17 | BG22: 26 | BH22: 12 | BI22: 7 | BJ22: 4 | BK22: 7 | BL22: 3 | BM22: 5 | BN22: 6 | BO22: 15 | BP22: 35 | BQ22: 8 | BR22: 5 | BS22: 9 | BT22: 7 | BU22: 2 | BV22: 3 | BW22: 5 | BX22: 8 | BY22: 13 | BZ22: 4 | CA22: 9 | CB22: 17 | CC22: 12 | CD22: 6 | CE22: 5 | CF22: 8 | CG22: 10 | CH22: 3 | CI22: 2 | CJ22: 4 | CK22: 5 | CL22: 6 | CM22: 2 | CN22: 5 | CO22: 7 | CP22: 25 | CQ22: 9 | CR22: 26 | CS22: 11 | CT22: 6 | CU22: 16 | CV22: 8 | CW22: 2 | CX22: 8 | CY22: 5 | CZ22: 2 | DA22: 7 | DB22: 4 | DC22: 4 | DD22: 5 | DE22: 0 | DF22: 0 | DG22: 3 | DH22: 1 | DI22: 0 | DJ22: 4 | DK22: 1 | DL22: 2 | DM22: 2 | DN22: 5 | DO22: 9 | DP22: 0 | DQ22: 3 | DR22: 2 | DS22: 4 | DT22: 1 | DU22: 0 | DV22: 1 | DW22: 2 | DX22: 2 | DY22: 1 | DZ22: 5 | EA22: 6 | EB22: 15 | EC22: 5 | ED22: 5 | EE22: 6 | EF22: 1 | EG22: 5 | EH22: 4 | EI22: 0 | EJ22: 0 | EK22: =VLOOKUP(H22,'Sale Data'!I:J,2,) -> 0 | EL22: 2 | EM22: =AVERAGE(EG22:EJ22) -> 2.25 | EN22: =(J22+K22+L22+M22)-(N22+O22+P22+Q22+T22+R22+S22+EM22) -> 12.75 | EO22: =(EM22*6)-EN22 -> 0.75 | EQ22: 0 | ER22: =EQ22*18 -> 0 | ES22: MOQ - 144 Can | ET22: 19 | EU22: 20 | EV22: 1 | EW22: 75 | EX22: 15 | EY22: 5 | EZ22: 73 | FA22: 35 | FB22: 25 | FC22: 32 | FD22: 2 | FE22: 22 | FF22: 35 | FG22: 40 | FH22: 3 | FI22: 23 | FJ22: 0 | FK22: 5 | FL22: 8 | FM22: 15 | FN22: 0 | FO22: 23 | FP22: 7 | FQ22: 11 | FR22: 14 | FS22: 9 | FT22: =VLOOKUP(H22,#REF!,2,) -> #REF! | FU22: 0 | FV22: =AVERAGE(FO22:FU22) -> #REF! | FW22: =(J22+K22+L22+M22)-(T22+FV22) -> #REF! | FX22: =(FV22*2)-FW22 -> #REF! | GA22: =EQ22*F22 -> 0 | GG22: =48*3 -> 144
A23: 19 | B23: Valvoline | C23: Gear Oil Tube | D23: 60 | E23: x | F23: 0.12 | G23: L | H23: 3140015-120 | I23: Bottle | J23: 17 | X23: 195 | Y23: 170 | Z23: 306 | AA23: 512 | AB23: 648 | AC23: 191 | AD23: 231 | AE23: 1319 | AF23: 485 | AG23: 278 | AH23: 0 | AI23: 329 | AJ23: 316 | AK23: 210 | AL23: 136 | AM23: 152 | AN23: 323 | AO23: 420 | AP23: 118 | AQ23: 75 | AR23: 5 | AS23: 0 | AT23: 0 | AU23: 0 | AV23: 26 | AW23: 74 | AX23: 120 | AY23: 72 | AZ23: 7 | BA23: 10 | BB23: 13 | BC23: 2 | BD23: 4 | BE23: 0 | BF23: 97 | BG23: 397 | BH23: 24 | BI23: 26 | BJ23: 50 | BK23: 50 | BL23: 0 | BM23: 1 | BN23: 24 | BO23: 142 | BP23: 86 | BQ23: 10 | BR23: 0 | BS23: 0 | BT23: 0 | BU23: 0 | BV23: 0 | BW23: 0 | BX23: 0 | BY23: 0 | BZ23: 0 | CA23: 0 | CB23: 0 | CC23: 0 | CD23: 0 | CE23: 0 | CF23: 0 | CG23: 0 | CH23: 0 | CI23: 0 | CJ23: 0 | CK23: 0 | CL23: 0 | CM23: 0 | CN23: 0 | CO23: 0 | CP23: 0 | CQ23: 0 | CR23: 0 | CS23: 48 | CT23: 0 | CU23: 0 | CV23: 0 | CW23: 24 | CX23: 0 | CY23: 10 | CZ23: 0 | DA23: 24 | DB23: 0 | DC23: 0 | DD23: 0 | DE23: 0 | DF23: 0 | DG23: 0 | DH23: 0 | DI23: 0 | DJ23: 0 | DK23: 0 | DL23: 0 | DM23: 0 | DN23: 0 | DO23: 0 | DP23: 0 | DQ23: 0 | DR23: 0 | DS23: 0 | DT23: 0 | DU23: 2 | DV23: 0 | DW23: 0 | DX23: 0 | DY23: 0 | DZ23: 0 | EA23: 0 | EB23: 0 | EC23: 0 | ED23: 0 | EE23: 0 | EF23: 0 | EG23: 0 | EH23: 0 | EI23: 0 | EJ23: 0 | EK23: =VLOOKUP(H23,'Sale Data'!I:J,2,) -> 0 | EL23: 0 | EM23: =AVERAGE(EG23:EJ23) -> 0 | EN23: =(J23+K23+L23+M23)-(N23+O23+P23+Q23+T23+R23+S23+EM23) -> 17 | EO23: =(EM23*2)-EN23 -> -17 | EQ23: 0 | ET23: 332 | EU23: 360 | EV23: 637 | EW23: 1133 | EX23: 2101 | EY23: 360 | EZ23: 2340 | FA23: 327 | FB23: 420 | FC23: 540 | FD23: 732 | FE23: 7 | FF23: 0 | FG23: 0 | FH23: 0 | FI23: 0 | FJ23: 0 | FK23: 0 | FL23: 539 | FM23: 0 | FN23: 0 | FO23: 0 | FP23: 0 | FQ23: 0 | FR23: 0 | FS23: 10 | FT23: =VLOOKUP(H23,#REF!,2,) -> #REF! | FU23: 0 | FV23: =AVERAGE(FO23:FU23) -> #REF! | FW23: =(J23+K23+L23+M23)-(T23+FV23) -> #REF! | FX23: =(FV23*2)-FW23 -> #REF! | GA23: =EQ23*F23 -> 0
A24: 20 | B24: Valvoline | C24: Gear Oil Tube | D24: 60 | E24: x | F24: 0.12 | G24: L | H24: 3140115-120 | I24: Bottle | J24: 5 | M24: =250*60 -> 15000 | AF24: 235 | AG24: 540 | AH24: 1444 | AI24: 329 | AJ24: 1134 | AK24: 455 | AL24: 689 | AM24: 692.48 | AN24: 1161 | AO24: 1171 | AP24: 1735 | AQ24: 1411 | AR24: 2793 | AS24: 2725 | AT24: 626 | AU24: 2223 | AV24: 1650 | AW24: 1359 | AX24: 2293 | AY24: 2222 | AZ24: 2998 | BA24: 2804 | BB24: 2082 | BC24: 3301 | BD24: 3891 | BE24: 4826 | BF24: 5765 | BG24: 5531 | BH24: 2161 | BI24: 5034 | BJ24: 5245 | BK24: 6517 | BL24: 4198 | BM24: 4435 | BN24: 2444 | BO24: 4377 | BP24: 4618 | BQ24: 3419 | BR24: 3385 | BS24: 3235 | BT24: 3644 | BU24: 4457 | BV24: 3247 | BW24: 3774 | BX24: 4588 | BY24: 3818 | BZ24: 2803 | CA24: 3200 | CB24: 5382 | CC24: 2925 | CD24: 2499 | CE24: 1336 | CF24: 2650 | CG24: 2852 | CH24: 3235 | CI24: 3519 | CJ24: 2581 | CK24: 2481 | CL24: 2164 | CM24: 2529 | CN24: 2608 | CO24: 2696 | CP24: 3761 | CQ24: 5182 | CR24: 4209 | CS24: 2127 | CT24: 343 | CU24: 2383 | CV24: 3907 | CW24: 814 | CX24: 1660 | CY24: 2415 | CZ24: 2098 | DA24: 3093 | DB24: 3615 | DC24: 1477 | DD24: 2723 | DE24: 1832 | DF24: 3667 | DG24: 2213 | DH24: 1816 | DI24: 998 | DJ24: 965 | DK24: 2437 | DL24: 3043 | DM24: 2076 | DN24: 2047 | DO24: 1326 | DP24: 3044 | DQ24: 3804 | DR24: 3029 | DS24: 2048 | DT24: 787 | DU24: 1129 | DV24: 1777 | DW24: 2720 | DX24: 1894 | DY24: 3487 | DZ24: 1204 | EA24: 715 | EB24: 150 | EC24: 71 | ED24: 334 | EE24: 48 | EF24: 171 | EG24: 0 | EH24: 1 | EI24: 30 | EJ24: 0 | EK24: =VLOOKUP(H24,'Sale Data'!I:J,2,) -> 0 | EL24: 0 | EM24: =AVERAGE(EG24:EJ24) -> 7.75 | EN24: =(J24+K24+L24+M24)-(N24+O24+P24+Q24+T24+R24+S24+EM24) -> 14997.25 | EO24: =(EM24*4)-EN24 -> -14966.25 | EQ24: 0 | FD24: 200 | FE24: 1549 | FF24: 1323 | FG24: 2021 | FH24: 90 | FI24: 1639 | FJ24: 2034 | FK24: 468 | FL24: 655 | FM24: 1680 | FN24: 1986 | FO24: 2209 | FP24: 1130 | FQ24: 5077 | FR24: 1176 | FS24: 2915 | FT24: =VLOOKUP(H24,#REF!,2,) -> #REF! | FU24: 1076 | FV24: =AVERAGE(FO24:FU24) -> #REF! | FW24: =(J24+K24+L24+M24)-(T24+FV24) -> #REF! | FX24: =(FV24*2)-FW24 -> #REF! | GA24: =EQ24*F24 -> 0
A25: 21 | B25: Valvoline | C25: Premium Conventional Motor Oil 10W30, SM/CF | D25: 4 | E25: x | F25: 4 | G25: L | H25: 691849 | I25: Bottle | J25: 1 | U25: 231 | V25: 19 | W25: 232 | X25: 269 | Y25: 264 | Z25: 128 | AA25: 278 | AB25: 355 | AC25: 468 | AD25: 609 | AE25: 639 | AF25: 411 | AG25: 443 | AH25: 610 | AI25: 535 | AJ25: 761 | AK25: 621 | AL25: 744 | AM25: 785 | AN25: 800 | AO25: 1045 | AP25: 772 | AQ25: 646 | AR25: 778 | AS25: 806 | AT25: 914 | AU25: 833 | AV25: 678 | AW25: 928 | AX25: 580 | AY25: 761 | AZ25: 765 | BA25: 737 | BB25: 892 | BC25: 912 | BD25: 1078 | BE25: 1124 | BF25: 915 | BG25: 1075 | BH25: 1029 | BI25: 1004 | BJ25: 942 | BK25: 1049 | BL25: 531 | BM25: 749 | BN25: 621 | BO25: 813 | BP25: 911 | BQ25: 506 | BR25: 557 | BS25: 747 | BT25: 818 | BU25: 490 | BV25: 622 | BW25: 396 | BX25: 335 | BY25: 66 | BZ25: 79 | CA25: 24 | CB25: 21 | CC25: 19 | CD25: 49 | CE25: 20 | CF25: 0 | CG25: 2 | CH25: 2 | CI25: 6 | CJ25: 0 | CK25: 0 | CL25: 1 | CM25: 2 | CN25: 3 | CO25: 0 | CP25: 1 | CQ25: 1 | CR25: 0 | CS25: 0 | CT25: 0 | CU25: 0 | CV25: 4 | CW25: 0 | CX25: 0 | CY25: 0 | CZ25: 0 | DA25: 0 | DB25: 0 | DC25: 0 | DD25: 0 | DE25: 0 | DF25: 0 | DG25: 0 | DH25: 0 | DI25: 0 | DJ25: 1 | DK25: 0 | DL25: 0 | DM25: 0 | DN25: 2 | DO25: 0 | DP25: 0 | DQ25: 0 | DR25: 0 | DS25: 0 | DT25: 0 | DU25: 0 | DV25: 0 | DW25: 0 | DX25: 0 | DY25: 0 | DZ25: 0 | EA25: 0 | EB25: 0 | EC25: 0 | ED25: 0 | EE25: 0 | EF25: 0 | EG25: 0 | EH25: 0 | EI25: 0 | EJ25: 0 | EK25: =VLOOKUP(H25,'Sale Data'!I:J,2,) -> 0 | EL25: 0 | EM25: =AVERAGE(EG25:EJ25) -> 0 | EN25: =(J25+K25+L25+M25)-(N25+O25+P25+Q25+T25+R25+S25+EM25) -> 1 | EO25: =(EM25*4)-EN25 -> -1 | EQ25: 0 | ER25: =EQ25*4 -> 0 | ES25: MOQ - 48 CS | ET25: 228 | EU25: 188 | EV25: 321 | EW25: 576 | EX25: 270 | EY25: 604 | EZ25: 706 | FA25: 499 | FB25: 609 | FC25: 331 | FD25: 758 | FE25: 493 | FF25: 364 | FG25: 631 | FH25: 227 | FI25: 766 | FJ25: 1100 | FK25: 848 | FL25: 402 | FM25: 739 | FN25: 471 | FO25: 1034 | FP25: 644 | FQ25: 891 | FR25: 904 | FS25: 1060 | FT25: =VLOOKUP(H25,#REF!,2,) -> #REF! | FU25: 1182 | FV25: =AVERAGE(FO25:FU25) -> #REF! | FW25: =(J25+K25+L25+M25)-(T25+FV25) -> #REF! | FX25: =(FV25*3)-FW25 -> #REF! | GA25: =EQ25*F25 -> 0
A26: 22 | B26: Valvoline | C26: Premium Conventional Motor Oil 10W30, SM/CF | D26: 24 | E26: x | F26: 1 | G26: L | H26: 691918 | I26: Bottle | J26: 22 | U26: 67 | V26: 204 | W26: 122 | X26: 173 | Y26: 114 | Z26: 143 | AA26: 70 | AB26: 84 | AC26: 24 | AD26: 218 | AE26: 182 | AF26: 228 | AG26: 128 | AH26: 315 | AI26: 187 | AJ26: 255 | AK26: 178 | AL26: 94 | AM26: 382 | AN26: 321 | AO26: 484 | AP26: 378 | AQ26: 301 | AR26: 253 | AS26: 181 | AT26: 309 | AU26: 146 | AV26: 138 | AW26: 166 | AX26: 139 | AY26: 163 | AZ26: 189 | BA26: 376 | BB26: 234 | BC26: 92 | BD26: 146 | BE26: 346 | BF26: 267 | BG26: 120 | BH26: 169 | BI26: 203 | BJ26: 33 | BK26: 156 | BL26: 139 | BM26: 105 | BN26: 223 | BO26: 265 | BP26: 151 | BQ26: 92 | BR26: 261 | BS26: 64 | BT26: 206 | BU26: 144 | BV26: 114 | BW26: 54 | BX26: 87 | BY26: 78 | BZ26: 67 | CA26: 69 | CB26: 86 | CC26: 143 | CD26: 83 | CE26: 35 | CF26: 109 | CG26: 44 | CH26: 57 | CI26: 113 | CJ26: 53 | CK26: 29 | CL26: 12 | CM26: 4 | CN26: 72 | CO26: 37 | CP26: 15 | CQ26: 98 | CR26: 8 | CS26: 14 | CT26: 12 | CU26: 38 | CV26: 41 | CW26: 31 | CX26: 3 | CY26: 9 | CZ26: 8 | DA26: 4 | DB26: 1 | DC26: 1 | DD26: 1 | DE26: 1 | DF26: 2 | DG26: 0 | DH26: 0 | DI26: 168 | DJ26: 0 | DK26: 1 | DL26: 1 | DM26: 5 | DN26: 5 | DO26: 0 | DP26: 0 | DQ26: 2 | DR26: 4 | DS26: 0 | DT26: 0 | DU26: 12 | DV26: 0 | DW26: 0 | DX26: 0 | DY26: 0 | DZ26: 0 | EA26: 0 | EB26: 0 | EC26: 0 | ED26: 0 | EE26: 0 | EF26: 0 | EG26: 0 | EH26: 0 | EI26: 0 | EJ26: 0 | EK26: =VLOOKUP(H26,'Sale Data'!I:J,2,) -> 0 | EL26: 0 | EM26: =AVERAGE(EG26:EJ26) -> 0 | EN26: =(J26+K26+L26+M26)-(N26+O26+P26+Q26+T26+R26+S26+EM26) -> 22 | EO26: =(EM26*4)-EN26 -> -22 | EQ26: 0 | ES26: MOQ - 40 CS | ET26: 166 | EU26: 484 | EV26: 210 | EW26: 519 | EX26: 276 | EY26: 168 | EZ26: 105 | FA26: 8 | FB26: 446 | FC26: 72 | FD26: 490 | FE26: 246 | FF26: 36 | FG26: 240 | FH26: 60 | FI26: 328 | FJ26: 576 | FK26: 118 | FL26: 418 | FM26: 72 | FN26: 100 | FO26: 612 | FP26: 390 | FQ26: 407 | FR26: 106 | FS26: 232 | FT26: =VLOOKUP(H26,#REF!,2,) -> #REF! | FU26: 544 | FV26: =AVERAGE(FO26:FU26) -> #REF! | FW26: =(J26+K26+L26+M26)-(T26+FV26) -> #REF! | FX26: =(FV26*2)-FW26 -> #REF! | GA26: =EQ26*F26 -> 0 | GI26: 40
A27: 23 | B27: Valvoline | C27: Premium Conventional Motor Oil 20W50, SM/CF | D27: 24 | E27: x | F27: 1 | G27: L | H27: 691781 | I27: Bottle | J27: 0 | U27: 146 | V27: 161 | W27: 141 | X27: 112 | Y27: 200 | Z27: 266 | AA27: 86 | AB27: 238 | AC27: 129 | AD27: 65 | AE27: 130 | AF27: 111 | AG27: 178 | AH27: 80 | AI27: 73 | AJ27: 146 | AK27: 329 | AL27: 72 | AM27: 103 | AN27: 107 | AO27: 182 | AP27: 60 | AQ27: 138 | AR27: 81 | AS27: 103 | AT27: 3 | AU27: 68 | AV27: 47 | AW27: 36 | AX27: 1 | AY27: 65 | AZ27: 75 | BA27: 19 | BB27: 14 | BC27: 222 | BD27: 290 | BE27: 0 | BF27: 26 | BG27: 14 | BH27: 51 | BI27: 31 | BJ27: 22 | BK27: 0 | BL27: 0 | BM27: 26 | BN27: 0 | BO27: 0 | BP27: 10 | BQ27: 0 | BR27: 1 | BS27: 0 | BT27: 0 | BU27: 0 | BV27: 1 | BW27: 0 | BX27: 107 | BY27: 1 | BZ27: 0 | CA27: 0 | CB27: 22 | CC27: 48 | CD27: 4 | CE27: 2 | CF27: 25 | CG27: 0 | CH27: 0 | CI27: 1 | CJ27: 0 | CK27: 24 | CL27: 2 | CM27: 0 | CN27: 0 | CO27: 218 | CP27: 13 | CQ27: 0 | CR27: 592 | CS27: 534 | CT27: 2 | CU27: 0 | CV27: 57 | CW27: 28 | CX27: 221 | CY27: 14 | CZ27: 0 | DA27: 0 | DB27: 0 | DC27: 0 | DD27: 0 | DE27: 0 | DF27: 0 | DG27: 0 | DH27: 162 | DI27: 0 | DJ27: 0 | DK27: 0 | DL27: 0 | DM27: 0 | DN27: 0 | DO27: 0 | DP27: 0 | DQ27: 0 | DR27: 0 | DS27: 0 | DT27: 20 | DU27: 0 | DV27: 0 | DW27: 0 | DX27: 0 | DY27: 0 | DZ27: 0 | EA27: 0 | EB27: 0 | EC27: 0 | ED27: 0 | EE27: 0 | EF27: 0 | EG27: 0 | EH27: 0 | EI27: 0 | EJ27: 0 | EK27: =VLOOKUP(H27,'Sale Data'!I:J,2,) -> 0 | EL27: 0 | EM27: =AVERAGE(EG27:EJ27) -> 0 | EN27: =(J27+K27+L27+M27)-(N27+O27+P27+Q27+T27+R27+S27+EM27) -> 0 | EO27: =(EM27*2)-EN27 -> 0 | EQ27: 0 | ES27: MOQ - 40 CS | ET27: 432 | EU27: 253 | EV27: 122 | EW27: 416 | EX27: 144 | EY27: 304 | EZ27: 108 | FA27: 472 | FB27: 600 | FC27: 0 | FD27: 45 | FE27: 246 | FF27: 120 | FG27: 310 | FH27: 0 | FI27: 544 | FJ27: 157 | FK27: 0 | FL27: 0 | FM27: 0 | FN27: 4 | FO27: 73 | FP27: 10 | FQ27: 120 | FR27: 120 | FS27: 120 | FT27: =VLOOKUP(H27,#REF!,2,) -> #REF! | FU27: 0 | FV27: =AVERAGE(FO27:FU27) -> #REF! | FW27: =(J27+K27+L27+M27)-(T27+FV27) -> #REF! | FX27: =(FV27*2)-FW27 -> #REF! | GA27: =EQ27*F27 -> 0
A28: 24 | B28: Valvoline | C28: Premium Conventional Motor Oil 20W50, SM/CF | D28: 4 | E28: x | F28: 4 | G28: L | H28: 691911 | I28: Bottle | J28: 0 | U28: 59 | V28: 40 | W28: 38 | X28: 96 | Y28: 68 | Z28: 123 | AA28: 71 | AB28: 64 | AC28: 35 | AD28: 71 | AE28: 110 | AF28: 66 | AG28: 38 | AH28: 120 | AI28: 80 | AJ28: 115 | AK28: 74 | AL28: 51 | AM28: 117 | AN28: 91 | AO28: 133 | AP28: 75 | AQ28: 51 | AR28: 20 | AS28: 34 | AT28: 8 | AU28: 24 | AV28: 19 | AW28: 13 | AX28: 10 | AY28: 5 | AZ28: 16 | BA28: 5 | BB28: 8 | BC28: 12 | BD28: 43 | BE28: 1 | BF28: 0 | BG28: 8 | BH28: 4 | BI28: 6 | BJ28: 2 | BK28: 1 | BL28: 1 | BM28: 11 | BN28: 0 | BO28: 2 | BP28: 0 | BQ28: 2 | BR28: 2 | BS28: 1 | BT28: 2 | BU28: 1 | BV28: 2 | BW28: 0 | BX28: 0 | BY28: 1 | BZ28: 4 | CA28: 2 | CB28: 1 | CC28: 0 | CD28: 0 | CE28: 1 | CF28: 1 | CG28: 0 | CH28: 0 | CI28: 1 | CJ28: 0 | CK28: 0 | CL28: 0 | CM28: 0 | CN28: 0 | CO28: 303 | CP28: 0 | CQ28: 0 | CR28: 0 | CS28: 0 | CT28: 0 | CU28: 0 | CV28: 0 | CW28: 0 | CX28: 0 | CY28: 0 | CZ28: 0 | DA28: 0 | DB28: 0 | DC28: 0 | DD28: 0 | DE28: 0 | DF28: 0 | DG28: 0 | DH28: 0 | DI28: 0 | DJ28: 0 | DK28: 4 | DL28: 0 | DM28: 0 | DN28: 0 | DO28: 0 | DP28: 0 | DQ28: 0 | DR28: 0 | DS28: 0 | DT28: 10 | DU28: 0 | DV28: 0 | DW28: 0 | DX28: 0 | DY28: 0 | DZ28: 0 | EA28: 0 | EB28: 0 | EC28: 0 | ED28: 0 | EE28: 0 | EF28: 0 | EG28: 0 | EH28: 0 | EI28: 0 | EJ28: 0 | EK28: =VLOOKUP(H28,'Sale Data'!I:J,2,) -> 0 | EL28: 0 | EM28: =AVERAGE(EG28:EJ28) -> 0 | EN28: =(J28+K28+L28+M28)-(N28+O28+P28+Q28+T28+R28+S28+EM28) -> 0 | EO28: =(EM28*2)-EN28 -> 0 | EQ28: 0 | ES28: MOQ - 48 CS | ET28: 1332 | EU28: 85 | EV28: 376 | EW28: 296 | EX28: 68 | EY28: 286 | EZ28: 288 | FA28: 205 | FB28: 86 | FC28: 144 | FD28: 20 | FE28: 149 | FF28: 8 | FG28: 227 | FH28: 19 | FI28: 99 | FJ28: 27 | FK28: 8 | FL28: 64 | FM28: 22 | FN28: 4 | FO28: 54 | FP28: 4 | FQ28: 0 | FR28: 28 | FS28: 28 | FT28: =VLOOKUP(H28,#REF!,2,) -> #REF! | FU28: 1 | FV28: =AVERAGE(FO28:FU28) -> #REF! | FW28: =(J28+K28+L28+M28)-(T28+FV28) -> #REF! | FX28: =(FV28*2)-FW28 -> #REF! | GA28: =EQ28*F28 -> 0
A29: 25 | B29: Valvoline | C29: Syn power 4T 10W30 (10x0.9L) | D29: 10 | E29: x | F29: 0.9 | G29: L | H29: 795005 | I29: Bottle | J29: 1 | U29: 1 | V29: 11 | Y29: 1 | Z29: 107 | AA29: 0 | AB29: 41 | AC29: 40 | AD29: 10 | AE29: 39 | AF29: 1 | AG29: 10 | AH29: 32 | AI29: 10 | AJ29: 25 | AK29: 20 | AL29: 0 | AM29: 57 | AN29: 12 | AO29: 10 | AP29: 52 | AQ29: 49 | AR29: 1 | AS29: 25 | AT29: 70 | AU29: 8 | AV29: 0 | AW29: 0 | AX29: 120 | AY29: 1 | AZ29: 0 | BA29: 0 | BB29: 1 | BC29: 3 | BD29: 10 | BE29: 0 | BF29: 0 | BG29: 0 | BH29: 2 | BI29: 0 | BJ29: 0 | BK29: 5 | BL29: 0 | BM29: 2 | BN29: 0 | BO29: 12 | BP29: 15 | BQ29: 0 | BR29: 0 | BS29: 0 | BT29: 10 | BU29: 0 | BV29: 0 | BW29: 0 | BX29: 0 | BY29: 13 | BZ29: 11 | CA29: 3 | CB29: 0 | CC29: 0 | CD29: 0 | CE29: 0 | CF29: 0 | CG29: 1 | CH29: 0 | CI29: 0 | CJ29: 0 | CK29: 1 | CL29: 0 | CM29: 0 | CN29: 0 | CO29: 0 | CP29: 0 | CQ29: 0 | CR29: 0 | CS29: 0 | CT29: 0 | CU29: 0 | CV29: 0 | CW29: 0 | CX29: 0 | CY29: 0 | CZ29: 0 | DA29: 1 | DB29: 0 | DC29: 0 | DD29: 0 | DE29: 0 | DF29: 0 | DG29: 0 | DH29: 0 | DI29: 0 | DJ29: 0 | DK29: 0 | DL29: 0 | DM29: 0 | DN29: 0 | DO29: 0 | DP29: 0 | DQ29: 0 | DR29: 0 | DS29: 1 | DT29: 0 | DU29: 24 | DV29: 3 | DW29: 0 | DX29: 0 | DY29: 0 | DZ29: 1 | EA29: 0 | EB29: 0 | EC29: 0 | ED29: 13 | EE29: 2 | EF29: 0 | EG29: 0 | EH29: 0 | EI29: 0 | EJ29: 0 | EK29: =VLOOKUP(H29,'Sale Data'!I:J,2,) -> 0 | EL29: 0 | EM29: =AVERAGE(EG29:EJ29) -> 0 | EN29: =(J29+K29+L29+M29)-(N29+O29+P29+Q29+T29+R29+S29+EM29) -> 1 | EO29: =(EM29*2)-EN29 -> -1 | EQ29: 0 | ET29: 50 | EU29: 10 | EV29: 0 | EW29: 110 | EX29: 40 | EY29: 50 | EZ29: 0 | FA29: 58 | FB29: 70 | FC29: 20 | FD29: 31 | FE29: 50 | FF29: 0 | FG29: 10 | FH29: 10 | FI29: 52 | FJ29: 10 | FK29: 40 | FL29: 30 | FM29: 10 | FN29: 0 | FO29: 159 | FP29: 44 | FQ29: 0 | FR29: 0 | FS29: 52 | FT29: =VLOOKUP(H29,#REF!,2,) -> #REF! | FU29: 100 | FV29: =AVERAGE(FO29:FU29) -> #REF! | FW29: =(J29+K29+L29+M29)-(T29+FV29) -> #REF! | FX29: =(FV29*2)-FW29 -> #REF! | GA29: =EQ29*F29 -> 0
A30: 26 | B30: Valvoline | C30: SynPower 5W30, SN/GF-4 | D30: 4 | E30: x | F30: 4 | G30: L | H30: 685850 | I30: Bottle | J30: 1 | U30: 52 | V30: 13 | W30: 41 | X30: 41 | Y30: 19 | Z30: 38 | AA30: 66 | AB30: 79 | AC30: 15 | AD30: 49 | AE30: 60 | AF30: 59 | AG30: 67 | AH30: 54 | AI30: 67 | AJ30: 73 | AK30: 60 | AL30: 84 | AM30: 116 | AN30: 151 | AO30: 176 | AP30: 39 | AQ30: 27 | AR30: 30 | AS30: 29 | AT30: 27 | AU30: 29 | AV30: 15 | AW30: 26 | AX30: 27 | AY30: 36 | AZ30: 54 | BA30: 12 | BB30: 24 | BC30: 103 | BD30: 21 | BE30: 14 | BF30: 32 | BG30: 12 | BH30: 18 | BI30: 2 | BJ30: 14 | BK30: 3 | BL30: 10 | BM30: 10 | BN30: 4 | BO30: 15 | BP30: 6 | BQ30: 11 | BR30: 7 | BS30: 11 | BT30: 11 | BU30: 13 | BV30: 15 | BW30: 2 | BX30: 16 | BY30: 6 | BZ30: 29 | CA30: 13 | CB30: 5 | CC30: 11 | CD30: 8 | CE30: 1 | CF30: 3 | CG30: 7 | CH30: 8 | CI30: 1 | CJ30: 11 | CK30: 4 | CL30: 11 | CM30: 5 | CN30: 8 | CO30: 0 | CP30: 10 | CQ30: 11 | CR30: 4 | CS30: 10 | CT30: 0 | CU30: 15 | CV30: 13 | CW30: 1 | CX30: 10 | CY30: 1 | CZ30: 9 | DA30: 0 | DB30: 0 | DC30: 0 | DD30: 2 | DE30: 1 | DF30: 1 | DG30: 0 | DH30: 0 | DI30: 0 | DJ30: 0 | DK30: 0 | DL30: 0 | DM30: 0 | DN30: 2 | DO30: 0 | DP30: 0 | DQ30: 0 | DR30: 0 | DS30: 0 | DT30: 0 | DU30: 3 | DV30: 0 | DW30: 0 | DX30: 0 | DY30: 0 | DZ30: 0 | EA30: 0 | EB30: 0 | EC30: 0 | ED30: 0 | EE30: 0 | EF30: 0 | EG30: 0 | EH30: 0 | EI30: 0 | EJ30: 0 | EK30: =VLOOKUP(H30,'Sale Data'!I:J,2,) -> 1 | EL30: 0 | EM30: =AVERAGE(EG30:EJ30) -> 0 | EN30: =(J30+K30+L30+M30)-(N30+O30+P30+Q30+T30+R30+S30+EM30) -> 1 | EO30: =(EM30*2)-EN30 -> -1 | EQ30: 0 | ES30: MOQ - 48 CS | ET30: 32 | EU30: 24 | EV30: 52 | EW30: 140 | EX30: 80 | EY30: 80 | EZ30: 71 | FA30: 116 | FB30: 61 | FC30: 16 | FD30: 70 | FE30: 107 | FF30: 47 | FG30: 63 | FH30: 42 | FI30: 81 | FJ30: 97 | FK30: 89 | FL30: 36 | FM30: 74 | FN30: 20 | FO30: 22 | FP30: 86 | FQ30: 28 | FR30: 55 | FS30: 13 | FT30: =VLOOKUP(H30,#REF!,2,) -> #REF! | FU30: 18 | FV30: =AVERAGE(FO30:FU30) -> #REF! | FW30: =(J30+K30+L30+M30)-(T30+FV30) -> #REF! | FX30: =(FV30*2)-FW30 -> #REF! | GA30: =EQ30*F30 -> 0
A31: 27 | B31: Valvoline | C31: SynPower 5W30, SN/GF-4 | D31: 6 | E31: x | F31: 1 | G31: L | H31: 686031 | I31: Bottle | J31: 119 | U31: 112 | V31: 107 | W31: 117 | X31: 116 | Y31: 150 | Z31: 121 | AA31: 18 | AB31: 107 | AC31: 105 | AD31: 126 | AE31: 68 | AF31: 31 | AG31: 75 | AH31: 211 | AI31: 58 | AJ31: 147 | AK31: 33 | AL31: 34 | AM31: 67 | AN31: 57 | AO31: 163 | AP31: 27 | AQ31: 12 | AR31: 14 | AS31: 5 | AT31: 10 | AU31: 6 | AV31: 4 | AW31: 10 | AX31: 26 | AY31: 7 | AZ31: 18 | BA31: 21 | BB31: 2 | BC31: 112 | BD31: 2 | BE31: 4 | BF31: 0 | BG31: 5 | BH31: 6 | BI31: 0 | BJ31: 8 | BK31: 8 | BL31: 14 | BM31: 2 | BN31: 1 | BO31: 9 | BP31: 0 | BQ31: 5 | BR31: 2 | BS31: 0 | BT31: 0 | BU31: 0 | BV31: 0 | BW31: 0 | BX31: 6 | BY31: 2 | BZ31: 5 | CA31: 6 | CB31: 0 | CC31: 0 | CD31: 0 | CE31: 0 | CF31: 0 | CG31: 1 | CH31: 0 | CI31: 0 | CJ31: 0 | CK31: 10 | CL31: 0 | CM31: 8 | CN31: 6 | CO31: 0 | CP31: 0 | CQ31: 0 | CR31: 12 | CS31: 0 | CT31: 4 | CU31: 6 | CV31: 4 | CW31: 0 | CX31: 3 | CY31: 0 | CZ31: 0 | DA31: 0 | DB31: 0 | DC31: 0 | DD31: 0 | DE31: 5 | DF31: 36 | DG31: 0 | DH31: 0 | DI31: 164 | DJ31: 166 | DK31: 6 | DL31: 18 | DM31: 30 | DN31: 2 | DO31: 6 | DP31: 1 | DQ31: 0 | DR31: 0 | DS31: 30 | DT31: 28 | DU31: 32 | DV31: 6 | DW31: 0 | DX31: 0 | DY31: 24 | DZ31: 0 | EA31: 0 | EB31: 0 | EC31: 0 | ED31: 0 | EE31: 0 | EF31: 0 | EG31: 0 | EH31: 0 | EI31: 0 | EJ31: 0 | EK31: =VLOOKUP(H31,'Sale Data'!I:J,2,) -> 0 | EL31: 0 | EM31: =AVERAGE(EG31:EJ31) -> 0 | EN31: =(J31+K31+L31+M31)-(N31+O31+P31+Q31+T31+R31+S31+EM31) -> 119 | EO31: =(EM31*2)-EN31 -> -119 | EQ31: 0 | ES31: MOQ - 120 CS | ET31: 118 | EU31: 102 | EV31: 108 | EW31: 149 | EX31: 206 | EY31: 187 | EZ31: 2 | FA31: 222 | FB31: 163 | FC31: 104 | FD31: 142 | FE31: 24 | FF31: 90 | FG31: 213 | FH31: 60 | FI31: 156 | FJ31: 58 | FK31: 38 | FL31: 38 | FM31: 26 | FN31: 6 | FO31: 8 | FP31: 10 | FQ31: 12 | FR31: 24 | FS31: 7 | FT31: =VLOOKUP(H31,#REF!,2,) -> #REF! | FU31: 30 | FV31: =AVERAGE(FO31:FU31) -> #REF! | FW31: =(J31+K31+L31+M31)-(T31+FV31) -> #REF! | FX31: =(FV31*2)-FW31 -> #REF! | GA31: =EQ31*F31 -> 0
A32: 28 | B32: Valvoline | C32: SynPower 5W40, SN | D32: 4 | E32: x | F32: 4 | G32: L | H32: 686033 | I32: Bottle | J32: 7 | U32: 31 | V32: 13 | W32: 26 | X32: 31 | Y32: 47 | Z32: 14 | AA32: 26 | AB32: 32 | AC32: 11 | AD32: 48 | AE32: 44 | AF32: 33 | AG32: 21 | AH32: 51 | AI32: 29 | AJ32: 45 | AK32: 45 | AL32: 38 | AM32: 69 | AN32: 34 | AO32: 120 | AP32: 10 | AQ32: 20 | AR32: 39 | AS32: 16 | AT32: 26 | AU32: 8 | AV32: 5 | AW32: 24 | AX32: 21 | AY32: 1 | AZ32: 17 | BA32: 32 | BB32: 3 | BC32: 106 | BD32: 16 | BE32: 11 | BF32: 5 | BG32: 4 | BH32: 6 | BI32: 2 | BJ32: 1 | BK32: 3 | BL32: 11 | BM32: 9 | BN32: 4 | BO32: 14 | BP32: 11 | BQ32: 2 | BR32: 1 | BS32: 1 | BT32: 9 | BU32: 4 | BV32: 15 | BW32: 1 | BX32: 0 | BY32: 1 | BZ32: 9 | CA32: 2 | CB32: 4 | CC32: 1 | CD32: 9 | CE32: 5 | CF32: 0 | CG32: 0 | CH32: 1 | CI32: 0 | CJ32: 2 | CK32: 0 | CL32: 4 | CM32: 0 | CN32: 2 | CO32: 0 | CP32: 0 | CQ32: 1 | CR32: 4 | CS32: 10 | CT32: 0 | CU32: 8 | CV32: 3 | CW32: 0 | CX32: 2 | CY32: 0 | CZ32: 14 | DA32: 1 | DB32: 24 | DC32: 4 | DD32: 24 | DE32: 23 | DF32: 2 | DG32: 2 | DH32: 3 | DI32: 10 | DJ32: 8 | DK32: 2 | DL32: 1 | DM32: 1 | DN32: 16 | DO32: 0 | DP32: 0 | DQ32: 0 | DR32: 1 | DS32: 0 | DT32: 16 | DU32: 10 | DV32: 9 | DW32: 0 | DX32: 4 | DY32: 8 | DZ32: 0 | EA32: 0 | EB32: 0 | EC32: 1 | ED32: 0 | EE32: 21 | EF32: 21 | EG32: 0 | EH32: 0 | EI32: 0 | EJ32: 0 | EK32: =VLOOKUP(H32,'Sale Data'!I:J,2,) -> 0 | EL32: 0 | EM32: =AVERAGE(EG32:EJ32) -> 0 | EN32: =(J32+K32+L32+M32)-(N32+O32+P32+Q32+T32+R32+S32+EM32) -> 7 | EO32: =(EM32*2)-EN32 -> -7 | EQ32: 0 | ES32: MOQ - 48 CS | ET32: 34 | EU32: 36 | EV32: 16 | EW32: 140 | EX32: 104 | EY32: 48 | EZ32: 48 | FA32: 64 | FB32: 46 | FC32: 23 | FD32: 38 | FE32: 41 | FF32: 58 | FG32: 63 | FH32: 26 | FI32: 11 | FJ32: 63 | FK32: 24 | FL32: 31 | FM32: 4 | FN32: 16 | FO32: 21 | FP32: 12 | FQ32: 36 | FR32: 34 | FS32: 18 | FT32: =VLOOKUP(H32,#REF!,2,) -> #REF! | FU32: 12 | FV32: =AVERAGE(FO32:FU32) -> #REF! | FW32: =(J32+K32+L32+M32)-(T32+FV32) -> #REF! | FX32: =(FV32*2)-FW32 -> #REF! | GA32: =EQ32*F32 -> 0
A33: 29 | B33: Valvoline | C33: Ultramax AW 46 | D33: 1 | E33: x | F33: 200 | G33: L | H33: 692332 | I33: Drum | J33: 32 | L33: =80 -> 80 | M33: =80 -> 80 | T33: =80+50 -> 130 | U33: 35.5 | V33: 42.5 | W33: 31.62 | X33: 44.62 | Y33: 52.6 | Z33: 34.72 | AA33: 26.36 | AB33: 31.5 | AC33: 37.66 | AD33: 39.89 | AE33: 30.7 | AF33: 51.6 | AG33: 61.87 | AH33: 58.44 | AI33: 38.705 | AJ33: 59.1 | AK33: 38.3 | AL33: 34.52 | AM33: 46.72 | AN33: 33.31 | AO33: 36.035 | AP33: 45.67 | AQ33: 40.4 | AR33: 62.51 | AS33: 64.4 | AT33: 54.89 | AU33: 28.15 | AV33: 49.38 | AW33: 47.903462 | AX33: 31.18 | AY33: 34.22 | AZ33: 46.6 | BA33: 43.33 | BB33: 42.16 | BC33: 70 | BD33: 72.48 | BE33: 43.4 | BF33: 45.52 | BG33: 42.495 | BH33: 53.42 | BI33: 26.76 | BJ33: 20.49 | BK33: 37.2 | BL33: 35.47 | BM33: 53.49 | BN33: 38.525 | BO33: 37.06 | BP33: 39.29 | BQ33: 47.535 | BR33: 58.53 | BS33: 27.045 | BT33: 31 | BU33: 35.585 | BV33: 25.595 | BW33: 31.825 | BX33: 35.75 | BY33: 36.48 | BZ33: 33.265 | CA33: 37.43 | CB33: 65.8 | CC33: 47.08 | CD33: 45.085 | CE33: 15.2 | CF33: 259.525 | CG33: 35.235 | CH33: 43.5 | CI33: 38.575 | CJ33: 40.25 | CK33: 30.3 | CL33: 64.2 | CM33: 79.8 | CN33: 63.15 | CO33: 55.4 | CP33: 49.3 | CQ33: 26.2 | CR33: 21.6 | CS33: 26.335 | CT33: 21 | CU33: 35.085 | CV33: 23.575 | CW33: 18.2 | CX33: 19.155 | CY33: 25.04 | CZ33: 14 | DA33: 24 | DB33: 31 | DC33: 10 | DD33: 10 | DE33: 48 | DF33: 24 | DG33: 11 | DH33: 4 | DI33: 2 | DJ33: 4 | DK33: 7 | DL33: 13 | DM33: 16 | DN33: 57.12 | DO33: 14 | DP33: 27 | DQ33: 35 | DR33: 25 | DS33: 6 | DT33: 10 | DU33: 17 | DV33: 11 | DW33: 19 | DX33: 19 | DY33: 24 | DZ33: 20 | EA33: 22 | EB33: 28 | EC33: 18 | ED33: 5 | EE33: 18 | EF33: 3.05 | EG33: 0 | EH33: 2.18 | EI33: 2 | EJ33: 0 | EK33: =VLOOKUP(H33,'Sale Data'!I:J,2,) -> 0 | EL33: 44 | EM33: =AVERAGE(EG33:EJ33) -> 1.045 | EN33: =(J33+K33+L33+M33)-(N33+O33+P33+Q33+T33+R33+S33+EM33) -> 60.955 | EO33: =(EM33*4)-EN33 -> -56.775 | EQ33: 0 | ES33: MOQ - 4 DR | ET33: 39 | EU33: 33 | EV33: 37 | EW33: 68 | EX33: 66 | EY33: 66 | EZ33: 27 | FA33: 49 | FB33: 23 | FC33: 42.5 | FD33: 24 | FE33: 101 | FF33: 39 | FG33: 60 | FH33: 55 | FI33: 28 | FJ33: 18 | FK33: 36 | FL33: 33 | FM33: 51 | FN33: 37 | FO33: 21 | FP33: 42 | FQ33: 48 | FR33: 74 | FS33: 71 | FT33: =VLOOKUP(H33,#REF!,2,) -> #REF! | FU33: 51 | FV33: =AVERAGE(FO33:FU33) -> #REF! | FW33: =(J33+K33+L33+M33)-(T33+FV33) -> #REF! | FX33: =(FV33*2)-FW33 -> #REF! | GA33: =EQ33*F33 -> 0 | GD33: 48 | GI33: =24 -> 24
A34: 30 | B34: Valvoline | C34: Ultramax AW 68 | D34: 1 | E34: x | F34: 200 | G34: L | H34: 692334 | I34: Drum | J34: 3 | M34: =80 -> 80 | U34: 56.5 | V34: 37.64 | W34: 52 | X34: 72.4 | Y34: 43.6 | Z34: 34.1 | AA34: 27 | AB34: 66.6 | AC34: 90 | AD34: 63.8 | AE34: 61.4 | AF34: 60.84 | AG34: 67.78 | AH34: 72.84 | AI34: 73.9 | AJ34: 82 | AK34: 71.2 | AL34: 68.5 | AM34: 53 | AN34: 38.105 | AO34: 50.105 | AP34: 32.76 | AQ34: 46 | AR34: 93.12 | AS34: 64.7 | AT34: 67.1 | AU34: 93 | AV34: 35.49 | AW34: 25 | AX34: 27.4 | AY34: 19 | AZ34: 48.3 | BA34: 47.5 | BB34: 86 | BC34: 31.592308 | BD34: 48.8 | BE34: 52.4 | BF34: 56.12 | BG34: 53.405 | BH34: 76.72 | BI34: 37.68 | BJ34: 20.45 | BK34: 40.2 | BL34: 24.2 | BM34: 32.7 | BN34: 38.7 | BO34: 24.3 | BP34: 60.5 | BQ34: 50.1 | BR34: 43.2 | BS34: 44.2 | BT34: 51.4 | BU34: 52.04 | BV34: 53 | BW34: 39.3 | BX34: 61.5 | BY34: 57.01 | BZ34: 56.5 | CA34: 76 | CB34: 97.2 | CC34: 50 | CD34: 81.3 | CE34: 44.68 | CF34: 37 | CG34: 21.25 | CH34: 26.9 | CI34: 31.6 | CJ34: 28.3 | CK34: 28.3 | CL34: 45 | CM34: 29 | CN34: 68.2 | CO34: 22.34 | CP34: 46.1 | CQ34: 31.88 | CR34: 23 | CS34: 29.46 | CT34: 12.18 | CU34: 22.36 | CV34: 29 | CW34: 11.515 | CX34: 21 | CY34: 26 | CZ34: 37 | DA34: 17 | DB34: 26.145 | DC34: 16 | DD34: 14.02 | DE34: 12 | DF34: 28 | DG34: 12 | DH34: 10 | DI34: 8 | DJ34: 2 | DK34: 8.12 | DL34: 7 | DM34: 16 | DN34: 9.06 | DO34: 13 | DP34: 9 | DQ34: 9 | DR34: 11 | DS34: 6 | DT34: 5 | DU34: 2 | DV34: 3 | DW34: 6 | DX34: 0 | DY34: 5 | DZ34: 3 | EA34: 18 | EB34: 7 | EC34: 1 | ED34: 1 | EE34: 1 | EF34: 1 | EG34: 1 | EH34: 2 | EI34: 1 | EJ34: 12 | EK34: =VLOOKUP(H34,'Sale Data'!I:J,2,) -> 7 | EL34: 2 | EM34: =AVERAGE(EG34:EJ34) -> 4 | EN34: =(J34+K34+L34+M34)-(N34+O34+P34+Q34+T34+R34+S34+EM34) -> 79 | EO34: =(EM34*4)-EN34 -> -63 | EQ34: 0 | ES34: MOQ - 4 DR | ET34: 11 | EU34: 25 | EV34: 79 | EW34: 50 | EX34: 154 | EY34: 45 | EZ34: 89 | FA34: 35 | FB34: 120 | FC34: 43 | FD34: 82 | FE34: 38 | FF34: 56 | FG34: 74 | FH34: 61 | FI34: 43 | FJ34: 69 | FK34: 32 | FL34: 86 | FM34: 32 | FN34: 45 | FO34: 28 | FP34: 50 | FQ34: 102 | FR34: 55 | FS34: 70 | FT34: =VLOOKUP(H34,#REF!,2,) -> #REF! | FU34: 30 | FV34: =AVERAGE(FO34:FU34) -> #REF! | FW34: =(J34+K34+#REF!+L34)-(T34+FV34) -> #REF! | FX34: =(FV34*2)-FW34 -> #REF! | GA34: =EQ34*F34 -> 0
A35: 31 | B35: Valvoline | C35: Valvoline Long Life Coolant RTU | D35: 20 | E35: x | F35: 1 | G35: L | H35: 789360 | I35: Bottle | J35: 286 | U35: 2070 | V35: 56 | W35: 956 | X35: 950 | Y35: 724 | Z35: 766 | AA35: 1707 | AB35: 1395 | AC35: 1301 | AD35: 966 | AE35: 1928 | AF35: 1860 | AG35: 1997 | AH35: 3348 | AI35: 1825 | AJ35: 3038 | AK35: 967 | AL35: 1418 | AM35: 1750 | AN35: 1767 | AO35: 3913 | AP35: 1345 | AQ35: 1458 | AR35: 1697 | AS35: 1037 | AT35: 1458 | AU35: 776 | AV35: 1045 | AW35: 998 | AX35: 1195 | AY35: 1404 | AZ35: 1056 | BA35: 1781 | BB35: 1593 | BC35: 1072 | BD35: 1958 | BE35: 930 | BF35: 1813 | BG35: 1686 | BH35: 1385 | BI35: 797 | BJ35: 791 | BK35: 1270 | BL35: 655 | BM35: 768 | BN35: 967 | BO35: 1435 | BP35: 1072 | BQ35: 1347 | BR35: 822 | BS35: 980 | BT35: 1375 | BU35: 738 | BV35: 633 | BW35: 702 | BX35: 386 | BY35: 1060 | BZ35: 649 | CA35: 797 | CB35: 993 | CC35: 649 | CD35: 570 | CE35: 161 | CF35: 295 | CG35: 840 | CH35: 704 | CI35: 612 | CJ35: 277 | CK35: 188 | CL35: 548 | CM35: 278 | CN35: 504 | CO35: 170 | CP35: 541 | CQ35: 501 | CR35: 242 | CS35: 216 | CT35: 39 | CU35: 191 | CV35: 212 | CW35: 73 | CX35: 173 | CY35: 317 | CZ35: 415 | DA35: 224 | DB35: 387 | DC35: 56 | DD35: 74 | DE35: 138 | DF35: 298 | DG35: 312 | DH35: 62 | DI35: 184 | DJ35: 143 | DK35: 212 | DL35: 145 | DM35: 192 | DN35: 200 | DO35: 116 | DP35: 236 | DQ35: 247 | DR35: 167 | DS35: 149 | DT35: 78 | DU35: 147 | DV35: 54 | DW35: 127 | DX35: 88 | DY35: 107 | DZ35: 136 | EA35: 149 | EB35: 175 | EC35: 86 | ED35: 123 | EE35: 20 | EF35: 220 | EG35: 65 | EH35: 112 | EI35: 77 | EJ35: 98 | EK35: =VLOOKUP(H35,'Sale Data'!I:J,2,) -> 12 | EL35: 112 | EM35: =AVERAGE(EG35:EJ35) -> 88 | EN35: =(J35+K35+L35+M35)-(N35+O35+P35+Q35+T35+R35+S35+EM35) -> 198 | EO35: =(EM35*4)-EN35 -> 154 | EQ35: =40*2*20 -> 1600 | ES35: MOQ - 40 CS | ET35: 1590 | EU35: 160 | EV35: 1681 | EW35: 2522 | EX35: 2620 | EY35: 1230 | EZ35: 1936 | FA35: 1661 | FB35: 2450 | FC35: 1148 | FD35: 2232 | FE35: 861 | FF35: 1894 | FG35: 1854 | FH35: 983 | FI35: 2547 | FJ35: 1940 | FK35: 1140 | FL35: 1422 | FM35: 840 | FN35: 2135 | FO35: 1395 | FP35: 1367 | FQ35: 1925 | FR35: 1132 | FS35: 1636 | FT35: =VLOOKUP(H35,#REF!,2,) -> #REF! | FU35: 1518 | FV35: =AVERAGE(FO35:FU35) -> #REF! | FW35: =(J35+K35+L35+M35)-(T35+FV35) -> #REF! | FX35: =(FV35*3)-FW35 -> #REF! | FY35: India | GA35: =EQ35*F35 -> 1600 | GC35: 40 | GT35: =40*2 -> 80
A36: 32 | B36: Zerex | C36: ZX HD Extended Life RTU AFC | D36: 6 | E36: x | F36: 1 | G36: GA | H36: ZXEDRU1 | I36: Bottle | J36: 216 | U36: 43 | V36: 19 | W36: 91 | X36: 103 | Y36: 89 | Z36: 84 | AA36: 214 | AB36: 150 | AC36: 184 | AD36: 162 | AF36: 414 | AG36: 306 | AH36: 567 | AI36: 347 | AJ36: 800 | AK36: 372 | AL36: 390 | AM36: 530 | AN36: 452 | AO36: 686 | AP36: 178 | AQ36: 379 | AR36: 564 | AS36: 504 | AT36: 637 | AU36: 230 | AV36: 269 | AW36: 396 | AX36: 284 | AY36: 524 | AZ36: 584 | BA36: 302 | BB36: 401 | BC36: 481 | BD36: 632 | BE36: 562 | BF36: 670 | BG36: 777 | BH36: 307 | BI36: 421 | BJ36: 404 | BK36: 571 | BL36: 237 | BM36: 217 | BN36: 186 | BO36: 295 | BP36: 365 | BQ36: 252 | BR36: 182 | BS36: 240 | BT36: 301 | BU36: 226 | BV36: 144 | BW36: 190 | BX36: 163 | BY36: 339 | BZ36: 163 | CA36: 169 | CB36: 212 | CC36: 145 | CD36: 263 | CE36: 10 | CF36: 41 | CG36: 70 | CH36: 213 | CI36: 97 | CJ36: 98 | CK36: 98 | CL36: 58 | CM36: 56 | CN36: 95 | CO36: 51 | CP36: 100 | CQ36: 150 | CR36: 54 | CS36: 53 | CT36: 3 | CU36: 63 | CV36: 128 | CW36: 12 | CX36: 29 | CY36: 19 | CZ36: 24 | DA36: 9 | DB36: 52 | DC36: 31 | DD36: 69 | DE36: 64 | DF36: 95 | DG36: 25 | DH36: 8 | DI36: 22 | DJ36: 20 | DK36: 19 | DL36: 52 | DM36: 50 | DN36: 28 | DO36: 40 | DP36: 36 | DQ36: 48 | DR36: 21 | DS36: 39 | DT36: 11 | DU36: 33 | DV36: 16 | DW36: 16 | DX36: 29 | DY36: 27 | DZ36: 9 | EA36: 5 | EB36: 48 | EC36: 21 | ED36: 16 | EE36: 9 | EF36: 1 | EG36: 6 | EH36: 23 | EI36: 2 | EJ36: 5 | EK36: =VLOOKUP(H36,'Sale Data'!I:J,2,) -> 22 | EL36: 6 | EM36: =AVERAGE(EG36:EJ36) -> 9 | EN36: =(J36+K36+L36+M36)-(N36+O36+P36+Q36+T36+R36+S36+EM36) -> 207 | EO36: =(EM36*5)-EN36 -> -162 | EQ36: 0 | ES36: MOQ - 27 CS | ET36: 0 | EU36: 324 | EV36: 204 | EW36: 348 | EX36: 423 | EY36: 504 | EZ36: 283 | FA36: 230 | FB36: 192 | FC36: 218 | FD36: 60 | FE36: 373 | FF36: 330 | FG36: 466 | FH36: 346 | FI36: 460 | FJ36: 552 | FK36: 306 | FL36: 341 | FM36: 125 | FN36: 360 | FO36: 58 | FP36: 519 | FQ36: 741 | FR36: 580 | FS36: 680 | FT36: =VLOOKUP(H36,#REF!,2,) -> #REF! | FU36: 245 | FV36: =AVERAGE(FO36:FU36) -> #REF! | FW36: =(J36+K36+L36+M36)-(T36+FV36) -> #REF! | FX36: =(FV36*3)-FW36 -> #REF! | FY36: USA | GA36: =EQ36*3.785 -> 0 | GC36: 27
A37: 33 | B37: Valvoline | C37: Champ 4T Scooter 10W30, SL/JASO MB | D37: 24 | E37: x | F37: 0.8 | G37: L | H37: 844573 | I37: Bottle | J37: 6622 | L37: =440*24 -> 10560 | T37: =400*24 -> 9600 | AA37: 0 | AB37: 536 | AC37: 29 | AD37: 0 | AE37: 980 | AF37: 343 | AG37: 379 | AH37: 428 | AI37: 551 | AJ37: 610 | AK37: 500 | AL37: 653 | AM37: 565.4 | AN37: 983 | AO37: 841 | AP37: 1660 | AQ37: 819 | AR37: 2724 | AS37: 2606 | AT37: 826 | AU37: 1536 | AV37: 1508 | AW37: 1562 | AX37: 2629 | AY37: 2083 | AZ37: 2944 | BA37: 3117 | BB37: 1933 | BC37: 3816 | BD37: 4555 | BE37: 4975 | BF37: 6594 | BG37: 5735 | BH37: 2038 | BI37: 5708 | BJ37: 5899 | BK37: 7971 | BL37: 4450 | BM37: 4009 | BN37: 3663 | BO37: 5515 | BP37: 6486 | BQ37: 4187 | BR37: 3470 | BS37: 4305 | BT37: 5149 | BU37: 5232 | BV37: 4351 | BW37: 4768 | BX37: 5363 | BY37: 4413 | BZ37: 4235 | CA37: 4332 | CB37: 5601 | CC37: 4104 | CD37: 3257 | CE37: 1871 | CF37: 3287 | CG37: 3662 | CH37: 4153 | CI37: 4415 | CJ37: 3005 | CK37: 3402 | CL37: 3058 | CM37: 3459 | CN37: 3811 | CO37: 3694 | CP37: 5333 | CQ37: 7126 | CR37: 5135 | CS37: 2923 | CT37: 868 | CU37: 3240 | CV37: 5703 | CW37: 1225 | CX37: 2084 | CY37: 3462 | CZ37: 3329 | DA37: 4031 | DB37: 5168 | DC37: 1999 | DD37: 4136 | DE37: 3497 | DF37: 5597 | DG37: 2949 | DH37: 3101 | DI37: 2092 | DJ37: 989 | DK37: 3424 | DL37: 4803 | DM37: 2950 | DN37: 2758 | DO37: 2273 | DP37: 4077 | DQ37: 5205 | DR37: 3873 | DS37: 3209 | DT37: 1203 | DU37: 3206 | DV37: 1308 | DW37: 3590 | DX37: 2686 | DY37: 5174 | DZ37: 2539 | EA37: 4495 | EB37: 3935 | EC37: 251 | ED37: 266 | EE37: 4307 | EF37: 2612 | EG37: 1480 | EH37: 800 | EI37: 623 | EJ37: 555 | EK37: =VLOOKUP(H37,'Sale Data'!I:J,2,) -> 217 | EL37: 117 | EM37: =AVERAGE(EG37:EJ37) -> 864.5 | EN37: =(J37+K37+L37+M37)-(N37+O37+P37+Q37+T37+R37+S37+EM37) -> 6717.5 | EO37: =(EM37*6)-EN37 -> -1530.5 | EQ37: =440*24 -> 10560 | ER37: =EQ37*1 -> 10560 | ES37: MOQ - 160 CS, Multiple 40 Cs | ET37: 0 | EU37: 0 | EV37: 0 | EW37: 0 | EX37: 0 | EY37: 0 | EZ37: 480 | FA37: 120 | FB37: 0 | FC37: 720 | FD37: 876 | FE37: 1223 | FF37: 772 | FG37: 613 | FH37: 102 | FI37: 1268 | FJ37: 1504 | FK37: 1356 | FL37: 474 | FM37: 744 | FN37: 1584 | FO37: 1598 | FP37: 48 | FQ37: 5130 | FR37: 2824 | FS37: 1829 | FT37: =VLOOKUP(H37,#REF!,2,) -> #REF! | FU37: 924 | FV37: =AVERAGE(FO37:FU37) -> #REF! | FW37: =(J37+K37+L37+M37)-(T37+FV37) -> #REF! | FX37: =(FV37*3)-FW37 -> #REF! | FY37: under MOQ | GA37: =EQ37*0.8 -> 8448 | GE37: 160 | GH37: =40*9 -> 360 | GK37: =40*4 -> 160 | GS37: =40*11 -> 440
A38: 34 | B38: Valvoline | C38: All Fleet Plus 30, CF/SF | D38: 1 | E38: x | F38: 200 | G38: L | H38: 691782 | I38: Drum | J38: 1.1 | U38: 0.24 | V38: 0.48 | W38: 3 | X38: 4.82 | Y38: 1.76 | Z38: 6.39 | AA38: 3 | AB38: 3.81 | AC38: 0.1 | AD38: 4 | AE38: 2.26 | AF38: 2.78 | AG38: 5.96 | AH38: 3.24 | AI38: 2.3 | AJ38: 1.2 | AK38: 1.28 | AL38: 1 | AM38: 8.21 | AN38: 0.06 | AO38: 1.105 | AP38: 4 | AQ38: 0.9 | AR38: 3.16 | AS38: 2.2 | AT38: 0.72 | AU38: 0 | AV38: 0.22 | AW38: 0.2 | AX38: 4.2 | AY38: 1.22 | AZ38: 0 | BA38: 2.44 | BB38: 1.44 | BC38: 1 | BD38: 3 | BE38: 0 | BF38: 2 | BG38: 0.26 | BH38: 0.22 | BI38: 0.12 | BJ38: 2.005 | BK38: 4.22 | BL38: 2 | BM38: 2 | BN38: 0 | BO38: 2 | BP38: 4.0075 | BQ38: 2 | BR38: 2.02 | BS38: 0 | BT38: 0 | BU38: 0 | BV38: 1 | BW38: 0 | BX38: 0 | BY38: 0 | BZ38: 0 | CA38: 0 | CB38: 0 | CC38: 0 | CD38: 0 | CE38: 0 | CF38: 1 | CG38: 0 | CH38: 5.02 | CI38: 0 | CJ38: 0.0425 | CK38: 0 | CL38: 0 | CM38: 1.3 | CN38: 0.2 | CO38: 0 | CP38: 0 | CQ38: 1.1 | CR38: 0.1 | CS38: 0.695 | CT38: 0.12 | CU38: 0.46 | CV38: 0 | CW38: 0 | CX38: 0 | CY38: 0.04 | CZ38: =74/200 -> 0.37 | DA38: 0 | DB38: 0 | DC38: 0 | DD38: 0 | DE38: 0 | DF38: 0 | DG38: 0 | DH38: 0 | DI38: 0 | DJ38: 0 | DK38: 0 | DL38: 0 | DM38: 0 | DN38: 0 | DO38: 0 | DP38: 0 | DQ38: 0 | DR38: 0 | DS38: 0 | DT38: 0 | DU38: 0 | DV38: 0 | DW38: 0 | DX38: 0 | DY38: 0 | DZ38: 0 | EA38: 0 | EB38: 0 | EC38: 0 | ED38: 0 | EE38: 0 | EF38: 0 | EG38: 0 | EH38: 0 | EI38: 0 | EJ38: 0 | EK38: =VLOOKUP(H38,'Sale Data'!I:J,2,) -> 0 | EL38: 0 | EM38: =AVERAGE(EG38:EJ38) -> 0 | EN38: =(J38+K38+L38+M38)-(N38+O38+P38+Q38+T38+R38+S38+EM38) -> 1.1 | EO38: =(EM38*4)-EN38 -> -1.1 | EQ38: 0 | ES38: Min Run - 12 DR, MOQ - 4 DR | ET38: 0 | EU38: 2 | EV38: 5 | EW38: 3 | EX38: 2 | EY38: 3.09 | EZ38: 5 | FA38: 0 | FB38: 0 | FC38: 2 | FD38: 2 | FE38: 7 | FF38: 4.18 | FG38: 2 | FH38: 1 | FI38: 4 | FJ38: 1 | FK38: 4 | FL38: 6 | FM38: 0 | FN38: 0 | FO38: 3 | FP38: 0.36 | FQ38: 2 | FR38: 1 | FS38: 0 | FT38: =VLOOKUP(H38,#REF!,2,) -> #REF! | FU38: 0 | FV38: =AVERAGE(FO38:FU38) -> #REF! | FW38: =(J38+K38+L38+M38)-(T38+FV38) -> #REF! | FX38: =(FV38*2)-FW38 -> #REF! | GA38: =EQ38*F38 -> 0
A39: 35 | B39: Valvoline | C39: All Fleet Premium 20W50, CI-4/SL | D39: 1 | E39: x | F39: 18 | G39: L | H39: 724026 | I39: Can | J39: 1 | U39: 13 | V39: 24 | W39: 1 | X39: 27 | Y39: 2 | Z39: 2 | AA39: 17 | AB39: 2 | AC39: 1 | AD39: 16 | AE39: 7 | AF39: 5 | AG39: 13 | AH39: 10 | AI39: 7 | AJ39: 15 | AK39: 5 | AL39: 8 | AM39: 11 | AN39: 6 | AO39: 12 | AP39: 20 | AQ39: 3 | AR39: 22 | AS39: 16 | AT39: 25 | AU39: 3 | AV39: 14 | AW39: 7 | AX39: 2 | AY39: 7 | AZ39: 10 | BA39: 10 | BB39: 6 | BC39: 10 | BD39: 2 | BE39: 11 | BF39: 3 | BG39: 10 | BH39: 3 | BI39: 24 | BJ39: 1 | BK39: 0 | BL39: 0 | BM39: 1 | BN39: 7 | BO39: 2 | BP39: 2 | BQ39: 11 | BR39: 1 | BS39: 0 | BT39: 3 | BU39: 0 | BV39: 1 | BW39: 1 | BX39: 0 | BY39: 3 | BZ39: 0 | CA39: 1 | CB39: 0 | CC39: 15 | CD39: 2 | CE39: 2 | CF39: 3 | CG39: 2 | CH39: 4 | CI39: 1 | CJ39: 1 | CK39: 0 | CL39: 0 | CM39: 1 | CN39: 0 | CO39: 0 | CP39: 0 | CQ39: 0 | CR39: 0 | CS39: 0 | CT39: 1 | CU39: 0 | CV39: 0 | CW39: 0 | CX39: 0 | CY39: 0 | CZ39: 0 | DA39: 0 | DB39: 3 | DC39: 6 | DD39: 6 | DE39: 12 | DF39: 12 | DG39: 12 | DH39: 0 | DI39: 0 | DJ39: 0 | DK39: 2 | DL39: 0 | DM39: 0 | DN39: 0 | DO39: 0 | DP39: 2 | DQ39: 0 | DR39: 3 | DS39: 0 | DT39: 1 | DU39: 1 | DV39: 80 | DW39: 3 | DX39: 1 | DY39: 5 | DZ39: 0 | EA39: 0 | EB39: 0 | EC39: 0 | ED39: 0 | EE39: 1 | EF39: 0 | EG39: 0 | EH39: 0 | EI39: 0 | EJ39: 0 | EK39: =VLOOKUP(H39,'Sale Data'!I:J,2,) -> 0 | EL39: 0 | EM39: =AVERAGE(EG39:EJ39) -> 0 | EN39: =(J39+K39+L39+M39)-(N39+O39+P39+Q39+T39+R39+S39+EM39) -> 1 | EO39: =(EM39*4)-EN39 -> -1 | EQ39: 0 | ES39: MOQ - 48 Can | ET39: 20 | EU39: 18 | EV39: 2 | EW39: 24 | EX39: 11 | EY39: 2 | EZ39: 64 | FA39: 31 | FB39: 0 | FC39: 15 | FD39: 10 | FE39: 4 | FF39: 9 | FG39: 6 | FH39: 2 | FI39: 15 | FJ39: 6 | FK39: 13 | FL39: 19 | FM39: 10 | FN39: 5 | FO39: 26 | FP39: 5 | FQ39: 20 | FR39: 16 | FS39: 16 | FT39: =VLOOKUP(H39,#REF!,2,) -> #REF! | FU39: 32 | FV39: =AVERAGE(FO39:FU39) -> #REF! | FW39: =(J39+K39+L39+M39)-(T39+FV39) -> #REF! | FX39: =(FV39*2)-FW39 -> #REF! | GA39: =EQ39*F39 -> 0
A40: 36 | B40: Valvoline | C40: All Fleet Premium 20W50, CI-4/SL | D40: 1 | E40: x | F40: 200 | G40: L | H40: 724027 | I40: Drum | J40: 0 | U40: 4 | V40: 1.02 | X40: 2 | Y40: 1 | Z40: 2 | AA40: 0 | AB40: 0 | AC40: 1 | AD40: 1 | AE40: 4 | AF40: 0 | AG40: 2 | AH40: 0 | AI40: 1 | AJ40: 3 | AK40: 2 | AL40: 1 | AM40: 1 | AN40: 1 | AO40: 1 | AP40: 1 | AQ40: 1 | AR40: 5 | AS40: 3 | AT40: 1 | AU40: 0 | AV40: 3 | AW40: 4 | AX40: 2 | AY40: 0 | AZ40: 3 | BA40: 6 | BB40: 3 | BC40: 6 | BD40: 6 | BE40: 3 | BF40: 6 | BG40: 10 | BH40: 0 | BI40: 3 | BJ40: 0 | BK40: 0 | BL40: 0 | BM40: 0 | BN40: 3 | BO40: 0 | BP40: 0 | BQ40: 1 | BR40: 0 | BS40: 0 | BT40: 0 | BU40: 0 | BV40: 0 | BW40: 0 | BX40: 0 | BY40: 0 | BZ40: 2 | CA40: 0 | CB40: 0 | CC40: 0 | CD40: 2 | CE40: 0 | CF40: 0 | CG40: 0 | CH40: 1 | CI40: 0 | CJ40: 0 | CK40: 0 | CL40: 1 | CM40: 0 | CN40: 2 | CO40: 1 | CP40: 0 | CQ40: 0 | CR40: 0 | CS40: 0 | CT40: 0 | CU40: 0 | CV40: 0 | CW40: 0 | CX40: 0 | CY40: 0 | CZ40: 0 | DA40: 0 | DB40: 0 | DC40: 0 | DD40: 1 | DE40: 9 | DF40: 14 | DG40: 1 | DH40: 0 | DI40: 0 | DJ40: 0 | DK40: 0 | DL40: 0 | DM40: 0 | DN40: 0 | DO40: 0 | DP40: 0 | DQ40: 0 | DR40: 0 | DS40: 0 | DT40: 0 | DU40: 0 | DV40: 0 | DW40: 0 | DX40: 0 | DY40: 0 | DZ40: 0 | EA40: 0 | EB40: 0 | EC40: 0 | ED40: 0 | EE40: 0 | EF40: 0 | EG40: 0 | EH40: 0 | EI40: 0 | EJ40: 0 | EK40: =VLOOKUP(H40,'Sale Data'!I:J,2,) -> 0 | EL40: 0 | EM40: =AVERAGE(EG40:EJ40) -> 0 | EN40: =(J40+K40+L40+M40)-(N40+O40+P40+Q40+T40+R40+S40+EM40) -> 0 | EO40: =(EM40*2)-EN40 -> 0 | EQ40: 0 | ES40: MOQ - 4 DR | ET40: 5 | EU40: 1 | EV40: 0 | EW40: 3 | EX40: 1 | EY40: 3 | EZ40: 0 | FA40: 0 | FB40: 0 | FC40: 0 | FD40: 5 | FE40: 0 | FF40: 1 | FG40: 0 | FH40: 1 | FI40: 6 | FJ40: 1 | FK40: 1 | FL40: 1 | FM40: 0 | FN40: 0 | FO40: 1 | FP40: 0 | FQ40: 6 | FR40: 0 | FS40: 0 | FT40: =VLOOKUP(H40,#REF!,2,) -> #REF! | FU40: 3 | FV40: =AVERAGE(FO40:FU40) -> #REF! | FW40: =(J40+K40+L40+M40)-(T40+FV40) -> #REF! | FX40: =(FV40*2)-FW40 -> #REF! | GA40: =EQ40*F40 -> 0
A41: 37 | B41: Valvoline | C41: All Fleet Trubo 20W50, CF-4/SG | D41: 1 | E41: x | F41: 18 | G41: L | H41: 692173 | I41: Can | J41: 0 | X41: 1 | Y41: 19 | Z41: 2 | AA41: 0 | AB41: 0 | AC41: 0 | AD41: 5 | AF41: 9 | AG41: 0 | AH41: 1 | AI41: 10 | AJ41: 6 | AK41: 6 | AL41: 11 | AM41: 20 | AN41: 7 | AO41: 0 | AP41: 0 | AQ41: 1 | AR41: 4 | AS41: 9 | AT41: 0 | AU41: 0 | AV41: 2 | AW41: 0 | AX41: 0 | AY41: 0 | AZ41: 0 | BA41: 1 | BB41: 0 | BC41: 0 | BD41: 0 | BE41: 1 | BF41: 3 | BG41: 0 | BH41: 0 | BI41: 0 | BJ41: 0 | BK41: 0 | BL41: 0 | BM41: 0 | BN41: 0 | BO41: 0 | BP41: 0 | BQ41: 0 | BR41: 0 | BS41: 2 | BT41: 0 | BU41: 0 | BV41: 0 | BW41: 0 | BX41: 1 | BY41: 1 | BZ41: 0 | CA41: 0 | CB41: 0 | CC41: 0 | CD41: 0 | CE41: 0 | CF41: 0 | CG41: 0 | CH41: 0 | CI41: 0 | CJ41: 0 | CK41: 0 | CL41: 0 | CM41: 0 | CN41: 0 | CO41: 0 | CP41: 0 | CQ41: 2 | CR41: 0 | CS41: 0 | CT41: 0 | CU41: 0 | CV41: 0 | CW41: 0 | CX41: 0 | CY41: 0 | CZ41: 0 | DA41: 0 | DB41: 0 | DC41: 0 | DD41: 0 | DE41: 0 | DF41: 0 | DG41: 10 | DH41: 4 | DI41: 0 | DJ41: 0 | DK41: 0 | DL41: 0 | DM41: 0 | DN41: 0 | DO41: 0 | DP41: 0 | DQ41: 0 | DR41: 0 | DS41: 0 | DT41: 0 | DU41: 0 | DV41: 0 | DW41: 0 | DX41: 0 | DY41: 0 | DZ41: 0 | EA41: 0 | EB41: 0 | EC41: 0 | ED41: 0 | EE41: 0 | EF41: 0 | EG41: 0 | EH41: 0 | EI41: 0 | EJ41: 0 | EK41: =VLOOKUP(H41,'Sale Data'!I:J,2,) -> 0 | EL41: 0 | EM41: =AVERAGE(EG41:EJ41) -> 0 | EN41: =(J41+K41+L41+M41)-(N41+O41+P41+Q41+T41+R41+S41+EM41) -> 0 | EO41: =(EM41*2)-EN41 -> 0 | EQ41: 0 | ES41: MOQ - 48 Can | ET41: 0 | EU41: 0 | EV41: 0 | EW41: 0 | EX41: 28 | EY41: 2 | EZ41: 8 | FA41: 8 | FB41: 0 | FC41: 0 | FE41: 15 | FF41: 0 | FG41: 1 | FH41: 0 | FI41: 10 | FJ41: 6 | FK41: 2 | FL41: 10 | FM41: 2 | FN41: 0 | FO41: 10 | FP41: 0 | FQ41: 5 | FR41: 5 | FS41: 5 | FT41: =VLOOKUP(H41,#REF!,2,) -> #REF! | FU41: 0 | FV41: =AVERAGE(FO41:FU41) -> #REF! | FW41: =(J41+K41+L41+M41)-(T41+FV41) -> #REF! | FX41: =(FV41*2)-FW41 -> #REF! | GA41: =EQ41*F41 -> 0
A42: 38 | B42: Valvoline | C42: Diesel Synthetic 5W40, CI-4/SL | D42: 4 | E42: x | F42: 5 | G42: L | H42: 691870 | I42: Bottle | J42: 94 | U42: 5 | V42: 11 | X42: 4 | Y42: 4 | Z42: 21 | AA42: 6 | AB42: 7 | AC42: 9 | AD42: 0 | AE42: 3 | AF42: 18 | AG42: 25 | AH42: 14 | AI42: 11 | AJ42: 17 | AK42: 4 | AL42: 19 | AM42: 155 | AN42: 38 | AO42: 46 | AP42: 12 | AQ42: 8 | AR42: 4 | AS42: 6 | AT42: 4 | AU42: 4 | AV42: 8 | AW42: 0 | AX42: 2 | AY42: 0 | AZ42: 0 | BA42: 4 | BB42: 6 | BC42: 49 | BD42: 0 | BE42: 0 | BF42: 2 | BG42: 8 | BH42: 9 | BI42: 1 | BJ42: 2 | BK42: 10 | BL42: 6 | BM42: 2 | BN42: 8 | BO42: 8 | BP42: 4 | BQ42: 0 | BR42: 12 | BS42: 4 | BT42: 8 | BU42: 5 | BV42: 4 | BW42: 0 | BX42: 0 | BY42: 0 | BZ42: 6 | CA42: 0 | CB42: 0 | CC42: 1 | CD42: 0 | CE42: 0 | CF42: 0 | CG42: 0 | CH42: 0 | CI42: 0 | CJ42: 0 | CK42: 2 | CL42: 8 | CM42: 0 | CN42: 0 | CO42: 0 | CP42: 0 | CQ42: 0 | CR42: 0 | CS42: 6 | CT42: 0 | CU42: 0 | CV42: 2 | CW42: 0 | CX42: 0 | CY42: 0 | CZ42: 0 | DA42: 0 | DB42: 11 | DC42: 0 | DD42: 1 | DE42: 9 | DF42: 0 | DG42: 0 | DH42: 0 | DI42: 2 | DJ42: 0 | DK42: 0 | DL42: 0 | DM42: 3 | DN42: 0 | DO42: 0 | DP42: 0 | DQ42: 3 | DR42: 3 | DS42: 0 | DT42: 0 | DU42: 8 | DV42: 2 | DW42: 0 | DX42: 0 | DY42: 2 | DZ42: 0 | EA42: 0 | EB42: 3 | EC42: 0 | ED42: 0 | EE42: 80 | EF42: 100 | EG42: 0 | EH42: 0 | EI42: 2 | EJ42: 0 | EK42: =VLOOKUP(H42,'Sale Data'!I:J,2,) -> 18 | EL42: 0 | EM42: =AVERAGE(EG42:EJ42) -> 0.5 | EN42: =(J42+K42+L42+M42)-(N42+O42+P42+Q42+T42+R42+S42+EM42) -> 93.5 | EO42: =(EM42*2)-EN42 -> -92.5 | EQ42: 0 | ES42: MOQ - 48 CS | ET42: 28 | EU42: 3 | EV42: 11 | EW42: 15 | EX42: 66 | EY42: 6 | EZ42: 28 | FA42: 3 | FB42: 20 | FC42: 12 | FD42: 16 | FE42: 19 | FF42: 16 | FG42: 39 | FH42: 0 | FI42: 8 | FJ42: 16 | FK42: 28 | FL42: 2 | FM42: 0 | FN42: 8 | FO42: 13 | FP42: 8 | FQ42: 3 | FR42: 10 | FS42: 0 | FT42: =VLOOKUP(H42,#REF!,2,) -> #REF! | FU42: 0 | FV42: =AVERAGE(FO42:FU42) -> #REF! | FW42: =(J42+K42+L42+M42)-(T42+FV42) -> #REF! | FX42: =(FV42*2)-FW42 -> #REF! | GA42: =EQ42*F42 -> 0
A43: 39 | B43: Valvoline | C43: Diesel Synthetic 5W40, CI-4/SL | D43: 6 | E43: x | F43: 1 | G43: L | H43: 692051 | I43: Bottle | J43: 237 | U43: 3 | V43: 13 | W43: 4 | X43: 9 | Y43: 9 | Z43: 39 | AA43: 6 | AB43: 7 | AC43: 0 | AD43: 1 | AE43: 3 | AF43: 10 | AG43: 38 | AH43: 8 | AI43: 11 | AJ43: 5 | AK43: 10 | AL43: 15 | AM43: 29 | AN43: 19 | AO43: 44 | AP43: 19 | AQ43: 0 | AR43: 1 | AS43: 0 | AT43: 1 | AU43: 0 | AV43: 9 | AW43: 6 | AX43: 3 | AY43: 0 | AZ43: 6 | BA43: 0 | BB43: 1 | BC43: 13 | BD43: 10 | BE43: 0 | BF43: 0 | BG43: 0 | BH43: 6 | BI43: 0 | BJ43: 0 | BK43: 0 | BL43: 0 | BM43: 2 | BN43: 0 | BO43: 6 | BP43: 0 | BQ43: 0 | BR43: 18 | BS43: 0 | BT43: 0 | BU43: 0 | BV43: 0 | BW43: 0 | BX43: 0 | BY43: 1 | BZ43: 0 | CA43: 0 | CB43: 0 | CC43: 32 | CD43: 0 | CE43: 2 | CF43: 0 | CG43: 0 | CH43: 0 | CI43: 30 | CJ43: 0 | CK43: 20 | CL43: 12 | CM43: 20 | CN43: 0 | CO43: 26 | CP43: 0 | CQ43: 30 | CR43: 0 | CS43: 0 | CT43: 0 | CU43: 0 | CV43: 0 | CW43: 0 | CX43: 0 | CY43: 0 | CZ43: 0 | DA43: 0 | DB43: 6 | DC43: 0 | DD43: 2 | DE43: 1 | DF43: 1 | DG43: 1 | DH43: 0 | DI43: 0 | DJ43: 9 | DK43: 0 | DL43: 0 | DM43: 0 | DN43: 0 | DO43: 0 | DP43: 0 | DQ43: 3 | DR43: 0 | DS43: 0 | DT43: 0 | DU43: 14 | DV43: 0 | DW43: 0 | DX43: 0 | DY43: 0 | DZ43: 0 | EA43: 0 | EB43: 1 | EC43: 0 | ED43: 0 | EE43: 0 | EF43: 0 | EG43: 0 | EH43: 0 | EI43: 0 | EJ43: 0 | EK43: =VLOOKUP(H43,'Sale Data'!I:J,2,) -> 0 | EL43: 0 | EM43: =AVERAGE(EG43:EJ43) -> 0 | EN43: =(J43+K43+L43+M43)-(N43+O43+P43+Q43+T43+R43+S43+EM43) -> 237 | EO43: =(EM43*2)-EN43 -> -237 | EQ43: 0 | ES43: MOQ - 120 CS | ET43: 22 | EU43: 0 | EV43: 13 | EW43: 15 | EX43: 66 | EY43: 18 | EZ43: 48 | FA43: 12 | FB43: 18 | FC43: 0 | FD43: 28 | FE43: 30 | FF43: 16 | FG43: 15 | FH43: 0 | FI43: 18 | FJ43: 36 | FK43: 12 | FL43: 20 | FM43: 0 | FN43: 0 | FO43: 6 | FP43: 0 | FQ43: 1 | FR43: 0 | FS43: 0 | FT43: =VLOOKUP(H43,#REF!,2,) -> #REF! | FU43: 0 | FV43: =AVERAGE(FO43:FU43) -> #REF! | FW43: =(J43+K43+L43+M43)-(T43+FV43) -> #REF! | FX43: =(FV43*2)-FW43 -> #REF! | GA43: =EQ43*F43 -> 0
A44: 40 | B44: Valvoline | C44: Gas Engine Oil Ultra 15W40 | D44: 1 | E44: x | F44: 18 | G44: L | H44: 804723 | I44: Can | J44: 0 | U44: 9 | V44: 19 | W44: 2 | X44: 26 | Y44: 20 | Z44: 23 | AA44: 14 | AB44: 14 | AC44: 20 | AD44: 3 | AE44: 12 | AF44: 18 | AG44: 5 | AH44: 3 | AI44: 0 | AJ44: 0 | AK44: 6 | AL44: 3 | AM44: 7 | AN44: 1 | AO44: 16 | AP44: 2 | AQ44: 1 | AR44: 0 | AS44: 6 | AT44: 0 | AU44: 1.3888889 | AV44: 11 | AW44: 9 | AX44: 4 | AY44: 6 | AZ44: 3 | BA44: 3 | BB44: 12 | BC44: 12 | BD44: 1 | BE44: 6 | BF44: 8 | BG44: 4 | BH44: 11 | BI44: 37 | BJ44: 12 | BK44: 0 | BL44: 0 | BM44: 2 | BN44: 4 | BO44: 0 | BP44: 2 | BQ44: 2 | BR44: 0 | BS44: 2 | BT44: 0 | BU44: 6.3888889 | BV44: 2 | BW44: 0 | BX44: 0 | BY44: 0 | BZ44: 2 | CA44: 1 | CB44: 3 | CC44: 0 | CD44: 3 | CE44: 2 | CF44: 3 | CG44: 0 | CH44: 0 | CI44: 0 | CJ44: 0 | CK44: 0 | CL44: 2 | CM44: 3 | CN44: 3 | CO44: 0 | CP44: 0 | CQ44: 0 | CR44: 0 | CS44: 0 | CT44: 0 | CU44: 1 | CV44: 1 | CW44: 12 | CX44: 1 | CY44: 1 | CZ44: 4 | DA44: 0 | DB44: 12 | DC44: 9 | DD44: 36 | DE44: 35 | DF44: 50 | DG44: 396 | DH44: 46 | DI44: 0 | DJ44: 10 | DK44: 0 | DL44: 0 | DM44: 0 | DN44: 0 | DO44: 0 | DP44: 0 | DQ44: 0 | DR44: 0 | DS44: 0 | DT44: 0.13333333 | DU44: 0 | DV44: 0 | DW44: 0 | DX44: 0 | DY44: 0 | DZ44: 0 | EA44: 0 | EB44: 0 | EC44: 0 | ED44: 0 | EE44: 0 | EF44: 0 | EG44: 0 | EH44: 0 | EI44: 0 | EJ44: 0 | EK44: =VLOOKUP(H44,'Sale Data'!I:J,2,) -> 0 | EL44: 0 | EM44: =AVERAGE(EG44:EJ44) -> 0 | EN44: =(J44+K44+L44+M44)-(N44+O44+P44+Q44+T44+R44+S44+EM44) -> 0 | EO44: =(EM44*2)-EN44 -> 0 | EQ44: 0 | ES44: Min Run - 144 PL, Multiples 48 Can | ET44: 9 | EU44: 35 | EV44: 12 | EW44: 28 | EX44: 30 | EY44: 35.5 | EZ44: 14 | FA44: 47 | FB44: 20 | FC44: 8 | FD44: 12 | FE44: 18 | FF44: 10 | FG44: 3 | FH44: 0 | FI44: 0 | FJ44: 6 | FK44: 2.2 | FL44: 7 | FM44: 1 | FN44: 4 | FO44: 1.3888889 | FP44: 1 | FQ44: 0 | FR44: 6 | FS44: 0 | FT44: =VLOOKUP(H44,#REF!,2,) -> #REF! | FU44: 11 | FV44: =AVERAGE(FO44:FU44) -> #REF! | FW44: =(J44+K44+L44+M44)-(T44+FV44) -> #REF! | FX44: =(FV44*2)-FW44 -> #REF! | GA44: =EQ44*F44 -> 0
A45: 41 | B45: Valvoline | C45: Gear Gard Super 140, GL-5 | D45: 1 | E45: x | F45: 200 | G45: L | H45: 692077 | I45: Drum | J45: 10.88 | U45: 3.44 | V45: 3 | W45: 2 | X45: 1 | Y45: 3 | Z45: 6 | AA45: 2 | AB45: 2 | AC45: 2.1 | AD45: 0 | AE45: 3.1 | AF45: 1 | AG45: 5.1 | AH45: 3.12 | AI45: 1 | AJ45: 2 | AK45: 0.1 | AL45: 2 | AM45: 3 | AN45: 0 | AO45: 2.1 | AP45: 0.14 | AQ45: 0.2 | AR45: 1.1 | AS45: 3 | AT45: 1 | AU45: 0.26 | AV45: 4 | AW45: 2.4 | AX45: 5.1 | AY45: 4.1 | AZ45: 6.06 | BA45: 6 | BB45: 3.1 | BC45: 1.1 | BD45: 0.096153846 | BE45: 1 | BF45: 2.14 | BG45: 3 | BH45: 1 | BI45: 3.02 | BJ45: 3.14 | BK45: 0 | BL45: 2.14 | BM45: 5 | BN45: 3 | BO45: 0 | BP45: 0 | BQ45: 2 | BR45: 1 | BS45: 5 | BT45: 4 | BU45: 8 | BV45: 1 | BW45: 0 | BX45: 2 | BY45: 6 | BZ45: 2 | CA45: 7 | CB45: 7 | CC45: 0 | CD45: 12.135 | CE45: 2.04 | CF45: 1 | CG45: 0 | CH45: 2 | CI45: 0 | CJ45: 0 | CK45: 2 | CL45: 0.21 | CM45: 2.02 | CN45: 3.11 | CO45: 3.01 | CP45: 5 | CQ45: 1 | CR45: 2 | CS45: 1 | CT45: 0 | CU45: 0 | CV45: 0 | CW45: 1.4 | CX45: 0 | CY45: 2 | CZ45: 1 | DA45: 2.1 | DB45: 2 | DC45: 0 | DD45: 1 | DE45: 0 | DF45: 1 | DG45: 2 | DH45: 1 | DI45: 0 | DJ45: 0 | DK45: 0 | DL45: 0 | DM45: 1 | DN45: 0 | DO45: 0 | DP45: 1 | DQ45: 0 | DR45: 0 | DS45: 0 | DT45: 2 | DU45: 0 | DV45: 2 | DW45: 0 | DX45: 1 | DY45: 0 | DZ45: 0 | EA45: 0 | EB45: 0 | EC45: 2 | ED45: 0 | EE45: 0 | EF45: 0 | EG45: 0 | EH45: 0 | EI45: 3 | EJ45: 0 | EK45: =VLOOKUP(H45,'Sale Data'!I:J,2,) -> 1 | EL45: 1 | EM45: =AVERAGE(EG45:EJ45) -> 0.75 | EN45: =(J45+K45+L45+M45)-(N45+O45+P45+Q45+T45+R45+S45+EM45) -> 10.13 | EO45: =(EM45*3)-EN45 -> -7.88 | EQ45: 0 | ER45: =EQ45*200 -> 0 | ES45: Min Run - 12 DR, Multiples 4 DR | ET45: 2 | EU45: 3 | EV45: 1 | EW45: 0 | EX45: 6 | EY45: 0 | EZ45: 1 | FA45: 2 | FB45: 3 | FC45: 0 | FD45: 2 | FE45: 1 | FF45: 6 | FG45: 2 | FH45: 1 | FI45: 2 | FJ45: 0 | FK45: 3 | FL45: 3 | FM45: 1 | FN45: 1 | FO45: 0 | FP45: 0 | FQ45: 3 | FR45: 0 | FS45: 1 | FT45: =VLOOKUP(H45,#REF!,2,) -> #REF! | FU45: 2 | FV45: =AVERAGE(FO45:FU45) -> #REF! | FW45: =(J45+K45+L45+M45)-(T45+FV45) -> #REF! | FX45: =(FV45*2)-FW45 -> #REF! | GA45: =EQ45*F45 -> 0
A46: 42 | B46: Valvoline | C46: Gear Gard Super 80W90, GL-5 | D46: 1 | E46: x | F46: 200 | G46: L | H46: 692030 | I46: Drum | J46: 0.28 | U46: 5 | V46: 1 | W46: 1 | X46: 2 | Y46: 3 | Z46: 2 | AA46: 0 | AB46: 0 | AC46: 1 | AD46: 2 | AE46: 3 | AF46: 0 | AG46: 0 | AH46: 4 | AI46: 3 | AJ46: 1 | AK46: 0 | AL46: 1.036 | AM46: 0 | AN46: 2 | AO46: 1 | AP46: 1 | AQ46: 0 | AR46: 0 | AS46: 5 | AT46: 0.45 | AU46: 0 | AV46: 2 | AW46: 1 | AX46: 1 | AY46: 0 | AZ46: 0 | BA46: 1 | BB46: 0.7 | BC46: 0 | BD46: 3 | BE46: 1 | BF46: 2 | BG46: 5 | BH46: 1 | BI46: 0 | BJ46: 3 | BK46: 0 | BL46: 1 | BM46: 2 | BN46: 0 | BO46: 2 | BP46: 5 | BQ46: 1 | BR46: 4.3 | BS46: 2 | BT46: 0.1 | BU46: 0 | BV46: 0 | BW46: 0 | BX46: 0.1 | BY46: 1 | BZ46: 2 | CA46: 0 | CB46: 0 | CC46: 0 | CD46: 0 | CE46: 0 | CF46: 1 | CG46: 0.2 | CH46: 0 | CI46: 0 | CJ46: 0 | CK46: 0 | CL46: 1 | CM46: 1 | CN46: 1.2 | CO46: 0.1 | CP46: 0 | CQ46: 0 | CR46: 0 | CS46: 0.015 | CT46: 2 | CU46: 0 | CV46: 0 | CW46: 0 | CX46: 0 | CY46: 0 | CZ46: 0 | DA46: 0 | DB46: 0 | DC46: 0 | DD46: 0 | DE46: 0 | DF46: 0 | DG46: 1 | DH46: 0 | DI46: 0 | DJ46: 0 | DK46: 0 | DL46: 0 | DM46: 0 | DN46: 0 | DO46: 0 | DP46: 0 | DQ46: 0 | DR46: 0 | DS46: 0 | DT46: 0 | DU46: 4 | DV46: 0 | DW46: 0 | DX46: 0 | DY46: 0 | DZ46: 0 | EA46: 0 | EB46: 0 | EC46: 0 | ED46: 0 | EE46: 0 | EF46: 0 | EG46: 0 | EH46: 0 | EI46: 0 | EJ46: 0 | EK46: =VLOOKUP(H46,'Sale Data'!I:J,2,) -> 0 | EL46: 0 | EM46: =AVERAGE(EG46:EJ46) -> 0 | EN46: =(J46+K46+L46+M46)-(N46+O46+P46+Q46+T46+R46+S46+EM46) -> 0.28 | EO46: =(EM46*3)-EN46 -> -0.28 | EQ46: 0 | ER46: =EQ46*200 -> 0 | ES46: Min Run - 12 DR, Multiples 4 DR | ET46: 5 | EU46: 1 | EV46: 1 | EW46: 2 | EX46: 3 | EY46: 6 | EZ46: 0 | FA46: 0 | FB46: 0 | FC46: 2 | FD46: 1 | FE46: 2 | FF46: 0 | FG46: 3 | FH46: 0 | FI46: 3 | FJ46: 0 | FK46: 0.36 | FL46: 0 | FM46: 4 | FN46: 1 | FO46: 0 | FP46: 0 | FQ46: 1 | FR46: 3 | FS46: 0.45 | FT46: =VLOOKUP(H46,#REF!,2,) -> #REF! | FU46: 4 | FV46: =AVERAGE(FO46:FU46) -> #REF! | FW46: =(J46+K46+L46+M46)-(T46+FV46) -> #REF! | FX46: =(FV46*2)-FW46 -> #REF! | FY46: under MOQ | GA46: =EQ46*F46 -> 0
A47: 43 | B47: Valvoline | C47: Gear Gard Super 90, GL-5 | D47: 1 | E47: x | F47: 200 | G47: L | H47: 692026 | I47: Drum | J47: 14.37 | U47: 0.8 | V47: 2.6 | W47: 1 | X47: 1 | Y47: 8.33 | Z47: 2.1 | AA47: 3 | AB47: 1.37 | AC47: 0.6 | AD47: 2.22 | AE47: 6.5 | AF47: 0.3 | AG47: 0.64 | AH47: 3.365 | AI47: 1.4 | AJ47: 1.3 | AK47: 5.4 | AL47: 0.3 | AM47: 0.3 | AN47: 0 | AO47: 0.04 | AP47: 2.02 | AQ47: 7.56 | AR47: 3.715 | AS47: 3.3 | AT47: 5.3 | AU47: 2.99 | AV47: 6.48 | AW47: 0.3 | AX47: 2 | AY47: 2.3 | AZ47: 1.13 | BA47: 3.22 | BB47: 8.295 | BC47: 4.76 | BD47: 1.75 | BE47: 4.725 | BF47: 1.2 | BG47: 2.605 | BH47: 4.4 | BI47: 1.1 | BJ47: 2.28 | BK47: 1.15 | BL47: 0 | BM47: 1 | BN47: 0.25 | BO47: 3.1 | BP47: 1.2 | BQ47: 0.42 | BR47: 2.3 | BS47: 2.24 | BT47: 3.91 | BU47: 4 | BV47: 0.05 | BW47: 0 | BX47: 5.05 | BY47: 2 | BZ47: 3 | CA47: 4.33 | CB47: 3 | CC47: 4 | CD47: 5 | CE47: 0.1 | CF47: 28.08 | CG47: 5.06 | CH47: 8 | CI47: 0 | CJ47: 0 | CK47: 1 | CL47: 2.1 | CM47: 3.1 | CN47: 0.225 | CO47: 0.05 | CP47: 0.3 | CQ47: 4 | CR47: 1.1 | CS47: 4.025 | CT47: 0.205 | CU47: 2.1 | CV47: 1.09 | CW47: 0 | CX47: 0 | CY47: 2.05 | CZ47: 1.2 | DA47: 0 | DB47: 4.15 | DC47: 0 | DD47: 0 | DE47: 0 | DF47: 0 | DG47: 1.06 | DH47: 4.05 | DI47: 0.1 | DJ47: 1.075 | DK47: 1.325 | DL47: 1.1 | DM47: 1.05 | DN47: 1.09 | DO47: 1.15 | DP47: 1.05 | DQ47: 0 | DR47: 1 | DS47: 0 | DT47: 0.05 | DU47: 1 | DV47: 0 | DW47: 1.1 | DX47: 0.155 | DY47: 0 | DZ47: 0.05 | EA47: 0.1 | EB47: 0.05 | EC47: 0 | ED47: 1.05 | EE47: 0 | EF47: 0.1 | EG47: 1.15 | EH47: 0.125 | EI47: 1.12 | EJ47: 0.06 | EK47: =VLOOKUP(H47,'Sale Data'!I:J,2,) -> 0 | EL47: 0 | EM47: =AVERAGE(EG47:EJ47) -> 0.61375 | EN47: =(J47+K47+L47+M47)-(N47+O47+P47+Q47+T47+R47+S47+EM47) -> 13.75625 | EO47: =(EM47*4)-EN47 -> -11.30125 | EQ47: 0 | ER47: =EQ47*200 -> 0 | ES47: Min Run - 12 DR, Multiples 4 DR | ET47: 0 | EU47: 4 | EV47: 2 | EW47: 1 | EX47: 7 | EY47: 0 | EZ47: 2 | FA47: 3 | FB47: 3 | FC47: 6 | FE47: 0 | FF47: 3 | FG47: 3.09 | FH47: 1 | FI47: 1 | FJ47: 4 | FK47: 0 | FL47: 0 | FM47: 1 | FN47: 1 | FO47: 2 | FP47: 5 | FQ47: 3 | FR47: 4 | FS47: 0 | FT47: =VLOOKUP(H47,#REF!,2,) -> #REF! | FU47: 4 | FV47: =AVERAGE(FO47:FU47) -> #REF! | FW47: =(J47+K47+L47+M47)-(T47+FV47) -> #REF! | FX47: =(FV47*2)-FW47 -> #REF! | FY47: under MOQ | GA47: =EQ47*F47 -> 0 | GC47: 12
A48: 44 | B48: Valvoline | C48: Gear Gard Super 90, GL-5 | D48: 1 | E48: x | F48: 18 | G48: L | H48: 692027 | I48: Can | J48: 7 | U48: 19 | V48: 14 | W48: 21 | X48: 23 | Y48: 10 | Z48: 11 | AA48: 15 | AB48: 28 | AC48: 12 | AD48: 8 | AE48: 19 | AF48: 44 | AG48: 43 | AH48: 39 | AI48: 61 | AJ48: 47 | AK48: 14 | AL48: 20 | AM48: 11 | AN48: 15.2 | AO48: 20.166667 | AP48: 33 | AQ48: 44 | AR48: 26 | AS48: 43 | AT48: 28 | AU48: 7 | AV48: 22 | AW48: 23 | AX48: 19 | AY48: 24 | AZ48: 15 | BA48: 30 | BB48: 28 | BC48: 25 | BD48: 31 | BE48: 30 | BF48: 35 | BG48: 67 | BH48: 52 | BI48: 35 | BJ48: 20 | BK48: 13 | BL48: 38 | BM48: 35 | BN48: 40 | BO48: 16 | BP48: 38 | BQ48: 25 | BR48: 38 | BS48: 25 | BT48: 14 | BU48: 18 | BV48: 23 | BW48: 17 | BX48: 11 | BY48: 16 | BZ48: 22 | CA48: 30 | CB48: 25 | CC48: 24 | CD48: 20 | CE48: 5 | CF48: 25 | CG48: 9 | CH48: 22 | CI48: 26 | CJ48: 41 | CK48: 12 | CL48: 36 | CM48: 17 | CN48: 37 | CO48: 17 | CP48: 32 | CQ48: 35 | CR48: 24 | CS48: 23 | CT48: 5 | CU48: 12 | CV48: 10 | CW48: 9 | CX48: 25 | CY48: 22 | CZ48: 28 | DA48: 3 | DB48: 9 | DC48: 8 | DD48: 16 | DE48: 18 | DF48: 22 | DG48: 14 | DH48: 3 | DI48: 4 | DJ48: 2 | DK48: 4 | DL48: 7 | DM48: 5 | DN48: 10 | DO48: 8 | DP48: 11 | DQ48: 23 | DR48: 17 | DS48: 8 | DT48: 4 | DU48: 5 | DV48: 6 | DW48: 1 | DX48: 1 | DY48: 8 | DZ48: 1 | EA48: 8 | EB48: 10 | EC48: 19 | ED48: 9 | EE48: 18 | EF48: 31 | EG48: 12 | EH48: 15 | EI48: 6 | EJ48: 11.77 | EK48: =VLOOKUP(H48,'Sale Data'!I:J,2,) -> 2 | EL48: 2 | EM48: =AVERAGE(EG48:EJ48) -> 11.1925 | EN48: =(J48+K48+L48+M48)-(N48+O48+P48+Q48+T48+R48+S48+EM48) -> -4.1925 | EO48: =(EM48*4)-EN48 -> 48.9625 | EQ48: =48 -> 48 | ES48: Min Run - 144 PL, Multiples 48 Can | ET48: 19 | EU48: 6 | EV48: 13 | EW48: 32 | EX48: 28 | EY48: 4 | EZ48: 58 | FA48: 48 | FB48: 22 | FC48: 33 | FD48: 26 | FE48: 49 | FF48: 36 | FG48: 19 | FH48: 69 | FI48: 68 | FJ48: 10 | FK48: 11 | FL48: 3 | FM48: 41 | FN48: 17 | FO48: 44 | FP48: 1 | FQ48: 57 | FR48: 50 | FS48: 3 | FT48: =VLOOKUP(H48,#REF!,2,) -> #REF! | FU48: 65 | FV48: =AVERAGE(FO48:FU48) -> #REF! | FW48: =(J48+K48+L48+M48)-(T48+FV48) -> #REF! | FX48: =(FV48*2)-FW48 -> #REF! | FY48: under MOQ | GA48: =EQ48*F48 -> 864 | GI48: 48 | GT48: =48 -> 48
A49: 45 | B49: Valvoline | C49: Hydraulic Oil AW 46 | D49: 1 | E49: x | F49: 18 | G49: L | H49: 692333 | I49: Can | J49: 9 | V49: 7 | W49: 11 | X49: 16 | Y49: 36 | Z49: 19 | AA49: 9 | AB49: 24 | AC49: 13 | AD49: 3 | AE49: 23 | AF49: 73 | AG49: 52 | AH49: 28 | AI49: 23 | AJ49: 36 | AK49: 16 | AL49: 29 | AM49: 8.1 | AN49: 27 | AO49: 24.388889 | AP49: 37 | AQ49: 59 | AR49: 35 | AS49: 51 | AT49: 60 | AU49: 11 | AV49: 32 | AW49: 38 | AX49: 39 | AY49: 34 | AZ49: 38 | BA49: 59 | BB49: 55 | BC49: 83 | BD49: 80.1 | BE49: 69 | BF49: 82 | BG49: 74 | BH49: 74 | BI49: 70 | BJ49: 48 | BK49: 72 | BL49: 93 | BM49: 47 | BN49: 40.1 | BO49: 74 | BP49: 123 | BQ49: 55 | BR49: 77 | BS49: 63 | BT49: 67 | BU49: 63 | BV49: 53 | BW49: 40 | BX49: 48 | BY49: 84 | BZ49: 99.1 | CA49: 80 | CB49: 88 | CC49: 49 | CD49: 86 | CE49: 24 | CF49: 46 | CG49: 52 | CH49: 64 | CI49: 42 | CJ49: 41 | CK49: 42 | CL49: 75 | CM49: 47 | CN49: 47 | CO49: 22 | CP49: 18 | CQ49: 24 | CR49: 71 | CS49: 53 | CT49: 28 | CU49: 42 | CV49: 29 | CW49: 9 | CX49: 30 | CY49: 45 | CZ49: 29 | DA49: 13 | DB49: 56 | DC49: 28 | DD49: 34 | DE49: 26 | DF49: 23 | DG49: 27 | DH49: 4 | DI49: 1 | DJ49: 27 | DK49: 20 | DL49: 41 | DM49: 47 | DN49: 26 | DO49: 26 | DP49: 19 | DQ49: 27 | DR49: 34 | DS49: 24 | DT49: 21 | DU49: 4 | DV49: 13 | DW49: 39 | DX49: 4 | DY49: 15 | DZ49: 2 | EA49: 1 | EB49: 6 | EC49: 14 | ED49: 10 | EE49: 4 | EF49: 53 | EG49: 10 | EH49: 6 | EI49: 8 | EJ49: 16 | EK49: =VLOOKUP(H49,'Sale Data'!I:J,2,) -> 3 | EL49: 6 | EM49: =AVERAGE(EG49:EJ49) -> 10 | EN49: =(J49+K49+L49+M49)-(N49+O49+P49+Q49+T49+R49+S49+EM49) -> -1 | EO49: =(EM49*5)-EN49 -> 51 | EQ49: 48 | ES49: Multi - 48 can, MOQ - 144 Can | ET49: 0 | EU49: 12 | EV49: 12 | EW49: 59 | EX49: 44 | EY49: 26 | EZ49: 146 | FA49: 47 | FB49: 37 | FC49: 0 | FD49: 45 | FE49: 61 | FF49: 22 | FG49: 10 | FH49: 48 | FI49: 55 | FJ49: 15 | FK49: 1 | FL49: 11 | FM49: 64 | FN49: 35 | FO49: 110 | FP49: 1 | FQ49: 64 | FR49: 40 | FS49: 2 | FT49: =VLOOKUP(H49,#REF!,2,) -> #REF! | FU49: 90 | FV49: =AVERAGE(FO49:FU49) -> #REF! | FW49: =(J49+K49+L49+M49)-(T49+FV49) -> #REF! | FX49: =(FV49*2)-FW49 -> #REF! | FY49: under MOQ | GA49: =EQ49*F49 -> 864 | GK49: =48*3 -> 144 | GT49: =48 -> 48
A50: 46 | B50: Valvoline | C50: SynPower 5W40, SN | D50: 6 | E50: x | F50: 1 | G50: L | H50: 686032 | I50: Bottle | J50: 113 | U50: 5 | V50: 8 | W50: 19 | X50: 12 | Y50: 34 | Z50: 7 | AA50: 23 | AB50: 16 | AC50: 5 | AD50: 24 | AE50: 25 | AF50: 23 | AG50: 16 | AH50: 27 | AI50: 28 | AJ50: 13 | AK50: 54 | AL50: 27 | AM50: 76 | AN50: 26 | AO50: 121 | AP50: 5 | AQ50: 1 | AR50: 13 | AS50: 8 | AT50: 10 | AU50: 0 | AV50: 8 | AW50: 13 | AX50: 22 | AY50: 1 | AZ50: 14 | BA50: 31 | BB50: 6 | BC50: 138 | BD50: 6 | BE50: 2 | BF50: 3 | BG50: 4 | BH50: 8 | BI50: 0 | BJ50: 12 | BK50: 2 | BL50: 9 | BM50: 3 | BN50: 0 | BO50: 6 | BP50: 0 | BQ50: 1 | BR50: 0 | BS50: 1 | BT50: 4 | BU50: 1 | BV50: 10 | BW50: 0 | BX50: 0 | BY50: 0 | BZ50: 2 | CA50: 0 | CB50: 3 | CC50: 0 | CD50: 0 | CE50: 0 | CF50: 0 | CG50: 0 | CH50: 3 | CI50: 0 | CJ50: 3 | CK50: 0 | CL50: 0 | CM50: 10 | CN50: 0 | CO50: 0 | CP50: 0 | CQ50: 0 | CR50: 6 | CS50: 0 | CT50: 0 | CU50: 6 | CV50: 0 | CW50: 0 | CX50: 2 | CY50: 0 | CZ50: 4 | DA50: 1 | DB50: 1 | DC50: 4 | DD50: 1 | DE50: 3 | DF50: 4 | DG50: 2 | DH50: 0 | DI50: 0 | DJ50: 1 | DK50: 0 | DL50: 2 | DM50: 6 | DN50: 1 | DO50: 1 | DP50: 0 | DQ50: 0 | DR50: 1 | DS50: 0 | DT50: 32 | DU50: 33 | DV50: 7 | DW50: 1 | DX50: 0 | DY50: 24 | DZ50: 2 | EA50: 0 | EB50: 8 | EC50: 2 | ED50: 0 | EE50: 20 | EF50: 54 | EG50: 100 | EH50: 1 | EI50: 0 | EJ50: 6 | EK50: =VLOOKUP(H50,'Sale Data'!I:J,2,) -> 2 | EL50: 0 | EM50: =AVERAGE(EG50:EJ50) -> 26.75 | EN50: =(J50+K50+L50+M50)-(N50+O50+P50+Q50+T50+R50+S50+EM50) -> 86.25 | EO50: =(EM50*2)-EN50 -> -32.75 | EQ50: 0 | ES50: MOQ - 120 CS | ET50: 16 | EU50: 12 | EV50: 24 | EW50: 42 | EX50: 72 | EY50: 84 | EZ50: 56 | FA50: 51 | FB50: 48 | FC50: 0 | FD50: 40 | FE50: 54 | FF50: 18 | FG50: 35 | FH50: 12 | FI50: 24 | FJ50: 24 | FK50: 24 | FL50: 14 | FM50: 24 | FN50: 12 | FO50: 15 | FP50: 0 | FQ50: 19 | FR50: 22 | FS50: 1 | FT50: =VLOOKUP(H50,#REF!,2,) -> #REF! | FU50: 4 | FV50: =AVERAGE(FO50:FU50) -> #REF! | FW50: =(J50+K50+L50+M50)-(T50+FV50) -> #REF! | FX50: =(FV50*2)-FW50 -> #REF! | GA50: =EQ50*F50 -> 0
A51: 47 | B51: Valvoline | C51: Ultramax AW 32 | D51: 1 | E51: x | F51: 200 | G51: L | H51: 692250 | I51: Drum | J51: 0 | M51: =20 -> 20 | S51: =4 -> 4 | T51: =4*2 -> 8 | V51: 7 | W51: 3 | X51: 2 | Y51: 2 | Z51: 4 | AA51: 3 | AB51: 11 | AC51: 0 | AD51: 3 | AE51: 2 | AF51: 0 | AG51: 1 | AH51: 8.14 | AI51: 1 | AJ51: 0 | AK51: 6.88 | AL51: 0 | AM51: 1 | AN51: 0.24 | AO51: 0 | AP51: 0 | AQ51: 0 | AR51: 0 | AS51: 0 | AT51: 0 | AU51: 0 | AV51: 1 | AW51: 2 | AX51: 26 | AY51: 0 | AZ51: 2 | BA51: 1 | BB51: 1 | BC51: 2.1 | BD51: 3 | BE51: 0 | BF51: 0 | BG51: 3 | BH51: 0 | BI51: 0 | BJ51: 0 | BK51: 2 | BL51: 0 | BM51: 0 | BN51: 0.1 | BO51: 0 | BP51: 1 | BQ51: 0 | BR51: 0 | BS51: 0 | BT51: 0 | BU51: 3 | BV51: 3 | BW51: 1 | BX51: 1 | BY51: 1 | BZ51: 1 | CA51: 0 | CB51: 1 | CC51: 0 | CD51: 0.785 | CE51: 0 | CF51: 1 | CG51: 0 | CH51: 0.06 | CI51: 1 | CJ51: 3 | CK51: 0 | CL51: 0 | CM51: 2 | CN51: 0.45 | CO51: 0.225 | CP51: 0 | CQ51: 0 | CR51: 0.25 | CS51: 0 | CT51: 1.325 | CU51: 0 | CV51: 1.9 | CW51: 1.9 | CX51: 0 | CY51: 0.25 | CZ51: 0.875 | DA51: 1 | DB51: 0.1 | DC51: 3 | DD51: 0.25 | DE51: 0 | DF51: 0.5 | DG51: 0 | DH51: 0.5 | DI51: 0.75 | DJ51: 0.425 | DK51: 0.4 | DL51: 0.175 | DM51: 0 | DN51: 0.57 | DO51: 0.6 | DP51: 1.2 | DQ51: 1.305 | DR51: 0.375 | DS51: 0 | DT51: 2.25 | DU51: 1.14 | DV51: 0 | DW51: 0.7 | DX51: 0.615 | DY51: 0 | DZ51: 0 | EA51: 0.085 | EB51: 0.02 | EC51: 2 | ED51: 0.15 | EE51: 0 | EF51: 0 | EG51: 0.675 | EH51: 0.555 | EI51: 0.6 | EJ51: 0 | EK51: =VLOOKUP(H51,'Sale Data'!I:J,2,) -> 0 | EL51: 0 | EM51: =AVERAGE(EG51:EJ51) -> 0.4575 | EN51: =(J51+K51+L51+M51)-(N51+O51+P51+Q51+T51+R51+S51+EM51) -> 7.5425 | EO51: =(EM51*2)-EN51 -> -6.6275 | EQ51: =8 -> 8 | ES51: MOQ - 4 DR | ET51: 0 | EU51: 5 | EV51: 5 | EW51: 2 | EX51: 2 | EY51: 3 | EZ51: 3 | FA51: 10 | FB51: 0 | FC51: 4 | FD51: 2 | FE51: 2 | FF51: 1 | FG51: 1 | FH51: 1 | FI51: 1 | FJ51: 6.04 | FK51: 0 | FL51: 2 | FM51: 0 | FN51: 0 | FO51: 0 | FP51: 0 | FQ51: 0 | FR51: 1 | FS51: 0 | FT51: =VLOOKUP(H51,#REF!,2,) -> #REF! | FU51: 1 | FV51: =AVERAGE(FO51:FU51) -> #REF! | FW51: =(J51+K51+L51+M51)-(T51+FV51) -> #REF! | FX51: =(FV51*2)-FW51 -> #REF! | GA51: =EQ51*F51 -> 1600 | GT51: 8
A52: 48 | B52: Valvoline | C52: All Fleet Turbo 15W40, CF-4/SG | D52: 1 | E52: x | F52: 200 | G52: L | H52: 692090 | I52: Drum | J52: 0 | V52: 1 | W52: 1 | X52: 2 | Y52: 2 | AA52: 1 | AB52: 2 | AC52: 1 | AD52: 0 | AE52: 3 | AF52: 4 | AG52: 0 | AH52: 1 | AI52: 3 | AJ52: 3 | AK52: 4 | AL52: 2 | AM52: 101 | AN52: 1 | AO52: 2 | AP52: 59 | AQ52: 62 | AR52: 81 | AS52: 82 | AT52: 79 | AU52: 75 | AV52: 9 | AW52: 79 | AX52: 80 | AY52: 8 | AZ52: 78 | BA52: 0 | BB52: 1 | BC52: 1 | BD52: 1 | BE52: 3.1 | BF52: 1 | BG52: 2.1 | BH52: 4.1 | BI52: 2 | BJ52: 1 | BK52: 0 | BL52: 1 | BM52: 1 | BN52: 0 | BO52: 0 | BP52: 0 | BQ52: 0 | BR52: 0 | BS52: 0 | BT52: 0 | BU52: 0 | BV52: 0 | BW52: 0 | BX52: 0 | BY52: 0 | BZ52: 0 | CA52: 0 | CB52: 0 | CC52: 0 | CD52: 0 | CE52: 0 | CF52: 0 | CG52: 1 | CH52: 0 | CI52: 0 | CJ52: 0 | CK52: 1 | CL52: 1 | CM52: 1 | CN52: 3 | CO52: 2 | CP52: 0 | CQ52: 3 | CR52: 2 | CS52: 33.09 | CT52: 2.38 | CU52: 2.15 | CV52: 22 | CW52: 11 | CX52: 1 | CY52: 0 | CZ52: 0 | DA52: 0 | DB52: 0 | DC52: 0 | DD52: 0 | DE52: 0.7 | DF52: 0 | DG52: 1 | DH52: 0 | DI52: 0 | DJ52: 0 | DK52: 0 | DL52: 0 | DM52: 0 | DN52: 0 | DO52: 0 | DP52: 0 | DQ52: 0 | DR52: 0 | DS52: 0 | DT52: 0 | DU52: 0 | DV52: 0 | DW52: 0 | DX52: 0 | DY52: 0 | DZ52: 0 | EA52: 0 | EB52: 0 | EC52: 0 | ED52: 0 | EE52: 0 | EF52: 0 | EG52: 0 | EH52: 0 | EI52: 0 | EJ52: 0 | EK52: =VLOOKUP(H52,'Sale Data'!I:J,2,) -> 0 | EL52: 0 | EM52: =AVERAGE(EG52:EJ52) -> 0 | EN52: =(J52+K52+L52+M52)-(N52+O52+P52+Q52+T52+R52+S52+EM52) -> 0 | EO52: =(EM52*2)-EN52 -> 0 | EQ52: 0 | ES52: MOQ - 4 DR | ET52: 0 | EU52: 0 | EV52: 1 | EW52: 4 | EX52: 0 | EY52: 1 | EZ52: 1 | FA52: 1 | FB52: 1 | FC52: 0 | FD52: 4 | FE52: 3 | FF52: 3 | FG52: 2 | FH52: 0 | FI52: 6 | FJ52: 2 | FK52: 0 | FL52: 103 | FM52: 1 | FN52: 1 | FO52: 59 | FP52: 67 | FQ52: 77 | FR52: 79 | FS52: 78 | FT52: =VLOOKUP(H52,#REF!,2,) -> #REF! | FU52: 12 | FV52: =AVERAGE(FO52:FU52) -> #REF! | FW52: =(J52+K52+L52+M52)-(T52+FV52) -> #REF! | FX52: =(FV52*2)-FW52 -> #REF! | GA52: =EQ52*F52 -> 0
A53: 49 | B53: Valvoline | C53: All Fleet Turbo 20W50, CF-4/SG | D53: 1 | E53: x | F53: 200 | G53: L | H53: 692172 | I53: Drum | J53: 0 | W53: 1 | X53: 1 | AA53: 0 | AB53: 0 | AC53: 0 | AD53: 0 | AF53: 1 | AG53: 0 | AH53: 0 | AI53: 0 | AJ53: 0 | AK53: 0 | AL53: 0 | AM53: 0 | AN53: 0 | AO53: 1 | AP53: 0 | AQ53: 0 | AR53: 0 | AS53: 0 | AT53: 0 | AU53: 0 | AV53: 0 | AW53: 0 | AX53: 0 | AY53: 0 | AZ53: 0 | BA53: 0 | BB53: 0 | BC53: 0 | BD53: 0 | BE53: 0 | BF53: 0 | BG53: 0 | BH53: 0 | BI53: 0 | BJ53: 0 | BK53: 0 | BL53: 0 | BM53: 0 | BN53: 0 | BO53: 0 | BP53: 0 | BQ53: 0 | BR53: 0 | BS53: 0 | BT53: 0 | BU53: 0 | BV53: 0 | BW53: 0 | BX53: 1 | BY53: 0 | BZ53: 0 | CA53: 1 | CB53: 0 | CC53: 0 | CD53: 0 | CE53: 0 | CF53: 0 | CG53: 0 | CH53: 0 | CI53: 0 | CJ53: 0 | CK53: 0 | CL53: 0 | CM53: 0 | CN53: 0 | CO53: 0 | CP53: 0 | CQ53: 0 | CR53: 0 | CS53: 2 | CT53: 0 | CU53: 0 | CV53: 0 | CW53: 6 | CX53: 0 | CY53: 0 | CZ53: 0 | DA53: 0 | DB53: 0 | DC53: 0 | DD53: 0 | DE53: 0 | DF53: 0 | DG53: 0 | DH53: 0 | DI53: 0 | DJ53: 0 | DK53: 0 | DL53: 0 | DM53: 0 | DN53: 0 | DO53: 0 | DP53: 0 | DQ53: 0 | DR53: 0 | DS53: 0 | DT53: 0 | DU53: 0 | DV53: 0 | DW53: 0 | DX53: 0 | DY53: 0 | DZ53: 0 | EA53: 0 | EB53: 0 | EC53: 0 | ED53: 0 | EE53: 0 | EF53: 0 | EG53: 0 | EH53: 0 | EI53: 0 | EJ53: 0 | EK53: =VLOOKUP(H53,'Sale Data'!I:J,2,) -> 0 | EL53: 0 | EM53: =AVERAGE(EG53:EJ53) -> 0 | EN53: =(J53+K53+L53+M53)-(N53+O53+P53+Q53+T53+R53+S53+EM53) -> 0 | EO53: =(EM53*2)-EN53 -> 0 | EQ53: 0 | ES53: MOQ - 4 DR | ET53: 2 | EU53: 0 | EV53: 0 | EW53: 1 | EX53: 0 | EY53: 0 | EZ53: 1 | FA53: 2 | FB53: 0 | FC53: 0 | FE53: 2 | FF53: 0 | FG53: 0 | FH53: 0 | FI53: 0 | FJ53: 0 | FK53: 0 | FL53: 0 | FM53: 0 | FN53: 0 | FO53: 0 | FP53: 0 | FQ53: 0 | FR53: 0 | FS53: 0 | FT53: =VLOOKUP(H53,#REF!,2,) -> #REF! | FU53: 0 | FV53: =AVERAGE(FO53:FU53) -> #REF! | FW53: =(J53+K53+L53+M53)-(T53+FV53) -> #REF! | FX53: =(FV53*2)-FW53 -> #REF! | GA53: =EQ53*F53 -> 0
A54: 50 | B54: Valvoline | C54: Hydraulic Oil AW 68 | D54: 1 | E54: x | F54: 18 | G54: L | H54: 692335 | I54: Can | J54: 13.78 | Z54: 7 | AA54: 5 | AB54: 15 | AC54: 8 | AD54: 22 | AE54: 6 | AF54: 42 | AG54: 46 | AH54: 49 | AI54: 28 | AJ54: 37 | AK54: 36 | AL54: 27 | AM54: 20 | AN54: 25 | AO54: 15 | AP54: 31 | AQ54: 39 | AR54: 27 | AS54: 52 | AT54: 42 | AU54: 30 | AV54: 62 | AW54: 36 | AX54: 28 | AY54: 31 | AZ54: 29 | BA54: 42 | BB54: 35 | BC54: 33 | BD54: 34 | BE54: 77 | BF54: 19 | BG54: 78 | BH54: 73 | BI54: 53 | BJ54: 36 | BK54: 48 | BL54: 37 | BM54: 37 | BN54: 44 | BO54: 61 | BP54: 64 | BQ54: 39 | BR54: 36 | BS54: 33 | BT54: 42 | BU54: 79 | BV54: 45 | BW54: 22 | BX54: 18 | BY54: 38 | BZ54: 20 | CA54: 43 | CB54: 30 | CC54: 38 | CD54: 37 | CE54: 33 | CF54: 34 | CG54: 24 | CH54: 16 | CI54: 15 | CJ54: 13 | CK54: 14 | CL54: 27 | CM54: 18 | CN54: 23 | CO54: 31 | CP54: 41 | CQ54: 15 | CR54: 10 | CS54: 11 | CT54: 10 | CU54: 16 | CV54: 14 | CW54: 8 | CX54: 16 | CY54: 6 | CZ54: 17 | DA54: 27 | DB54: 46 | DC54: 27 | DD54: 10 | DE54: 16 | DF54: 16 | DG54: 4 | DH54: 8 | DI54: 16 | DJ54: 5 | DK54: 10 | DL54: 7 | DM54: 10 | DN54: 9 | DO54: 10 | DP54: 15 | DQ54: 15 | DR54: 20 | DS54: 19 | DT54: 8 | DU54: 11 | DV54: 39 | DW54: 11 | DX54: 11 | DY54: 11 | DZ54: 2 | EA54: 0 | EB54: 8.22 | EC54: 23 | ED54: 2 | EE54: 4 | EF54: 10 | EG54: 8 | EH54: 9 | EI54: 6 | EJ54: 35 | EK54: =VLOOKUP(H54,'Sale Data'!I:J,2,) -> 20 | EL54: 2 | EM54: =AVERAGE(EG54:EJ54) -> 14.5 | EN54: =(J54+K54+L54+M54)-(N54+O54+P54+Q54+T54+R54+S54+EM54) -> -0.72 | EO54: =(EM54*6)-EN54 -> 87.72 | EQ54: =48*2 -> 96 | ER54: =EQ54*18 -> 1728 | ES54: MOQ - 48 Can | ET54: 0 | EU54: 0 | EV54: 0 | EW54: 8 | EX54: 115 | EY54: 2 | EZ54: 34 | FA54: 35 | FB54: 12 | FC54: 32 | FD54: 35 | FE54: 74 | FF54: 21 | FG54: 17 | FH54: 28 | FI54: 16 | FJ54: 31 | FK54: 6 | FL54: 54 | FM54: 32 | FN54: 13 | FO54: 66 | FP54: 10 | FQ54: 50 | FR54: 42 | FS54: 76 | FT54: =VLOOKUP(H54,#REF!,2,) -> #REF! | FU54: 49 | FV54: =AVERAGE(FO54:FU54) -> #REF! | FW54: =(J54+K54+L54+M54)-(T54+FV54) -> #REF! | FX54: =(FV54*2)-FW54 -> #REF! | GA54: =EQ54*F54 -> 1728 | GT54: =48*2 -> 96
A55: 51 | B55: Valvoline | C55: Crimson Grease | D55: 1 | E55: x | F55: 180 | G55: KG | H55: 793316 | I55: Drum | J55: 0 | AB55: 0 | AC55: 0 | AD55: 0 | AE55: 1 | AF55: 2 | AG55: 0 | AH55: 0 | AI55: 0 | AJ55: 1 | AK55: 1 | AL55: 1 | AM55: 0 | AN55: 0 | AO55: 0 | AP55: 0 | AQ55: 1 | AR55: 2 | AS55: 0 | AT55: 1 | AU55: 0 | AV55: 0 | AW55: 0 | AX55: 0 | AY55: 0 | AZ55: 2 | BA55: 3 | BB55: 1 | BC55: 0 | BD55: 0 | BE55: 0 | BF55: 0 | BG55: 0 | BH55: 0 | BI55: 0 | BJ55: 0 | BK55: 1 | BL55: 0 | BM55: 1 | BN55: 1 | BO55: 0 | BP55: 0 | BQ55: 0 | BR55: 0 | BS55: 0 | BT55: 0 | BU55: 0 | BV55: 0 | BW55: 0 | BX55: 0 | BY55: 0 | BZ55: 0 | CA55: 0 | CB55: 0 | CC55: 0 | CD55: 0 | CE55: 0 | CF55: 0 | CG55: 0 | CH55: 0 | CI55: 0 | CJ55: 0 | CK55: 0 | CL55: 0 | CM55: 0 | CN55: 0 | CO55: 0 | CP55: 0 | CQ55: 0 | CR55: 0 | CS55: 0 | CT55: 0 | CU55: 0 | CV55: 0 | CW55: 0 | CX55: 0 | CY55: 0 | CZ55: 0 | DA55: 0 | DB55: 0 | DC55: 0 | DD55: 0 | DE55: 0 | DF55: 0 | DG55: 0 | DH55: 0 | DI55: 0 | DJ55: 0 | DK55: 0 | DL55: 0 | DM55: 0 | DN55: 0 | DO55: 0 | DP55: 0 | DQ55: 0 | DR55: 0 | DS55: 0 | DT55: 0 | DU55: 0 | DV55: 0 | DW55: 0 | DX55: 0 | DY55: 0 | DZ55: 0 | EA55: 0 | EB55: 0 | EC55: 0 | ED55: 0 | EE55: 0 | EF55: 0 | EG55: 0 | EH55: 0 | EI55: 0 | EJ55: 0 | EK55: =VLOOKUP(H55,'Sale Data'!I:J,2,) -> 0 | EL55: 0 | EM55: =AVERAGE(EG55:EJ55) -> 0 | EN55: =(J55+K55+L55+M55)-(N55+O55+P55+Q55+T55+R55+S55+EM55) -> 0 | EO55: =(EM55*2)-EN55 -> 0 | EQ55: 0 | ES55: MOQ - 4 DR | EZ55: 0 | FB55: 0 | FC55: 11 | FE55: 1 | FF55: 0 | FG55: 0 | FH55: 0 | FI55: 1 | FJ55: 0 | FK55: 1 | FL55: 0 | FM55: 0 | FN55: 0 | FO55: 0 | FP55: 2 | FQ55: 0 | FR55: 0 | FS55: 0 | FT55: =VLOOKUP(H55,#REF!,2,) -> #REF! | FU55: 0 | FV55: =AVERAGE(FO55:FU55) -> #REF! | FW55: =(J55+K55+L55+M55)-(T55+FV55) -> #REF! | FX55: =(FV55*2)-FW55 -> #REF! | GA55: =EQ55*F55 -> 0
A56: 52 | B56: Valvoline | C56: Lithium MP Gease | D56: 1 | E56: x | F56: 180 | G56: KG | H56: IV500432 | I56: Drum | J56: 0 | AB56: 0 | AC56: 0 | AD56: 0 | AE56: 3 | AF56: 0 | AG56: 0 | AH56: 3 | AI56: 0 | AJ56: 0 | AK56: 0 | AL56: 1 | AM56: 0 | AN56: 0 | AO56: 0 | AP56: 0 | AQ56: 1 | AR56: 0 | AS56: 1 | AT56: 0 | AU56: 1 | AV56: 0 | AW56: 0 | AX56: 0 | AY56: 0 | AZ56: 1 | BA56: 0 | BB56: 0 | BC56: 0 | BD56: 0 | BE56: 0 | BF56: 0 | BG56: 0 | BH56: 0 | BI56: 0 | BJ56: 0 | BK56: 0 | BL56: 0 | BM56: 0 | BN56: 0 | BO56: 0 | BP56: 0 | BQ56: 0 | BR56: 0 | BS56: 0 | BT56: 0 | BU56: 0 | BV56: 0 | BW56: 0 | BX56: 0 | BY56: 0 | BZ56: 0 | CA56: 0 | CB56: 0 | CC56: 0 | CD56: 0 | CE56: 0 | CF56: 0 | CG56: 0 | CH56: 0 | CI56: 0 | CJ56: 0 | CK56: 0 | CL56: 0 | CM56: 0 | CN56: 0 | CO56: 0 | CP56: 0 | CQ56: 0 | CR56: 0 | CS56: 0 | CT56: 0 | CU56: 0 | CV56: 0 | CW56: 0 | CX56: 0 | CY56: 0 | CZ56: 0 | DA56: 0 | DB56: 0 | DC56: 0 | DD56: 0 | DE56: 0 | DF56: 0 | DG56: 0 | DH56: 0 | DI56: 0 | DJ56: 0 | DK56: 0 | DL56: 0 | DM56: 0 | DN56: 0 | DO56: 0 | DP56: 0 | DQ56: 0 | DR56: 0 | DS56: 0 | DT56: 0 | DU56: 0 | DV56: 0 | DW56: 1 | DX56: 0 | DY56: 0 | DZ56: 0 | EA56: 0 | EB56: 0 | EC56: 0 | ED56: 0 | EE56: 0 | EF56: 0 | EG56: 0 | EH56: 0 | EI56: 0 | EJ56: 0 | EK56: =VLOOKUP(H56,'Sale Data'!I:J,2,) -> 0 | EL56: 0 | EM56: =AVERAGE(EG56:EJ56) -> 0 | EN56: =(J56+K56+L56+M56)-(N56+O56+P56+Q56+T56+R56+S56+EM56) -> 0 | EO56: =(EM56*2)-EN56 -> 0 | EQ56: 0 | ES56: MOQ - 4 DR | EZ56: 0 | FC56: 2 | FD56: 2 | FE56: 1 | FF56: 1 | FG56: 0 | FH56: 3 | FI56: 0 | FJ56: 0 | FK56: 0 | FL56: 0 | FM56: 0 | FN56: 0 | FO56: 0 | FP56: 0 | FQ56: 0 | FR56: 0 | FS56: 2 | FT56: =VLOOKUP(H56,#REF!,2,) -> #REF! | FU56: 0 | FV56: =AVERAGE(FO56:FU56) -> #REF! | FW56: =(J56+K56+L56+M56)-(T56+FV56) -> #REF! | FX56: =(FV56*2)-FW56 -> #REF! | GA56: =EQ56*F56 -> 0
A57: 53 | B57: Valvoline | C57: Dex VI (Maxlife ATF) | D57: 6 | E57: x | F57: 1 | G57: Quartz | H57: VV3246 | I57: Bottle | J57: 133 | AB57: 0 | AC57: 0 | AD57: 0 | AE57: 41 | AF57: 179 | AG57: 40 | AH57: 0 | AI57: 0 | AJ57: 39 | AK57: 82 | AL57: 127 | AM57: 402 | AN57: 401 | AO57: 360 | AP57: 323 | AQ57: 327 | AR57: 236 | AS57: 109 | AT57: 207 | AU57: 222 | AV57: 698 | AW57: 450 | AX57: 801 | AY57: 245 | AZ57: 570 | BA57: 95 | BB57: 110 | BC57: 535 | BD57: 900 | BE57: 47 | BF57: 153 | BG57: 554 | BH57: 357 | BI57: 170 | BJ57: 230 | BK57: 410 | BL57: 128 | BM57: 226 | BN57: 84 | BO57: 233 | BP57: 172 | BQ57: 199 | BR57: 137 | BS57: 109 | BT57: 163 | BU57: 139 | BV57: 130 | BW57: 184 | BX57: 143 | BY57: 135 | BZ57: 83 | CA57: 164 | CB57: 147 | CC57: 123 | CD57: 91 | CE57: 18 | CF57: 67 | CG57: 134 | CH57: 112 | CI57: 188 | CJ57: 70 | CK57: 29 | CL57: 102 | CM57: 49 | CN57: 78 | CO57: 62 | CP57: 13 | CQ57: 103 | CR57: 25 | CS57: 39 | CT57: 0 | CU57: 55 | CV57: 136 | CW57: 36 | CX57: 52 | CY57: 53 | CZ57: 35 | DA57: 6 | DB57: 208 | DC57: 204 | DD57: 451 | DE57: 573 | DF57: 536 | DG57: 376 | DH57: 435 | DI57: 325 | DJ57: 214 | DK57: 176 | DL57: 24 | DM57: 84 | DN57: 37 | DO57: 37 | DP57: 49 | DQ57: 90 | DR57: 164 | DS57: 45 | DT57: 19 | DU57: 55 | DV57: 341 | DW57: 318 | DX57: 270 | DY57: 239 | DZ57: 401 | EA57: 386 | EB57: 485 | EC57: 97 | ED57: 124 | EE57: 117 | EF57: 204 | EG57: 167 | EH57: 373 | EI57: 451 | EJ57: 228 | EK57: =VLOOKUP(H57,'Sale Data'!I:J,2,) -> 185 | EL57: 159 | EM57: =AVERAGE(EG57:EJ57) -> 304.75 | EN57: =(J57+K57+L57+M57)-(N57+O57+P57+Q57+T57+R57+S57+EM57) -> -171.75 | EO57: =(EM57*4)-EN57 -> 1390.75 | EQ57: 0 | ES57: MOQ - 168 CS | EZ57: 0 | FC57: 0 | FD57: 146 | FE57: 66 | FF57: 0 | FG57: 1 | FH57: 0 | FI57: 321 | FJ57: 318 | FK57: 90 | FL57: 398 | FM57: 201 | FN57: 30 | FO57: 660 | FP57: 378 | FQ57: 21 | FR57: 0 | FS57: 490 | FT57: =VLOOKUP(H57,#REF!,2,) -> #REF! | FU57: 481 | FV57: =AVERAGE(FO57:FU57) -> #REF! | FW57: =(J57+K57+L57+M57)-(T57+FV57) -> #REF! | FX57: =(FV57*3)-FW57 -> #REF! | FY57: USA | GA57: =EQ57*0.946 -> 0
A58: 54 | B58: Valvoline | C58: Auto Gear Oil (CVT) | D58: 6 | E58: x | F58: 1 | G58: Quartz | H58: 804751 | I58: Bottle | J58: 147 | AB58: 0 | AC58: 0 | AD58: 0 | AE58: 23 | AF58: 91 | AG58: 237 | AH58: 0 | AI58: 78 | AJ58: 40 | AK58: 54 | AL58: 53 | AM58: 207 | AN58: 92 | AO58: 147 | AP58: 21 | AQ58: 120 | AR58: 84 | AS58: 96 | AT58: 154 | AU58: 12 | AV58: 90 | AW58: 72 | AX58: 188 | AY58: 135 | AZ58: 176 | BA58: 196 | BB58: 299 | BC58: 28 | BD58: 283 | BE58: 285 | BF58: 54 | BG58: 67 | BH58: 75 | BI58: 104 | BJ58: 105 | BK58: 78 | BL58: 72 | BM58: 47 | BN58: 64 | BO58: 99 | BP58: 54 | BQ58: 80 | BR58: 59 | BS58: 43 | BT58: 64 | BU58: 38 | BV58: 48 | BW58: 32 | BX58: 56 | BY58: 57 | BZ58: 76 | CA58: 67 | CB58: 35 | CC58: 24 | CD58: 55 | CE58: 7 | CF58: 12 | CG58: 40 | CH58: 54 | CI58: 24 | CJ58: 13 | CK58: 8 | CL58: 4 | CM58: 16 | CN58: 36 | CO58: 24 | CP58: 6 | CQ58: 12 | CR58: 10 | CS58: 12 | CT58: 22 | CU58: 32 | CV58: 30 | CW58: 2 | CX58: 6 | CY58: 16 | CZ58: 15 | DA58: 4 | DB58: 0 | DC58: 0 | DD58: 22 | DE58: 0 | DF58: 30 | DG58: 5 | DH58: 20 | DI58: 0 | DJ58: 16 | DK58: 57 | DL58: 0 | DM58: 12 | DN58: 22 | DO58: 28 | DP58: 16 | DQ58: 18 | DR58: 6 | DS58: 13 | DT58: 12 | DU58: 6 | DV58: 0 | DW58: 40 | DX58: 19 | DY58: 48 | DZ58: 34 | EA58: 18 | EB58: 72 | EC58: 12 | ED58: 12 | EE58: 0 | EF58: 18 | EG58: 7 | EH58: 36 | EI58: 7 | EJ58: 0 | EK58: =VLOOKUP(H58,'Sale Data'!I:J,2,) -> 8 | EL58: 6 | EM58: =AVERAGE(EG58:EJ58) -> 12.5 | EN58: =(J58+K58+L58+M58)-(N58+O58+P58+Q58+T58+R58+S58+EM58) -> 134.5 | EO58: =(EM58*4)-EN58 -> -84.5 | EQ58: 0 | ES58: MOQ - 168 CS | EZ58: 0 | FC58: 0 | FD58: 216 | FE58: 12 | FF58: 384 | FG58: 25 | FH58: 18 | FI58: 57 | FJ58: 103 | FK58: 24 | FL58: 208 | FM58: 66 | FN58: 28 | FO58: 81 | FP58: 126 | FQ58: 78 | FR58: 129 | FS58: 46 | FT58: =VLOOKUP(H58,#REF!,2,) -> #REF! | FU58: 115 | FV58: =AVERAGE(FO58:FU58) -> #REF! | FW58: =(J58+K58+L58+M58)-(T58+FV58) -> #REF! | FX58: =(FV58*3)-FW58 -> #REF! | FY58: USA | GA58: =EQ58*0.946 -> 0
A59: 55 | B59: Valvoline | C59: Brake Fluid (Dot3) | D59: 12 | E59: x | F59: 12 | G59: OZ | H59: PYBF12 | I59: Bottle | J59: 0 | AB59: 0 | AC59: 0 | AD59: 0 | AE59: 19 | AF59: 13 | AG59: 19 | AH59: 28 | AI59: 48 | AJ59: 120 | AK59: 80 | AL59: 55 | AM59: 70 | AN59: 154 | AO59: 198 | AP59: 55 | AQ59: 85 | AR59: 109 | AS59: 166 | AT59: 51 | AU59: 140 | AV59: 61 | AW59: 79 | AX59: 90 | AY59: 148 | AZ59: 240 | BA59: 97 | BB59: 114 | BC59: 101 | BD59: 172 | BE59: 272 | BF59: 229 | BG59: 29 | BH59: 27 | BI59: 3 | BJ59: 4 | BK59: 0 | BL59: 38 | BM59: 3 | BN59: 2 | BO59: 1 | BP59: 30 | BQ59: 26 | BR59: 5 | BS59: 6 | BT59: 0 | BU59: 1 | BV59: 1 | BW59: 0 | BX59: 2 | BY59: 1 | BZ59: 1 | CA59: 0 | CB59: 1 | CC59: 1 | CD59: 2 | CE59: 0 | CF59: 0 | CG59: 3 | CH59: 6 | CI59: 2 | CJ59: 4 | CK59: 6 | CL59: 0 | CM59: 0 | CN59: 3 | CO59: 0 | CP59: 0 | CQ59: 2 | CR59: 0 | CS59: 0 | CT59: 0 | CU59: 2 | CV59: 1 | CW59: 0 | CX59: 12 | CY59: 0 | CZ59: 0 | DA59: 1 | DB59: 6 | DC59: 0 | DD59: 5 | DE59: 0 | DF59: 0 | DG59: 0 | DH59: 1 | DI59: 0 | DJ59: 1 | DK59: 0 | DL59: 0 | DM59: 0 | DN59: 0 | DO59: 0 | DP59: 0 | DQ59: 0 | DR59: 0 | DS59: 0 | DT59: 0 | DU59: 0 | DV59: 0 | DW59: 0 | DX59: 1 | DY59: 0 | DZ59: 0 | EA59: 0 | EB59: 0 | EC59: 0 | ED59: 0 | EE59: 0 | EF59: 0 | EG59: 0 | EH59: 0 | EI59: 0 | EJ59: 0 | EK59: =VLOOKUP(H59,'Sale Data'!I:J,2,) -> 0 | EL59: 0 | EM59: =AVERAGE(EG59:EJ59) -> 0 | EN59: =(J59+K59+L59+M59)-(N59+O59+P59+Q59+T59+R59+S59+EM59) -> 0 | EO59: =(EM59*2)-EN59 -> 0 | EQ59: 0 | ES59: MOQ - 85 CS | EZ59: 0 | FC59: 0 | FD59: 112 | FE59: 75 | FF59: 132 | FG59: 113 | FH59: 0 | FI59: 267 | FJ59: 216 | FK59: 48 | FL59: 0 | FM59: 84 | FN59: 36 | FO59: 192 | FP59: 72 | FQ59: 171 | FR59: 331 | FS59: 264 | FT59: =VLOOKUP(H59,#REF!,2,) -> #REF! | FU59: 2 | FV59: =AVERAGE(FO59:FU59) -> #REF! | FW59: =(J59+K59+L59+M59)-(T59+FV59) -> #REF! | FX59: =(FV59*2)-FW59 -> #REF! | FY59: USA | GA59: =EQ59*0.335 -> 0
A60: 56 | B60: Valvoline | C60: Valvoline Comp Super 68 | D60: 1 | E60: x | F60: 18 | G60: L | H60: 692100 | I60: Can | J60: 14 | AB60: 0 | AC60: 0 | AD60: 0 | AF60: 8 | AG60: 5 | AH60: 0 | AI60: 0 | AJ60: 0 | AK60: 0 | AL60: 0 | AM60: 0 | AN60: 0 | AO60: 0 | AP60: 4 | AQ60: 8 | AR60: 5 | AS60: 0 | AT60: 0 | AU60: 0 | AV60: 0 | AW60: 0 | AX60: 0 | AY60: 0 | AZ60: 0 | BA60: 0 | BB60: 0 | BC60: 0 | BD60: 0 | BE60: 0 | BF60: 0 | BG60: 0 | BH60: 0 | BI60: 0 | BJ60: 0 | BK60: 0 | BL60: 0 | BM60: 0 | BN60: 0 | BO60: 0 | BP60: 0 | BQ60: 0 | BR60: 0 | BS60: 0 | BT60: 0 | BU60: 0 | BV60: 0 | BW60: 0 | BX60: 0 | BY60: 0 | BZ60: 0 | CA60: 0 | CB60: 0 | CC60: 0 | CD60: 0 | CE60: 7 | CF60: 0 | CG60: 0 | CH60: 0 | CI60: 0 | CJ60: 0 | CK60: 0 | CL60: 2 | CM60: 0 | CN60: 0 | CO60: 0 | CP60: 0 | CQ60: 0 | CR60: 0 | CS60: 0 | CT60: 0 | CU60: 1 | CV60: 1 | CW60: 0 | CX60: 1 | CY60: 1 | CZ60: 0 | DA60: 0 | DB60: 2 | DC60: 2 | DD60: 0 | DE60: 0 | DF60: 1 | DG60: 0 | DH60: 0 | DI60: 0 | DJ60: 0 | DK60: 0 | DL60: 0 | DM60: 0 | DN60: 3 | DO60: 0 | DP60: 3 | DQ60: 4 | DR60: 0 | DS60: 0 | DT60: 0 | DU60: 0 | DV60: 0 | DW60: 0 | DX60: 0 | DY60: 0 | DZ60: 0 | EA60: 0 | EB60: 0 | EC60: 0 | ED60: 0 | EE60: 0 | EF60: 0 | EG60: 0 | EH60: 0 | EI60: 0 | EJ60: 0 | EK60: =VLOOKUP(H60,'Sale Data'!I:J,2,) -> 0 | EL60: 0 | EM60: =AVERAGE(EG60:EJ60) -> 0 | EN60: =(J60+K60+L60+M60)-(N60+O60+P60+Q60+T60+R60+S60+EM60) -> 14 | EO60: =(EM60*2)-EN60 -> -14 | EQ60: 0 | ES60: Min Run - 144 PL, Multiples 48 Can | EZ60: 0 | FC60: 0 | FE60: 12 | FF60: 6 | FG60: 0 | FH60: 0 | FI60: 0 | FJ60: 0 | FK60: 0 | FL60: 0 | FM60: 0 | FN60: 0 | FO60: 2 | FP60: 8 | FQ60: 6 | FR60: 0 | FS60: 0 | FT60: =VLOOKUP(H60,#REF!,2,) -> #REF! | FU60: 0 | FV60: =AVERAGE(FO60:FU60) -> #REF! | FW60: =(J60+K60+L60+M60)-(T60+FV60) -> #REF! | FX60: =(FV60*2)-FW60 -> #REF! | FY60: under MOQ | GA60: =EQ60*F60 -> 0
A61: 57 | B61: Valvoline | C61: Valvoline Industrial Gear Oil 150 | D61: 1 | E61: x | F61: 200 | G61: L | H61: 692099 | I61: Drum | J61: 0 | AB61: 0 | AC61: 0 | AD61: 0 | AF61: 0 | AG61: 0 | AH61: 0 | AI61: 0 | AJ61: 0 | AK61: 0 | AL61: 0 | AM61: 0 | AN61: 0 | AO61: 0 | AP61: 0 | AQ61: 0 | AR61: 0 | AS61: 0 | AT61: 0 | AU61: 0 | AV61: 0 | AW61: 0 | AX61: 0 | AY61: 0 | AZ61: 0 | BA61: 0 | BB61: 0 | BC61: 0 | BD61: 4 | BE61: 0 | BF61: 0 | BG61: 0 | BH61: 0 | BI61: 0 | BJ61: 0 | BK61: 0 | BL61: 0 | BM61: 0 | BN61: 0 | BO61: 0 | BP61: 0 | BQ61: 0 | BR61: 0 | BS61: 0 | BT61: 0 | BU61: 0 | BV61: 0 | BW61: 0 | BX61: 0 | BY61: 0 | BZ61: 0 | CA61: 0 | CB61: 0 | CC61: 0 | CD61: 0 | CE61: 0 | CF61: 0 | CG61: 0 | CH61: 0 | CI61: 0 | CJ61: 0 | CK61: 0 | CL61: 0 | CM61: 0 | CN61: 0 | CO61: 0 | CP61: 0 | CQ61: 0 | CR61: 0 | CS61: 0 | CT61: 0 | CU61: 0 | CV61: 0 | CW61: 0 | CX61: 0 | CY61: 0 | CZ61: 0 | DA61: 0 | DB61: 0 | DC61: 0 | DD61: 0 | DE61: 0 | DF61: 0 | DG61: 0 | DH61: 0 | DI61: 0 | DJ61: 0 | DK61: 0 | DL61: 0 | DM61: 0 | DN61: 0 | DO61: 0 | DP61: 0 | DQ61: 0 | DR61: 0 | DS61: 0 | DT61: 0 | DU61: 0 | DV61: 0 | DW61: 0 | DX61: 0 | DY61: 0 | DZ61: 0 | EA61: 6 | EB61: 0 | EC61: 0 | ED61: 0 | EE61: 0 | EF61: 0 | EG61: 0 | EH61: 0 | EI61: 0 | EJ61: 0 | EK61: =VLOOKUP(H61,'Sale Data'!I:J,2,) -> 0 | EL61: 0 | EM61: =AVERAGE(EG61:EJ61) -> 0 | EN61: =(J61+K61+L61+M61)-(N61+O61+P61+Q61+T61+R61+S61+EM61) -> 0 | EO61: =(EM61*2)-EN61 -> 0 | EQ61: 0 | ES61: Min Run - 12 DR, Multiples 4 DR | EZ61: 0 | FC61: 0 | FE61: 0 | FF61: 0 | FG61: 0 | FH61: 0 | FI61: 0 | FJ61: 0 | FK61: 0 | FL61: 0 | FM61: 0 | FN61: 0 | FO61: 0 | FP61: 0 | FQ61: 0 | FR61: 0 | FS61: 0 | FT61: =VLOOKUP(H61,#REF!,2,) -> #REF! | FU61: 0 | FV61: =AVERAGE(FO61:FU61) -> #REF! | FW61: =(J61+K61+L61+M61)-(T61+FV61) -> #REF! | FX61: =(FV61*2)-FW61 -> #REF! | GA61: =EQ61*F61 -> 0
A62: 58 | B62: Valvoline | C62: Premium Conventional 10W30, SN | D62: 1 | E62: x | F62: 200 | G62: L | H62: 795876 | I62: Drum | J62: 0 | AB62: 0 | AC62: 0 | AD62: 0 | AF62: 0 | AG62: 0 | AH62: 0 | AI62: 0 | AJ62: 0 | AK62: 1.84 | AL62: 0.84 | AM62: 0 | AN62: 0 | AO62: 0 | AP62: 0.56 | AQ62: 0.2 | AR62: 0 | AS62: 0 | AT62: 2.09 | AU62: 0.34 | AV62: 0.8075 | AW62: 4.88125 | AX62: 0 | AY62: 0 | AZ62: 0.525 | BA62: 0.1 | BB62: 0.12 | BC62: 0 | BD62: 0 | BE62: 0 | BF62: 0 | BG62: 0 | BH62: 0 | BI62: 0 | BJ62: 0 | BK62: 0 | BL62: 0 | BM62: 0 | BN62: 0 | BO62: 0 | BP62: 0 | BQ62: 0 | BR62: 0 | BS62: 0 | BT62: 0 | BU62: 0 | BV62: 0 | BW62: 0 | BX62: 0 | BY62: 0 | BZ62: 0 | CA62: 0 | CB62: 0 | CC62: 0 | CD62: 0 | CE62: 0 | CF62: 0 | CG62: 0 | CH62: 0 | CI62: 0 | CJ62: 0 | CK62: 0 | CL62: 0 | CM62: 0 | CN62: 0 | CO62: 0 | CP62: 0 | CQ62: 0 | CR62: 0 | CS62: 0 | CT62: 0 | CU62: 0 | CV62: 0 | CW62: 1 | CX62: 0 | CY62: 0 | CZ62: 0 | DA62: 0 | DB62: 0 | DC62: 0 | DD62: 0 | DE62: 0 | DF62: 0 | DG62: 0 | DH62: 0 | DI62: 0 | DJ62: 0 | DK62: 0 | DL62: 0 | DM62: 0 | DN62: 0 | DO62: 0 | DP62: 0 | DQ62: 0 | DR62: 0 | DS62: 0 | DT62: 0 | DU62: 0 | DV62: 0 | DW62: 0 | DX62: 0 | DY62: 0 | DZ62: 0 | EA62: 0 | EB62: 0 | EC62: 0 | ED62: 0 | EE62: 0 | EF62: 0 | EG62: 0 | EH62: 0 | EI62: 0 | EJ62: 0 | EK62: =VLOOKUP(H62,'Sale Data'!I:J,2,) -> 0 | EL62: 0 | EM62: =AVERAGE(EG62:EJ62) -> 0 | EN62: =(J62+K62+L62+M62)-(N62+O62+P62+Q62+T62+R62+S62+EM62) -> 0 | EO62: =(EM62*2)-EN62 -> 0 | EQ62: 0 | ES62: MOQ - 4 DR | EZ62: 0 | FC62: 0 | FE62: 0 | FF62: 0 | FG62: 0 | FH62: 0 | FI62: 0 | FJ62: 5 | FK62: 0 | FL62: 0 | FM62: 1 | FN62: 0 | FO62: 0 | FP62: 2 | FQ62: 0 | FR62: 0 | FS62: 1 | FT62: =VLOOKUP(H62,#REF!,2,) -> #REF! | FU62: 0 | FV62: =AVERAGE(FO62:FU62) -> #REF! | FW62: =(J62+K62+L62+M62)-(T62+FV62) -> #REF! | FX62: =(FV62*2)-FW62 -> #REF! | GA62: =EQ62*F62 -> 0
A63: 59 | B63: Valvoline | C63: Dex VI (Maxlife ATF) | D63: 3 | E63: x | F63: 1 | G63: Gals | H63: 773775 | I63: Bottle | J63: 1 | AB63: 0 | AC63: 0 | AD63: 0 | AF63: 0 | AG63: 0 | AH63: 0 | AJ63: 0 | AK63: 0 | AL63: 0 | AM63: 0 | AN63: 0 | AO63: 0 | AP63: 0 | AQ63: 59 | AR63: 347 | AS63: 291 | AT63: 297 | AU63: 95 | AV63: 45 | AW63: 201 | AX63: 372 | AY63: 202 | AZ63: 374 | BA63: 274 | BB63: 385 | BC63: 296 | BD63: 943 | BE63: 282 | BF63: 265 | BG63: 364 | BH63: 462 | BI63: 307 | BJ63: 193 | BK63: 441 | BL63: 291 | BM63: 387 | BN63: 340 | BO63: 345 | BP63: 292 | BQ63: 412 | BR63: 275 | BS63: 222 | BT63: 387 | BU63: 299 | BV63: 265 | BW63: 385 | BX63: 244 | BY63: 347 | BZ63: 280 | CA63: 429 | CB63: 303 | CC63: 321 | CD63: 331 | CE63: 57 | CF63: 215 | CG63: 286 | CH63: 299 | CI63: 383 | CJ63: 188 | CK63: 121 | CL63: 189 | CM63: 199 | CN63: 239 | CO63: 168 | CP63: 111 | CQ63: 266 | CR63: 160 | CS63: 287 | CT63: 59 | CU63: 111 | CV63: 65 | CW63: 2 | CX63: 8 | CY63: 14 | CZ63: 11 | DA63: 14 | DB63: 10 | DC63: 2 | DD63: 0 | DE63: 7 | DF63: 0 | DG63: 1 | DH63: 1 | DI63: 6 | DJ63: 3 | DK63: 0 | DL63: 0 | DM63: 1 | DN63: 0 | DO63: 0 | DP63: 1 | DQ63: 0 | DR63: 0 | DS63: 0 | DT63: 0 | DU63: 8 | DV63: 0 | DW63: 0 | DX63: 3 | DY63: 0 | DZ63: 0 | EA63: 0 | EB63: 0 | EC63: 0 | ED63: 0 | EE63: 0 | EF63: 2 | EG63: 0 | EH63: 0 | EI63: 0 | EJ63: 0 | EK63: =VLOOKUP(H63,'Sale Data'!I:J,2,) -> 0 | EL63: 0 | EM63: =AVERAGE(EG63:EJ63) -> 0 | EN63: =(J63+K63+L63+M63)-(N63+O63+P63+Q63+T63+R63+S63+EM63) -> 1 | EO63: =(EM63*4)-EN63 -> -1 | EQ63: 0 | ER63: =EQ63*1 -> 0 | ES63: MOQ - 78 CS | EZ63: 0 | FC63: 0 | FE63: 0 | FF63: 0 | FG63: 0 | FH63: 0 | FI63: 0 | FJ63: 0 | FK63: 0 | FL63: 0 | FM63: 0 | FN63: 0 | FO63: 0 | FP63: 121 | FQ63: 617 | FR63: 328 | FS63: 117 | FT63: =VLOOKUP(H63,#REF!,2,) -> #REF! | FU63: 20 | FV63: =AVERAGE(FO63:FU63) -> #REF! | FW63: =(J63+K63+L63+M63)-(T63+FV63) -> #REF! | FX63: =(FV63*3)-FW63 -> #REF! | FY63: USA | GA63: =EQ63*3.785 -> 0 | GC63: =78*2 -> 156 | GK63: =78 -> 78
A64: 60 | B64: Valvoline | C64: Valvoline Engine Oil, All Fleet Turbo 15W40, CF-4/SG (1 x 18L) | D64: 1 | E64: x | F64: 18 | G64: L | H64: 692131 | I64: Can | J64: 0 | AC64: 10 | AD64: 0 | AE64: 2 | AF64: 0 | AG64: 3 | AH64: 13 | AI64: 5 | AJ64: 22 | AK64: 17 | AL64: 14 | AM64: 20 | AN64: 17 | AO64: 4 | AP64: 6 | AQ64: 16 | AR64: 17 | AS64: 3 | AT64: 9 | AU64: 3 | AV64: 4 | AW64: 13 | AX64: 2 | AY64: 5 | AZ64: 8 | BA64: 6 | BB64: 8 | BC64: 13 | BD64: 7 | BE64: 1 | BF64: 3 | BG64: 2 | BH64: 4 | BI64: 19 | BJ64: 0 | BK64: 0 | BL64: 0 | BM64: 0 | BN64: 0 | BO64: 0 | BP64: 0 | BQ64: 0 | BR64: 0 | BS64: 0 | BT64: 0 | BU64: 0 | BV64: 0 | BW64: 0 | BX64: 0 | BY64: 0 | BZ64: 0 | CA64: 0 | CB64: 0 | CC64: 0 | CD64: 0 | CE64: 0 | CF64: 0 | CG64: 0 | CH64: 0 | CI64: 0 | CJ64: 0 | CK64: 0 | CL64: 0 | CM64: 0 | CN64: 0 | CO64: 0 | CP64: 0 | CQ64: 0 | CR64: 0 | CS64: 0 | CT64: 0 | CU64: 0 | CV64: 0 | CW64: 0 | CX64: 0 | CY64: 0 | CZ64: 0 | DA64: 0 | DB64: 0 | DC64: 0 | DD64: 0 | DE64: 0 | DF64: 0 | DG64: 0 | DH64: 0 | DI64: 0 | DJ64: 0 | DK64: 0 | DL64: 0 | DM64: 0 | DN64: 0 | DO64: 0 | DP64: 0 | DQ64: 0 | DR64: 0 | DS64: 0 | DT64: 0 | DU64: 0 | DV64: 0 | DW64: 0 | DX64: 0 | DY64: 0 | DZ64: 0 | EA64: 0 | EB64: 0 | EC64: 0 | ED64: 0 | EE64: 0 | EF64: 0 | EG64: 0 | EH64: 0 | EI64: 0 | EJ64: 0 | EK64: =VLOOKUP(H64,'Sale Data'!I:J,2,) -> 0 | EL64: 0 | EM64: =AVERAGE(EG64:EJ64) -> 0 | EN64: =(J64+K64+L64+M64)-(N64+O64+P64+Q64+T64+R64+S64+EM64) -> 0 | EO64: =(EM64*2)-EN64 -> 0 | EQ64: 0 | ES64: MOQ - 48 Can | FD64: 13 | FE64: 5 | FF64: 3 | FG64: 10 | FH64: 0 | FI64: 0 | FJ64: 16 | FK64: 5 | FL64: 22 | FM64: 10 | FN64: 0 | FO64: 21 | FP64: 18 | FQ64: 20 | FR64: 0 | FS64: 10 | FT64: =VLOOKUP(H64,#REF!,2,) -> #REF! | FU64: 1 | FV64: =AVERAGE(FO64:FU64) -> #REF! | FW64: =(J64+K64+L64+M64)-(T64+FV64) -> #REF! | FX64: =(FV64*2)-FW64 -> #REF! | GA64: =EQ64*F64 -> 0
A65: 61 | B65: Valvoline | C65: Valvoline Transmission Oil, Dex III ATF, Dexron III (1 x 18L) | D65: 1 | E65: x | F65: 18 | G65: L | H65: 692179 | I65: Can | J65: 0 | AC65: 0 | AD65: 0 | AF65: 0 | AG65: 0 | AH65: 0 | AI65: 0 | AJ65: 5 | AK65: 0 | AL65: 0 | AM65: 0 | AN65: 0 | AO65: 0 | AP65: 6 | AQ65: 1 | AR65: 0 | AS65: 0 | AT65: 0 | AU65: 0 | AV65: 0 | AW65: 0 | AX65: 0 | AY65: 0 | AZ65: 0 | BA65: 0 | BB65: 0 | BC65: 0 | BD65: 0 | BE65: 0 | BF65: 0 | BG65: 0 | BH65: 0 | BI65: 0 | BJ65: 0 | BK65: 0 | BL65: 0 | BM65: 0 | BN65: 0 | BO65: 0 | BP65: 0 | BQ65: 0 | BR65: 0 | BS65: 0 | BT65: 0 | BU65: 0 | BV65: 0 | BW65: 0 | BX65: 0 | BY65: 0 | BZ65: 0 | CA65: 0 | CB65: 0 | CC65: 0 | CD65: 0 | CE65: 0 | CF65: 0 | CG65: 0 | CH65: 0 | CI65: 0 | CJ65: 0 | CK65: 0 | CL65: 0 | CM65: 0 | CN65: 0 | CO65: 0 | CP65: 0 | CQ65: 0 | CR65: 0 | CS65: 0 | CT65: 0 | CU65: 0 | CV65: 0 | CW65: 0 | CX65: 0 | CY65: 0 | CZ65: 0 | DA65: 0 | DB65: 0 | DC65: 0 | DD65: 0 | DE65: 0 | DF65: 0 | DG65: 0 | DH65: 0 | DI65: 0 | DJ65: 0 | DK65: 0 | DL65: 0 | DM65: 0 | DN65: 0 | DO65: 0 | DP65: 0 | DQ65: 0 | DR65: 0 | DS65: 0 | DT65: 0 | DU65: 0 | DV65: 0 | DW65: 0 | DX65: 0 | DY65: 0 | DZ65: 0 | EA65: 0 | EB65: 0 | EC65: 0 | ED65: 0 | EE65: 0 | EF65: 0 | EG65: 0 | EH65: 0 | EI65: 0 | EJ65: 0 | EK65: =VLOOKUP(H65,'Sale Data'!I:J,2,) -> 0 | EL65: 0 | EM65: =AVERAGE(EG65:EJ65) -> 0 | EN65: =(J65+K65+L65+M65)-(N65+O65+P65+Q65+T65+R65+S65+EM65) -> 0 | EO65: =(EM65*2)-EN65 -> 0 | EQ65: 0 | ES65: Min Run - 144 PL, Multiples 48 Can | FE65: 0 | FF65: 0 | FG65: 0 | FH65: 0 | FI65: 0 | FJ65: 0 | FK65: 0 | FL65: 0 | FM65: 0 | FN65: 0 | FO65: 0 | FP65: 0 | FQ65: 0 | FR65: 0 | FS65: 0 | FT65: =VLOOKUP(H65,#REF!,2,) -> #REF! | FU65: 0 | FV65: =AVERAGE(FO65:FU65) -> #REF! | FW65: =(J65+K65+L65+M65)-(T65+FV65) -> #REF! | FX65: =(FV65*2)-FW65 -> #REF! | GA65: =EQ65*F65 -> 0
A66: 62 | B66: Valvoline | C66: Durablend 5W30 | D66: 4 | E66: x | F66: 4 | G66: L | H66: 869291 | I66: Bottle | J66: 1 | AL66: 0 | AM66: 0 | AN66: 0 | AO66: 0 | AP66: 22 | AQ66: 14 | AR66: 10 | AS66: 32 | AT66: 3 | AU66: 0 | AV66: 0 | AW66: 8 | AX66: 5 | AY66: 21 | AZ66: 31 | BA66: 14 | BB66: 8 | BC66: 7 | BD66: 30 | BE66: 20 | BF66: 13 | BG66: 18 | BH66: 10 | BI66: 7 | BJ66: 37 | BK66: 6 | BL66: 4 | BM66: 4 | BN66: 2 | BO66: 4 | BP66: 0 | BQ66: 2 | BR66: 4 | BS66: 7 | BT66: 0 | BU66: 0 | BV66: 3 | BW66: 0 | BX66: 0 | BY66: 4 | BZ66: 0 | CA66: 0 | CB66: 0 | CC66: 0 | CD66: 0 | CE66: 0 | CF66: 0 | CG66: 0 | CH66: 0 | CI66: 4 | CJ66: 0 | CK66: 0 | CL66: 3 | CM66: 0 | CN66: 0 | CO66: 8 | CP66: 0 | CQ66: 8 | CR66: 0 | CS66: 12 | CT66: 0 | CU66: 3 | CV66: 0 | CW66: 4 | CX66: 4 | CY66: 8 | CZ66: 6 | DA66: 4 | DB66: 8 | DC66: 0 | DD66: 0 | DE66: 0 | DF66: 0 | DG66: 0 | DH66: 0 | DI66: 0 | DJ66: 1 | DK66: 0 | DL66: 0 | DM66: 0 | DN66: 8 | DO66: 0 | DP66: 4 | DQ66: 0 | DR66: 0 | DS66: 0 | DT66: 0 | DU66: 0 | DV66: 0 | DW66: 0 | DX66: 0 | DY66: 0 | DZ66: 0 | EA66: 0 | EB66: 0 | EC66: 0 | ED66: 0 | EE66: 0 | EF66: 0 | EG66: 0 | EH66: 0 | EI66: 0 | EJ66: 0 | EK66: =VLOOKUP(H66,'Sale Data'!I:J,2,) -> 0 | EL66: 0 | EM66: =AVERAGE(EG66:EJ66) -> 0 | EN66: =(J66+K66+L66+M66)-(N66+O66+P66+Q66+T66+R66+S66+EM66) -> 1 | EO66: =(EM66*3)-EN66 -> -1 | EQ66: 0 | ER66: =EQ66*4 -> 0 | ES66: Multi - 48 can | FK66: 0 | FL66: 0 | FM66: 0 | FN66: 12 | FO66: 53 | FP66: 17 | FQ66: 8 | FR66: 40 | FS66: 8 | FT66: =VLOOKUP(H66,#REF!,2,) -> #REF! | FU66: 4 | FV66: =AVERAGE(FO66:FU66) -> #REF! | FW66: =(J66+K66+L66+M66)-(T66+FV66) -> #REF! | FX66: =(FV66*2)-FW66 -> #REF! | GA66: =EQ66*F66 -> 0
A67: 63 | B67: Valvoline | C67: All Climate Diesel 15W40 CI-4 | D67: 2 | E67: x | F67: 7 | G67: L | H67: 869553 / 896345 | I67: Bottle | J67: 10 | L67: =60 -> 60 | AM67: 0 | AN67: 0 | AO67: 0 | AP67: 0 | AQ67: 5 | AR67: 5 | AS67: 0 | AT67: 0 | AU67: 0 | AV67: 0 | AW67: 0 | AX67: 0 | AY67: 6 | AZ67: 34 | BA67: 95 | BB67: 84 | BC67: 125 | BD67: 267 | BE67: 278 | BF67: 282 | BG67: 254 | BH67: 199 | BI67: 171 | BJ67: 106 | BK67: 117 | BL67: 143 | BM67: 127 | BN67: 179 | BO67: 373 | BP67: 221 | BQ67: 175 | BR67: 168 | BS67: 119 | BT67: 177 | BU67: 150 | BV67: 125 | BW67: 164 | BX67: 136 | BY67: 196 | BZ67: 151 | CA67: 251 | CB67: 190 | CC67: 149 | CD67: 143 | CE67: 48 | CF67: 153 | CG67: 153 | CH67: 124 | CI67: 119 | CJ67: 133 | CK67: 24 | CL67: 121 | CM67: 84 | CN67: 144 | CO67: 80 | CP67: 69 | CQ67: 107 | CR67: 63 | CS67: 24 | CT67: 20 | CU67: 18 | CV67: 35 | CW67: 14 | CX67: 35 | CY67: 126 | CZ67: 113 | DA67: 96 | DB67: 163 | DC67: 20 | DD67: =17 -> 17 | DE67: =9+100 -> 109 | DF67: =8+183 -> 191 | DG67: =8+37 -> 45 | DH67: =2+46 -> 48 | DI67: =4+85 -> 89 | DJ67: =29+1 -> 30 | DK67: =2+82 -> 84 | DL67: =2+99 -> 101 | DM67: =90 -> 90 | DN67: =1+53 -> 54 | DO67: 106 | DP67: =1+81 -> 82 | DQ67: =1+136 -> 137 | DR67: 40 | DS67: =1+47 -> 48 | DT67: 48 | DU67: 45 | DV67: 48 | DW67: 48 | DX67: 94 | DY67: =1+69 -> 70 | DZ67: =1+56 -> 57 | EA67: =2+34 -> 36 | EB67: 21 | EC67: 94 | ED67: =1+26 -> 27 | EE67: 4 | EF67: 2 | EG67: 7 | EH67: 74 | EI67: 21 | EJ67: 10 | EK67: 9 | EL67: 3 | EM67: =AVERAGE(EG67:EJ67) -> 28 | EN67: =(J67+K67+L67+M67)-(N67+O67+P67+Q67+T67+R67+S67+EM67) -> 42 | EO67: =(EM67*6)-EN67 -> 126 | EQ67: =60*2 -> 120 | ER67: =EQ67*7 -> 840 | ES67: MOQ - 60 CS | FL67: 0 | FM67: 0 | FN67: 0 | FO67: 0 | FP67: 5 | FQ67: 0 | FR67: 0 | FS67: 0 | FT67: =VLOOKUP(H67,#REF!,2,) -> #REF! | FU67: 0 | FV67: =AVERAGE(FO67:FU67) -> #REF! | FW67: =(J67+K67+L67+M67)-(T67+FV67) -> #REF! | FX67: =(FV67*2)-FW67 -> #REF! | GA67: =EQ67*F67 -> 840 | GE67: =32*3 -> 96 | GG67: =32*3 -> 96 | GT67: 60
A68: 64 | B68: Valvoline | C68: All Fleet Premium 15W40, CI-4/SL | D68: 1 | E68: x | F68: 25 | G68: L | H68: 881118 | I68: Can | J68: 22 | L68: =96 -> 96 | R68: 100 | AO68: 0 | AP68: 0 | AQ68: 0 | AR68: 2 | AS68: 13 | AT68: 33 | AU68: 8 | AV68: 25 | AW68: 34 | AX68: 15 | AY68: 13 | AZ68: 19 | BA68: 27 | BB68: 28 | BC68: 32 | BD68: 59 | BE68: 19 | BF68: 53 | BG68: 70 | BH68: 67 | BI68: 37 | BJ68: 34 | BK68: 22 | BL68: 12 | BM68: 34 | BN68: 28 | BO68: 37 | BP68: 75 | BQ68: 52 | BR68: 48 | BS68: 40 | BT68: 54 | BU68: 51 | BV68: 27 | BW68: 32 | BX68: 29 | BY68: 42 | BZ68: 47 | CA68: 56 | CB68: 83 | CC68: 50 | CD68: 88 | CE68: 10 | CF68: 37 | CG68: 64 | CH68: 42 | CI68: 43 | CJ68: 34 | CK68: 35 | CL68: 55 | CM68: 81 | CN68: 64 | CO68: 39 | CP68: 50 | CQ68: 98 | CR68: 43 | CS68: 12 | CT68: 17 | CU68: 18 | CV68: 35 | CW68: 16 | CX68: 14 | CY68: 25 | CZ68: 57 | DA68: 40 | DB68: 62 | DC68: 11 | DD68: 17 | DE68: 43 | DF68: 49 | DG68: 27 | DH68: 20 | DI68: 39 | DJ68: 2 | DK68: 9 | DL68: 49 | DM68: 67 | DN68: 23 | DO68: 16 | DP68: 26 | DQ68: 37 | DR68: 34 | DS68: 35 | DT68: 44 | DU68: 40 | DV68: 11 | DW68: 16 | DX68: 26 | DY68: 6 | DZ68: 6 | EA68: 3 | EB68: 15 | EC68: 123 | ED68: 7 | EE68: 3 | EF68: 16 | EG68: 24 | EH68: 35 | EI68: 11 | EJ68: 10 | EK68: =VLOOKUP(H68,'Sale Data'!I:J,2,) -> 0 | EL68: 36 | EM68: =AVERAGE(EG68:EJ68) -> 20 | EN68: =(J68+K68+L68+M68)-(N68+O68+P68+Q68+T68+R68+S68+EM68) -> -2 | EO68: =(EM68*6)-EN68 -> 122 | EQ68: =24*6 -> 144 | ES68: MOQ - 24 Can | FO68: 0 | FP68: 0 | FQ68: 9 | FR68: 37 | FS68: 42 | FT68: =VLOOKUP(H68,#REF!,2,) -> #REF! | FU68: 23 | FV68: =AVERAGE(FO68:FU68) -> #REF! | FW68: =(J68+K68+L68+M68)-(T68+FV68) -> #REF! | FX68: =(FV68*2)-FW68 -> #REF! | GA68: =EQ68*F68 -> 3600 | GD68: 72 | GG68: =24*3 -> 72 | GT68: =24*6 -> 144
A69: 65 | B69: Valvoline | C69: All Fleet Premium 20W50, API CI-4/SL | D69: 1 | E69: x | F69: 25 | G69: L | H69: 881119 | I69: Can | J69: 1 | AV69: 0 | AW69: 0 | AX69: 0 | AY69: 0 | AZ69: 0 | BA69: 0 | BB69: 0 | BC69: 0 | BD69: 3 | BE69: 2 | BF69: 2 | BG69: 5 | BH69: 2 | BI69: 0 | BJ69: 4 | BK69: 1 | BL69: 7 | BM69: 17 | BN69: 12 | BO69: 6 | BP69: 20 | BQ69: 11 | BR69: 11 | BS69: 17 | BT69: 35 | BU69: 4 | BV69: 6 | BW69: 12 | BX69: 4 | BY69: 20 | BZ69: 19 | CA69: 11 | CB69: 20 | CC69: 4 | CD69: 12 | CE69: 0 | CF69: 2 | CG69: 7 | CH69: 1 | CI69: 4 | CJ69: 7 | CK69: 1 | CL69: 1 | CM69: 2 | CN69: 10 | CO69: 5 | CP69: 1 | CQ69: 4 | CR69: 11 | CS69: 3 | CT69: 1 | CU69: 8 | CV69: 1 | CW69: 1 | CX69: 0 | CY69: 0 | CZ69: 2 | DA69: 12 | DB69: 0 | DC69: 0 | DD69: 0 | DE69: 0 | DF69: 0 | DG69: 1 | DH69: 1 | DI69: 0 | DJ69: 0 | DK69: 0 | DL69: 3 | DM69: 0 | DN69: 0 | DO69: 0 | DP69: 0 | DQ69: 0 | DR69: 0 | DS69: 0 | DT69: 0 | DU69: 0 | DV69: 0 | DW69: 0 | DX69: 0 | DY69: 0 | DZ69: 0 | EA69: 0 | EB69: 0 | EC69: 0 | ED69: 1 | EE69: 0 | EF69: 0 | EG69: 0 | EH69: 0 | EI69: 0 | EJ69: 0 | EK69: =VLOOKUP(H69,'Sale Data'!I:J,2,) -> 0 | EL69: 0 | EM69: =AVERAGE(EG69:EJ69) -> 0 | EN69: =(J69+K69+L69+M69)-(N69+O69+P69+Q69+T69+R69+S69+EM69) -> 1 | EO69: =(EM69*4)-EN69 -> -1 | EQ69: 0 | ES69: MOQ - 24 Can | GA69: =EQ69*F69 -> 0
A70: 66 | B70: Valvoline | C70: Synpower 0W20 | D70: 4 | E70: x | F70: 4 | G70: L | H70: 877932 | I70: Bottle | J70: 0 | AQ70: 0 | AR70: 0 | AS70: 0 | AT70: 0 | AU70: 0 | AV70: 0 | AW70: 0 | AX70: 0 | AY70: 0 | AZ70: 8 | BA70: 12 | BB70: 11 | BC70: 12 | BD70: 3 | BE70: 15 | BF70: 4 | BG70: 7 | BH70: 1 | BI70: 1 | BJ70: 0 | BK70: 5 | BL70: 1 | BM70: 0 | BN70: 3 | BO70: 4 | BP70: 1 | BQ70: 1 | BR70: 2 | BS70: 0 | BT70: 4 | BU70: 0 | BV70: 4 | BW70: 0 | BX70: 0 | BY70: 0 | BZ70: 2 | CA70: 0 | CB70: 0 | CC70: 0 | CD70: 5 | CE70: 1 | CF70: 0 | CG70: 2 | CH70: 0 | CI70: 1 | CJ70: 2 | CK70: 0 | CL70: 0 | CM70: 4 | CN70: 0 | CO70: 4 | CP70: 0 | CQ70: 0 | CR70: 2 | CS70: 4 | CT70: 1 | CU70: 0 | CV70: 4 | CW70: 4 | CX70: 3 | CY70: 1 | CZ70: 0 | DA70: 0 | DB70: 0 | DC70: 0 | DD70: 0 | DE70: 0 | DF70: 0 | DG70: 0 | DH70: 0 | DI70: 0 | DJ70: 0 | DK70: 0 | DL70: 0 | DM70: 0 | DN70: 0 | DO70: 0 | DP70: 0 | DQ70: 0 | DR70: 0 | DS70: 0 | DT70: 0 | DU70: 0 | DV70: 0 | DW70: 0 | DX70: 0 | DY70: 0 | DZ70: 0 | EA70: 0 | EB70: 0 | EC70: 0 | ED70: 0 | EE70: 0 | EF70: 0 | EG70: 0 | EH70: 0 | EI70: 0 | EJ70: 0 | EK70: =VLOOKUP(H70,'Sale Data'!I:J,2,) -> 0 | EL70: 0 | EM70: =AVERAGE(EG70:EJ70) -> 0 | EN70: =(J70+K70+L70+M70)-(N70+O70+P70+Q70+T70+R70+S70+EM70) -> 0 | EO70: =(EM70*2)-EN70 -> 0 | EQ70: 0 | ES70: MOQ - 48 CS | FP70: 0 | FQ70: 0 | FR70: 0 | FS70: 55 | FT70: =VLOOKUP(H70,#REF!,2,) -> #REF! | FU70: 0 | FV70: =AVERAGE(FO70:FU70) -> #REF! | FW70: =(J70+K70+L70+M70)-(T70+FV70) -> #REF! | FX70: =(FV70*2)-FW70 -> #REF! | GA70: =EQ70*F70 -> 0
A71: 67 | B71: Valvoline | C71: Multi Purpose NLGI3 GRS 6/2 KG IN | D71: 6 | E71: X | F71: 2 | G71: KG | H71: IV500433 | I71: CS | J71: 0 | AT71: 0 | AU71: 0 | AV71: 0 | AW71: 0 | AX71: 0 | AY71: 0 | AZ71: 0 | BA71: 0 | BB71: 0 | BC71: 0 | BD71: 0 | BE71: 0 | BF71: 0 | BG71: 0 | BH71: 0 | BI71: 0 | BJ71: 0 | BK71: 0 | BL71: 0 | BM71: 0 | BN71: 0 | BO71: 0 | BP71: 0 | BQ71: 0 | BR71: 0 | BS71: 0 | BT71: 0 | BU71: 0 | BV71: 0 | BW71: 0 | BX71: 0 | BY71: 0 | BZ71: 0 | CA71: 0 | CB71: 0 | CC71: 0 | CD71: 0 | CE71: 0 | CF71: 0 | CG71: 0 | CH71: 0 | CI71: 0 | CJ71: 0 | CK71: 0 | CL71: 0 | CM71: 0 | CN71: 0 | CO71: 0 | CP71: 0 | CQ71: 0 | CR71: 0 | CS71: 0 | CT71: 0 | CU71: 0 | CV71: 0 | CW71: 0 | CX71: 0 | CY71: 0 | CZ71: 0 | DA71: 0 | DB71: 0 | DC71: 0 | DD71: 0 | DE71: 0 | DF71: 0 | DG71: 0 | DH71: 0 | DI71: 0 | DJ71: 0 | DK71: 0 | DL71: 0 | DM71: 0 | DN71: 0 | DO71: 0 | DP71: 0 | DQ71: 0 | DR71: 0 | DS71: 0 | DT71: 0 | DU71: 0 | DV71: 0 | DW71: 0 | DX71: 0 | DY71: 0 | DZ71: 0 | EA71: 0 | EB71: 0 | EC71: 0 | ED71: 0 | EE71: 0 | EF71: 0 | EG71: 0 | EH71: 0 | EI71: 0 | EJ71: 0 | EK71: 0 | EL71: 0 | EM71: =AVERAGE(EG71:EJ71) -> 0 | EN71: =(J71+K71+L71+M71)-(N71+O71+P71+Q71+T71+R71+S71+EM71) -> 0 | EO71: =(EM71*2)-EN71 -> 0 | EQ71: 0 | FU71: 0 | FV71: =AVERAGE(FO71:FU71) -> 0 | FW71: =(J71+K71+L71+M71)-(T71+FV71) -> 0 | FX71: =(FV71*2)-FW71 -> 0 | GA71: =EQ71*F71 -> 0
A72: 68 | B72: Valvoline | C72: Multi Purpose NLGI3 GRS 12/1 KG IN | D72: 12 | E72: X | F72: 1 | G72: KG | H72: IV500430 | I72: CS | J72: 0 | AT72: 0 | AU72: 0 | AV72: 0 | AW72: 0 | AX72: 0 | AY72: 0 | AZ72: 0 | BA72: 0 | BB72: 0 | BC72: 0 | BD72: 0 | BE72: 0 | BF72: 0 | BG72: 0 | BH72: 0 | BI72: 0 | BJ72: 0 | BK72: 0 | BL72: 0 | BM72: 0 | BN72: 0 | BO72: 0 | BP72: 0 | BQ72: 0 | BR72: 0 | BS72: 0 | BT72: 0 | BU72: 0 | BV72: 0 | BW72: 0 | BX72: 0 | BY72: 0 | BZ72: 0 | CA72: 0 | CB72: 0 | CC72: 0 | CD72: 0 | CE72: 0 | CF72: 0 | CG72: 0 | CH72: 0 | CI72: 0 | CJ72: 0 | CK72: 0 | CL72: 0 | CM72: 0 | CN72: 0 | CO72: 0 | CP72: 0 | CQ72: 0 | CR72: 0 | CS72: 0 | CT72: 0 | CU72: 0 | CV72: 0 | CW72: 0 | CX72: 0 | CY72: 0 | CZ72: 0 | DA72: 0 | DB72: 0 | DC72: 0 | DD72: 0 | DE72: 0 | DF72: 0 | DG72: 0 | DH72: 0 | DI72: 0 | DJ72: 0 | DK72: 0 | DL72: 0 | DM72: 0 | DN72: 0 | DO72: 0 | DP72: 0 | DQ72: 0 | DR72: 0 | DS72: 0 | DT72: 0 | DU72: 0 | DV72: 0 | DW72: 0 | DX72: 0 | DY72: 0 | DZ72: 0 | EA72: 0 | EB72: 0 | EC72: 0 | ED72: 0 | EE72: 0 | EF72: 0 | EG72: 0 | EH72: 0 | EI72: 0 | EJ72: 0 | EK72: 0 | EL72: 0 | EM72: =AVERAGE(EG72:EJ72) -> 0 | EN72: =(J72+K72+L72+M72)-(N72+O72+P72+Q72+T72+R72+S72+EM72) -> 0 | EO72: =(EM72*2)-EN72 -> 0 | EQ72: 0 | FU72: 0 | FV72: =AVERAGE(FO72:FU72) -> 0 | FW72: =(J72+K72+L72+M72)-(T72+FV72) -> 0 | FX72: =(FV72*2)-FW72 -> 0 | GA72: =EQ72*F72 -> 0
A73: 69 | B73: Valvoline | C73: Multi Purpose NLGI3 GRS 24/0.5 KG IN | D73: 24 | E73: X | F73: 0.5 | G73: KG | H73: IV500429 | I73: CS | J73: 0 | AT73: 0 | AU73: 0 | AV73: 0 | AW73: 0 | AX73: 0 | AY73: 0 | AZ73: 0 | BA73: 0 | BB73: 0 | BC73: 0 | BD73: 0 | BE73: 0 | BF73: 0 | BG73: 0 | BH73: 0 | BI73: 0 | BJ73: 0 | BK73: 0 | BL73: 0 | BM73: 0 | BN73: 0 | BO73: 0 | BP73: 0 | BQ73: 0 | BR73: 0 | BS73: 0 | BT73: 0 | BU73: 0 | BV73: 0 | BW73: 0 | BX73: 0 | BY73: 0 | BZ73: 0 | CA73: 0 | CB73: 0 | CC73: 0 | CD73: 0 | CE73: 0 | CF73: 0 | CG73: 0 | CH73: 0 | CI73: 0 | CJ73: 0 | CK73: 0 | CL73: 0 | CM73: 0 | CN73: 0 | CO73: 0 | CP73: 0 | CQ73: 0 | CR73: 0 | CS73: 0 | CT73: 0 | CU73: 0 | CV73: 0 | CW73: 0 | CX73: 0 | CY73: 0 | CZ73: 0 | DA73: 0 | DB73: 0 | DC73: 0 | DD73: 0 | DE73: 0 | DF73: 0 | DG73: 0 | DH73: 0 | DI73: 0 | DJ73: 0 | DK73: 0 | DL73: 0 | DM73: 0 | DN73: 0 | DO73: 0 | DP73: 0 | DQ73: 0 | DR73: 0 | DS73: 0 | DT73: 0 | DU73: 0 | DV73: 0 | DW73: 0 | DX73: 0 | DY73: 0 | DZ73: 0 | EA73: 0 | EB73: 0 | EC73: 0 | ED73: 0 | EE73: 0 | EF73: 0 | EG73: 0 | EH73: 0 | EI73: 0 | EJ73: 0 | EK73: 0 | EL73: 0 | EM73: =AVERAGE(EG73:EJ73) -> 0 | EN73: =(J73+K73+L73+M73)-(N73+O73+P73+Q73+T73+R73+S73+EM73) -> 0 | EO73: =(EM73*2)-EN73 -> 0 | EQ73: 0 | ES73: MOQ - 24 CS | FU73: 0 | FV73: =AVERAGE(FO73:FU73) -> 0 | FW73: =(J73+K73+L73+M73)-(T73+FV73) -> 0 | FX73: =(FV73*2)-FW73 -> 0 | GA73: =EQ73*F73 -> 0
A74: 70 | B74: Valvoline | C74: Multi Purpose NLGI3 GRS 60/200 G IN | D74: 60 | E74: X | F74: 0.2 | G74: KG | H74: IV500435 | I74: CS | J74: 0 | AT74: 0 | AU74: 0 | AV74: 0 | AW74: 0 | AX74: 0 | AY74: 0 | AZ74: 0 | BA74: 0 | BB74: 0 | BC74: 0 | BD74: 0 | BE74: 0 | BF74: 0 | BG74: 0 | BH74: 0 | BI74: 0 | BJ74: 0 | BK74: 0 | BL74: 0 | BM74: 0 | BN74: 0 | BO74: 0 | BP74: 0 | BQ74: 0 | BR74: 0 | BS74: 0 | BT74: 0 | BU74: 0 | BV74: 0 | BW74: 0 | BX74: 0 | BY74: 0 | BZ74: 0 | CA74: 0 | CB74: 0 | CC74: 0 | CD74: 0 | CE74: 0 | CF74: 0 | CG74: 0 | CH74: 0 | CI74: 0 | CJ74: 0 | CK74: 0 | CL74: 0 | CM74: 0 | CN74: 0 | CO74: 0 | CP74: 0 | CQ74: 0 | CR74: 0 | CS74: 0 | CT74: 0 | CU74: 0 | CV74: 0 | CW74: 0 | CX74: 0 | CY74: 0 | CZ74: 0 | DA74: 0 | DB74: 0 | DC74: 0 | DD74: 0 | DE74: 0 | DF74: 0 | DG74: 0 | DH74: 0 | DI74: 0 | DJ74: 0 | DK74: 0 | DL74: 0 | DM74: 0 | DN74: 0 | DO74: 0 | DP74: 0 | DQ74: 0 | DR74: 0 | DS74: 0 | DT74: 0 | DU74: 0 | DV74: 0 | DW74: 0 | DX74: 0 | DY74: 0 | DZ74: 0 | EA74: 0 | EB74: 0 | EC74: 0 | ED74: 0 | EE74: 0 | EF74: 0 | EG74: 0 | EH74: 0 | EI74: 0 | EJ74: 0 | EK74: 0 | EL74: 0 | EM74: =AVERAGE(EG74:EJ74) -> 0 | EN74: =(J74+K74+L74+M74)-(N74+O74+P74+Q74+T74+R74+S74+EM74) -> 0 | EO74: =(EM74*2)-EN74 -> 0 | EQ74: 0 | FU74: 0 | FV74: =AVERAGE(FO74:FU74) -> 0 | FW74: =(J74+K74+L74+M74)-(T74+FV74) -> 0 | FX74: =(FV74*2)-FW74 -> 0 | GA74: =EQ74*F74 -> 0
A75: 71 | B75: Valvoline | C75: All Fleet E 500 20W50 CH4, 25L | D75: 1 | E75: X | F75: 25 | G75: L | H75: 880946 | I75: Can | J75: 0 | AT75: 0 | AU75: 0 | AV75: 0 | AW75: 0 | AX75: 0 | AY75: 0 | AZ75: 0 | BA75: 0 | BB75: 0 | BC75: 0 | BD75: 0 | BE75: 0 | BF75: 0 | BG75: 0 | BH75: 0 | BI75: 0 | BJ75: 0 | BK75: 0 | BL75: 0 | BM75: 0 | BN75: 0 | BO75: 0 | BP75: 0 | BQ75: 0 | BR75: 0 | BS75: 0 | BT75: 0 | BU75: 0 | BV75: 0 | BW75: 0 | BX75: 0 | BY75: 0 | BZ75: 0 | CA75: 0 | CB75: 0 | CC75: 0 | CD75: 0 | CE75: 0 | CF75: 0 | CG75: 0 | CH75: 0 | CI75: 0 | CJ75: 0 | CK75: 0 | CL75: 0 | CM75: 0 | CN75: 1 | CO75: 0 | CP75: 0 | CQ75: 0 | CR75: 0 | CS75: 0 | CT75: 0 | CU75: 0 | CV75: 0 | CW75: 0 | CX75: 0 | CY75: 0 | CZ75: 0 | DA75: 0 | DB75: 0 | DC75: 1 | DD75: 0 | DE75: 0 | DF75: 0 | DG75: 0 | DH75: 0 | DI75: 0 | DJ75: 0 | DK75: 0 | DL75: 0 | DM75: 1 | DN75: 0 | DO75: 0 | DP75: 0 | DQ75: 0 | DR75: 0 | DS75: 0 | DT75: 3 | DU75: 0 | DV75: 0 | DW75: 0 | DX75: 0 | DY75: 0 | DZ75: 0 | EA75: 0 | EB75: 0 | EC75: 0 | ED75: 0 | EE75: 0 | EF75: 0 | EG75: 0 | EH75: 0 | EI75: 0 | EJ75: 0 | EK75: =VLOOKUP(H75,'Sale Data'!I:J,2,) -> 0 | EL75: 0 | EM75: =AVERAGE(EG75:EJ75) -> 0 | EN75: =(J75+K75+L75+M75)-(N75+O75+P75+Q75+T75+R75+S75+EM75) -> 0 | EO75: =(EM75*2)-EN75 -> 0 | EQ75: 0 | ES75: MOQ - 24 Can | FU75: 0 | FV75: =AVERAGE(FO75:FU75) -> 0 | FW75: =(J75+K75+L75+M75)-(T75+FV75) -> 0 | FX75: =(FV75*2)-FW75 -> 0 | GA75: =EQ75*F75 -> 0
A76: 72 | B76: Valvoline | C76: Valvoline All Fleet E500 15W40 CH-4/SJ | D76: 1 | E76: X | F76: 25 | G76: L | H76: 880912 | I76: Can | J76: 0 | AT76: 0 | AU76: 0 | AV76: 0 | AW76: 0 | AX76: 0 | AY76: 0 | AZ76: 0 | BA76: 0 | BB76: 0 | BC76: 0 | BD76: 0 | BE76: 0 | BF76: 0 | BG76: 0 | BH76: 0 | BI76: 0 | BJ76: 0 | BK76: 0 | BL76: 0 | BM76: 0 | BN76: 0 | BO76: 0 | BP76: 0 | BQ76: 0 | BR76: 0 | BS76: 0 | BT76: 0 | BU76: 0 | BV76: 0 | BW76: 0 | BX76: 0 | BY76: 0 | BZ76: 0 | CA76: 0 | CB76: 0 | CC76: 0 | CD76: 0 | CE76: 0 | CF76: 0 | CG76: 0 | CH76: 0 | CI76: 0 | CJ76: 0 | CK76: 0 | CL76: 0 | CM76: 0 | CN76: 0 | CO76: 0 | CP76: 0 | CQ76: 0 | CR76: 0 | CS76: 2 | CT76: 0 | CU76: 0 | CV76: 0 | CW76: 0 | CX76: 0 | CY76: 0 | CZ76: 0 | DA76: 0 | DB76: 0 | DC76: 0 | DD76: 0 | DE76: 0 | DF76: 0 | DG76: 0 | DH76: 0 | DI76: 1 | DJ76: 0 | DK76: 0 | DL76: 0 | DM76: 1 | DN76: 0 | DO76: 0 | DP76: 0 | DQ76: 0 | DR76: 0 | DS76: 0 | DT76: 1 | DU76: 0 | DV76: 0 | DW76: 0 | DX76: 0 | DY76: 0 | DZ76: 0 | EA76: 0 | EB76: 0 | EC76: 0 | ED76: 0 | EE76: 0 | EF76: 0 | EG76: 0 | EH76: 0 | EI76: 0 | EJ76: 0 | EK76: =VLOOKUP(H76,'Sale Data'!I:J,2,) -> 0 | EL76: 0 | EM76: =AVERAGE(EG76:EJ76) -> 0 | EN76: =(J76+K76+L76+M76)-(N76+O76+P76+Q76+T76+R76+S76+EM76) -> 0 | EO76: =(EM76*2)-EN76 -> 0 | EQ76: 0 | ES76: MOQ - 24 Can | FU76: 0 | FV76: =AVERAGE(FO76:FU76) -> 0 | FW76: =(J76+K76+L76+M76)-(T76+FV76) -> 0 | FX76: =(FV76*2)-FW76 -> 0 | GA76: =EQ76*F76 -> 0
A77: 73 | B77: Valvoline | C77: Valvoline Unitrac FR-3 UTTO | D77: 1 | E77: X | F77: 20 | G77: L | H77: 874946 | I77: Can | J77: 0 | AT77: 0 | AU77: 0 | AV77: 0 | AW77: 0 | AX77: 0 | AY77: 0 | AZ77: 0 | BA77: 0 | BB77: 0 | BC77: 0 | BD77: 0 | BE77: 0 | BF77: 0 | BG77: 0 | BH77: 0 | BI77: 3 | BJ77: 1 | BK77: 2 | BL77: 0 | BM77: 0 | BN77: 0 | BO77: 0 | BP77: 4 | BQ77: 2 | BR77: 5 | BS77: 1 | BT77: 10 | BU77: 4 | BV77: 0 | BW77: 2 | BX77: 0 | BY77: 2 | BZ77: 5 | CA77: 7 | CB77: 4 | CC77: 5 | CD77: 0 | CE77: 5 | CF77: 3 | CG77: 1 | CH77: 1 | CI77: 2 | CJ77: 2 | CK77: 0 | CL77: 5 | CM77: 7 | CN77: 1 | CO77: 5 | CP77: 0 | CQ77: 2 | CR77: 3.2 | CS77: 3 | CT77: 0 | CU77: 1 | CV77: 2 | CW77: 2 | CX77: 3 | CY77: 0 | CZ77: 0 | DA77: 0 | DB77: 0 | DC77: 0 | DD77: 0 | DE77: 0 | DF77: 0 | DG77: 0 | DH77: 0 | DI77: 0 | DJ77: 0 | DK77: 0 | DL77: 0 | DM77: 0 | DN77: 0 | DO77: 0 | DP77: 0 | DQ77: 0 | DR77: 0 | DS77: 0 | DT77: 0 | DU77: 0 | DV77: 0 | DW77: 0 | DX77: 0 | DY77: 0 | DZ77: 0 | EA77: 0 | EB77: 0 | EC77: 0 | ED77: 0 | EE77: 0 | EF77: 0 | EG77: 0 | EH77: 0 | EI77: 0 | EJ77: 0 | EK77: =VLOOKUP(H77,'Sale Data'!I:J,2,) -> 0 | EL77: 0 | EM77: =AVERAGE(EG77:EJ77) -> 0 | EN77: =(J77+K77+L77+M77)-(N77+O77+P77+Q77+T77+R77+S77+EM77) -> 0 | EO77: =(EM77*3)-EN77 -> 0 | EQ77: 0 | ES77: MOQ - 27 Can | FU77: 0 | FV77: =AVERAGE(FO77:FU77) -> 0 | FW77: =(J77+K77+L77+M77)-(T77+FV77) -> 0 | FX77: =(FV77*2)-FW77 -> 0 | GA77: =EQ77*F77 -> 0 | GC77: 27
A78: 74 | B78: Valvoline | C78: XLD 20W50 API SG/CD 24/1L | D78: 24 | E78: X | F78: 1 | G78: L | H78: 691980 | I78: Bottle | J78: 0 | AT78: 0 | AU78: 0 | AV78: 0 | AW78: 0 | AX78: 0 | AY78: 0 | AZ78: 0 | BA78: 0 | BB78: 0 | BC78: 0 | BD78: 0 | BE78: 0 | BF78: 0 | BG78: 0 | BH78: 0 | BI78: 0 | BJ78: 0 | BK78: 0 | BL78: 0 | BM78: 0 | BN78: 0 | BO78: 0 | BP78: 0 | BQ78: 0 | BR78: 0 | BS78: 0 | BT78: 0 | BU78: 0 | BV78: 0 | BW78: 0 | BX78: 0 | BY78: 0 | BZ78: 0 | CA78: 0 | CB78: 0 | CC78: 0 | CD78: 0 | CE78: 0 | CF78: 0 | CG78: 0 | CH78: 0 | CI78: 0 | CJ78: 0 | CK78: 0 | CL78: 0 | CM78: 0 | CN78: 0 | CO78: 0 | CP78: 0 | CQ78: 0 | CR78: 0 | CS78: 0 | CT78: 0 | CU78: 0 | CV78: 0 | CW78: 0 | CX78: 0 | CY78: 0 | CZ78: 0 | DA78: 0 | DB78: 0 | DC78: 0 | DD78: 0 | DE78: 0 | DF78: 0 | DG78: 0 | DH78: 0 | DI78: 0 | DJ78: 0 | DK78: 0 | DL78: 0 | DM78: 0 | DN78: 0 | DO78: 0 | DP78: 0 | DQ78: 0 | DR78: 0 | DS78: 0 | DT78: 0 | DU78: 0 | DV78: 0 | DW78: 0 | DX78: 0 | DY78: 0 | DZ78: 0 | EA78: 0 | EB78: 0 | EC78: 0 | ED78: 0 | EE78: 0 | EF78: 0 | EG78: 0 | EH78: 0 | EI78: 0 | EJ78: 0 | EK78: =VLOOKUP(H78,'Sale Data'!I:J,2,) -> 0 | EL78: 0 | EM78: =AVERAGE(EG78:EJ78) -> 0 | EN78: =(J78+K78+L78+M78)-(N78+O78+P78+Q78+T78+R78+S78+EM78) -> 0 | EO78: =(EM78*2)-EN78 -> 0 | EQ78: 0 | ES78: MOQ - 40 CS | FU78: 0 | FV78: =AVERAGE(FO78:FU78) -> 0 | FW78: =(J78+K78+L78+M78)-(T78+FV78) -> 0 | FX78: =(FV78*2)-FW78 -> 0 | GA78: =EQ78*F78 -> 0
A79: 75 | B79: Valvoline | C79: XLD 20W50 API SG/CD 4/4L | D79: 4 | E79: X | F79: 4 | G79: L | H79: 691979 | I79: Bottle | J79: 0 | AT79: 0 | AU79: 0 | AV79: 0 | AW79: 0 | AX79: 0 | AY79: 0 | AZ79: 0 | BA79: 0 | BB79: 0 | BC79: 0 | BD79: 0 | BE79: 0 | BF79: 0 | BG79: 0 | BH79: 0 | BI79: 0 | BJ79: 0 | BK79: 0 | BL79: 0 | BM79: 0 | BN79: 0 | BO79: 0 | BP79: 0 | BQ79: 0 | BR79: 0 | BS79: 0 | BT79: 0 | BU79: 0 | BV79: 0 | BW79: 0 | BX79: 0 | BY79: 0 | BZ79: 0 | CA79: 0 | CB79: 0 | CC79: 0 | CD79: 0 | CE79: 0 | CF79: 0 | CG79: 0 | CH79: 0 | CI79: 0 | CJ79: 0 | CK79: 0 | CL79: 0 | CM79: 0 | CN79: 0 | CO79: 0 | CP79: 0 | CQ79: 0 | CR79: 0 | CS79: 0 | CT79: 0 | CU79: 0 | CV79: 0 | CW79: 0 | CX79: 0 | CY79: 0 | CZ79: 0 | DA79: 0 | DB79: 0 | DC79: 0 | DD79: 0 | DE79: 0 | DF79: 0 | DG79: 0 | DH79: 0 | DI79: 0 | DJ79: 0 | DK79: 0 | DL79: 0 | DM79: 0 | DN79: 0 | DO79: 0 | DP79: 0 | DQ79: 0 | DR79: 0 | DS79: 0 | DT79: 0 | DU79: 0 | DV79: 0 | DW79: 0 | DX79: 0 | DY79: 0 | DZ79: 0 | EA79: 0 | EB79: 0 | EC79: 0 | ED79: 0 | EE79: 0 | EF79: 0 | EG79: 0 | EH79: 0 | EI79: 0 | EJ79: 0 | EK79: =VLOOKUP(H79,'Sale Data'!I:J,2,) -> 0 | EL79: 0 | EM79: =AVERAGE(EG79:EJ79) -> 0 | EN79: =(J79+K79+L79+M79)-(N79+O79+P79+Q79+T79+R79+S79+EM79) -> 0 | EO79: =(EM79*2)-EN79 -> 0 | EQ79: 0 | ES79: MOQ - 48 CS | FU79: 0 | FV79: =AVERAGE(FO79:FU79) -> 0 | FW79: =(J79+K79+L79+M79)-(T79+FV79) -> 0 | FX79: =(FV79*2)-FW79 -> 0 | GA79: =EQ79*F79 -> 0
A80: 76 | B80: Valvoline | C80: Valvoline All Fleet E500 20W50 API CH-4/SJ | D80: 4 | E80: X | F80: 5 | G80: L | H80: 880945 | I80: Bottle | J80: 0 | AT80: 0 | AU80: 0 | AV80: 0 | AW80: 0 | AX80: 0 | AY80: 0 | AZ80: 0 | BA80: 0 | BB80: 0 | BC80: 0 | BD80: 0 | BE80: 0 | BF80: 0 | BG80: 0 | BH80: 0 | BI80: 0 | BJ80: 0 | BK80: 0 | BL80: 0 | BM80: 0 | BN80: 0 | BO80: 0 | BP80: 0 | BQ80: 0 | BR80: 0 | BS80: 0 | BT80: 0 | BU80: 0 | BV80: 0 | BW80: 0 | BX80: 0 | BY80: 0 | BZ80: 0 | CA80: 0 | CB80: 0 | CC80: 0 | CD80: 0 | CE80: 0 | CF80: 0 | CG80: 0 | CH80: 0 | CI80: 0 | CJ80: 0 | CK80: 0 | CL80: 0 | CM80: 0 | CN80: 0 | CO80: 0 | CP80: 0 | CQ80: 0 | CR80: 0 | CS80: 0 | CT80: 0 | CU80: 0 | CV80: 0 | CW80: 0 | CX80: 0 | CY80: 0 | CZ80: 0 | DA80: 0 | DB80: 0 | DC80: 0 | DD80: 0 | DE80: 0 | DF80: 0 | DG80: 0 | DH80: 0 | DI80: 0 | DJ80: 0 | DK80: 0 | DL80: 0 | DM80: 0 | DN80: 0 | DO80: 0 | DP80: 0 | DQ80: 0 | DR80: 0 | DS80: 0 | DT80: 0 | DU80: 0 | DV80: 0 | DW80: 0 | DX80: 0 | DY80: 0 | DZ80: 0 | EA80: 0 | EB80: 0 | EC80: 0 | ED80: 0 | EE80: 0 | EF80: 0 | EG80: 0 | EH80: 0 | EI80: 0 | EJ80: 0 | EK80: 0 | EL80: 0 | EM80: =AVERAGE(EG80:EJ80) -> 0 | EN80: =(J80+K80+L80+M80)-(N80+O80+P80+Q80+T80+R80+S80+EM80) -> 0 | EO80: =(EM80*2)-EN80 -> 0 | EQ80: 0 | ER80: =SUBTOTAL(9,ER9:ER79) -> 48768 | ES80: MOQ - 24 CS | GA80: =EQ80*F80 -> 0
A81: 77 | B81: Valvoline | C81: Valvoline All Fleet E500 20W50 API CH-4/SJ | D81: 24 | E81: X | F81: 1 | G81: L | H81: 881096 | I81: Bottle | J81: 0 | AT81: 0 | AU81: 0 | AV81: 0 | AW81: 0 | AX81: 0 | AY81: 0 | AZ81: 0 | BA81: 0 | BB81: 0 | BC81: 0 | BD81: 0 | BE81: 0 | BF81: 0 | BG81: 0 | BH81: 0 | BI81: 0 | BJ81: 0 | BK81: 0 | BL81: 0 | BM81: 0 | BN81: 0 | BO81: 0 | BP81: 0 | BQ81: 0 | BR81: 0 | BS81: 0 | BT81: 0 | BU81: 0 | BV81: 0 | BW81: 0 | BX81: 0 | BY81: 0 | BZ81: 0 | CA81: 0 | CB81: 0 | CC81: 0 | CD81: 0 | CE81: 0 | CF81: 0 | CG81: 0 | CH81: 0 | CI81: 0 | CJ81: 0 | CK81: 0 | CL81: 0 | CM81: 0 | CN81: 0 | CO81: 0 | CP81: 0 | CQ81: 0 | CR81: 0 | CS81: 0 | CT81: 0 | CU81: 0 | CV81: 0 | CW81: 0 | CX81: 0 | CY81: 0 | CZ81: 0 | DA81: 0 | DB81: 0 | DC81: 0 | DD81: 0 | DE81: 0 | DF81: 0 | DG81: 0 | DH81: 0 | DI81: 0 | DJ81: 0 | DK81: 0 | DL81: 0 | DM81: 0 | DN81: 0 | DO81: 0 | DP81: 0 | DQ81: 0 | DR81: 0 | DS81: 0 | DT81: 0 | DU81: 0 | DV81: 0 | DW81: 0 | DX81: 0 | DY81: 0 | DZ81: 0 | EA81: 0 | EB81: 0 | EC81: 0 | ED81: 0 | EE81: 0 | EF81: 0 | EG81: 0 | EH81: 0 | EI81: 0 | EJ81: 0 | EK81: 0 | EL81: 0 | EM81: =AVERAGE(EG81:EJ81) -> 0 | EN81: =(J81+K81+L81+M81)-(N81+O81+P81+Q81+T81+R81+S81+EM81) -> 0 | EO81: =(EM81*2)-EN81 -> 0 | EQ81: 0 | ES81: MOQ - 40 CS | GA81: =EQ81*F81 -> 0
A82: 78 | B82: Valvoline | C82: Maxlife 10W40 4/4L | D82: 4 | E82: X | F82: 4 | G82: L | H82: 885194 | I82: Bottle | J82: 8 | AT82: 0 | AU82: 0 | AV82: 0 | AW82: 0 | AX82: 0 | AY82: 0 | AZ82: 0 | BA82: 0 | BB82: 0 | BC82: 0 | BD82: 0 | BE82: 0 | BF82: 0 | BG82: 0 | BH82: 0 | BI82: 0 | BJ82: 0 | BK82: 36 | BL82: 12 | BM82: 32 | BN82: 49 | BO82: 123 | BP82: 95.84 | BQ82: 66 | BR82: 54 | BS82: 68 | BT82: 127 | BU82: 58 | BV82: 40 | BW82: 69 | BX82: 52 | BY82: 61 | BZ82: 47 | CA82: 70 | CB82: 45 | CC82: 39 | CD82: 70 | CE82: 8 | CF82: 17 | CG82: 33 | CH82: 51 | CI82: 33 | CJ82: 14 | CK82: 2 | CL82: 39 | CM82: 30 | CN82: 28 | CO82: 12 | CP82: 2 | CQ82: 37 | CR82: 18 | CS82: 7 | CT82: 1 | CU82: 5 | CV82: 12 | CW82: 4 | CX82: 5 | CY82: 12 | CZ82: 5 | DA82: 0 | DB82: 2 | DC82: 1 | DD82: 2 | DE82: 0 | DF82: 4 | DG82: 0 | DH82: 0 | DI82: 0 | DJ82: 0 | DK82: 4 | DL82: 0 | DM82: 0 | DN82: 0 | DO82: 0 | DP82: 0 | DQ82: 0 | DR82: 0 | DS82: 0 | DT82: 0 | DU82: 0 | DV82: 0 | DW82: 0 | DX82: 0 | DY82: 0 | DZ82: 0 | EA82: 0 | EB82: 0 | EC82: 0 | ED82: 0 | EE82: 0 | EF82: 0 | EG82: 0 | EH82: 0 | EI82: 0 | EJ82: 0 | EK82: =VLOOKUP(H82,'Sale Data'!I:J,2,) -> 0 | EL82: 0 | EM82: =AVERAGE(EG82:EJ82) -> 0 | EN82: =(J82+K82+L82+M82)-(N82+O82+P82+Q82+T82+R82+S82+EM82) -> 8 | EO82: =(EM82*4)-EN82 -> -8 | EQ82: 0 | ER82: Europ | ES82: MOQ - 48 CS | GA82: =EQ82*F82 -> 0
A83: 79 | B83: Valvoline | C83: Maxlife 10W40 12/1L | D83: 12 | E83: X | F83: 1 | G83: L | H83: 885120 | I83: Bottle | J83: 39 | AT83: 0 | AU83: 0 | AV83: 0 | AW83: 0 | AX83: 0 | AY83: 0 | AZ83: 0 | BA83: 0 | BB83: 0 | BC83: 0 | BD83: 0 | BE83: 0 | BF83: 0 | BG83: 0 | BH83: 0 | BI83: 0 | BJ83: 0 | BK83: 36 | BL83: 0 | BM83: 36 | BN83: 6 | BO83: 57 | BP83: 39 | BQ83: 28 | BR83: 5 | BS83: 30 | BT83: 24 | BU83: 14 | BV83: 3 | BW83: 44 | BX83: 23 | BY83: 6 | BZ83: 7 | CA83: 31 | CB83: 11 | CC83: 12 | CD83: 12 | CE83: 0 | CF83: 34 | CG83: 8 | CH83: 6 | CI83: 35 | CJ83: 10 | CK83: 0 | CL83: 7 | CM83: 17 | CN83: 8 | CO83: 6 | CP83: 2 | CQ83: 12 | CR83: 0 | CS83: 0 | CT83: 0 | CU83: 0 | CV83: 2 | CW83: 0 | CX83: 4 | CY83: 14 | CZ83: 3 | DA83: 136 | DB83: 64 | DC83: 32 | DD83: 19 | DE83: 5 | DF83: 7 | DG83: 15 | DH83: 4 | DI83: 1 | DJ83: 12 | DK83: 4 | DL83: 1 | DM83: 0 | DN83: 0 | DO83: 7 | DP83: 0 | DQ83: 0 | DR83: 0 | DS83: 0 | DT83: 0 | DU83: 2 | DV83: 0 | DW83: 0 | DX83: 0 | DY83: 0 | DZ83: 1 | EA83: 0 | EB83: 0 | EC83: 0 | ED83: 12 | EE83: 0 | EF83: 0 | EG83: 0 | EH83: 0 | EI83: 0 | EJ83: 0 | EK83: =VLOOKUP(H83,'Sale Data'!I:J,2,) -> 0 | EL83: 0 | EM83: =AVERAGE(EG83:EJ83) -> 0 | EN83: =(J83+K83+L83+M83)-(N83+O83+P83+Q83+T83+R83+S83+EM83) -> 39 | EO83: =(EM83*4)-EN83 -> -39 | EQ83: 0 | ER83: Europ | ES83: MOQ - 48 CS | GA83: =EQ83*F83 -> 0
A84: 80 | B84: Valvoline | C84: Valvoline Brake Fluid HD DOT3 20/0.5L | D84: 20 | E84: X | F84: 0.5 | G84: L | H84: 869081 | I84: Bottle | J84: 0 | AT84: 0 | AU84: 0 | AV84: 0 | AW84: 0 | AX84: 0 | AY84: 0 | AZ84: 0 | BA84: 0 | BB84: 0 | BC84: 0 | BD84: 0 | BE84: 0 | BF84: 0 | BG84: 0 | BH84: 0 | BI84: 0 | BJ84: 0 | BK84: 0 | BL84: 0 | BM84: 0 | BN84: 0 | BO84: 0 | BP84: 0 | BQ84: 0 | BR84: 0 | BS84: 0 | BT84: 0 | BU84: 0 | BV84: 0 | BW84: 0 | BX84: 0 | BY84: 0 | BZ84: 0 | CA84: 0 | CB84: 0 | CC84: 0 | CD84: 0 | CE84: 0 | CF84: 0 | CG84: 0 | CH84: 0 | CI84: 0 | CJ84: 0 | CK84: 0 | CL84: 0 | CM84: 0 | CN84: 0 | CO84: 0 | CP84: 0 | CQ84: 0 | CR84: 0 | CS84: 0 | CT84: 0 | CU84: 0 | CV84: 0 | CW84: 0 | CX84: 0 | CY84: 0 | CZ84: 0 | DA84: 0 | DB84: 0 | DC84: 0 | DD84: 0 | DE84: 0 | DF84: 0 | DG84: 0 | DH84: 0 | DI84: 0 | DJ84: 0 | DK84: 0 | DL84: 0 | DM84: 0 | DN84: 0 | DO84: 0 | DP84: 0 | DQ84: 0 | DR84: 0 | DS84: 0 | DT84: 0 | DU84: 0 | DV84: 0 | DW84: 0 | DX84: 0 | DY84: 0 | DZ84: 0 | EA84: 0 | EB84: 0 | EC84: 0 | ED84: 0 | EE84: 0 | EF84: 0 | EG84: 0 | EH84: 0 | EI84: 0 | EJ84: 0 | EK84: 0 | EL84: 0 | EM84: =AVERAGE(EG84:EJ84) -> 0 | EN84: =(J84+K84+L84+M84)-(N84+O84+P84+Q84+T84+R84+S84+EM84) -> 0 | EO84: =(EM84*2)-EN84 -> 0 | EQ84: 0 | ES84: MOQ - 36 CS | GA84: =EQ84*F84 -> 0
A85: 81 | B85: Valvoline | C85: GEO Ultra 15W40 CF-4, 200L | D85: 1 | E85: X | F85: 200 | G85: L | H85: 803820 | I85: Drum | J85: 0 | AT85: 0 | AU85: 0 | AV85: 0 | AW85: 0 | AX85: 0 | AY85: 0 | AZ85: 0 | BA85: 0 | BB85: 0 | BC85: 0 | BD85: 0 | BE85: 0 | BF85: 0 | BG85: 0 | BH85: 0 | BI85: 0 | BJ85: 0 | BK85: 1 | BL85: 9 | BM85: 2 | BN85: 20 | BO85: 15 | BP85: 3 | BQ85: 2 | BR85: 2 | BS85: 2 | BT85: 4 | BU85: 5 | BV85: 4 | BW85: 6 | BX85: 7 | BY85: 3 | BZ85: 4 | CA85: 7 | CB85: 4 | CC85: 4 | CD85: 9 | CE85: 0 | CF85: 2 | CG85: 4 | CH85: 0 | CI85: 5 | CJ85: 4 | CK85: 0 | CL85: 2 | CM85: 9 | CN85: 4 | CO85: 2 | CP85: 0 | CQ85: 4 | CR85: 4 | CS85: 2 | CT85: 0 | CU85: 0 | CV85: 0 | CW85: 4 | CX85: 0 | CY85: 0 | CZ85: 0 | DA85: 0 | DB85: 1 | DC85: 1 | DD85: 1 | DE85: 4 | DF85: 4 | DG85: 66 | DH85: 0 | DI85: 0 | DJ85: 0 | DK85: 0 | DL85: 0 | DM85: 0 | DN85: 0 | DO85: 0 | DP85: 0 | DQ85: 0 | DR85: 0 | DS85: 0 | DT85: 0 | DU85: 0 | DV85: 0 | DW85: 0 | DX85: 0 | DY85: 0 | DZ85: 0 | EA85: 0 | EB85: 0 | EC85: 0 | ED85: 0 | EE85: 0 | EF85: 0 | EG85: 0 | EH85: 0 | EI85: 0 | EJ85: 0 | EK85: =VLOOKUP(H85,'Sale Data'!I:J,2,) -> 0 | EL85: 0 | EM85: =AVERAGE(EG85:EJ85) -> 0 | EN85: =(J85+K85+L85+M85)-(N85+O85+P85+Q85+T85+R85+S85+EM85) -> 0 | EO85: =(EM85*2)-EN85 -> 0 | EQ85: 0 | ES85: Min Run - 12 DR, Multiples 4 DR | GA85: =EQ85*F85 -> 0
A86: 82 | B86: Valvoline | C86: Valvoline CVT 5L | D86: 4 | E86: X | F86: 5 | G86: L | H86: 868206 | I86: Bottle | J86: 0 | AT86: 0 | AU86: 0 | AV86: 0 | AW86: 0 | AX86: 0 | AY86: 0 | AZ86: 0 | BA86: 0 | BB86: 0 | BC86: 0 | BD86: 0 | BE86: 0 | BF86: 0 | BG86: 0 | BH86: 0 | BI86: 0 | BJ86: 0 | BK86: 0 | BL86: 0 | BM86: 0 | BN86: 0 | BO86: 0 | BP86: 0 | BQ86: 0 | BR86: 0 | BS86: 0 | BT86: 0 | BU86: 0 | BV86: 0 | BW86: 0 | BX86: 0 | BY86: 0 | BZ86: 0 | CA86: 0 | CB86: 0 | CC86: 0 | CD86: 0 | CE86: 0 | CF86: 0 | CG86: 0 | CH86: 0 | CI86: 0 | CJ86: 0 | CK86: 0 | CL86: 0 | CM86: 0 | CN86: 0 | CO86: 0 | CP86: 0 | CQ86: 0 | CR86: 0 | CS86: 0 | CT86: 0 | CU86: 0 | CV86: 0 | CW86: 0 | CX86: 0 | CY86: 0 | CZ86: 0 | DA86: 0 | DB86: 0 | DC86: 0 | DD86: 0 | DE86: 0 | DF86: 0 | DG86: 0 | DH86: 0 | DI86: 0 | DJ86: 0 | DK86: 0 | DL86: 0 | DM86: 0 | DN86: 0 | DO86: 0 | DP86: 0 | DQ86: 0 | DR86: 0 | DS86: 0 | DT86: 0 | DU86: 0 | DV86: 0 | DW86: 0 | DX86: 0 | DY86: 0 | DZ86: 0 | EA86: 0 | EB86: 0 | EC86: 0 | ED86: 0 | EE86: 0 | EF86: 0 | EG86: 0 | EH86: 0 | EI86: 0 | EJ86: 0 | EK86: 0 | EL86: 0 | EM86: =AVERAGE(EG86:EJ86) -> 0 | EN86: =(J86+K86+L86+M86)-(N86+O86+P86+Q86+T86+R86+S86+EM86) -> 0 | EO86: =(EM86*2)-EN86 -> 0 | EQ86: 0 | GA86: =EQ86*F86 -> 0
A87: 83 | B87: Valvoline | C87: Valvoline Lithium Grease EP2, NLGI 2 | D87: 1 | E87: X | F87: 180 | G87: KG | H87: 874950 | I87: Drum | J87: 0 | AT87: 0 | AU87: 0 | AV87: 0 | AW87: 0 | AX87: 0 | AY87: 0 | AZ87: 0 | BA87: 0 | BB87: 0 | BC87: 0 | BD87: 0 | BE87: 0 | BF87: 0 | BG87: 0 | BH87: 0 | BI87: 0 | BJ87: 0 | BK87: 0 | BL87: 0 | BM87: 0 | BN87: 0 | BO87: 0 | BP87: 0 | BQ87: 0 | BR87: 0 | BS87: 0 | BT87: 0 | BU87: 0 | BV87: 4 | BW87: 0 | BX87: 4 | BY87: 4 | BZ87: 0 | CA87: 0 | CB87: 0 | CC87: 1 | CD87: 1 | CE87: 0 | CF87: 0 | CG87: 0 | CH87: 0 | CI87: 1 | CJ87: 0 | CK87: 0 | CL87: 1 | CM87: 0 | CN87: 4 | CO87: 0 | CP87: 0 | CQ87: 0 | CR87: 0 | CS87: 1 | CT87: 0 | CU87: 0 | CV87: 0 | CW87: 0 | CX87: 0 | CY87: 0 | CZ87: 0 | DA87: 0 | DB87: 1 | DC87: 0 | DD87: 0 | DE87: 0 | DF87: 0 | DG87: 1 | DH87: 0 | DI87: 0 | DJ87: 0 | DK87: 0 | DL87: 0 | DM87: 2 | DN87: 0 | DO87: 0 | DP87: 0 | DQ87: 0 | DR87: 0 | DS87: 0 | DT87: 0 | DU87: 0 | DV87: 0 | DW87: 0 | DX87: 0 | DY87: 0 | DZ87: 0 | EA87: 0 | EB87: 0 | EC87: 0 | ED87: 0 | EE87: 0 | EF87: 0 | EG87: 0 | EH87: 0 | EI87: 0 | EJ87: 0 | EK87: =VLOOKUP(H87,'Sale Data'!I:J,2,) -> 0 | EL87: 0 | EM87: =AVERAGE(EG87:EJ87) -> 0 | EN87: =(J87+K87+L87+M87)-(N87+O87+P87+Q87+T87+R87+S87+EM87) -> 0 | EO87: =(EM87*4)-EN87 -> 0 | EQ87: 0 | ES87: MOQ - 4 DR | GA87: =EQ87*F87 -> 0
A88: 84 | B88: Valvoline | C88: Valvoline Long Life Coolant RTU | D88: 1 | E88: X | F88: 18 | G88: L | H88: 881285 | I88: Can | J88: 19 | L88: =120 -> 120 | S88: =100 -> 100 | T88: 50 | AT88: 0 | AU88: 0 | AV88: 0 | AW88: 0 | AX88: 0 | AY88: 0 | AZ88: 0 | BA88: 0 | BB88: 0 | BC88: 0 | BD88: 0 | BE88: 0 | BF88: 0 | BG88: 0 | BH88: 0 | BI88: 0 | BJ88: 0 | BK88: 2 | BL88: 2 | BM88: 0 | BN88: 0 | BO88: 32 | BP88: 0 | BQ88: 4 | BR88: 0 | BS88: 0 | BT88: 0 | BU88: 3 | BV88: 0 | BW88: 0 | BX88: 4 | BY88: 2 | BZ88: 5 | CA88: 1 | CB88: 63 | CC88: 3 | CD88: 20 | CE88: 10 | CF88: 8 | CG88: 2 | CH88: 7 | CI88: 46 | CJ88: 7 | CK88: 32 | CL88: 0 | CM88: 29 | CN88: 1 | CO88: 2 | CP88: 3 | CQ88: 6 | CR88: 6 | CS88: 6 | CT88: 1 | CU88: 3 | CV88: 6 | CW88: 1 | CX88: 3 | CY88: 1 | CZ88: 8 | DA88: 10 | DB88: 26 | DC88: 1 | DD88: 16 | DE88: 47 | DF88: 10 | DG88: 4 | DH88: 2 | DI88: 18 | DJ88: 53 | DK88: 1 | DL88: 70 | DM88: 26 | DN88: 71 | DO88: 82 | DP88: 65 | DQ88: 5 | DR88: 70 | DS88: 26 | DT88: 20 | DU88: 32 | DV88: 9 | DW88: 6 | DX88: 11 | DY88: 12 | DZ88: 56 | EA88: 24 | EB88: 72 | EC88: 8 | ED88: 5 | EE88: 6 | EF88: 1 | EG88: 1 | EH88: 7 | EI88: 1 | EJ88: 62 | EK88: =VLOOKUP(H88,'Sale Data'!I:J,2,) -> 18 | EL88: 23 | EM88: =AVERAGE(EG88:EJ88) -> 17.75 | EN88: =(J88+K88+L88+M88)-(N88+O88+P88+Q88+T88+R88+S88+EM88) -> -28.75 | EO88: =(EM88*4)-EN88 -> 99.75 | EQ88: =24*3 -> 72 | ES88: MOQ - 24 Can | GA88: =EQ88*F88 -> 1296 | GE88: =27*2 -> 54 | GT88: =24*3 -> 72
A89: 85 | B89: Valvoline | C89: Valvoline Engine Oil, All Fleet Plus 40, CF/SF (1 x 200L) | D89: 1 | E89: X | F89: 200 | G89: L | H89: 692082 | I89: Drum | J89: 0 | AT89: 0 | AU89: 0 | AV89: 0 | AW89: 0 | AX89: 0 | AY89: 0 | AZ89: 0 | BA89: 0 | BB89: 0 | BC89: 0 | BD89: 0 | BE89: 0 | BF89: 0 | BG89: 0 | BH89: 0 | BI89: 0 | BJ89: 0 | BK89: 0 | BL89: 0 | BM89: 0 | BN89: 0 | BO89: 0 | BP89: 0 | BQ89: 0 | BR89: 0 | BS89: 0 | BT89: 0 | BU89: 0 | BV89: 0 | BW89: 0 | BX89: 0 | BY89: 0 | BZ89: 0 | CA89: 0 | CB89: 0 | CC89: 0 | CD89: 0 | CE89: 0 | CF89: 0 | CG89: 0 | CH89: 0 | CI89: 0 | CJ89: 0 | CK89: 0 | CL89: 0 | CM89: 0 | CN89: 0 | CO89: 0 | CP89: 0 | CQ89: 0 | CR89: 0 | CS89: 0 | CT89: 0 | CU89: 0 | CV89: 0 | CW89: 11 | CX89: 3 | CY89: 1 | CZ89: 1 | DA89: 0 | DB89: 4 | DC89: 0 | DD89: 0 | DE89: 0 | DF89: 0 | DG89: 0 | DH89: 0 | DI89: 0 | DJ89: 0 | DK89: 0 | DL89: 0 | DM89: 0 | DN89: 0 | DO89: 0 | DP89: 0 | DQ89: 0 | DR89: 0 | DS89: 0 | DT89: 0 | DU89: 0 | DV89: 0 | DW89: 0 | DX89: 0 | DY89: 0 | DZ89: 0 | EA89: 0 | EB89: 0 | EC89: 0 | ED89: 0 | EE89: 0 | EF89: 0 | EG89: 0 | EH89: 0 | EI89: 0 | EJ89: 0 | EK89: =VLOOKUP(H89,'Sale Data'!I:J,2,) -> 0 | EL89: 0 | EM89: =AVERAGE(EG89:EJ89) -> 0 | EN89: =(J89+K89+L89+M89)-(N89+O89+P89+Q89+T89+R89+S89+EM89) -> 0 | EO89: =(EM89*2)-EN89 -> 0 | EQ89: 0 | ES89: MOQ - 4 DR | GA89: =EQ89*F89 -> 0
A90: 86 | B90: Valvoline | C90: Valvoline Transmission Oil, Dex III ATF, Dexron III (1 x 200L) | D90: 1 | E90: X | F90: 200 | G90: L | H90: 692178 | I90: Drum | J90: 0 | AT90: 0 | AU90: 0 | AV90: 0 | AW90: 0 | AX90: 0 | AY90: 0 | AZ90: 0 | BA90: 0 | BB90: 0 | BC90: 0 | BD90: 0 | BE90: 0 | BF90: 0 | BG90: 0 | BH90: 0 | BI90: 0 | BJ90: 0 | BK90: 0 | BL90: 0 | BM90: 0 | BN90: 0 | BO90: 0 | BP90: 0 | BQ90: 0 | BR90: 0 | BS90: 0 | BT90: 1 | BU90: 1 | BV90: 0 | BW90: 1 | BX90: 0 | BY90: 0 | BZ90: 3 | CA90: 0 | CB90: 1 | CC90: 0 | CD90: 0 | CE90: 0 | CF90: 0 | CG90: 0 | CH90: 0 | CI90: 0 | CJ90: 0 | CK90: 0 | CL90: 0 | CM90: 0 | CN90: 0 | CO90: 0 | CP90: 0 | CQ90: 0 | CR90: 0 | CS90: 0 | CT90: 0 | CU90: 0 | CV90: 0 | CW90: 0 | CX90: 0 | CY90: 0 | CZ90: 0 | DA90: 0 | DB90: 0 | DC90: 0 | DD90: 0 | DE90: 0 | DF90: 1 | DG90: 0 | DH90: 12 | DI90: 0 | DJ90: 0 | DK90: 0 | DL90: 0 | DM90: 0 | DN90: 0 | DO90: 0 | DP90: 0 | DQ90: 0 | DR90: 0 | DS90: 0 | DT90: 0 | DU90: 0 | DV90: 0 | DW90: 0 | DX90: 0 | DY90: 0 | DZ90: 0 | EA90: 0 | EB90: 0 | EC90: 0 | ED90: 0 | EE90: 0 | EF90: 0 | EG90: 0 | EH90: 0 | EI90: 0 | EJ90: 0 | EK90: =VLOOKUP(H90,'Sale Data'!I:J,2,) -> 0 | EL90: 0 | EM90: =AVERAGE(EG90:EJ90) -> 0 | EN90: =(J90+K90+L90+M90)-(N90+O90+P90+Q90+T90+R90+S90+EM90) -> 0 | EO90: =(EM90*2)-EN90 -> 0 | EQ90: 0 | ES90: Min Run - 12 DR, Multipes 4 dR | GA90: =EQ90*F90 -> 0
A91: 87 | B91: Valvoline | C91: ALL FLEET PREMIUM, SAE 15W40, CI-4 Plug/SL | D91: 1 | E91: x | F91: 200 | G91: L | H91: 881568 | I91: Drum | J91: 0 | AT91: 0 | AU91: 0 | AV91: 0 | AW91: 0 | AX91: 0 | AY91: 0 | AZ91: 0 | BA91: 0 | BB91: 0 | BC91: 0 | BD91: 0 | BE91: 0 | BF91: 0 | BG91: 0 | BH91: 0 | BI91: 0 | BJ91: 0 | BK91: 0 | BL91: 0 | BM91: 0 | BN91: 0 | BO91: 0 | BP91: 0 | BQ91: 0 | BR91: 0 | BS91: 0 | BT91: 0 | BU91: 0 | BV91: 0 | BW91: 0 | BX91: 0 | BY91: 0 | BZ91: 1 | CA91: 0 | CB91: 0 | CC91: 0 | CD91: 0 | CE91: 0 | CF91: 0 | CG91: 0 | CH91: 0 | CI91: 0 | CJ91: 0 | CK91: 0 | CL91: 0 | CM91: 0 | CN91: 0 | CO91: 0 | CP91: 0 | CQ91: 0 | CR91: 0 | CS91: 0 | CT91: 0 | CU91: 0 | CV91: 0 | CW91: 0 | CX91: 0 | CY91: 0 | CZ91: 0 | DA91: 1 | DB91: 0 | DC91: 0 | DD91: 1 | DE91: 1 | DF91: 4 | DG91: 0 | DH91: 0 | DI91: 0 | DJ91: 0 | DK91: 0 | DL91: 0 | DM91: 0 | DN91: 0 | DO91: 0 | DP91: 0 | DQ91: 0 | DR91: 0 | DS91: 0 | DT91: 0 | DU91: 0 | DV91: 0 | DW91: 0 | DX91: 0 | DY91: 0 | DZ91: 0 | EA91: 0 | EB91: 0 | EC91: 0 | ED91: 0 | EE91: 0 | EF91: 0 | EG91: 0 | EH91: 0 | EI91: 0 | EJ91: 0 | EK91: =VLOOKUP(H91,'Sale Data'!I:J,2,) -> 0 | EL91: 0 | EM91: =AVERAGE(EG91:EJ91) -> 0 | EN91: =(J91+K91+L91+M91)-(N91+O91+P91+Q91+T91+R91+S91+EM91) -> 0 | EO91: =(EM91*2)-EN91 -> 0 | EQ91: 0 | ES91: Min Run - 12 DR, Multipes 4 dR | GA91: =EQ91*F91 -> 0
A92: 88 | B92: ZEREX | C92: Zerex Radiator Super Sealer (12x14.5oz) | D92: 12 | E92: X | F92: 14.5 | G92: oz | H92: ZXC03 | I92: Bottle | J92: 0 | AT92: 0 | AU92: 0 | AV92: 0 | AW92: 0 | AX92: 0 | AY92: 0 | AZ92: 0 | BA92: 0 | BB92: 0 | BC92: 0 | BD92: 0 | BE92: 0 | BF92: 0 | BG92: 0 | BH92: 0 | BI92: 0 | BJ92: 0 | BK92: 0 | BL92: 0 | BM92: 0 | BN92: 0 | BO92: 0 | BP92: 0 | BQ92: 0 | BR92: 2 | BS92: 0 | BT92: 0 | BU92: 0 | BV92: 8 | BW92: 0 | BX92: 0 | BY92: 0 | BZ92: 15 | CA92: 0 | CB92: 8 | CC92: 4 | CD92: 0 | CE92: 0 | CF92: 0 | CG92: 0 | CH92: 0 | CI92: 0 | CJ92: 0 | CK92: 0 | CL92: 0 | CM92: 0 | CN92: 0 | CO92: 0 | CP92: 0 | CQ92: 0 | CR92: 0 | CS92: 0 | CT92: 0 | CU92: 0 | CV92: 0 | CW92: 0 | CX92: 0 | CY92: 0 | CZ92: 0 | DA92: 4 | DB92: 10 | DC92: 0 | DD92: 0 | DE92: 10 | DF92: 12 | DG92: 25 | DH92: 0 | DI92: 0 | DJ92: 22 | DK92: 0 | DL92: 0 | DM92: 0 | DN92: 0 | DO92: 0 | DP92: 0 | DQ92: 0 | DR92: 0 | DS92: 0 | DT92: 0 | DU92: 0 | DV92: 0 | DW92: 0 | DX92: 0 | DY92: 0 | DZ92: 0 | EA92: 0 | EB92: 0 | EC92: 0 | ED92: 0 | EE92: 0 | EF92: 0 | EG92: 0 | EH92: 0 | EI92: 0 | EJ92: 0 | EK92: =VLOOKUP(H92,'Sale Data'!I:J,2,) -> 0 | EL92: 0 | EM92: =AVERAGE(EG92:EJ92) -> 0 | EN92: =(J92+K92+L92+M92)-(N92+O92+P92+Q92+T92+R92+S92+EM92) -> 0 | EO92: =(EM92*2)-EN92 -> 0 | EQ92: 0 | GA92: =EQ92*F92 -> 0
A93: 89 | B93: Valvoline | C93: Valvoline Lithium Grease EP2 | D93: 1 | E93: x | F93: 18 | G93: L | H93: 883082 | I93: Can | J93: 0 | BF93: 0 | BG93: 0 | BH93: 0 | BI93: 0 | BJ93: 0 | BK93: 0 | BL93: 0 | BM93: 0 | BN93: 0 | BO93: 0 | BP93: 0 | BQ93: 0 | BR93: 0 | BS93: 0 | BT93: 0 | BU93: 0 | BV93: 0 | BW93: 0 | BX93: 0 | BY93: 0 | BZ93: 0 | CA93: 0 | CB93: 0 | CC93: 0 | CD93: 0 | CE93: 0 | CF93: 0 | CG93: 0 | CH93: 0 | CI93: 0 | CJ93: 0 | CK93: 0 | CL93: 0 | CM93: 0 | CN93: 0 | CO93: 0 | CP93: 0 | CQ93: 0 | CR93: 0 | CS93: 0 | CT93: 0 | CU93: 0 | CV93: 0 | CW93: 0 | CX93: 0 | CY93: 0 | CZ93: 0 | DA93: 0 | DB93: 0 | DC93: 0 | DD93: 0 | DE93: 0 | DF93: 0 | DG93: 0 | DH93: 0 | DI93: 0 | DJ93: 0 | DK93: 0 | DL93: 0 | DM93: 0 | DN93: 0 | DO93: 0 | DP93: 0 | DQ93: 0 | DR93: 0 | DS93: 0 | DT93: 0 | DU93: 0 | DV93: 0 | DW93: 0 | DX93: 0 | DY93: 0 | DZ93: 0 | EA93: 0 | EB93: 0 | EC93: 0 | ED93: 0 | EE93: 0 | EF93: 0 | EG93: 0 | EH93: 0 | EI93: 0 | EJ93: 0 | EK93: 0 | EL93: 0 | EM93: =AVERAGE(EG93:EJ93) -> 0 | EN93: =(J93+K93+L93+M93)-(N93+O93+P93+Q93+T93+R93+S93+EM93) -> 0 | EO93: =(EM93*2)-EN93 -> 0 | EQ93: 0 | ES93: MOQ - 27 Can | GA93: =EQ93*F93 -> 0
A94: 90 | B94: Valvoline | C94: Champ 4T Scooter 10W40 | D94: 1 | E94: x | F94: 0.8 | G94: L | H94: 844601 | I94: Bottle | J94: 0 | BJ94: 0 | BK94: 0 | BL94: 0 | BM94: 0 | BN94: 0 | BO94: 0 | BP94: 0 | BQ94: 0 | BR94: 0 | BS94: 0 | BT94: 0 | BU94: 0 | BV94: 0 | BW94: 0 | BX94: 0 | BY94: 0 | BZ94: 0 | CA94: 0 | CB94: 0 | CC94: 0 | CD94: 0 | CE94: 0 | CF94: 0 | CG94: 0 | CH94: 0 | CI94: 0 | CJ94: 0 | CK94: 0 | CL94: 0 | CM94: 0 | CN94: 0 | CO94: 0 | CP94: 0 | CQ94: 0 | CR94: 0 | CS94: 0 | CT94: 0 | CU94: 0 | CV94: 0 | CW94: 0 | CX94: 0 | CY94: 0 | CZ94: 0 | DA94: 0 | DB94: 0 | DC94: 0 | DD94: 0 | DE94: 0 | DF94: 0 | DG94: 0 | DH94: 0 | DI94: 0 | DJ94: 0 | DK94: 0 | DL94: 0 | DM94: 0 | DN94: 0 | DO94: 0 | DP94: 0 | DQ94: 0 | DR94: 0 | DS94: 0 | DT94: 0 | DU94: 0 | DV94: 0 | DW94: 0 | DX94: 0 | DY94: 0 | DZ94: 0 | EA94: 0 | EB94: 0 | EC94: 0 | ED94: 0 | EE94: 0 | EF94: 0 | EG94: 0 | EH94: 0 | EI94: 0 | EJ94: 0 | EK94: 0 | EL94: 0 | EM94: =AVERAGE(EG94:EJ94) -> 0 | EN94: =(J94+K94+L94+M94)-(N94+O94+P94+Q94+T94+R94+S94+EM94) -> 0 | EO94: =(EM94*2)-EN94 -> 0 | EQ94: 0 | ES94: Min Run - 160 CS, Multiples 40 CS | GA94: =EQ94*F94 -> 0
A95: 91 | B95: Valvoline | C95: Durablend 10W40 API SN Plus | D95: 4 | E95: x | F95: 4 | G95: L | H95: 887715 / 894333 | I95: Bottle | J95: =3+296 -> 299 | L95: =288*4 -> 1152 | BS95: 0 | BT95: 0 | BU95: 0 | BV95: 35 | BW95: 217 | BX95: 365 | BY95: 552 | BZ95: 383 | CA95: 330 | CB95: 491 | CC95: 358 | CD95: 361 | CE95: 27 | CF95: 219 | CG95: 357 | CH95: 412 | CI95: 518 | CJ95: 185 | CK95: 168 | CL95: 263 | CM95: 353 | CN95: 312 | CO95: 232 | CP95: 237 | CQ95: 553 | CR95: 365 | CS95: 244 | CT95: 90 | CU95: 265 | CV95: 501 | CW95: 113 | CX95: 200 | CY95: 371 | CZ95: 279 | DA95: 49 | DB95: 487 | DC95: 213 | DD95: 384 | DE95: 322 | DF95: 585 | DG95: 238 | DH95: =121 -> 121 | DI95: =267+20 -> 287 | DJ95: =53+90 -> 143 | DK95: =51+235 -> 286 | DL95: =71+220 -> 291 | DM95: =15+196 -> 211 | DN95: =7+206 -> 213 | DO95: =19+264 -> 283 | DP95: =5+218 -> 223 | DQ95: =18+388 -> 406 | DR95: =4+279 -> 283 | DS95: =1+169 -> 170 | DT95: 241 | DU95: =7+202 -> 209 | DV95: =2+164 -> 166 | DW95: =20+125 -> 145 | DX95: =5+249 -> 254 | DY95: =12+94 -> 106 | DZ95: =1+31 -> 32 | EA95: =28+179 -> 207 | EB95: =13+340 -> 353 | EC95: 151 | ED95: 229 | EE95: =53+2 -> 55 | EF95: 143 | EG95: 152 | EH95: =194+1 -> 195 | EI95: 195 | EJ95: =210+8 -> 218 | EK95: 239 | EL95: 129 | EM95: =AVERAGE(EG95:EJ95) -> 190 | EN95: =(J95+K95+L95+M95)-(N95+O95+P95+Q95+T95+R95+S95+EM95) -> 1261 | EO95: =(EM95*6)-EN95 -> -121 | EQ95: =48*3*4 -> 576 | ES95: MOQ - 48 CS | GA95: =EQ95*F95 -> 2304 | GE95: =48*3 -> 144 | GI95: =48*2 -> 96 | GK95: =48*2 -> 96 | GS95: =48*3 -> 144
A96: 92 | B96: Valvoline | C96: Premium Protection 10W30 SN Plus/ SP | D96: 4 | E96: x | F96: 4 | G96: L | H96: 887517 / 897409 | I96: Bottle | J96: =38+914 -> 952 | M96: =192*4 -> 768 | BS96: 0 | BT96: 0 | BU96: 0 | BV96: 0 | BW96: 140 | BX96: 366 | BY96: 635 | BZ96: 354 | CA96: 584 | CB96: 609 | CC96: 513 | CD96: 522 | CE96: 213 | CF96: 426 | CG96: 581 | CH96: 328 | CI96: 663 | CJ96: 251 | CK96: 386 | CL96: 388 | CM96: 257 | CN96: 461 | CO96: 269 | CP96: 299 | CQ96: 501 | CR96: 285 | CS96: 261 | CT96: 99 | CU96: 192 | CV96: 442 | CW96: 129 | CX96: 145 | CY96: 345 | CZ96: 247 | DA96: 101 | DB96: 449 | DC96: 107 | DD96: 330 | DE96: 317 | DF96: 326 | DG96: 147 | DH96: 128 | DI96: 126 | DJ96: 160 | DK96: 156 | DL96: 220 | DM96: 124 | DN96: 153 | DO96: 196 | DP96: 166 | DQ96: 275 | DR96: 144 | DS96: 34 | DT96: =27 -> 27 | DU96: =38+94 -> 132 | DV96: =9+99 -> 108 | DW96: =11+82 -> 93 | DX96: =13+99 -> 112 | DY96: =2+109 -> 111 | DZ96: =2+80 -> 82 | EA96: =4+143 -> 147 | EB96: =13+201 -> 214 | EC96: =82 -> 82 | ED96: =6+154 -> 160 | EE96: 28 | EF96: =9+132 -> 141 | EG96: =20+49 -> 69 | EH96: =1+109 -> 110 | EI96: =4+51 -> 55 | EJ96: 55 | EK96: =135+1 -> 136 | EL96: =64+1 -> 65 | EM96: =AVERAGE(EG96:EJ96) -> 72.25 | EN96: =(J96+K96+L96+M96)-(N96+O96+P96+Q96+T96+R96+S96+EM96) -> 1647.75 | EO96: =(EM96*6)-EN96 -> -1214.25 | EQ96: =48*2*4 -> 384 | ES96: MOQ - 48 CS, Min Run - 144 CS | GA96: =EQ96*F96 -> 1536 | GE96: =48 -> 48 | GI96: =48*4 -> 192 | GK96: =48*2 -> 96 | GT96: =48*2 -> 96
A97: 93 | B97: Valvoline | C97: Valvoline LITHIUM EP3 GREASE 1/180 KG | D97: 1 | E97: x | F97: 180 | G97: Kg | H97: 883267 | I97: Drum | J97: 0 | S97: 8 | BS97: 0 | BT97: 0 | BU97: 0 | BV97: 0 | BW97: 0 | BX97: 0 | BY97: 0 | BZ97: 0 | CA97: 0 | CB97: 0 | CC97: 0 | CD97: 0 | CE97: 0 | CF97: 0 | CG97: 0 | CH97: 0 | CI97: 0 | CJ97: 0 | CK97: 0 | CL97: 0 | CM97: 0 | CN97: 0 | CO97: 0 | CP97: 0 | CQ97: 0 | CR97: 0 | CS97: 0 | CT97: 0 | CU97: 0 | CV97: 0 | CW97: 0 | CX97: 0 | CY97: 0 | CZ97: 0 | DA97: 0 | DB97: 0 | DC97: 0 | DD97: 0 | DE97: 0 | DF97: 0 | DG97: 0 | DH97: 0 | DI97: 0 | DJ97: 0 | DK97: 0 | DL97: 0 | DM97: 0 | DN97: 0 | DO97: 0 | DP97: 0 | DQ97: 0 | DR97: 0 | DS97: 0 | DT97: 0 | DU97: 0 | DV97: 0 | DW97: 0 | DX97: 0 | DY97: 0 | DZ97: 0 | EA97: 0 | EB97: 0 | EC97: 0 | ED97: 0 | EE97: 0 | EF97: 0 | EG97: 0 | EH97: 0 | EI97: 0 | EJ97: 0 | EK97: 0 | EL97: 0 | EM97: =AVERAGE(EG97:EJ97) -> 0 | EN97: =(J97+K97+L97+M97)-(N97+O97+P97+Q97+T97+R97+S97+EM97) -> -8 | EO97: =(EM97*4)-EN97 -> 8 | EQ97: 0 | GA97: =EQ97*F97 -> 0
A98: 94 | B98: Valvoline | C98: Durablend 10W40 API SN Plus | D98: 6 | E98: x | F98: 1 | G98: L | H98: 887716 | I98: Bottle | J98: 118 | T98: =40*6 -> 240 | BY98: 0 | BZ98: 0 | CA98: 10 | CB98: 56 | CC98: 62 | CD98: 58 | CE98: 26 | CF98: 73 | CG98: 63 | CH98: 98 | CI98: 152 | CJ98: 71 | CK98: 44 | CL98: 107 | CM98: 105 | CN98: 102 | CO98: 62 | CP98: 65 | CQ98: 113 | CR98: 41 | CS98: 51 | CT98: 23 | CU98: 52 | CV98: 119 | CW98: 45 | CX98: 48 | CY98: 111 | CZ98: 51 | DA98: 21 | DB98: 144 | DC98: 36 | DD98: 110 | DE98: 63 | DF98: 162 | DG98: 70 | DH98: 64 | DI98: 103 | DJ98: 65 | DK98: 71 | DL98: 29 | DM98: 39 | DN98: 43 | DO98: 94 | DP98: 92 | DQ98: 111 | DR98: 64 | DS98: 55 | DT98: 40 | DU98: 33 | DV98: 38 | DW98: 41 | DX98: 73 | DY98: 55 | DZ98: 126 | EA98: 60 | EB98: 65 | EC98: 40 | ED98: 74 | EE98: 4 | EF98: 70 | EG98: 20 | EH98: 99 | EI98: 21 | EJ98: 21 | EK98: =VLOOKUP(H98,'Sale Data'!I:J,2,) -> 49 | EL98: 45 | EM98: =AVERAGE(EG98:EJ98) -> 40.25 | EN98: =(J98+K98+L98+M98)-(N98+O98+P98+Q98+T98+R98+S98+EM98) -> -162.25 | EO98: =(EM98*4)-EN98 -> 323.25 | EQ98: =125*6 -> 750 | ES98: MOQ - 125 CS | GA98: =EQ98*F98 -> 750 | GS98: 125
A99: 95 | B99: Valvoline | C99: Valvoline Coolant All Wealther 4/4L | D99: 4 | E99: x | F99: 4 | G99: L | H99: 888770 | I99: Bottle | J99: 133 | L99: =144*4 -> 576 | T99: =100*4 -> 400 | BX99: 0 | BY99: 0 | BZ99: 0 | CA99: 0 | CB99: 0 | CC99: 0 | CD99: 0 | CE99: 0 | CF99: 24 | CG99: 138 | CH99: 38 | CI99: 133 | CJ99: 71 | CK99: 70 | CL99: 147 | CM99: 160 | CN99: 149 | CO99: 72 | CP99: 123 | CQ99: 233 | CR99: 116 | CS99: 202 | CT99: 15 | CU99: 71 | CV99: 198 | CW99: 44 | CX99: 90 | CY99: 112 | CZ99: 179 | DA99: 45 | DB99: 200 | DC99: 17 | DD99: 191 | DE99: 100 | DF99: 131 | DG99: 59 | DH99: 35 | DI99: 38 | DJ99: 70 | DK99: 53 | DL99: 61 | DM99: 57 | DN99: 111 | DO99: 123 | DP99: 130 | DQ99: 109 | DR99: 96 | DS99: 73 | DT99: 52 | DU99: 49 | DV99: 59 | DW99: 39 | DX99: 68 | DY99: 128 | DZ99: 34 | EA99: 48 | EB99: 111 | EC99: 38 | ED99: 87 | EE99: 29 | EF99: 8 | EG99: 3 | EH99: 2 | EI99: 53 | EJ99: 103 | EK99: =VLOOKUP(H99,'Sale Data'!I:J,2,) -> 55 | EL99: 55 | EM99: =AVERAGE(EG99:EJ99) -> 40.25 | EN99: =(J99+K99+L99+M99)-(N99+O99+P99+Q99+T99+R99+S99+EM99) -> 268.75 | EO99: =(EM99*6)-EN99 -> -27.25 | EQ99: 0 | ES99: MOQ - 48 CS | GA99: =EQ99*F99 -> 0 | GC99: 47 | GI99: =48*3 -> 144
A100: 96 | B100: Valvoline | C100: Valvoline Long Life Coolant RTU 4/4L | D100: 4 | E100: x | F100: 4 | G100: L | H100: 888811 | I100: Bottle | J100: 41 | M100: =48*4 -> 192 | BX100: 0 | BY100: 0 | BZ100: 0 | CA100: 0 | CB100: 0 | CC100: 0 | CD100: 0 | CE100: 0 | CF100: 0 | CG100: 53 | CH100: 46 | CI100: 65 | CJ100: 4 | CK100: 0 | CL100: 9 | CM100: 0 | CN100: 1 | CO100: 24 | CP100: 24 | CQ100: 80 | CR100: 2 | CS100: 68 | CT100: 4 | CU100: 34 | CV100: 46 | CW100: 13 | CX100: 28 | CY100: 32 | CZ100: 12 | DA100: 0 | DB100: 78 | DC100: 62 | DD100: 26 | DE100: 110 | DF100: 37 | DG100: 33 | DH100: 32 | DI100: 41 | DJ100: 31 | DK100: 31 | DL100: 50 | DM100: 43 | DN100: 61 | DO100: 42 | DP100: 56 | DQ100: 50 | DR100: 40 | DS100: 72 | DT100: 31 | DU100: 48 | DV100: 27 | DW100: 13 | DX100: 34 | DY100: 66 | DZ100: 47 | EA100: 39 | EB100: 47 | EC100: 13 | ED100: 15 | EE100: 0 | EF100: 27 | EG100: 0 | EH100: 0 | EI100: 4 | EJ100: 94 | EK100: =VLOOKUP(H100,'Sale Data'!I:J,2,) -> 33 | EL100: 30 | EM100: =AVERAGE(EG100:EJ100) -> 24.5 | EN100: =(J100+K100+L100+M100)-(N100+O100+P100+Q100+T100+R100+S100+EM100) -> 208.5 | EO100: =(EM100*6)-EN100 -> -61.5 | EQ100: 0 | ES100: MOQ - 48 CS | GA100: =EQ100*F100 -> 0 | GI100: =48*2 -> 96
...

Sheet Order Focus
A2: PO No. | B2: Brand | C2: Description | D2: Pack Size | H2: Part No | I2: Q'ty | J2: Unit Code | K2: 1 liter Price (USD) | L2: Customer Name | M2: Shipment Plan
A4: PO 777 | B4: Valvoline | C4: All Fleet Premium 15W40, CI-4/SL | D4: 4 | E4: x | F4: 5 | G4: L | H4: 692054 | I4: 36 | J4: Case | K4: 2.4411 | L4: Stock Order | M4: Please arrange the shipment Third week of Aug'18
B5: Valvoline | C5: Champ 4T 20W50, SG/CD | D5: 24 | E5: x | F5: 1 | G5: L | H5: 692249 | I5: 224 | J5: Case | K5: 1.9467
B6: Valvoline | C6: Durablend 10W40, SN | D6: 4 | E6: x | F6: 4 | G6: L | H6: 690814 | I6: 216 | J6: Case | K6: 3.3887
B7: Zerex | C7: ZX HD Extended Life RTU AFC | D7: 6 | E7: x | F7: 1 | G7: GA | H7: ZXEDRU1 | I7: 135 | J7: Case | K7: =(47/6)/3.78 -> 2.0723104
B8: Valvoline | C8: Champ 4T Scooter 10W30, SL/JASO MB | D8: 24 | E8: x | F8: 0.8 | G8: L | H8: 844573 | I8: 128 | J8: Case | K8: 2.2145
B9: Valvoline | C9: Maxlife 10W40 4/4L | D9: 4 | E9: X | F9: 4 | G9: L | H9: 885194 | I9: 72 | J9: Case | K9: 3.66
A10: PO 778 | B10: Valvoline | C10: Premium Conventional Motor Oil 10W30, SM/CF | D10: 4 | E10: x | F10: 4 | G10: L | H10: 691849 | I10: 288 | J10: Case | K10: 2.6565 | L10: Stock Order | M10: Please arrange the shipment Third week of Aug'18
B11: Valvoline | C11: Valvoline Long Life Coolant RTU | D11: 20 | E11: x | F11: 1 | G11: L | H11: 789360 | I11: 40 | J11: Case | K11: 1.59
B12: Valvoline | C12: Ultramax AW 68 | D12: 1 | E12: X | F12: 200 | G12: L | H12: 692334 | I12: 44 | J12: Drum | K12: 1.27 | L12: Htoo (Logistics)
A13: PO 779 | B13: Valvoline | C13: All Fleet Premium 15W40, CI-4/SL | D13: 1 | E13: x | F13: 200 | G13: L | H13: 692052 | I13: 80 | J13: Drum | K13: 1.49 | L13: Htoo (Logistics) | M13: Please arrange the shipment Third week of Sep'18
A14: PO 780 | B14: Valvoline | C14: All Fleet Premium 15W40, CI-4/SL | D14: 1 | E14: x | F14: 200 | G14: L | H14: 692052 | I14: 80 | J14: Drum | K14: 1.49 | L14: Htoo (Logistics) | M14: Please arrange the shipment End of Sep'18
A15: PO 781 | B15: Valvoline | C15: All Fleet Premium 15W40, CI-4/SL | D15: 1 | E15: x | F15: 18 | G15: L | H15: 692053 | I15: 792 | J15: Can | K15: 1.6 | L15: Htoo (Logistics) | M15: Please arrange the shipment End of Sep'18
A16: PO 782 | B16: Valvoline | C16: Ultramax AW 68 | D16: 1 | E16: x | F16: 200 | G16: L | H16: 692334 | I16: 80 | J16: Drum | K16: 1.27 | L16: Htoo (Logistics) | M16: Please arrange the shipment Third week of Sep'18
A17: PO 783 | B17: Valvoline | C17: All Fleet Premium 15W40, CI-4/SL | D17: 1 | E17: x | F17: 200 | G17: L | H17: 692052 | I17: 36 | J17: Drum | K17: 1.6 | L17: Htoo | M17: Please arrange the shipment Third week of Aug'18
B18: Valvoline | C18: GEO Ultra 15W40 CF-4, 200L | D18: 1 | E18: X | F18: 200 | G18: L | H18: 803820 | I18: 44 | J18: Drum | K18: 1.5 | L18: Shwe Man Thu
A19: PO 784 | B19: Valvoline | C19: 4T Premium 20W40, SL, JASO MA | D19: 24 | E19: x | F19: 1 | G19: L | H19: 692247 | I19: 128 | J19: Case | K19: 2.0394 | L19: Stock Order | M19: Please arrange the shipment Second week of Sep'18
B20: Valvoline | C20: All Fleet Premium 15W40, CI-4/SL | D20: 4 | E20: x | F20: 5 | G20: L | H20: 692054 | I20: 180 | J20: Case | K20: 2.4411
B21: Valvoline | C21: Champ 4T 20W50, SG/CD | D21: 24 | E21: x | F21: 1 | G21: L | H21: 692249 | I21: 224 | J21: Case | K21: 1.9467
B22: Valvoline | C22: Durablend 10W40, SN | D22: 4 | E22: x | F22: 4 | G22: L | H22: 690814 | I22: 180 | J22: Case | K22: 3.3887
B23: Valvoline | C23: Premium Conventional Motor Oil 10W30, SM/CF | D23: 4 | E23: x | F23: 4 | G23: L | H23: 691849 | I23: 108 | J23: Case | K23: 2.6565
A24: PO 785 | B24: Valvoline | C24: Durablend 10W40, SN | D24: 4 | E24: x | F24: 4 | G24: L | H24: 690814 | I24: 180 | J24: Case | K24: 3.3887 | L24: Stock Order | M24: Please arrange the shipment Second week of Sep'18
B25: Valvoline | C25: Premium Conventional Motor Oil 10W30, SM/CF | D25: 4 | E25: x | F25: 4 | G25: L | H25: 691849 | I25: 144 | J25: Case | K25: 2.6565
B26: Valvoline | C26: Valvoline Long Life Coolant RTU | D26: 20 | E26: x | F26: 1 | G26: L | H26: 789360 | I26: 80 | J26: Case | K26: 1.59
B27: Zerex | C27: ZX HD Extended Life RTU AFC | D27: 6 | E27: x | F27: 1 | G27: GA | H27: ZXEDRU1 | I27: 81 | J27: Case | K27: =(47/6)/3.78 -> 2.0723104
B28: Valvoline | C28: Champ 4T Scooter 10W30, SL/JASO MB | D28: 24 | E28: x | F28: 0.8 | G28: L | H28: 844573 | I28: 192 | J28: Case | K28: 2.2145
B29: Valvoline | C29: All Fleet Premium 15W40, CI-4/SL | D29: 1 | E29: x | F29: 25 | G29: L | H29: 881118 | I29: 24 | J29: Can | K29: 1.9467
A30: PO 786 | B30: Valvoline | C30: All Fleet Premium 15W40, CI-4/SL | D30: 4 | E30: x | F30: 5 | G30: L | H30: 692054 | I30: 72 | J30: Case | K30: 2.4411 | L30: Stock Order | M30: Please arrange the shipment End of Sep'18
B31: Valvoline | C31: Champ 4T 20W50, SG/CD | D31: 24 | E31: x | F31: 1 | G31: L | H31: 692249 | I31: 576 | J31: Case | K31: 1.9467

Sheet Sale Data
A1: 3831236 | B1: 0 | C1: 0 | D1: 0 | E1: 0 | F1: 0 | G1: 0 | H1: 0 | I1: 3831236 | J1: 0 | K1: 0
A2: 21212204 | B2: 0 | C2: 0 | D2: 0 | E2: 0 | F2: 0 | G2: 0 | H2: 0 | I2: 21212204 | J2: 0 | K2: 0
A3: 21192875 | B3: 0 | C3: 0 | D3: 0 | E3: 0 | F3: 0 | G3: 0 | H3: 0 | I3: 21192875 | J3: 0 | K3: 0
A4: 477556 | B4: 0 | C4: 0 | D4: 0 | E4: 0 | F4: 0 | G4: 0 | H4: 0 | I4: 477556 | J4: 0 | K4: 0
A5: 20998367 | B5: 0 | C5: 0 | D5: 0 | E5: 0 | F5: 0 | G5: 0 | H5: 0 | I5: 20998367 | J5: 0 | K5: 0
A6: 21707133 | B6: 0 | C6: 0 | D6: 0 | E6: 0 | F6: 0 | G6: 0 | H6: 0 | I6: 21707133 | J6: 0 | K6: 0
A7: 21707132 | B7: 0 | C7: 0 | D7: 0 | E7: 0 | F7: 0 | G7: 0 | H7: 0 | I7: 21707132 | J7: 0 | K7: 0
A8: 8193841 | B8: 0 | C8: 0 | D8: 0 | E8: 0 | F8: 0 | G8: 0 | H8: 0 | I8: 8193841 | J8: 0 | K8: 0
A9: 8159975 | B9: 0 | C9: 0 | D9: 0 | E9: 0 | F9: 0 | G9: 0 | H9: 0 | I9: 8159975 | J9: 0 | K9: 0
A10: LF 3654 | B10: 0 | C10: 0 | D10: 0 | E10: 0 | F10: 0 | G10: 0 | H10: 0 | I10: LF 3654 | J10: 0 | K10: 0
A11: FS 19573 | B11: 0 | C11: 0 | D11: 0 | E11: 0 | F11: 0 | G11: 0 | H11: 0 | I11: FS 19573 | J11: 0 | K11: 0
A12: FF 5135 | B12: 0 | C12: 0 | D12: 0 | E12: 0 | F12: 0 | G12: 0 | H12: 0 | I12: FF 5135 | J12: 0 | K12: 0
A13: FS 19624 | B13: 0 | C13: 0 | D13: 0 | E13: 0 | F13: 0 | G13: 0 | H13: 0 | I13: FS 19624 | J13: 0 | K13: 0
A14: LF 670 | B14: 0 | C14: 0 | D14: 0 | E14: 0 | F14: 0 | G14: 0 | H14: 0 | I14: LF 670 | J14: 0 | K14: 0
A15: FH 23600 | B15: 0 | C15: 0 | D15: 0 | E15: 0 | F15: 0 | G15: 0 | H15: 0 | I15: FH 23600 | J15: 0 | K15: 0
A16: FF 4036 | B16: 0 | C16: 0 | D16: 0 | E16: 0 | F16: 0 | G16: 0 | H16: 0 | I16: FF 4036 | J16: 0 | K16: 0
A17: LF 3356 | B17: 0 | C17: 0 | D17: 0 | E17: 0 | F17: 0 | G17: 0 | H17: 0 | I17: LF 3356 | J17: 0 | K17: 0
A18: LF 3642 | B18: 0 | C18: 0 | D18: 0 | E18: 0 | F18: 0 | G18: 0 | H18: 0 | I18: LF 3642 | J18: 0 | K18: 0
A19: LF 3376 | B19: 0 | C19: 0 | D19: 0 | E19: 0 | F19: 0 | G19: 0 | H19: 0 | I19: LF 3376 | J19: 0 | K19: 0
A20: 212013S | B20: 0 | C20: 0 | D20: 0 | E20: 0 | F20: 0 | G20: 0 | H20: 0 | I20: 212013S | J20: 0 | K20: 0
A21: 256535 | B21: 0 | C21: 0 | D21: 0 | E21: 0 | F21: 0 | G21: 0 | H21: 0 | I21: 256535 | J21: 0 | K21: 0
A22: 3A111-19130 | B22: 0 | C22: 0 | D22: 0 | E22: 0 | F22: 0 | G22: 0 | H22: 0 | I22: 3A111-19130 | J22: 0 | K22: 0
A23: AA 2955 | B23: 0 | C23: 0 | D23: 0 | E23: 0 | F23: 0 | G23: 0 | H23: 0 | I23: AA 2955 | J23: 0 | K23: 0
A24: AA 2956 | B24: 0 | C24: 0 | D24: 0 | E24: 0 | F24: 0 | G24: 0 | H24: 0 | I24: AA 2956 | J24: 0 | K24: 0
A25: AF 1658K | B25: 0 | C25: 0 | D25: 0 | E25: 0 | F25: 0 | G25: 0 | H25: 0 | I25: AF 1658K | J25: 0 | K25: 0
A26: AF 1791 | B26: 0 | C26: 0 | D26: 0 | E26: 0 | F26: 0 | G26: 0 | H26: 0 | I26: AF 1791 | J26: 0 | K26: 0
A27: AF 1811 | B27: 0 | C27: 0 | D27: 0 | E27: 0 | F27: 0 | G27: 0 | H27: 0 | I27: AF 1811 | J27: 0 | K27: 0
A28: AF 1828 | B28: 0 | C28: 0 | D28: 0 | E28: 0 | F28: 0 | G28: 0 | H28: 0 | I28: AF 1828 | J28: 0 | K28: 0
A29: AF 1840 | B29: 0 | C29: 0 | D29: 0 | E29: 0 | F29: 0 | G29: 0 | H29: 0 | I29: AF 1840 | J29: 0 | K29: 0
A30: AF 1841 | B30: 0 | C30: 0 | D30: 0 | E30: 0 | F30: 0 | G30: 0 | H30: 0 | I30: AF 1841 | J30: 0 | K30: 0
A31: AF 1862 | B31: 0 | C31: 0 | D31: 0 | E31: 0 | F31: 0 | G31: 0 | H31: 0 | I31: AF 1862 | J31: 0 | K31: 0
A32: AF 1863 | B32: 0 | C32: 0 | D32: 0 | E32: 0 | F32: 0 | G32: 0 | H32: 0 | I32: AF 1863 | J32: 0 | K32: 0
A33: AF 1894 | B33: 0 | C33: 0 | D33: 0 | E33: 0 | F33: 0 | G33: 0 | H33: 0 | I33: AF 1894 | J33: 0 | K33: 0
... A405: TPK1025 | B405: 0 | C405: 0 | D405: 0 | E405: 0 | F405: 0 | G405: 0 | H405: 0 | I405: TPK1025 | J405: 0 | K405: 0
A406: 20514654 | B406: 0 | C406: 0 | D406: 0 | E406: 0 | F406: 0 | G406: 0 | H406: 0 | I406: 20514654 | J406: 0 | K406: 0
A407: 15607-2190L | B407: 0 | C407: 0 | D407: 0 | E407: 0 | F407: 0 | G407: 0 | H407: 0 | I407: 15607-2190L | J407: 0 | K407: 0
A408: 8602 | B408: 0 | C408: 0 | D408: 0 | E408: 0 | F408: 0 | G408: 0 | H408: 0 | I408: 8602 | J408: 0 | K408: 0
A409: C1717 | B409: 0 | C409: 0 | D409: 0 | E409: 0 | F409: 0 | G409: 0 | H409: 0 | I409: C1717 | J409: 0 | K409: 0
A410: FF5421 | B410: 0 | C410: 0 | D410: 0 | E410: 0 | F410: 0 | G410: 0 | H410: 0 | I410: FF5421 | J410: 0 | K410: 0
A411: LF3970 | B411: 0 | C411: 0 | D411: 0 | E411: 0 | F411: 0 | G411: 0 | H411: 0 | I411: LF3970 | J411: 0 | K411: 0
A412: 21707134 | B412: 0 | C412: 0 | D412: 0 | E412: 0 | F412: 0 | G412: 0 | H412: 0 | I412: 21707134 | J412: 0 | K412: 0
A413: 20976003 | B413: 0 | C413: 0 | D413: 0 | E413: 0 | F413: 0 | G413: 0 | H413: 0 | I413: 20976003 | J413: 0 | K413: 0
A414: 20805349 | B414: 0 | C414: 0 | D414: 0 | E414: 0 | F414: 0 | G414: 0 | H414: 0 | I414: 20805349 | J414: 0 | K414: 0
A415: 11110683 | B415: 0 | C415: 0 | D415: 0 | E415: 0 | F415: 0 | G415: 0 | H415: 0 | I415: 11110683 | J415: 0 | K415: 0
A416: 11110668 | B416: 0 | C416: 0 | D416: 0 | E416: 0 | F416: 0 | G416: 0 | H416: 0 | I416: 11110668 | J416: 0 | K416: 0
A417: 11711074 | B417: 0 | C417: 0 | D417: 0 | E417: 0 | F417: 0 | G417: 0 | H417: 0 | I417: 11711074 | J417: 0 | K417: 0
A418: 1030-61460 | B418: 0 | C418: 0 | D418: 0 | E418: 0 | F418: 0 | G418: 0 | H418: 0 | I418: 1030-61460 | J418: 0 | K418: 0
A419: 14524170 | B419: 0 | C419: 0 | D419: 0 | E419: 0 | F419: 0 | G419: 0 | H419: 0 | I419: 14524170 | J419: 0 | K419: 0
A420: 14509379 | B420: 0 | C420: 0 | D420: 0 | E420: 0 | F420: 0 | G420: 0 | H420: 0 | I420: 14509379 | J420: 0 | K420: 0
A421: EDL26000TE | B421: 0 | C421: 0 | D421: 0 | E421: 0 | F421: 0 | G421: 0 | H421: 0 | I421: EDL26000TE | J421: 0 | K421: 0
A422: EDL11000SE | B422: 0 | C422: 0 | D422: 0 | E422: 0 | F422: 0 | G422: 0 | H422: 0 | I422: EDL11000SE | J422: 0 | K422: 0
A423: EDL13000STE | B423: 0 | C423: 0 | D423: 0 | E423: 0 | F423: 0 | G423: 0 | H423: 0 | I423: EDL13000STE | J423: 0 | K423: 0
A424: EF12000E | B424: 0 | C424: 0 | D424: 0 | E424: 0 | F424: 0 | G424: 0 | H424: 0 | I424: EF12000E | J424: 0 | K424: 0
A425: GSV7500REX | B425: 0 | C425: 0 | D425: 0 | E425: 0 | F425: 0 | G425: 0 | H425: 0 | I425: GSV7500REX | J425: 0 | K425: 0
A426: EDL11000E | B426: 0 | C426: 0 | D426: 0 | E426: 0 | F426: 0 | G426: 0 | H426: 0 | I426: EDL11000E | J426: 0 | K426: 0
A427: EDL16000E | B427: 0 | C427: 0 | D427: 0 | E427: 0 | F427: 0 | G427: 0 | H427: 0 | I427: EDL16000E | J427: 0 | K427: 0
A428: EDL21000E | B428: 0 | C428: 0 | D428: 0 | E428: 0 | F428: 0 | G428: 0 | H428: 0 | I428: EDL21000E | J428: 0 | K428: 0
A429: EDL13000TE | B429: 0 | C429: 0 | D429: 0 | E429: 0 | F429: 0 | G429: 0 | H429: 0 | I429: EDL13000TE | J429: 0 | K429: 0
A430: EDL20000TE | B430: 0 | C430: 0 | D430: 0 | E430: 0 | F430: 0 | G430: 0 | H430: 0 | I430: EDL20000TE | J430: 0 | K430: 0
A431: EDL18000STE | B431: 0 | C431: 0 | D431: 0 | E431: 0 | F431: 0 | G431: 0 | H431: 0 | I431: EDL18000STE | J431: 0 | K431: 0
A432: EDL30000STE | B432: 0 | C432: 0 | D432: 0 | E432: 0 | F432: 0 | G432: 0 | H432: 0 | I432: EDL30000STE | J432: 0 | K432: 0
... A439: SGB7001HSa | B439: 0 | C439: 0 | D439: 0 | E439: 0 | F439: 0 | G439: 0 | H439: 0 | I439: SGB7001HSa | J439: 0 | K439: 0
A440: 691782 | B440: 0 | C440: 0 | D440: 0 | E440: 0 | F440: 0 | G440: 0 | H440: 0 | I440: 691782 | J440: 0 | K440: 0
A441: 692250 | B441: 0.15 | C441: 0 | D441: 0 | E441: 0.675 | F441: 0.555 | G441: 0.6 | H441: 0 | I441: 692250 | J441: 0 | K441: 0
A442: 692332 | B442: 5 | C442: 18 | D442: 3.05 | E442: 0 | F442: 2.18 | G442: 2 | H442: 0 | I442: 692332 | J442: 0 | K442: 44
A443: 692334 | B443: 1 | C443: 1 | D443: 1 | E443: 1 | F443: 2 | G443: 1 | H443: 12 | I443: 692334 | J443: 7 | K443: 2
A444: 692179 | B444: 0 | C444: 0 | D444: 0 | E444: 0 | F444: 0 | G444: 0 | H444: 0 | I444: 692179 | J444: 0 | K444: 0
A445: 692178 | B445: 0 | C445: 0 | D445: 0 | E445: 0 | F445: 0 | G445: 0 | H445: 0 | I445: 692178 | J445: 0 | K445: 0
A446: 692027 | B446: 9 | C446: 18 | D446: 31 | E446: 12 | F446: 15 | G446: 6 | H446: 11.77 | I446: 692027 | J446: 2 | K446: 2
A447: 692026 | B447: 1.05 | C447: 0 | D447: 0.1 | E447: 1.15 | F447: 0.125 | G447: 1.12 | H447: 0.06 | I447: 692026 | J447: 0 | K447: 0
A448: 718637 | B448: 0 | C448: 0 | D448: 0 | E448: 0 | F448: 0 | G448: 0 | H448: 0 | I448: 718637 | J448: 0 | K448: 0
A449: 692079 | B449: 5 | C449: 6 | D449: 1 | E449: 5 | F449: 4 | G449: 0 | H449: 0 | I449: 692079 | J449: 0 | K449: 2
A450: 692077 | B450: 0 | C450: 0 | D450: 0 | E450: 0 | F450: 0 | G450: 3 | H450: 0 | I450: 692077 | J450: 1 | K450: 1
A451: 692030 | B451: 0 | C451: 0 | D451: 0 | E451: 0 | F451: 0 | G451: 0 | H451: 0 | I451: 692030 | J451: 0 | K451: 0
... A457: 691781 | B457: 0 | C457: 0 | D457: 0 | E457: 0 | F457: 0 | G457: 0 | H457: 0 | I457: 691781 | J457: 0 | K457: 0
A458: VOE15067197 | B458: 4 | C458: 453 | D458: 131 | E458: 26 | F458: 224 | G458: 245 | H458: 394 | I458: VOE15067197 | J458: 79 | K458: 7
A459: VOE15067404 | B459: 3.3846 | C459: 0 | D459: 0.09615 | E459: 52.1971 | F459: 21 | G459: 71.22556 | H459: 14.09615 | I459: VOE15067404 | J459: 3 | K459: 0
A460: VOE15058186 | B460: 4 | C460: 0 | D460: 3 | E460: 0 | F460: 0 | G460: 0 | H460: 7 | I460: VOE15058186 | J460: 2 | K460: 13
A461: VOE15058191 | B461: 3 | C461: 1 | D461: 5 | E461: 0 | F461: 0 | G461: 2.48077 | H461: 1 | I461: VOE15058191 | J461: 0 | K461: 0
A462: VOE15067098 | B462: 0 | C462: 5 | D462: 0 | E462: 12 | F462: 2 | G462: 2 | H462: 2 | I462: VOE15067098 | J462: 0 | K462: 1
A463: VOE15067157 | B463: 0 | C463: 0 | D463: 0 | E463: 0 | F463: 0 | G463: 0 | H463: 0 | I463: VOE15067157 | J463: 0 | K463: 0
A464: VOE15058290 | B464: 8 | C464: 20 | D464: 33 | E464: 0 | F464: 0 | G464: 0 | H464: 0 | I464: VOE15058290 | J464: 0 | K464: 1
A465: VOE15058299 | B465: 0 | C465: 0 | D465: 0 | E465: 0 | F465: 0 | G465: 0 | H465: 0 | I465: VOE15058299 | J465: 0 | K465: 0
A466: VOE15067515 | B466: 12 | C466: 3 | D466: 6 | E466: 5 | F466: 4 | G466: 12 | H466: 20 | I466: VOE15067515 | J466: 14 | K466: 34
A467: VOE15067522 | B467: 5 | C467: 1 | D467: 8 | E467: 7 | F467: 12 | G467: 16 | H467: 31 | I467: VOE15067522 | J467: 13.8 | K467: 1
A468: VOE15067640 | B468: 0 | C468: 0 | D468: 0 | E468: 0 | F468: 0 | G468: 0 | H468: 1 | I468: VOE15067640 | J468: 0 | K468: 0
A469: VOE15161234 | B469: 2 | C469: 1 | D469: 5 | E469: 0 | F469: 12 | G469: 12.777 | H469: 8 | I469: VOE15161234 | J469: 0 | K469: 0
A470: 692069 | B470: 0 | C470: 0 | D470: 0 | E470: 0 | F470: 0 | G470: 0 | H470: 0 | I470: 692069 | J470: 0 | K470: 0
A471: 692070 | B471: 0 | C471: 1 | D471: 0 | E471: 0 | F471: 0 | G471: 0 | H471: 0 | I471: 692070 | J471: 0 | K471: 0
A472: 692053 | B472: 9 | C472: 16 | D472: 2 | E472: 329 | F472: 170 | G472: 65 | H472: 400 | I472: 692053 | J472: 45 | K472: 120.34
A473: 692052 | B473: 0 | C473: 2 | D473: 34 | E473: 10 | F473: 20 | G473: 94 | H473: 87 | I473: 692052 | J473: 169.9 | K473: 73.825
A474: 692172 | B474: 0 | C474: 0 | D474: 0 | E474: 0 | F474: 0 | G474: 0 | H474: 0 | I474: 692172 | J474: 0 | K474: 0
A475: 692090 | B475: 0 | C475: 0 | D475: 0 | E475: 0 | F475: 0 | G475: 0 | H475: 0 | I475: 692090 | J475: 0 | K475: 0
A476: 692335 | B476: 2 | C476: 4 | D476: 10 | E476: 8 | F476: 9 | G476: 6 | H476: 35 | I476: 692335 | J476: 20 | K476: 2
A477: VOE15067629 | B477: 0 | C477: 0 | D477: 0 | E477: 0 | F477: 0 | G477: 0 | H477: 0 | I477: VOE15067629 | J477: 0 | K477: 0
A478: VOE15143928 | B478: 0 | C478: 0 | D478: 0 | E478: 0 | F478: 0 | G478: 0 | H478: 40 | I478: VOE15143928 | J478: 0 | K478: 0
A479: VOE15198387 | B479: 0 | C479: 0 | D479: 0 | E479: 0 | F479: 0 | G479: 0 | H479: 0 | I479: VOE15198387 | J479: 0 | K479: 0
A480: 692415 | B480: 0 | C480: 0 | D480: 0 | E480: 0 | F480: 0 | G480: 0 | H480: 0 | I480: 692415 | J480: 0 | K480: 0
A481: 793316 | B481: 0 | C481: 0 | D481: 0 | E481: 0 | F481: 0 | G481: 0 | H481: 0 | I481: 793316 | J481: 0 | K481: 0
A482: 685850 | B482: 0 | C482: 0 | D482: 0 | E482: 0 | F482: 0 | G482: 0 | H482: 0 | I482: 685850 | J482: 1 | K482: 0
...

Sheet Br closing
A1: LF 678 | B1: 0
A2: LF 701 | B2: 0
A3: 691782 | B3: 0
A4: 692250 | B4: 0
A5: 692332 | B5: 22
A6: 692334 | B6: 3
A7: 692178 | B7: 0
A8: 692027 | B8: 6
A9: 692026 | B9: 1.37
A10: 692079 | B10: 15
A11: 692077 | B11: 1.88
A12: 692030 | B12: 0
A13: 686033 | B13: 0
A14: 686032 | B14: 0
... A18: 691781 | B18: 0
A19: VOE15067197 | B19: 11
A20: VOE15067404 | B20: 0.00044
A21: VOE15058186 | B21: 13
A22: VOE15058191 | B22: 0
A23: VOE15067098 | B23: 6
A24: VOE15067157 | B24: 0
A25: VOE15058290 | B25: 0
A26: VOE15067515 | B26: 60
A27: VOE15067522 | B27: 13
A28: VOE15067640 | B28: 9
A29: VOE15161234 | B29: 10
A30: 692070 | B30: 0
A31: 692053 | B31: 58.66
A32: 692052 | B32: 11.275
A33: 692172 | B33: 0
A34: 692090 | B34: 0
A35: 692335 | B35: 13
A36: VOE15143928 | B36: 0
A37: VOE15198387 | B37: 7
A38: 685850 | B38: 0
A39: 692054 | B39: 27
A40: 724027 | B40: 0
A41: 793317 | B41: 7
A42: 692247 | B42: 177
A43: 732728 | B43: 0
A44: 692249 | B44: 289
A45: 772588 | B45: 0
A46: 724026 | B46: 0
A47: 691970 | B47: 352
A48: 691870 | B48: 0
A49: 692051 | B49: 0
... A61: 692333 | B61: 9
A62: VOE15067446 | B62: 0
A63: 691849 | B63: 0
A64: ZXEDRU1 | B64: 64
A65: 841092 | B65: 0
A66: 795005 | B66: 0
A67: 841078 | B67: 2
A68: 3140015-120 | B68: 0
A69: 844573 | B69: 276
A70: SRA15036348 | B70: 0
A71: KTZ43.7, 380V/50Hz | B71: 0
A72: KRS2-80, 380V/50Hz | B72: 0
A73: KRS2-100, 380V/50Hz | B73: 0
A74: 021-007-43_HS 2.4SImpeller | B74: 0
A75: 021L1617-9 | B75: 0
A76: 022748-18 | B76: 0
A77: 032 11117 | B77: 0
A78: 2200052 | B78: 0
A79: 2200053 | B79: 0
A80: 2200055 | B80: 0
A81: 50 PUMA2.15S | B81: 0
A82: 801-02155223 | B82: 0
A83: 801-02155412-9 | B83: 0
A84: Coupling 2 | B84: 0
A85: Coupling 3 | B85: 0
A86: LSC1.4S, 220/50Hz | B86: 2
A87: LSP1.4S, 220/50Hz | B87: 0
A88: TE5-80H | B88: 0
A89: TE5-50H | B89: 0
A90: LH 311 (coupling 3 inch) | B90: 0
A91: HS2.75S, 220V/50Hz | B91: 0
A92: HS2.4S, 220V/50Hz | B92: 2
... A159: Tube for Deutz Fahr Tyre(460/85R34) | B159: 0
A160: 9902 | B160: 0
A161: 9909 | B161: 0
A162: 4483 | B162: 0
A163: 3903 | B163: 0
A164: 3832 | B164: 0
A165: 3602 | B165: 0
A166: 3713 | B166: 0
A167: 8201 | B167: 0
A168: 4464 | B168: 0
A169: 4496 | B169: 0
A170: Tube for TBR Tyre (10.00R20) | B170: 0
A171: VV3246 | B171: 89
A172: 804751 | B172: 57
