Workbook

Sheet Branch
M4: Calculation based on Actual Sales | W4: Calculation based on W/H Issuing
A5: No. | B5: Brand | C5: Description | D5: Pack Size | H5: Part No | I5: Unit Code | J5: Moving Item | K5: Closing Balance Qty | L5: Pending PO Qty | M5: Month | N5: Month | O5: Month | P5: Month | Q5: Avg sale | R5: Estimated Stk in hand condition | S5: Estimated Order Plan | U5: Final Order Qty | W5: Month | X5: Month | Y5: Month | Z5: Month | AA5: Avg Issue | AB5: Estimated Stk in hand condition | AC5: Estimated Order Plan
Q7: =SUM(M7:P7)/4 -> 0 | R7: =(K7+L7)-Q7 -> 0 | S7: =Q7-R7 -> 0 | AA7: =SUM(W7:Z7)/4 -> 0 | AB7: =(K7+L7)-AA7 -> 0 | AC7: =AA7-AB7 -> 0
Q8: =SUM(M8:P8)/4 -> 0 | R8: =K8-(L8+Q8) -> 0 | S8: =Q8-R8 -> 0 | AA8: =SUM(W8:Z8)/4 -> 0
Q9: =SUM(M9:P9)/4 -> 0 | R9: =K9-(L9+Q9) -> 0 | S9: =Q9-R9 -> 0 | AA9: =SUM(W9:Z9)/4 -> 0
Q10: =SUM(M10:P10)/4 -> 0 | R10: =K10-(L10+Q10) -> 0 | S10: =Q10-R10 -> 0 | AA10: =SUM(W10:Z10)/4 -> 0
A14: Importation Lead Time (PO ~ MAI)
A15: 1 | B15: Lubricant | C15: 2 months
A16: 2 | B16: Tyre | C16: 3 months
A17: 3 | B17: Generator | C17: 4 months
A18: 4 | B18: Pump | C18: 5 months

Sheet draft
P4: Calculation based on Actual Sales | AB4: Calculation based on W/H Issuing
A5: No. | B5: Brand | C5: Description | D5: Pack Size | H5: Part No | I5: Unit Code | J5: Moving Item | K5: Closing Balance Qty | L5: At the Port (Qty) | M5: On The Way (Qty) | N5: Waiting Shipment (Qty) | O5: Branch Outstanding PO Qty | P5: Feb | Q5: Mar | R5: Apr | S5: May | T5: Jun | U5: Jul | V5: Avg sale | W5: Estimated Stk in hand condition | X5: Estimated Order Plan | Z5: Final Order Qty | AB5: Feb | AC5: Mar | AD5: Apr | AE5: May | AF5: Jun | AG5: Jul | AH5: Avg Issue | AI5: Estimated Stk in hand condition | AJ5: Estimated Order Plan
A7: 1 | B7: Champion | C7: Spark Plug | D7: 1 | F7: 200 | H7: PRG7C | I7: Pcs | J7: FM | K7: 14912 | P7: 90 | Q7: 120 | R7: 180 | S7: 310 | T7: 100 | U7: 110 | V7: =SUM(P7:U7)/6 -> 151.66667 | W7: =(K7+L7+M7+N7)-(O7+V7) -> 14760.333 | X7: =(V7*2)-W7 -> -14457 | AH7: =SUM(AB7:AG7)/7 -> 0 | AI7: =(K7+L7+M7+N7)-(O7+AH7) -> 14912 | AJ7: =(AH7*2)-AI7 -> -14912
A8: 2 | B8: Champion | C8: Spark Plug | D8: 1 | F8: 200 | H8: RC10YC4 | I8: Pcs | J8: FM | K8: 6842 | S8: 100 | T8: 590 | U8: 640 | V8: =SUM(P8:U8)/6 -> 221.66667 | W8: =(K8+L8+M8+N8)-(O8+V8) -> 6620.3333 | X8: =(V8*2)-W8 -> -6177 | AH8: =SUM(AB8:AG8)/7 -> 0 | AI8: =(K8+L8+M8+N8)-(O8+AH8) -> 6842 | AJ8: =(AH8*2)-AI8 -> -6842
A9: 3 | B9: Champion | C9: Spark Plug | H9: Z9Y | I9: Pcs | J9: FM | K9: 9055 | P9: 51 | Q9: 260 | R9: 355 | S9: 461 | T9: 295 | U9: 370 | V9: =SUM(P9:U9)/6 -> 298.66667 | W9: =(K9+L9+M9+N9)-(O9+V9) -> 8756.3333 | X9: =(V9*2)-W9 -> -8159 | AH9: =SUM(AB9:AG9)/7 -> 0 | AI9: =(K9+L9+M9+N9)-(O9+AH9) -> 9055 | AJ9: =(AH9*2)-AI9 -> -9055
A10: 4 | B10: ECED | C10: ECED TBR 10.00R20, BT168,TT (Standard) | H10: 10.00R20, BT168 | I10: Set | J10: FM | K10: 27 | P10: 10 | Q10: 59 | R10: 28 | S10: 6 | T10: 14 | U10: 6 | V10: =SUM(P10:U10)/6 -> 20.5 | W10: =(K10+L10+M10+N10)-(O10+V10) -> 6.5 | X10: =(V10*2)-W10 -> 34.5 | AH10: =SUM(AB10:AG10)/7 -> 0 | AI10: =(K10+L10+M10+N10)-(O10+AH10) -> 27 | AJ10: =(AH10*2)-AI10 -> -27
A11: 5 | B11: ECED | C11: ECED TBR 10.00R20, BT188,TT (Standard) | H11: 10.00R20, BT188 | I11: Set | J11: FM | K11: 19 | P11: 46 | Q11: 25 | R11: 16 | S11: 4 | T11: 6 | U11: 25 | V11: =SUM(P11:U11)/6 -> 20.333333 | W11: =(K11+L11+M11+N11)-(O11+V11) -> -1.3333333 | X11: =(V11*2)-W11 -> 42 | AH11: =SUM(AB11:AG11)/7 -> 0 | AI11: =(K11+L11+M11+N11)-(O11+AH11) -> 19 | AJ11: =(AH11*2)-AI11 -> -19
A12: 6 | B12: ECED | C12: ECED TBR 11.00R20, BT118,TT (Standard) | H12: 11.00R20, BT118 | I12: Set | J12: FM | K12: 22 | P12: 202 | Q12: 8 | R12: 8 | S12: 6 | T12: 6 | U12: 6 | V12: =SUM(P12:U12)/6 -> 39.333333 | W12: =(K12+L12+M12+N12)-(O12+V12) -> -17.333333 | X12: =(V12*2)-W12 -> 96 | AH12: =SUM(AB12:AG12)/7 -> 0 | AI12: =(K12+L12+M12+N12)-(O12+AH12) -> 22 | AJ12: =(AH12*2)-AI12 -> -22
A13: 7 | B13: ECED | C13: ECED TBR 11.00.R20, BT168,TT (Standard) | H13: 11.00R20, BT168 | I13: Set | J13: FM | K13: 36 | P13: 9 | Q13: 13 | R13: 16 | S13: 15 | T13: 50 | U13: 56 | V13: =SUM(P13:U13)/6 -> 26.5 | W13: =(K13+L13+M13+N13)-(O13+V13) -> 9.5 | X13: =(V13*2)-W13 -> 43.5 | AH13: =SUM(AB13:AG13)/7 -> 0 | AI13: =(K13+L13+M13+N13)-(O13+AH13) -> 36 | AJ13: =(AH13*2)-AI13 -> -36
A14: 8 | B14: ECED | C14: ECED TBR 11R22.5, BT218,TL | H14: 11R22.5, BT218 | I14: Set | J14: FM | K14: 2 | P14: 11 | Q14: 2 | R14: 765 | S14: 22 | T14: 10 | U14: 28 | V14: =SUM(P14:U14)/6 -> 139.66667 | W14: =(K14+L14+M14+N14)-(O14+V14) -> -137.66667 | X14: =(V14*2)-W14 -> 417 | AH14: =SUM(AB14:AG14)/7 -> 0 | AI14: =(K14+L14+M14+N14)-(O14+AH14) -> 2 | AJ14: =(AH14*2)-AI14 -> -2
A15: 9 | B15: ECED | C15: ECED TBR 265/70R19.5, BT 929, TL (Standard) | H15: 265/70R19.5, BT929 | I15: Set | J15: FM | K15: 64 | P15: 50 | Q15: 18 | R15: 44 | S15: 27 | T15: 22 | U15: 25 | V15: =SUM(P15:U15)/6 -> 31 | W15: =(K15+L15+M15+N15)-(O15+V15) -> 33 | X15: =(V15*2)-W15 -> 29 | AH15: =SUM(AB15:AG15)/7 -> 0 | AI15: =(K15+L15+M15+N15)-(O15+AH15) -> 64 | AJ15: =(AH15*2)-AI15 -> -64
A16: 10 | B16: Valvoline | C16: 4T Premium 20W40, SL, JASO MA | D16: 24 | E16: x | F16: 1 | G16: L | H16: 692247 | I16: Bottle | J16: FM | K16: 3539 | P16: 892 | Q16: 299 | R16: 342 | S16: 490 | T16: 775 | U16: 853 | V16: =SUM(P16:U16)/6 -> 608.5 | W16: =(K16+L16+M16+N16)-(O16+V16) -> 2930.5 | X16: =(V16*2)-W16 -> -1713.5 | AH16: =SUM(AB16:AG16)/7 -> 0 | AI16: =(K16+L16+M16+N16)-(O16+AH16) -> 3539 | AJ16: =(AH16*2)-AI16 -> -3539
A17: 11 | B17: Valvoline | C17: 4T Premium 20W40, SL, JASO MA | D17: 24 | E17: x | F17: 0.8 | G17: L | H17: 732728 | I17: Bottle | J17: FM | K17: 404 | P17: 69 | Q17: 21 | S17: 27 | T17: 14 | U17: 332 | V17: =SUM(P17:U17)/6 -> 77.166667 | W17: =(K17+L17+M17+N17)-(O17+V17) -> 326.83333 | X17: =(V17*2)-W17 -> -172.5 | AH17: =SUM(AB17:AG17)/7 -> 0 | AI17: =(K17+L17+M17+N17)-(O17+AH17) -> 404 | AJ17: =(AH17*2)-AI17 -> -404
A18: 12 | B18: Valvoline | C18: All Fleet Premium 15W40, CI-4/SL | D18: 24 | E18: x | F18: 1 | G18: L | H18: 691970 | I18: Bottle | J18: FM | K18: 2001 | P18: 351 | Q18: 70 | R18: 354 | S18: 337 | T18: 174 | U18: 130 | V18: =SUM(P18:U18)/6 -> 236 | W18: =(K18+L18+M18+N18)-(O18+V18) -> 1765 | X18: =(V18*2)-W18 -> -1293 | AH18: =SUM(AB18:AG18)/7 -> 0 | AI18: =(K18+L18+M18+N18)-(O18+AH18) -> 2001 | AJ18: =(AH18*2)-AI18 -> -2001
A19: 13 | B19: Valvoline | C19: All Fleet Premium 15W40, CI-4/SL | D19: 1 | E19: x | F19: 200 | G19: L | H19: 692052 | I19: Drum | J19: FM | K19: 194 | P19: 85.2 | Q19: 83 | R19: 94 | S19: 114.11 | T19: 115.16 | U19: 76 | V19: =SUM(P19:U19)/6 -> 94.578333 | W19: =(K19+L19+M19+N19)-(O19+V19) -> 99.421667 | X19: =(V19*2)-W19 -> 89.735 | AH19: =SUM(AB19:AG19)/7 -> 0 | AI19: =(K19+L19+M19+N19)-(O19+AH19) -> 194 | AJ19: =(AH19*2)-AI19 -> -194
A20: 14 | B20: Valvoline | C20: All Fleet Premium 15W40, CI-4/SL | D20: 1 | E20: x | F20: 18 | G20: L | H20: 692053 | I20: Can | J20: FM | K20: 465 | P20: 300 | Q20: 408 | R20: 258 | S20: 387 | T20: 360 | U20: 261 | V20: =SUM(P20:U20)/6 -> 329 | W20: =(K20+L20+M20+N20)-(O20+V20) -> 136 | X20: =(V20*2)-W20 -> 522 | AH20: =SUM(AB20:AG20)/7 -> 0 | AI20: =(K20+L20+M20+N20)-(O20+AH20) -> 465 | AJ20: =(AH20*2)-AI20 -> -465
A21: 15 | B21: Valvoline | C21: All Fleet Premium 15W40, CI-4/SL | D21: 4 | E21: x | F21: 5 | G21: L | H21: 692054 | I21: Bottle | J21: FM | K21: 901 | P21: 405 | Q21: 186 | R21: 209 | S21: 305 | T21: 280 | U21: 154 | V21: =SUM(P21:U21)/6 -> 256.5 | W21: =(K21+L21+M21+N21)-(O21+V21) -> 644.5 | X21: =(V21*2)-W21 -> -131.5 | AH21: =SUM(AB21:AG21)/7 -> 0 | AI21: =(K21+L21+M21+N21)-(O21+AH21) -> 901 | AJ21: =(AH21*2)-AI21 -> -901
A22: 16 | B22: Valvoline | C22: All Fleet Turbo 15W40, CF-4/SG | D22: 4 | E22: x | F22: 5 | G22: L | H22: 692128 | I22: Bottle | J22: FM | K22: 506 | P22: 66 | Q22: 73 | R22: 38 | S22: 63 | T22: 99 | U22: 80 | V22: =SUM(P22:U22)/6 -> 69.833333 | W22: =(K22+L22+M22+N22)-(O22+V22) -> 436.16667 | X22: =(V22*2)-W22 -> -296.5 | AH22: =SUM(AB22:AG22)/7 -> 0 | AI22: =(K22+L22+M22+N22)-(O22+AH22) -> 506 | AJ22: =(AH22*2)-AI22 -> -506
A23: 17 | B23: Valvoline | C23: All Fleet Turbo 15W40, CF-4/SG | D23: 24 | E23: x | F23: 1 | G23: L | H23: 692171 | I23: Bottle | J23: FM | K23: 229 | P23: 78 | Q23: 3 | R23: 27 | S23: 34 | T23: 34 | U23: 136 | V23: =SUM(P23:U23)/6 -> 52 | W23: =(K23+L23+M23+N23)-(O23+V23) -> 177 | X23: =(V23*2)-W23 -> -73 | AH23: =SUM(AB23:AG23)/7 -> 0 | AI23: =(K23+L23+M23+N23)-(O23+AH23) -> 229 | AJ23: =(AH23*2)-AI23 -> -229
A24: 18 | B24: Valvoline | C24: Champ 4T 20W50, SG/CD | D24: 24 | E24: x | F24: 0.8 | G24: L | H24: 692249 | I24: Bottle | J24: FM | K24: 5720 | P24: 4144 | Q24: 1948 | R24: 1464 | S24: 2968 | T24: 3538 | U24: 3167 | V24: =SUM(P24:U24)/6 -> 2871.5 | W24: =(K24+L24+M24+N24)-(O24+V24) -> 2848.5 | X24: =(V24*2)-W24 -> 2894.5 | AH24: =SUM(AB24:AG24)/7 -> 0 | AI24: =(K24+L24+M24+N24)-(O24+AH24) -> 5720 | AJ24: =(AH24*2)-AI24 -> -5720
A25: 19 | B25: Valvoline | C25: Champ 4T 20W50, SG/CD | D25: 24 | E25: x | F25: 0.8 | G25: L | H25: 772588 | I25: Bottle | J25: FM | K25: 58 | P25: 108 | Q25: 188 | R25: 4 | S25: 144 | T25: 86 | U25: 311 | V25: =SUM(P25:U25)/6 -> 140.16667 | W25: =(K25+L25+M25+N25)-(O25+V25) -> -82.166667 | X25: =(V25*2)-W25 -> 362.5 | AH25: =SUM(AB25:AG25)/7 -> 0 | AI25: =(K25+L25+M25+N25)-(O25+AH25) -> 58 | AJ25: =(AH25*2)-AI25 -> -58
A26: 20 | B26: Valvoline | C26: Champ 4T Scooter 10W30 (24x1L) | D26: 24 | E26: x | F26: 1 | G26: L | H26: 841092 | I26: Bottle | J26: FM | K26: 908 | P26: 69 | Q26: 32 | R26: 7 | S26: 54 | T26: 35 | U26: 266 | V26: =SUM(P26:U26)/6 -> 77.166667 | W26: =(K26+L26+M26+N26)-(O26+V26) -> 830.83333 | X26: =(V26*2)-W26 -> -676.5 | AH26: =SUM(AB26:AG26)/7 -> 0 | AI26: =(K26+L26+M26+N26)-(O26+AH26) -> 908 | AJ26: =(AH26*2)-AI26 -> -908
A27: 21 | B27: Valvoline | C27: Champ 4T Scooter 10W40 (24x1L) | D27: 24 | E27: x | F27: 1 | G27: L | H27: 841078 | I27: Bottle | J27: FM | K27: 878 | P27: 153 | Q27: 16 | R27: 37 | S27: 79 | T27: 132 | U27: 284 | V27: =SUM(P27:U27)/6 -> 116.83333 | W27: =(K27+L27+M27+N27)-(O27+V27) -> 761.16667 | X27: =(V27*2)-W27 -> -527.5 | AH27: =SUM(AB27:AG27)/7 -> 0 | AI27: =(K27+L27+M27+N27)-(O27+AH27) -> 878 | AJ27: =(AH27*2)-AI27 -> -878
A28: 22 | B28: Valvoline | C28: Champ 4T Synth 10W40, SJ/JASO MA2 | D28: 24 | E28: x | F28: 0.8 | G28: L | H28: 804562 (807562) | I28: Bottle | J28: FM | K28: 1421 | P28: 50 | Q28: 61 | R28: 37 | S28: 66 | T28: 98 | U28: 333 | V28: =SUM(P28:U28)/6 -> 107.5 | W28: =(K28+L28+M28+N28)-(O28+V28) -> 1313.5 | X28: =(V28*2)-W28 -> -1098.5 | AH28: =SUM(AB28:AG28)/7 -> 0 | AI28: =(K28+L28+M28+N28)-(O28+AH28) -> 1421 | AJ28: =(AH28*2)-AI28 -> -1421
A29: 23 | B29: Valvoline | C29: Crimson Grease, NLGI 3 | D29: 1 | E29: x | F29: 20 | G29: KG | H29: 793317 | I29: Can | J29: FM | K29: 66 | P29: 8 | Q29: 33 | R29: 24 | S29: 27 | T29: 45 | U29: 28 | V29: =SUM(P29:U29)/6 -> 27.5 | W29: =(K29+L29+M29+N29)-(O29+V29) -> 38.5 | X29: =(V29*2)-W29 -> 16.5 | AH29: =SUM(AB29:AG29)/7 -> 0 | AI29: =(K29+L29+M29+N29)-(O29+AH29) -> 66 | AJ29: =(AH29*2)-AI29 -> -66
A30: 24 | B30: Valvoline | C30: DEX III ATF | D30: 24 | E30: x | F30: 1 | G30: L | H30: 692180 | I30: Bottle | J30: FM | K30: 941 | P30: 163 | Q30: 96 | R30: 138 | S30: 60 | T30: 94 | U30: 215 | V30: =SUM(P30:U30)/6 -> 127.66667 | W30: =(K30+L30+M30+N30)-(O30+V30) -> 813.33333 | X30: =(V30*2)-W30 -> -558 | AH30: =SUM(AB30:AG30)/7 -> 0 | AI30: =(K30+L30+M30+N30)-(O30+AH30) -> 941 | AJ30: =(AH30*2)-AI30 -> -941
A31: 25 | B31: Valvoline | C31: Durablend 10W40, SN | D31: 4 | E31: x | F31: 4 | G31: L | H31: 690814 | I31: Bottle | J31: FM | K31: 681 | P31: 362 | Q31: 122 | R31: 243 | S31: 349 | T31: 406 | U31: 224 | V31: =SUM(P31:U31)/6 -> 284.33333 | W31: =(K31+L31+M31+N31)-(O31+V31) -> 396.66667 | X31: =(V31*2)-W31 -> 172 | AH31: =SUM(AB31:AG31)/7 -> 0 | AI31: =(K31+L31+M31+N31)-(O31+AH31) -> 681 | AJ31: =(AH31*2)-AI31 -> -681
A32: 26 | B32: Valvoline | C32: Durablend 10W40, SN | D32: 6 | E32: x | F32: 1 | G32: L | H32: 691848 | I32: Bottle | J32: FM | K32: 562 | P32: 86 | Q32: 26 | R32: 113 | S32: 107 | T32: 84 | U32: 162 | V32: =SUM(P32:U32)/6 -> 96.333333 | W32: =(K32+L32+M32+N32)-(O32+V32) -> 465.66667 | X32: =(V32*2)-W32 -> -273 | AH32: =SUM(AB32:AG32)/7 -> 0 | AI32: =(K32+L32+M32+N32)-(O32+AH32) -> 562 | AJ32: =(AH32*2)-AI32 -> -562
A33: 27 | B33: Valvoline | C33: Gear Gard Super 140, GL-5 | D33: 1 | E33: x | F33: 18 | G33: L | H33: 692079 | I33: Can | J33: FM | K33: 48 | P33: 22 | Q33: 39 | R33: 18 | S33: 18 | T33: 13 | U33: 14 | V33: =SUM(P33:U33)/6 -> 20.666667 | W33: =(K33+L33+M33+N33)-(O33+V33) -> 27.333333 | X33: =(V33*2)-W33 -> 14 | AH33: =SUM(AB33:AG33)/7 -> 0 | AI33: =(K33+L33+M33+N33)-(O33+AH33) -> 48 | AJ33: =(AH33*2)-AI33 -> -48
A34: 28 | B34: Valvoline | C34: Gear Oil Tube | D34: 60 | E34: x | F34: 0.12 | G34: L | H34: 3140015-120 | I34: Bottle | J34: FM | K34: 1381 | S34: 195 | T34: 170 | U34: 306 | V34: =SUM(P34:U34)/6 -> 111.83333 | W34: =(K34+L34+M34+N34)-(O34+V34) -> 1269.1667 | X34: =(V34*2)-W34 -> -1045.5 | AH34: =SUM(AB34:AG34)/7 -> 0 | AI34: =(K34+L34+M34+N34)-(O34+AH34) -> 1381 | AJ34: =(AH34*2)-AI34 -> -1381
A35: 29 | B35: Valvoline | C35: Premium Conventional Motor Oil 10W30, SM/CF | D35: 4 | E35: x | F35: 4 | G35: L | H35: 691849 | I35: Bottle | J35: FM | K35: 536 | P35: 231 | Q35: 19 | R35: 232 | S35: 269 | T35: 264 | U35: 128 | V35: =SUM(P35:U35)/6 -> 190.5 | W35: =(K35+L35+M35+N35)-(O35+V35) -> 345.5 | X35: =(V35*2)-W35 -> 35.5 | AH35: =SUM(AB35:AG35)/7 -> 0 | AI35: =(K35+L35+M35+N35)-(O35+AH35) -> 536 | AJ35: =(AH35*2)-AI35 -> -536
A36: 30 | B36: Valvoline | C36: Premium Conventional Motor Oil 10W30, SM/CF | D36: 24 | E36: x | F36: 1 | G36: L | H36: 691918 | I36: Bottle | J36: FM | K36: 525 | P36: 67 | Q36: 204 | R36: 122 | S36: 173 | T36: 114 | U36: 143 | V36: =SUM(P36:U36)/6 -> 137.16667 | W36: =(K36+L36+M36+N36)-(O36+V36) -> 387.83333 | X36: =(V36*2)-W36 -> -113.5 | AH36: =SUM(AB36:AG36)/7 -> 0 | AI36: =(K36+L36+M36+N36)-(O36+AH36) -> 525 | AJ36: =(AH36*2)-AI36 -> -525
A37: 31 | B37: Valvoline | C37: Premium Conventional Motor Oil 20W50, SM/CF | D37: 24 | E37: x | F37: 1 | G37: L | H37: 691781 | I37: Bottle | J37: FM | K37: 1317 | P37: 146 | Q37: 161 | R37: 141 | S37: 112 | T37: 200 | U37: 266 | V37: =SUM(P37:U37)/6 -> 171 | W37: =(K37+L37+M37+N37)-(O37+V37) -> 1146 | X37: =(V37*2)-W37 -> -804 | AH37: =SUM(AB37:AG37)/7 -> 0 | AI37: =(K37+L37+M37+N37)-(O37+AH37) -> 1317 | AJ37: =(AH37*2)-AI37 -> -1317
A38: 32 | B38: Valvoline | C38: Premium Conventional Motor Oil 20W50, SM/CF | D38: 4 | E38: x | F38: 4 | G38: L | H38: 691911 | I38: Bottle | J38: FM | K38: 391 | P38: 59 | Q38: 40 | R38: 38 | S38: 96 | T38: 68 | U38: 123 | V38: =SUM(P38:U38)/6 -> 70.666667 | W38: =(K38+L38+M38+N38)-(O38+V38) -> 320.33333 | X38: =(V38*2)-W38 -> -179 | AH38: =SUM(AB38:AG38)/7 -> 0 | AI38: =(K38+L38+M38+N38)-(O38+AH38) -> 391 | AJ38: =(AH38*2)-AI38 -> -391
A39: 33 | B39: Valvoline | C39: Syn power 4T 10W30 (10x0.9L) | D39: 10 | E39: x | F39: 0.9 | G39: L | H39: 795005(504930) | I39: Bottle | J39: FM | K39: 372 | P39: 1 | Q39: 11 | T39: 1 | U39: 107 | V39: =SUM(P39:U39)/6 -> 20 | W39: =(K39+L39+M39+N39)-(O39+V39) -> 352 | X39: =(V39*2)-W39 -> -312 | AH39: =SUM(AB39:AG39)/7 -> 0 | AI39: =(K39+L39+M39+N39)-(O39+AH39) -> 372 | AJ39: =(AH39*2)-AI39 -> -372
A40: 34 | B40: Valvoline | C40: SynPower 5W30, SN/GF-4 | D40: 4 | E40: x | F40: 4 | G40: L | H40: 685850 | I40: Bottle | J40: FM | K40: 185 | P40: 52 | Q40: 13 | R40: 41 | S40: 41 | T40: 19 | U40: 38 | V40: =SUM(P40:U40)/6 -> 34 | W40: =(K40+L40+M40+N40)-(O40+V40) -> 151 | X40: =(V40*2)-W40 -> -83 | AH40: =SUM(AB40:AG40)/7 -> 0 | AI40: =(K40+L40+M40+N40)-(O40+AH40) -> 185 | AJ40: =(AH40*2)-AI40 -> -185
A41: 35 | B41: Valvoline | C41: SynPower 5W30, SN/GF-4 | D41: 6 | E41: x | F41: 1 | G41: L | H41: 686031 | I41: Bottle | J41: FM | K41: 345 | P41: 112 | Q41: 107 | R41: 117 | S41: 116 | T41: 150 | U41: 121 | V41: =SUM(P41:U41)/6 -> 120.5 | W41: =(K41+L41+M41+N41)-(O41+V41) -> 224.5 | X41: =(V41*2)-W41 -> 16.5 | AH41: =SUM(AB41:AG41)/7 -> 0 | AI41: =(K41+L41+M41+N41)-(O41+AH41) -> 345 | AJ41: =(AH41*2)-AI41 -> -345
A42: 36 | B42: Valvoline | C42: SynPower 5W40, SN | D42: 4 | E42: x | F42: 4 | G42: L | H42: 686033 | I42: Bottle | J42: FM | K42: 264 | P42: 31 | Q42: 13 | R42: 26 | S42: 31 | T42: 47 | U42: 14 | V42: =SUM(P42:U42)/6 -> 27 | W42: =(K42+L42+M42+N42)-(O42+V42) -> 237 | X42: =(V42*2)-W42 -> -183 | AH42: =SUM(AB42:AG42)/7 -> 0 | AI42: =(K42+L42+M42+N42)-(O42+AH42) -> 264 | AJ42: =(AH42*2)-AI42 -> -264
A43: 37 | B43: Valvoline | C43: Ultramax AW 46 | D43: 1 | E43: x | F43: 200 | G43: L | H43: 692332 | I43: Drum | J43: FM | K43: 77 | P43: 35.5 | Q43: 42.5 | R43: 31.62 | S43: 44.62 | T43: 52.6 | U43: 34.72 | V43: =SUM(P43:U43)/6 -> 40.26 | W43: =(K43+L43+M43+N43)-(O43+V43) -> 36.74 | X43: =(V43*2)-W43 -> 43.78 | AH43: =SUM(AB43:AG43)/7 -> 0 | AI43: =(K43+L43+M43+N43)-(O43+AH43) -> 77 | AJ43: =(AH43*2)-AI43 -> -77
A44: 38 | B44: Valvoline | C44: Ultramax AW 68 | D44: 1 | E44: x | F44: 200 | G44: L | H44: 692334 | I44: Drum | J44: FM | K44: 150 | P44: 56.5 | Q44: 37.64 | R44: 52 | S44: 72.4 | T44: 43.6 | U44: 34.1 | V44: =SUM(P44:U44)/6 -> 49.373333 | W44: =(K44+L44+M44+N44)-(O44+V44) -> 100.62667 | X44: =(V44*2)-W44 -> -1.88 | AH44: =SUM(AB44:AG44)/7 -> 0 | AI44: =(K44+L44+M44+N44)-(O44+AH44) -> 150 | AJ44: =(AH44*2)-AI44 -> -150
A45: 39 | B45: Valvoline | C45: Valvoline Long Life Coolant RTU | D45: 20 | E45: x | F45: 1 | G45: L | H45: 789360 | I45: Bottle | J45: FM | K45: 4671 | P45: 2070 | Q45: 56 | R45: 956 | S45: 950 | T45: 724 | U45: 766 | V45: =SUM(P45:U45)/6 -> 920.33333 | W45: =(K45+L45+M45+N45)-(O45+V45) -> 3750.6667 | X45: =(V45*2)-W45 -> -1910 | AH45: =SUM(AB45:AG45)/7 -> 0 | AI45: =(K45+L45+M45+N45)-(O45+AH45) -> 4671 | AJ45: =(AH45*2)-AI45 -> -4671
A46: 40 | B46: Volvo | C46: Diesel Engine Oil VDS-3 SAE 15W40 | D46: 1 | E46: x | F46: 20 | G46: L | H46: 85102464 | I46: can | J46: FM | K46: 164 | Q46: 49 | R46: 46 | S46: 19 | T46: 25 | U46: 28 | V46: =SUM(P46:U46)/6 -> 27.833333 | W46: =(K46+L46+M46+N46)-(O46+V46) -> 136.16667 | X46: =(V46*2)-W46 -> -80.5 | AH46: =SUM(AB46:AG46)/7 -> 0 | AI46: =(K46+L46+M46+N46)-(O46+AH46) -> 164 | AJ46: =(AH46*2)-AI46 -> -164
A47: 41 | B47: Volvo | C47: Diesel Engine Oil VDS-3 SAE 15W40 | D47: 1 | E47: x | F47: 208 | G47: L | H47: 85102465 | I47: Drum | J47: FM | K47: 17 | P47: 21 | Q47: 54 | R47: 32 | S47: 86.77 | T47: 41.04 | U47: 16 | V47: =SUM(P47:U47)/6 -> 41.801667 | W47: =(K47+L47+M47+N47)-(O47+V47) -> -24.801667 | X47: =(V47*2)-W47 -> 108.405 | AH47: =SUM(AB47:AG47)/7 -> 0 | AI47: =(K47+L47+M47+N47)-(O47+AH47) -> 17 | AJ47: =(AH47*2)-AI47 -> -17
A48: 42 | B48: Volvo | C48: Gear Oil HD GL-5 SAE 80W-90 | D48: 1 | E48: x | F48: 20 | G48: L | H48: VOE15067515 | I48: Can | J48: FM | K48: 8 | P48: 25 | Q48: 59 | R48: 52 | S48: 78 | T48: 24 | U48: 44 | V48: =SUM(P48:U48)/6 -> 47 | W48: =(K48+L48+M48+N48)-(O48+V48) -> -39 | X48: =(V48*2)-W48 -> 133 | AH48: =SUM(AB48:AG48)/7 -> 0 | AI48: =(K48+L48+M48+N48)-(O48+AH48) -> 8 | AJ48: =(AH48*2)-AI48 -> -8
A49: 43 | B49: Volvo | C49: Gear Oil HD GL-5 SAE 85W-140 | D49: 1 | E49: x | F49: 20 | G49: L | H49: VOE15067522 | I49: Can | J49: FM | K49: 67 | P49: 81 | Q49: 82 | R49: 119 | S49: 133 | T49: 72 | U49: 76 | V49: =SUM(P49:U49)/6 -> 93.833333 | W49: =(K49+L49+M49+N49)-(O49+V49) -> -26.833333 | X49: =(V49*2)-W49 -> 214.5 | AH49: =SUM(AB49:AG49)/7 -> 0 | AI49: =(K49+L49+M49+N49)-(O49+AH49) -> 67 | AJ49: =(AH49*2)-AI49 -> -67
A50: 44 | B50: Volvo | C50: Lithium Grease EP2 | D50: 1 | E50: x | F50: 16 | G50: L | H50: VOE15067640 | I50: Can | J50: FM | K50: 77 | P50: 16 | Q50: 27 | R50: 17 | S50: 34 | T50: 49 | U50: 21 | V50: =SUM(P50:U50)/6 -> 27.333333 | W50: =(K50+L50+M50+N50)-(O50+V50) -> 49.666667 | X50: =(V50*2)-W50 -> 5 | AH50: =SUM(AB50:AG50)/7 -> 0 | AI50: =(K50+L50+M50+N50)-(O50+AH50) -> 77 | AJ50: =(AH50*2)-AI50 -> -77
A51: 45 | B51: Volvo | C51: Super Gear Oil 75W80 | D51: 1 | E51: x | F51: 20 | G51: L | H51: VOE15198387 | I51: Can | J51: FM | K51: 46 | Q51: 50 | R51: 50 | U51: 1 | V51: =SUM(P51:U51)/6 -> 16.833333 | W51: =(K51+L51+M51+N51)-(O51+V51) -> 29.166667 | X51: =(V51*2)-W51 -> 4.5 | AH51: =SUM(AB51:AG51)/7 -> 0 | AI51: =(K51+L51+M51+N51)-(O51+AH51) -> 46 | AJ51: =(AH51*2)-AI51 -> -46
A52: 46 | B52: Volvo | C52: Super Hydraulic Oil ISO VG 68 | D52: 1 | E52: x | F52: 208 | G52: L | H52: VOE15058191 | I52: Drum | J52: FM | K52: 47 | P52: 73 | Q52: 82 | R52: 43.5 | S52: 81.67 | T52: 47 | U52: 35.19 | V52: =SUM(P52:U52)/6 -> 60.393333 | W52: =(K52+L52+M52+N52)-(O52+V52) -> -13.393333 | X52: =(V52*2)-W52 -> 134.18 | AH52: =SUM(AB52:AG52)/7 -> 0 | AI52: =(K52+L52+M52+N52)-(O52+AH52) -> 47 | AJ52: =(AH52*2)-AI52 -> -47
A53: 47 | B53: Volvo | C53: Ultra Diesel Engine Oil VDS-3 SAE 15W-40 | D53: 1 | E53: x | F53: 20 | G53: L | H53: VOE15067197 | I53: Can | J53: FM | K53: 71 | P53: 123 | Q53: 166 | R53: 116 | S53: 221 | T53: 214 | U53: 114 | V53: =SUM(P53:U53)/6 -> 159 | W53: =(K53+L53+M53+N53)-(O53+V53) -> -88 | X53: =(V53*2)-W53 -> 406 | AH53: =SUM(AB53:AG53)/7 -> 0 | AI53: =(K53+L53+M53+N53)-(O53+AH53) -> 71 | AJ53: =(AH53*2)-AI53 -> -71
A54: 48 | B54: Volvo | C54: Ultra Diesel Engine Oil VDS-3 SAE 15W-40 | D54: 1 | E54: x | F54: 208 | G54: L | H54: VOE15067404 | I54: Drum | J54: FM | K54: 123 | P54: 87 | Q54: 58 | R54: 16.34 | S54: 16.29 | T54: 5.9 | U54: 23.4 | V54: =SUM(P54:U54)/6 -> 34.488333 | W54: =(K54+L54+M54+N54)-(O54+V54) -> 88.511667 | X54: =(V54*2)-W54 -> -19.535 | AH54: =SUM(AB54:AG54)/7 -> 0 | AI54: =(K54+L54+M54+N54)-(O54+AH54) -> 123 | AJ54: =(AH54*2)-AI54 -> -123
A55: 49 | B55: Volvo | C55: Volvo VCS Coolant Concentrate | D55: 1 | E55: x | F55: 18 | G55: L | H55: VOE15161234 | I55: Can | J55: FM | K55: 175 | P55: 35 | Q55: 62 | R55: 155 | S55: 117 | T55: 58 | U55: 49 | V55: =SUM(P55:U55)/6 -> 79.333333 | W55: =(K55+L55+M55+N55)-(O55+V55) -> 95.666667 | X55: =(V55*2)-W55 -> 63 | AH55: =SUM(AB55:AG55)/7 -> 0 | AI55: =(K55+L55+M55+N55)-(O55+AH55) -> 175 | AJ55: =(AH55*2)-AI55 -> -175
A56: 50 | B56: Zerex | C56: ZX HD Extended Life RTU AFC | D56: 6 | E56: x | F56: 1 | G56: GA | H56: ZXEDRU1 | I56: Bottle | J56: FM | K56: 2234 | P56: 43 | Q56: 19 | R56: 91 | S56: 103 | T56: 89 | U56: 84 | V56: =SUM(P56:U56)/6 -> 71.5 | W56: =(K56+L56+M56+N56)-(O56+V56) -> 2162.5 | X56: =(V56*2)-W56 -> -2019.5 | AH56: =SUM(AB56:AG56)/7 -> 0 | AI56: =(K56+L56+M56+N56)-(O56+AH56) -> 2234 | AJ56: =(AH56*2)-AI56 -> -2234
A57: 51 | B57: Valvoline | C57: Champ 4T Scooter 10W30, SL/JASO MB | D57: 24 | E57: x | F57: 0.8 | G57: L | H57: 844573 | I57: Bottle | J57: FM | K57: 0 | V57: =SUM(P57:U57)/6 -> 0 | W57: =(K57+L57+M57+N57)-(O57+V57) -> 0 | X57: =(V57*2)-W57 -> 0 | AH57: =SUM(AB57:AG57)/7 -> 0 | AI57: =(K57+L57+M57+N57)-(O57+AH57) -> 0 | AJ57: =(AH57*2)-AI57 -> 0
B58: ECED | C58: ECED Tyre 8.25R16/14PR (BT166) | H58: 8.25R16, BT166 | I58: pcs | J58: MM | K58: 5 | P58: 2 | Q58: 16 | R58: 2 | T58: 2 | U58: 10 | V58: =SUM(P58:U58)/6 -> 5.3333333 | W58: =(K58+L58+M58+N58)-(O58+V58) -> -0.33333333 | X58: =(V58*2)-W58 -> 11 | AH58: =SUM(AB58:AG58)/7 -> 0 | AI58: =(K58+L58+M58+N58)-(O58+AH58) -> 5 | AJ58: =(AH58*2)-AI58 -> -5
B59: ECED | C59: ECED Tyre 8.25R16/14PR (BT168) | H59: 8.25R16, BT168 | I59: pcs | J59: MM | K59: 52 | S59: 10 | T59: 21 | U59: 11 | V59: =SUM(P59:U59)/6 -> 7 | W59: =(K59+L59+M59+N59)-(O59+V59) -> 45 | X59: =(V59*2)-W59 -> -31 | AH59: =SUM(AB59:AG59)/7 -> 0 | AI59: =(K59+L59+M59+N59)-(O59+AH59) -> 52 | AJ59: =(AH59*2)-AI59 -> -52
B60: ECED | C60: ECED TBR 10.00R20, BT118,TT (Standard) | H60: 10.00R20, BT118 | I60: Set | J60: MM | K60: 8 | P60: 30 | Q60: 29 | R60: 4 | S60: 14 | T60: 18 | V60: =SUM(P60:U60)/6 -> 15.833333 | W60: =(K60+L60+M60+N60)-(O60+V60) -> -7.8333333 | X60: =(V60*2)-W60 -> 39.5 | AH60: =SUM(AB60:AG60)/7 -> 0 | AI60: =(K60+L60+M60+N60)-(O60+AH60) -> 8 | AJ60: =(AH60*2)-AI60 -> -8
B61: ECED | C61: ECED TBR 10.00R20, BT158,TT (Standard) | H61: 10.00R20, BT158 | I61: Set | J61: MM | K61: 3 | P61: 6 | Q61: 2 | R61: 6 | S61: 2 | T61: 12 | U61: 2 | V61: =SUM(P61:U61)/6 -> 5 | W61: =(K61+L61+M61+N61)-(O61+V61) -> -2 | X61: =(V61*2)-W61 -> 12 | AH61: =SUM(AB61:AG61)/7 -> 0 | AI61: =(K61+L61+M61+N61)-(O61+AH61) -> 3 | AJ61: =(AH61*2)-AI61 -> -3
B62: ECED | C62: ECED TBR 11.00.R20, BT158,TT (Standard) | H62: 11.00R20, BT158 | I62: Set | J62: MM | K62: 41 | P62: 6 | Q62: 19 | R62: 14 | S62: 12 | T62: 5 | U62: 8 | V62: =SUM(P62:U62)/6 -> 10.666667 | W62: =(K62+L62+M62+N62)-(O62+V62) -> 30.333333 | X62: =(V62*2)-W62 -> -9 | AH62: =SUM(AB62:AG62)/7 -> 0 | AI62: =(K62+L62+M62+N62)-(O62+AH62) -> 41 | AJ62: =(AH62*2)-AI62 -> -41
B63: ECED | C63: ECED TBR 11.00R20, BT188,TT (Standard) | H63: 11.00R20, BT188 | I63: Set | J63: MM | K63: 20 | P63: 35 | Q63: 14 | R63: 8 | S63: 12 | U63: 2 | V63: =SUM(P63:U63)/6 -> 11.833333 | W63: =(K63+L63+M63+N63)-(O63+V63) -> 8.1666667 | X63: =(V63*2)-W63 -> 15.5 | AH63: =SUM(AB63:AG63)/7 -> 0 | AI63: =(K63+L63+M63+N63)-(O63+AH63) -> 20 | AJ63: =(AH63*2)-AI63 -> -20
B64: ECED | C64: ECED TBR 12.00R20, BT168, TT (Standard) | H64: 12.00R20, BT168 | I64: Set | J64: MM | K64: 10 | P64: 10 | S64: 10 | U64: 22 | V64: =SUM(P64:U64)/6 -> 7 | W64: =(K64+L64+M64+N64)-(O64+V64) -> 3 | X64: =(V64*2)-W64 -> 11 | AH64: =SUM(AB64:AG64)/7 -> 0 | AI64: =(K64+L64+M64+N64)-(O64+AH64) -> 10 | AJ64: =(AH64*2)-AI64 -> -10
B65: ECED | C65: ECED TBR 12.00R20, BT188,TT (Standard) | H65: 12.00R20, BT188 | I65: Set | J65: MM | K65: 0 | Q65: 5 | U65: 15 | V65: =SUM(P65:U65)/6 -> 3.3333333 | W65: =(K65+L65+M65+N65)-(O65+V65) -> -3.3333333 | X65: =(V65*2)-W65 -> 10 | AH65: =SUM(AB65:AG65)/7 -> 0 | AI65: =(K65+L65+M65+N65)-(O65+AH65) -> 0 | AJ65: =(AH65*2)-AI65 -> 0
B66: ECED | C66: ECED TBR 245/70R19.5, BT 926, TL (Standard) | H66: 245/70R19.5, BT926 | I66: Set | J66: MM | K66: 26 | P66: 9 | Q66: 2 | R66: 6 | U66: 2 | V66: =SUM(P66:U66)/6 -> 3.1666667 | W66: =(K66+L66+M66+N66)-(O66+V66) -> 22.833333 | X66: =(V66*2)-W66 -> -16.5 | AH66: =SUM(AB66:AG66)/7 -> 0 | AI66: =(K66+L66+M66+N66)-(O66+AH66) -> 26 | AJ66: =(AH66*2)-AI66 -> -26
B67: ECED | C67: ECED TBR Tyre 275/70R22.5 BT688 | H67: 275/70R22.5, BT688 | I67: Set | J67: MM | K67: 4 | S67: 10 | U67: 4 | V67: =SUM(P67:U67)/6 -> 2.3333333 | W67: =(K67+L67+M67+N67)-(O67+V67) -> 1.6666667 | X67: =(V67*2)-W67 -> 3 | AH67: =SUM(AB67:AG67)/7 -> 0 | AI67: =(K67+L67+M67+N67)-(O67+AH67) -> 4 | AJ67: =(AH67*2)-AI67 -> -4
B68: ECED | C68: ECED TBR 7.00R16, BT360,TT (Standard) | H68: 7.00R16, BT360 | I68: Set | J68: MM | K68: 1 | T68: 10 | V68: =SUM(P68:U68)/6 -> 1.6666667 | W68: =(K68+L68+M68+N68)-(O68+V68) -> -0.66666667 | X68: =(V68*2)-W68 -> 4 | AH68: =SUM(AB68:AG68)/7 -> 0 | AI68: =(K68+L68+M68+N68)-(O68+AH68) -> 1 | AJ68: =(AH68*2)-AI68 -> -1
B69: ECED | C69: ECED TBR 8.25R16LT, BT288,TT | H69: 8.25R16, BT288 | I69: Set | J69: MM | K69: 23 | P69: 2 | R69: 7 | S69: 8 | T69: 6 | U69: 5 | V69: =SUM(P69:U69)/6 -> 4.6666667 | W69: =(K69+L69+M69+N69)-(O69+V69) -> 18.333333 | X69: =(V69*2)-W69 -> -9 | AH69: =SUM(AB69:AG69)/7 -> 0 | AI69: =(K69+L69+M69+N69)-(O69+AH69) -> 23 | AJ69: =(AH69*2)-AI69 -> -23
B70: ECED | C70: ECED TBR 8.25R20, BT168,TT | H70: 8.25R20, BT168 | I70: Set | J70: MM | K70: 10 | Q70: 15 | R70: 4 | S70: 13 | T70: 14 | U70: 12 | V70: =SUM(P70:U70)/6 -> 9.6666667 | W70: =(K70+L70+M70+N70)-(O70+V70) -> 0.33333333 | X70: =(V70*2)-W70 -> 19 | AH70: =SUM(AB70:AG70)/7 -> 0 | AI70: =(K70+L70+M70+N70)-(O70+AH70) -> 10 | AJ70: =(AH70*2)-AI70 -> -10
B71: ECED | C71: ECED TBR 9.00R20, BT168,TT (Standard) | H71: 9.00R20, BT168 | I71: Set | J71: MM | K71: 11 | P71: 7 | Q71: 8 | S71: 14 | T71: 4 | U71: 10 | V71: =SUM(P71:U71)/6 -> 7.1666667 | W71: =(K71+L71+M71+N71)-(O71+V71) -> 3.8333333 | X71: =(V71*2)-W71 -> 10.5 | AH71: =SUM(AB71:AG71)/7 -> 0 | AI71: =(K71+L71+M71+N71)-(O71+AH71) -> 11 | AJ71: =(AH71*2)-AI71 -> -11
B72: ECED | C72: ECED TBR 9.00R20, BT188,TT (Standard) | H72: 9.00R20, BT188 | I72: Set | J72: MM | K72: 15 | Q72: 8 | R72: 24 | S72: 4 | T72: 6 | U72: 2 | V72: =SUM(P72:U72)/6 -> 7.3333333 | W72: =(K72+L72+M72+N72)-(O72+V72) -> 7.6666667 | X72: =(V72*2)-W72 -> 7 | AH72: =SUM(AB72:AG72)/7 -> 0 | AI72: =(K72+L72+M72+N72)-(O72+AH72) -> 15 | AJ72: =(AH72*2)-AI72 -> -15
B73: ECED | C73: ECED TBR 9.00R20, BT198,TT (Standard) | H73: 9.00R20, BT198 | I73: Set | J73: MM | K73: 1 | P73: 13 | Q73: 4 | T73: 22 | U73: 10 | V73: =SUM(P73:U73)/6 -> 8.1666667 | W73: =(K73+L73+M73+N73)-(O73+V73) -> -7.1666667 | X73: =(V73*2)-W73 -> 23.5 | AH73: =SUM(AB73:AG73)/7 -> 0 | AI73: =(K73+L73+M73+N73)-(O73+AH73) -> 1 | AJ73: =(AH73*2)-AI73 -> -1
B74: Tsurumi | C74: Tsurumi Engine Pump TE5-80H | H74: TE5-80H | I74: Unit | J74: MM | K74: 124 | P74: 1 | Q74: 1 | R74: 2 | S74: 2 | T74: 6 | U74: 2 | V74: =SUM(P74:U74)/6 -> 2.3333333 | W74: =(K74+L74+M74+N74)-(O74+V74) -> 121.66667 | X74: =(V74*2)-W74 -> -117 | AH74: =SUM(AB74:AG74)/7 -> 0 | AI74: =(K74+L74+M74+N74)-(O74+AH74) -> 124 | AJ74: =(AH74*2)-AI74 -> -124
B75: Tsurumi | C75: Tsurumi Sewage 100C42.2, 380V/50Hz | H75: 100C42.2, 380V/50Hz | I75: Unit | J75: MM | K75: 9 | S75: 8 | V75: =SUM(P75:U75)/6 -> 1.3333333 | W75: =(K75+L75+M75+N75)-(O75+V75) -> 7.6666667 | X75: =(V75*2)-W75 -> -5 | AH75: =SUM(AB75:AG75)/7 -> 0 | AI75: =(K75+L75+M75+N75)-(O75+AH75) -> 9 | AJ75: =(AH75*2)-AI75 -> -9
B76: Tsurumi | C76: Tsurumi Submersible HS2.4S, 220V/50Hz | H76: HS2.4S, 220V/50Hz | I76: Unit | J76: MM | K76: 109 | Q76: 2 | R76: 5 | S76: 4 | T76: 4 | U76: 8 | V76: =SUM(P76:U76)/6 -> 3.8333333 | W76: =(K76+L76+M76+N76)-(O76+V76) -> 105.16667 | X76: =(V76*2)-W76 -> -97.5 | AH76: =SUM(AB76:AG76)/7 -> 0 | AI76: =(K76+L76+M76+N76)-(O76+AH76) -> 109 | AJ76: =(AH76*2)-AI76 -> -109
B77: Tsurumi | C77: Tsurumi Submersible HS2.75S, 220V/50Hz | H77: HS2.75S, 220V/50Hz | I77: Unit | J77: MM | K77: 1 | R77: 1 | S77: 1 | T77: 12 | V77: =SUM(P77:U77)/6 -> 2.3333333 | W77: =(K77+L77+M77+N77)-(O77+V77) -> -1.3333333 | X77: =(V77*2)-W77 -> 6 | AH77: =SUM(AB77:AG77)/7 -> 0 | AI77: =(K77+L77+M77+N77)-(O77+AH77) -> 1 | AJ77: =(AH77*2)-AI77 -> -1
B78: Valvoline | C78: All Fleet Plus 30, CF/SF | D78: 1 | E78: x | F78: 200 | G78: L | H78: 691782 | I78: Drum | J78: MM | K78: 7.91 | P78: 0.24 | Q78: 0.48 | R78: 3 | S78: 4.82 | T78: 1.76 | U78: 6.39 | V78: =SUM(P78:U78)/6 -> 2.7816667 | W78: =(K78+L78+M78+N78)-(O78+V78) -> 5.1283333 | X78: =(V78*2)-W78 -> 0.435 | AH78: =SUM(AB78:AG78)/7 -> 0 | AI78: =(K78+L78+M78+N78)-(O78+AH78) -> 7.91 | AJ78: =(AH78*2)-AI78 -> -7.91
B79: Valvoline | C79: All Fleet Premium 20W50, CI-4/SL | D79: 1 | E79: x | F79: 18 | G79: L | H79: 724026 | I79: Can | J79: MM | K79: 91 | P79: 13 | Q79: 24 | R79: 1 | S79: 27 | T79: 2 | U79: 2 | V79: =SUM(P79:U79)/6 -> 11.5 | W79: =(K79+L79+M79+N79)-(O79+V79) -> 79.5 | X79: =(V79*2)-W79 -> -56.5 | AH79: =SUM(AB79:AG79)/7 -> 0 | AI79: =(K79+L79+M79+N79)-(O79+AH79) -> 91 | AJ79: =(AH79*2)-AI79 -> -91
B80: Valvoline | C80: All Fleet Premium 20W50, CI-4/SL | D80: 1 | E80: x | F80: 200 | G80: L | H80: 724027 | I80: Drum | J80: MM | K80: 5 | P80: 4 | Q80: 1.02 | S80: 2 | T80: 1 | U80: 2 | V80: =SUM(P80:U80)/6 -> 1.67 | W80: =(K80+L80+M80+N80)-(O80+V80) -> 3.33 | X80: =(V80*2)-W80 -> 0.01 | AH80: =SUM(AB80:AG80)/7 -> 0 | AI80: =(K80+L80+M80+N80)-(O80+AH80) -> 5 | AJ80: =(AH80*2)-AI80 -> -5
B81: Valvoline | C81: All Fleet Trubo 20W50, CF-4/SG | D81: 1 | E81: x | F81: 18 | G81: L | H81: 692173 | I81: Can | J81: MM | K81: 44 | S81: 1 | T81: 19 | U81: 2 | V81: =SUM(P81:U81)/6 -> 3.6666667 | W81: =(K81+L81+M81+N81)-(O81+V81) -> 40.333333 | X81: =(V81*2)-W81 -> -33 | AH81: =SUM(AB81:AG81)/7 -> 0 | AI81: =(K81+L81+M81+N81)-(O81+AH81) -> 44 | AJ81: =(AH81*2)-AI81 -> -44
B82: Valvoline | C82: Diesel Synthetic 5W40, CI-4/SL | D82: 4 | E82: x | F82: 5 | G82: L | H82: 691870 | I82: Bottle | J82: MM | K82: 314 | P82: 5 | Q82: 11 | S82: 4 | T82: 4 | U82: 21 | V82: =SUM(P82:U82)/6 -> 7.5 | W82: =(K82+L82+M82+N82)-(O82+V82) -> 306.5 | X82: =(V82*2)-W82 -> -291.5 | AH82: =SUM(AB82:AG82)/7 -> 0 | AI82: =(K82+L82+M82+N82)-(O82+AH82) -> 314 | AJ82: =(AH82*2)-AI82 -> -314
B83: Valvoline | C83: Diesel Synthetic 5W40, CI-4/SL | D83: 6 | E83: x | F83: 1 | G83: L | H83: 692051 | I83: Bottle | J83: MM | K83: 366 | P83: 3 | Q83: 13 | R83: 4 | S83: 9 | T83: 9 | U83: 39 | V83: =SUM(P83:U83)/6 -> 12.833333 | W83: =(K83+L83+M83+N83)-(O83+V83) -> 353.16667 | X83: =(V83*2)-W83 -> -327.5 | AH83: =SUM(AB83:AG83)/7 -> 0 | AI83: =(K83+L83+M83+N83)-(O83+AH83) -> 366 | AJ83: =(AH83*2)-AI83 -> -366
B84: Valvoline | C84: Gas Engine Oil Ultra 15W40 | D84: 1 | E84: x | F84: 18 | G84: L | H84: 804723 | I84: Can | J84: MM | K84: 927 | P84: 9 | Q84: 19 | R84: 2 | S84: 26 | T84: 20 | U84: 23 | V84: =SUM(P84:U84)/6 -> 16.5 | W84: =(K84+L84+M84+N84)-(O84+V84) -> 910.5 | X84: =(V84*2)-W84 -> -877.5 | AH84: =SUM(AB84:AG84)/7 -> 0 | AI84: =(K84+L84+M84+N84)-(O84+AH84) -> 927 | AJ84: =(AH84*2)-AI84 -> -927
B85: Valvoline | C85: Gear Gard Super 140, GL-5 | D85: 1 | E85: x | F85: 200 | G85: L | H85: 692077 | I85: Drum | J85: MM | K85: 11 | P85: 3.44 | Q85: 3 | R85: 2 | S85: 1 | T85: 3 | U85: 6 | V85: =SUM(P85:U85)/6 -> 3.0733333 | W85: =(K85+L85+M85+N85)-(O85+V85) -> 7.9266667 | X85: =(V85*2)-W85 -> -1.78 | AH85: =SUM(AB85:AG85)/7 -> 0 | AI85: =(K85+L85+M85+N85)-(O85+AH85) -> 11 | AJ85: =(AH85*2)-AI85 -> -11
B86: Valvoline | C86: Gear Gard Super 80W90, GL-5 | D86: 1 | E86: x | F86: 200 | G86: L | H86: 692030 | I86: Drum | J86: MM | K86: 5 | P86: 5 | Q86: 1 | R86: 1 | S86: 2 | T86: 3 | U86: 2 | V86: =SUM(P86:U86)/6 -> 2.3333333 | W86: =(K86+L86+M86+N86)-(O86+V86) -> 2.6666667 | X86: =(V86*2)-W86 -> 2 | AH86: =SUM(AB86:AG86)/7 -> 0 | AI86: =(K86+L86+M86+N86)-(O86+AH86) -> 5 | AJ86: =(AH86*2)-AI86 -> -5
B87: Valvoline | C87: Gear Gard Super 90, GL-5 | D87: 1 | E87: x | F87: 200 | G87: L | H87: 692026 | I87: Drum | J87: MM | K87: 9 | P87: 0.8 | Q87: 42 | R87: 1 | S87: 1 | T87: 8.33 | U87: 2.1 | V87: =SUM(P87:U87)/6 -> 9.205 | W87: =(K87+L87+M87+N87)-(O87+V87) -> -0.205 | X87: =(V87*2)-W87 -> 18.615 | AH87: =SUM(AB87:AG87)/7 -> 0 | AI87: =(K87+L87+M87+N87)-(O87+AH87) -> 9 | AJ87: =(AH87*2)-AI87 -> -9
B88: Valvoline | C88: Gear Gard Super 90, GL-5 | D88: 1 | E88: x | F88: 18 | G88: L | H88: 692027 | I88: Can | J88: MM | K88: 50 | P88: 19 | Q88: 14 | R88: 21 | S88: 23 | T88: 10 | U88: 11 | V88: =SUM(P88:U88)/6 -> 16.333333 | W88: =(K88+L88+M88+N88)-(O88+V88) -> 33.666667 | X88: =(V88*2)-W88 -> -1 | AH88: =SUM(AB88:AG88)/7 -> 0 | AI88: =(K88+L88+M88+N88)-(O88+AH88) -> 50 | AJ88: =(AH88*2)-AI88 -> -50
B89: Valvoline | C89: Hydraulic Oil AW 46 | H89: 692333 | I89: Can | J89: MM | K89: 41 | Q89: 7 | R89: 11 | S89: 16 | T89: 36 | U89: 19 | V89: =SUM(P89:U89)/6 -> 14.833333 | W89: =(K89+L89+M89+N89)-(O89+V89) -> 26.166667 | X89: =(V89*2)-W89 -> 3.5 | AH89: =SUM(AB89:AG89)/7 -> 0 | AI89: =(K89+L89+M89+N89)-(O89+AH89) -> 41 | AJ89: =(AH89*2)-AI89 -> -41
B90: Valvoline | C90: SynPower 5W40, SN | D90: 6 | E90: x | F90: 1 | G90: L | H90: 686032 | I90: Bottle | J90: MM | K90: 205 | P90: 5 | Q90: 8 | R90: 19 | S90: 12 | T90: 34 | U90: 7 | V90: =SUM(P90:U90)/6 -> 14.166667 | W90: =(K90+L90+M90+N90)-(O90+V90) -> 190.83333 | X90: =(V90*2)-W90 -> -162.5 | AH90: =SUM(AB90:AG90)/7 -> 0 | AI90: =(K90+L90+M90+N90)-(O90+AH90) -> 205 | AJ90: =(AH90*2)-AI90 -> -205
B91: Valvoline | C91: Ultramax AW 32 | D91: 1 | E91: x | F91: 200 | G91: L | H91: 692250 | I91: Drum | J91: MM | K91: 4 | Q91: 7 | R91: 3 | S91: 2 | T91: 2 | U91: 4 | V91: =SUM(P91:U91)/6 -> 3 | W91: =(K91+L91+M91+N91)-(O91+V91) -> 1 | X91: =(V91*2)-W91 -> 5 | AH91: =SUM(AB91:AG91)/7 -> 0 | AI91: =(K91+L91+M91+N91)-(O91+AH91) -> 4 | AJ91: =(AH91*2)-AI91 -> -4
B92: Volvo | C92: Volvo Automatic Transmission Fluid | D92: 1 | E92: x | F92: 20 | G92: L | H92: VOE15067098 | I92: Can | J92: MM | K92: 0 | P92: 10 | Q92: 1 | S92: 1 | T92: 2 | V92: =SUM(P92:U92)/6 -> 2.3333333 | W92: =(K92+L92+M92+N92)-(O92+V92) -> -2.3333333 | X92: =(V92*2)-W92 -> 7 | AH92: =SUM(AB92:AG92)/7 -> 0 | AI92: =(K92+L92+M92+N92)-(O92+AH92) -> 0 | AJ92: =(AH92*2)-AI92 -> 0
B93: Volvo | C93: Rear Axle Oil 85W140 | D93: 1 | E93: x | F93: 20 | G93: L | H93: 1161937 | I93: Can | J93: MM | K93: 0 | S93: 10 | U93: 1 | V93: =SUM(P93:U93)/6 -> 1.8333333 | W93: =(K93+L93+M93+N93)-(O93+V93) -> -1.8333333 | X93: =(V93*2)-W93 -> 5.5 | AH93: =SUM(AB93:AG93)/7 -> 0 | AI93: =(K93+L93+M93+N93)-(O93+AH93) -> 0 | AJ93: =(AH93*2)-AI93 -> 0
B94: Volvo | C94: Volvo Transmission Fluid AT 102 | D94: 1 | E94: x | F94: 20 | G94: L | H94: VOE15143928 | I94: Can | J94: MM | K94: 42 | Q94: 25 | R94: 25 | T94: 5 | V94: =SUM(P94:U94)/6 -> 9.1666667 | W94: =(K94+L94+M94+N94)-(O94+V94) -> 32.833333 | X94: =(V94*2)-W94 -> -14.5 | AH94: =SUM(AB94:AG94)/7 -> 0 | AI94: =(K94+L94+M94+N94)-(O94+AH94) -> 42 | AJ94: =(AH94*2)-AI94 -> -42
B95: Volvo | C95: Volvo VCS Coolant Ready Mixed | D95: 1 | E95: x | F95: 18 | G95: L | H95: VOE15142332 | I95: Can | J95: MM | K95: 208 | P95: 8 | Q95: 61 | R95: 4 | S95: 6 | T95: 5 | U95: 1 | V95: =SUM(P95:U95)/6 -> 14.166667 | W95: =(K95+L95+M95+N95)-(O95+V95) -> 193.83333 | X95: =(V95*2)-W95 -> -165.5 | AH95: =SUM(AB95:AG95)/7 -> 0 | AI95: =(K95+L95+M95+N95)-(O95+AH95) -> 208 | AJ95: =(AH95*2)-AI95 -> -208
B96: Yamaha | C96: Geanstar | H96: Carburetor (GSV7500RXE) | I96: unit | J96: MM | K96: 10 | P96: 4 | Q96: 2 | R96: 1 | S96: 2 | T96: 2 | U96: 1 | V96: =SUM(P96:U96)/6 -> 2 | W96: =(K96+L96+M96+N96)-(O96+V96) -> 8 | X96: =(V96*2)-W96 -> -4 | AH96: =SUM(AB96:AG96)/7 -> 0 | AI96: =(K96+L96+M96+N96)-(O96+AH96) -> 10 | AJ96: =(AH96*2)-AI96 -> -10
B97: Champion | C97: Halogen Bulbs | D97: 1 | E97: x | F97: 200 | G97: pc | H97: MH123535Q4-R | I97: Pcs | J97: SM | K97: 9292 | R97: 270 | S97: 540 | T97: 390 | U97: 270 | V97: =SUM(P97:U97)/6 -> 245 | W97: =(K97+L97+M97+N97)-(O97+V97) -> 9047 | X97: =(V97*2)-W97 -> -8557 | AH97: =SUM(AB97:AG97)/7 -> 0 | AI97: =(K97+L97+M97+N97)-(O97+AH97) -> 9292 | AJ97: =(AH97*2)-AI97 -> -9292
B98: ECED | C98: ECED TBR 10.00R20, BT268,TT (Standard) | H98: 10.00R20, BT268 | I98: Set | J98: SM | K98: 0 | P98: 1 | U98: 2 | V98: =SUM(P98:U98)/6 -> 0.5 | W98: =(K98+L98+M98+N98)-(O98+V98) -> -0.5 | X98: =(V98*2)-W98 -> 1.5 | AH98: =SUM(AB98:AG98)/7 -> 0 | AI98: =(K98+L98+M98+N98)-(O98+AH98) -> 0 | AJ98: =(AH98*2)-AI98 -> 0
B99: ECED | C99: ECED TBR 10.00R20, BT568,TT (Standard) | H99: 10.00R20, BT568 | I99: Set | J99: SM | K99: 0 | R99: 2 | V99: =SUM(P99:U99)/6 -> 0.33333333 | W99: =(K99+L99+M99+N99)-(O99+V99) -> -0.33333333 | X99: =(V99*2)-W99 -> 1 | AH99: =SUM(AB99:AG99)/7 -> 0 | AI99: =(K99+L99+M99+N99)-(O99+AH99) -> 0 | AJ99: =(AH99*2)-AI99 -> 0
B100: ECED | C100: ECED TBR 7.50R16LT, BT 168,TT | H100: 7.50R16, BT168 | I100: Set | J100: SM | K100: 10 | P100: 6 | V100: =SUM(P100:U100)/6 -> 1 | W100: =(K100+L100+M100+N100)-(O100+V100) -> 9 | X100: =(V100*2)-W100 -> -7 | AH100: =SUM(AB100:AG100)/7 -> 0 | AI100: =(K100+L100+M100+N100)-(O100+AH100) -> 10 | AJ100: =(AH100*2)-AI100 -> -10
B101: ECED | C101: ECED TBR Tyre 8.25R20 BT166 | H101: 8.25R20, BT166 | I101: Set | J101: SM | K101: 4 | R101: 2 | T101: 2 | U101: 2 | V101: =SUM(P101:U101)/6 -> 1 | W101: =(K101+L101+M101+N101)-(O101+V101) -> 3 | X101: =(V101*2)-W101 -> -1 | AH101: =SUM(AB101:AG101)/7 -> 0 | AI101: =(K101+L101+M101+N101)-(O101+AH101) -> 4 | AJ101: =(AH101*2)-AI101 -> -4
B102: Michelin | C102: 12.00R24 XZH Tyre | H102: 12.00R24 XZH Tyre | I102: Set | J102: SM | K102: 165 | Q102: 7 | V102: =SUM(P102:U102)/6 -> 1.1666667 | W102: =(K102+L102+M102+N102)-(O102+V102) -> 163.83333 | X102: =(V102*2)-W102 -> -161.5 | AH102: =SUM(AB102:AG102)/7 -> 0 | AI102: =(K102+L102+M102+N102)-(O102+AH102) -> 165 | AJ102: =(AH102*2)-AI102 -> -165
B103: Road Stone | C103: PCR Tyre | H103: 185/65R15 (4 Ply, CP672) | I103: Set | J103: SM | K103: 34 | R103: 1 | V103: =SUM(P103:U103)/6 -> 0.16666667 | W103: =(K103+L103+M103+N103)-(O103+V103) -> 33.833333 | X103: =(V103*2)-W103 -> -33.5 | AH103: =SUM(AB103:AG103)/7 -> 0 | AI103: =(K103+L103+M103+N103)-(O103+AH103) -> 34 | AJ103: =(AH103*2)-AI103 -> -34
B104: Road Stone | C104: PCR Tyre | H104: 155/0R12 (10 Ply, SR-BLOCK) (13310RS) | I104: Set | J104: SM | K104: 6 | P104: 20 | Q104: 40 | S104: 25 | T104: 15 | V104: =SUM(P104:U104)/6 -> 16.666667 | W104: =(K104+L104+M104+N104)-(O104+V104) -> -10.666667 | X104: =(V104*2)-W104 -> 44 | AH104: =SUM(AB104:AG104)/7 -> 0 | AI104: =(K104+L104+M104+N104)-(O104+AH104) -> 6 | AJ104: =(AH104*2)-AI104 -> -6
...

Sheet working (2)
C1: 1 x 20ft | D1: 20 pallet
C2: Drum | D2: 4 drum / pallet | J2: =318+20 -> 338 | K2: =500000/1330 -> 375.93985 | L2: =35000/1330 -> 26.315789
C3: Cube Pail | D3: 32 can / pallet
C4: Round Pail | D4: 36 can / pallet
A6: Segmant | B6: No. | C6: Brand | D6: Description | E6: Pack Size | I6: Part No | J6: Unit Code | K6: Moving Item | L6: Closing Balance Qty 2-7-24 & Branch Closing of 28-6-24 | M6: At the Port (Qty) | N6: On The Way (Qty) | O6: Waiting Shipment (Qty) | P6: BTB order Forecast | Q6: All Branch order Forecast | R6: Branch Outstanding PO Qty | S6: Jun | T6: Jul | U6: Aug | V6: Sep | W6: Oct | X6: Nov | Y6: Dec | Z6: Jan'16 | AA6: Feb'16 | AB6: Mar'16 | AC6: Apr'16 | AD6: May'16 | AE6: Jun'16 | AF6: Jul'16 | AG6: Aug'16 | AH6: Sep'16 | AI6: Oct'16 | AJ6: Nov'16 | AK6: Dec'16 | AL6: Jan'17 | AM6: Feb'17 | AN6: Mar'17 | AO6: Apr'17 | AP6: May'17 | AQ6: Jun'17 | AR6: Jul'17 | AS6: Aug'17 | AT6: Sep'17 | AU6: Oct'17 | AV6: Nov'17 | AW6: Dec'17 | AX6: Jan'18 | AY6: Feb'18 | AZ6: Mar'18 | BA6: Apr'18 | BB6: May'18 | BC6: Jun'18 | BD6: Jul'18 | BE6: Aug'18 | BF6: Sep'18 | BG6: Oct'18 | BH6: Nov'18 | BI6: Dec'18 | BJ6: Jan'19 | BK6: Feb'19 | BL6: Mar'19 | BM6: Apr'19 | BN6: May'19 | BO6: Jun'19 | BP6: Jul'19 | BQ6: Aug'19 | BR6: Sep'19 | BS6: Oct'19 | BT6: Nov'19 | BU6: Dec'19 | BV6: Jan'20 | BW6: Feb'20 | BX6: Mar'20 | BY6: Apr'20 | BZ6: May'20 | CA6: Jun'20 | CB6: Jul'20 | CC6: Aug'20 | CD6: Sep'20 | CE6: Oct'20 | CF6: Nov'20 | CG6: Dec'20 | CH6: Jan'21 | CI6: Feb'21 | CJ6: Mar'21 | CK6: Apr'21 | CL6: May'21 | CM6: Jun'21 | CN6: Jul'21 | CO6: Aug'21 | CP6: Sep'21 | CQ6: Oct'21 | CR6: Nov'21 | CS6: Dec'21 | CT6: Jan'22 | CU6: Feb'22 | CV6: Mar'22 | CW6: Apr'22 | CX6: May'22 | CY6: Jun'22 | CZ6: Jul'22 | DA6: Aug'22 | DB6: Sep'22 | DC6: Oct'22 | DD6: Nov'22 | DE6: Dec'22 | DF6: Jan'23 | DG6: Feb'23 | DH6: Mar'23 | DI6: Apr'23 | DJ6: May'23 | DK6: Jun'23 | DL6: Jul'23 | DM6: Aug'23 | DN6: Sep'23 | DO6: Oct'23 | DP6: Nov'23 | DQ6: Dec'23 | DR6: Jan'24 | DS6: Feb'24 | DT6: Mar'24 | DU6: Apr'24 | DV6: May'24 | DW6: Avg sale | DX6: Estimated Stk in hand condition | DY6: Estimated Order Plan | EA6: Final Order Qty | EC6: Jul | ED6: Aug | EE6: Sep | EF6: Oct | EG6: Nov | EH6: Dec | EI6: Jan'16 | EJ6: Feb'16 | EK6: Mar'16 | EL6: Apr'16 | EM6: May'16 | EN6: Jun'16 | EO6: Jul'16 | EP6: Aug'16 | EQ6: Sep'16 | ER6: Oct'16 | ES6: Nov'16 | ET6: Dec'16 | EU6: Jan'17 | EV6: Feb'17 | EW6: Mar'17 | EX6: Apr'17 | EY6: May'17 | EZ6: Avg Issue | FA6: Estimated Stk in hand condition | FB6: Estimated Order Plan
FD7: Pallet
A8: Engine Oil | B8: 1 | C8: Volvo | D8: Diesel Engine Oil VDS-3 SAE 15W40 | E8: 1 | F8: x | G8: 20 | H8: L | I8: 85102464 | J8: Can | K8: FM | L8: 0 | S8: 25 | T8: 28 | U8: 60 | V8: 29 | W8: 42 | X8: 42 | Z8: 41 | AA8: 40 | AB8: 270 | AC8: 125 | AD8: 37 | AE8: 2 | AF8: 0 | AG8: 0 | AH8: 0 | AI8: 0 | AJ8: 0 | AK8: 2 | AL8: 0 | AM8: 0 | AN8: 0 | AO8: 0 | AP8: 0 | AQ8: 0 | AR8: 0 | AS8: 0 | AT8: 0 | AU8: 0 | AV8: 0 | AW8: 0 | AX8: 0 | AY8: 0 | AZ8: 0 | BA8: 0 | BB8: 0 | BC8: 0 | BD8: 0 | BE8: 0 | BF8: 0 | BG8: 0 | BH8: 0 | BI8: 0 | BJ8: 0 | BK8: 0 | BL8: 0 | BM8: 0 | BN8: 0 | BO8: 0 | BP8: 0 | BQ8: 0 | BR8: 0 | BS8: 0 | BT8: 0 | BU8: 0 | BV8: 0 | BW8: 0 | BX8: 0 | BY8: 0 | BZ8: 0 | CA8: 0 | CB8: 0 | CC8: 0 | CD8: 0 | CE8: 0 | CF8: 0 | CG8: 0 | CH8: 0 | CI8: 0 | CJ8: 0 | CK8: 0 | CL8: 0 | CM8: 0 | CN8: 0 | CO8: 0 | CP8: 0 | CQ8: 0 | CR8: 0 | CS8: 0 | CT8: 0 | CU8: 0 | CV8: 0 | CW8: 0 | CX8: 0 | CY8: 0 | CZ8: 0 | DA8: 0 | DB8: 0 | DC8: 0 | DD8: 0 | DE8: 0 | DF8: 0 | DG8: 0 | DH8: 0 | DI8: 0 | DJ8: 0 | DK8: 0 | DL8: 0 | DM8: 0 | DN8: 0 | DO8: 0 | DP8: 0 | DQ8: 0 | DR8: 0 | DS8: 0 | DT8: 0 | DU8: 0 | DV8: 0 | DW8: =AVERAGE(DQ8:DV8) -> 0 | DX8: =(L8+M8+N8+O8)-(P8+Q8+R8+DW8) -> 0 | DY8: =(DW8*2)-DX8 -> 0 | EA8: 0 | EC8: 45 | ED8: 242 | EE8: 234 | EF8: 45 | EG8: 40 | EH8: 155 | EI8: 9 | EJ8: 41 | EK8: 401 | EL8: 6 | EM8: 0 | EO8: 0 | EP8: 0 | EQ8: 0 | ER8: 0 | ES8: 0 | ET8: 0 | EU8: 0 | EV8: 0 | EW8: 0 | EX8: 0 | EY8: 0 | EZ8: =AVERAGE(ES8:EY8) -> 0 | FA8: =(L8+M8+N8+O8)-(R8+EZ8) -> 0 | FB8: =(EZ8*2)-FA8 -> 0 | FD8: =EA8/32 -> 0
A9: Engine Oil | B9: 2 | C9: Volvo | D9: Diesel Engine Oil VDS-3 SAE 15W40 | E9: 1 | F9: x | G9: 208 | H9: L | I9: 85102465 | J9: Drum | K9: FM | L9: 0 | S9: 41.04 | T9: 16 | U9: 17 | V9: 21.29 | W9: 32 | X9: 35 | Y9: 36.096 | Z9: 18 | AA9: 28 | AB9: 17 | AC9: 16.576923 | AD9: 11 | AE9: 3 | AF9: 0 | AG9: 0 | AH9: 0 | AI9: 0 | AJ9: 0 | AK9: 1.9615385 | AL9: 0 | AM9: 0 | AN9: 0.096153846 | AO9: 0 | AP9: 0 | AQ9: 0.038461538 | AR9: 0 | AS9: 0 | AT9: 0 | AU9: 0.0048076923 | AV9: 0 | AW9: 0.0048076923 | AX9: 0 | AY9: 0 | AZ9: 0 | BA9: 0 | BB9: 1 | BC9: 0 | BD9: 0 | BE9: 0 | BF9: 0 | BG9: 0 | BH9: 0 | BI9: 0 | BJ9: 0 | BK9: 0 | BL9: 0 | BM9: 0 | BN9: 0 | BO9: 0 | BP9: 0 | BQ9: 0 | BR9: 0 | BS9: 0 | BT9: 0 | BU9: 0 | BV9: 0.048076923 | BW9: 0.0048076923 | BX9: 0 | BY9: 0 | BZ9: 0 | CA9: 0 | CB9: 0 | CC9: 0 | CD9: 0 | CE9: 0 | CF9: 0 | CG9: 0 | CH9: 0 | CI9: 0 | CJ9: 0 | CK9: 0 | CL9: 0 | CM9: 0 | CN9: 0 | CO9: 0 | CP9: 0 | CQ9: 0 | CR9: 0 | CS9: 0 | CT9: 0 | CU9: 0 | CV9: 0 | CW9: 0 | CX9: 0 | CY9: 0 | CZ9: 0 | DA9: 0 | DB9: 0 | DC9: 0 | DD9: 0 | DE9: 0 | DF9: 0 | DG9: 0 | DH9: 0 | DI9: 0 | DJ9: 0 | DK9: 0 | DL9: 0 | DM9: 0 | DN9: 0 | DO9: 0 | DP9: 0 | DQ9: 0 | DR9: 0 | DS9: 0 | DT9: 0 | DU9: 0 | DV9: 0 | DW9: =AVERAGE(DQ9:DV9) -> 0 | DX9: =(L9+M9+N9+O9)-(P9+Q9+R9+DW9) -> 0 | DY9: =(DW9*2)-DX9 -> 0 | EA9: 0 | EC9: 58 | ED9: 10 | EE9: 25 | EF9: 23 | EG9: 19 | EH9: 58 | EI9: 24 | EJ9: 5 | EK9: 2 | EL9: 2 | EM9: 6 | EO9: 0 | EP9: 0 | EQ9: 0 | ER9: 0 | ES9: 0 | ET9: 0 | EU9: 0 | EV9: 0 | EW9: 0 | EX9: 0 | EY9: 0 | EZ9: =AVERAGE(ES9:EY9) -> 0 | FA9: =(L9+M9+N9+O9)-(R9+EZ9) -> 0 | FB9: =(EZ9*2)-FA9 -> 0 | FD9: =EA9/4 -> 0
A10: Gear Oil & Transmission Oil | B10: 3 | C10: Volvo | D10: Gear Oil HD GL-5 SAE 80W-90 | E10: 1 | F10: x | G10: 20 | H10: L | I10: VOE15067515 | J10: Can | K10: FM | L10: 119.025 | N10: 96 | R10: 70 | S10: 24 | T10: 44 | U10: 30 | V10: 48 | W10: 38 | X10: 29 | Y10: 56 | Z10: 44 | AA10: 56 | AB10: 62 | AC10: 61 | AD10: 92 | AE10: 55 | AF10: 76 | AG10: 53 | AH10: 47 | AI10: 56.05 | AJ10: 60 | AK10: 48 | AL10: 93 | AM10: 83.3 | AN10: 93 | AO10: 91 | AP10: 91 | AQ10: 110 | AR10: 75 | AS10: 65 | AT10: 106.5 | AU10: 57 | AV10: 44 | AW10: 122 | AX10: 60 | AY10: 117 | AZ10: 122 | BA10: 59 | BB10: 127 | BC10: 33 | BD10: 92 | BE10: 101 | BF10: 36 | BG10: 113 | BH10: 143.1 | BI10: 66 | BJ10: 159 | BK10: 112 | BL10: 63 | BM10: 92 | BN10: 161 | BO10: 76 | BP10: 108 | BQ10: 41 | BR10: 53 | BS10: 83 | BT10: 52 | BU10: 108 | BV10: 113 | BW10: 90 | BX10: 118 | BY10: 33 | BZ10: 103 | CA10: 76 | CB10: 72 | CC10: 66 | CD10: 89 | CE10: 80 | CF10: 76 | CG10: 85 | CH10: 127 | CI10: 67 | CJ10: 78 | CK10: 53 | CL10: 22 | CM10: 73 | CN10: 62 | CO10: 68 | CP10: 136 | CQ10: 57 | CR10: 47 | CS10: 88 | CT10: 88 | CU10: 122 | CV10: 115 | CW10: 68 | CX10: 60 | CY10: 55 | CZ10: 73 | DA10: 40 | DB10: 50 | DC10: 43 | DD10: 42 | DE10: 36 | DF10: 82 | DG10: 55 | DH10: 63 | DI10: 43 | DJ10: 51 | DK10: 81 | DL10: 27 | DM10: 21 | DN10: 57 | DO10: 17 | DP10: 22 | DQ10: 29 | DR10: 27 | DS10: 32 | DT10: 36 | DU10: 36 | DV10: 67 | DW10: =AVERAGE(DQ10:DV10) -> 37.833333 | DX10: =(L10+M10+N10+O10)-(P10+Q10+R10+DW10) -> 107.19167 | DY10: =(DW10*5)-DX10 -> 81.975 | EA10: 0 | EB10: 32 Can | EC10: 99 | ED10: 163 | EE10: 46 | EF10: 70 | EG10: 49 | EH10: 167 | EI10: 72 | EJ10: 26 | EK10: 51 | EL10: 40 | EM10: 74 | EN10: 40 | EO10: 83 | EP10: 20 | EQ10: 36 | ER10: 39 | ES10: 57 | ET10: 56 | EU10: 120 | EV10: 83 | EW10: 83 | EX10: 63 | EY10: 110 | EZ10: =AVERAGE(ES10:EY10) -> 81.714286 | FA10: =(L10+M10+N10+O10)-(R10+EZ10) -> 63.310714 | FB10: =(EZ10*2)-FA10 -> 100.11786 | FD10: =EA10/32 -> 0
A11: Gear Oil & Transmission Oil | B11: 4 | C11: Volvo | D11: Gear Oil HD GL-5 SAE 85W-140 | E11: 1 | F11: x | G11: 20 | H11: L | I11: VOE15067522 | J11: Can | K11: FM | L11: 43.8 | N11: 64 | R11: =25 -> 25 | S11: 72 | T11: 76 | U11: 69 | V11: 121 | W11: 122 | X11: 102 | Y11: 93 | Z11: 148 | AA11: 171 | AB11: 84 | AC11: 71 | AD11: 102 | AE11: 83 | AF11: 62 | AG11: 94 | AH11: 114.05 | AI11: 84.05 | AJ11: 116 | AK11: 85 | AL11: 165 | AM11: 137 | AN11: 96 | AO11: 73 | AP11: 64 | AQ11: 67 | AR11: 34 | AS11: 55 | AT11: 31.05 | AU11: 43 | AV11: 73 | AW11: 79 | AX11: 62 | AY11: 85 | AZ11: 63 | BA11: 63 | BB11: 69 | BC11: 51 | BD11: 45 | BE11: 101 | BF11: 25 | BG11: 32 | BH11: 59 | BI11: 75 | BJ11: 81 | BK11: 71 | BL11: 54 | BM11: 58 | BN11: 83 | BO11: 34 | BP11: 43 | BQ11: 12 | BR11: 58 | BS11: 49 | BT11: 38 | BU11: 69 | BV11: 76 | BW11: 47 | BX11: 45 | BY11: 26 | BZ11: 15 | CA11: 59 | CB11: 39 | CC11: 51 | CD11: 42 | CE11: 47 | CF11: 50 | CG11: 62 | CH11: 62 | CI11: 53 | CJ11: 43 | CK11: 37 | CL11: 26 | CM11: 42 | CN11: 31 | CO11: 58 | CP11: 75 | CQ11: 40 | CR11: 56 | CS11: 64 | CT11: 64 | CU11: 92 | CV11: 53 | CW11: 50 | CX11: 55 | CY11: 46 | CZ11: 51 | DA11: 20 | DB11: 37 | DC11: 27 | DD11: 43 | DE11: 41 | DF11: 43 | DG11: 39 | DH11: 30 | DI11: 16 | DJ11: 28.2 | DK11: 33 | DL11: 26 | DM11: 19 | DN11: 29 | DO11: 37 | DP11: 33 | DQ11: 15 | DR11: 16 | DS11: 31 | DT11: 33 | DU11: 12 | DV11: 15 | DW11: =AVERAGE(DQ11:DV11) -> 20.333333 | DX11: =(L11+M11+N11+O11)-(P11+Q11+R11+DW11) -> 62.466667 | DY11: =(DW11*5)-DX11 -> 39.2 | EA11: 0 | EB11: 32 Can | EC11: 4 | ED11: 220 | EE11: 299 | EF11: 30 | EG11: 64 | EH11: 165 | EI11: 112 | EJ11: 166 | EK11: 161 | EL11: 94 | EM11: 93 | EN11: 67 | EO11: 45 | EP11: 49 | EQ11: 49 | ER11: 64 | ES11: 99 | ET11: 119 | EU11: 158 | EV11: 87 | EW11: 266 | EX11: 40 | EY11: 46 | EZ11: =AVERAGE(ES11:EY11) -> 116.42857 | FA11: =(L11+M11+N11+O11)-(R11+EZ11) -> -33.628571 | FB11: =(EZ11*2)-FA11 -> 266.48571 | FD11: =EA11/32 -> 0
A12: Grease | B12: 5 | C12: Volvo | D12: Lithium Grease EP2 | E12: 1 | F12: x | G12: 16 | H12: L | I12: VOE15067640 | J12: Can | K12: FM | L12: 10 | S12: 49 | T12: 21 | U12: 48 | V12: 28 | W12: 6 | X12: 7 | Y12: 26 | Z12: 33 | AA12: 52 | AB12: 35 | AC12: 8 | AD12: 38 | AE12: 2 | AF12: 12 | AG12: 6 | AH12: 5 | AI12: 6.1875 | AJ12: 30 | AK12: 16 | AL12: 57 | AM12: 18 | AN12: 17 | AO12: 8 | AP12: 12 | AQ12: 5 | AR12: 10 | AS12: 10 | AT12: 2 | AU12: 8 | AV12: 21 | AW12: 32.076923 | AX12: 20 | AY12: 24 | AZ12: 21 | BA12: 22 | BB12: 10 | BC12: 17 | BD12: 6 | BE12: 9 | BF12: 1 | BG12: 11 | BH12: 14 | BI12: 4 | BJ12: 24 | BK12: 27 | BL12: 17 | BM12: 0 | BN12: 12 | BO12: 6 | BP12: 5 | BQ12: 7 | BR12: 1 | BS12: 10 | BT12: 0 | BU12: 14 | BV12: 13 | BW12: 7 | BX12: 7 | BY12: 2 | BZ12: 3 | CA12: 0 | CB12: 0 | CC12: 0 | CD12: 0 | CE12: 0 | CF12: 0 | CG12: 3 | CH12: 4 | CI12: 1 | CJ12: 0 | CK12: 0 | CL12: 1 | CM12: 0 | CN12: 5 | CO12: 2 | CP12: 2 | CQ12: 0 | CR12: 0 | CS12: 0 | CT12: 0 | CU12: 7 | CV12: 6 | CW12: 0 | CX12: 0 | CY12: 0 | CZ12: 1 | DA12: 0 | DB12: 1 | DC12: 0 | DD12: 2 | DE12: 0 | DF12: 1 | DG12: 0 | DH12: 1 | DI12: 0 | DJ12: 0 | DK12: 0 | DL12: 1 | DM12: 0 | DN12: 0 | DO12: 0 | DP12: 0 | DQ12: 0 | DR12: 6 | DS12: 8 | DT12: 2 | DU12: 2 | DV12: 2 | DW12: =AVERAGE(DQ12:DV12) -> 3.3333333 | DX12: =(L12+M12+N12+O12)-(P12+Q12+R12+DW12) -> 6.6666667 | DY12: =(DW12*5)-DX12 -> 10 | EA12: 0 | EB12: 36 Can | EC12: 28 | ED12: 202 | EE12: 124 | EF12: 5 | EG12: 0 | EH12: 27 | EI12: 82 | EJ12: 47 | EK12: 30 | EL12: 17 | EM12: 29 | EN12: 5 | EO12: 12 | EP12: 5 | EQ12: 0 | ER12: 8 | ES12: 21 | ET12: 19 | EU12: 51 | EV12: 17 | EW12: 44 | EX12: 8 | EY12: 14 | EZ12: =AVERAGE(ES12:EY12) -> 24.857143 | FA12: =(L12+M12+N12+O12)-(R12+EZ12) -> -14.857143 | FB12: =(EZ12*2)-FA12 -> 64.571429 | FD12: =EA12/36 -> 0
A13: Gear Oil & Transmission Oil | B13: 6 | C13: Volvo | D13: Super Gear Oil 75W80 | E13: 1 | F13: x | G13: 20 | H13: L | I13: VOE15198387 | J13: Can | K13: FM | L13: 64 | R13: =70 -> 70 | T13: 1 | V13: 13 | W13: 0 | X13: 0 | Z13: 0 | AA13: 0 | AB13: 0 | AC13: 0 | AE13: 0 | AF13: 20 | AG13: 0 | AH13: 0 | AI13: 0 | AJ13: 0 | AK13: 9 | AL13: 15 | AM13: 10 | AN13: 0 | AO13: 0 | AP13: 10 | AQ13: 0 | AR13: 0 | AS13: 5 | AT13: 85 | AU13: 0 | AV13: 0 | AW13: 16 | AX13: 55 | AY13: 5 | AZ13: 30 | BA13: 0 | BB13: 0 | BC13: 0 | BD13: 0 | BE13: 0 | BF13: 0 | BG13: 15 | BH13: 9 | BI13: 0 | BJ13: 0 | BK13: 0 | BL13: 10 | BM13: 0 | BN13: 0 | BO13: 0 | BP13: 0 | BQ13: 0 | BR13: 0 | BS13: 0 | BT13: 0 | BU13: 0 | BV13: 0 | BW13: 0 | BX13: 0 | BY13: 0 | BZ13: 0 | CA13: 0 | CB13: 0 | CC13: 0 | CD13: 0 | CE13: 0 | CF13: 0 | CG13: 0 | CH13: 0 | CI13: 0 | CJ13: 0 | CK13: 0 | CL13: 0 | CM13: 0 | CN13: 0 | CO13: 0 | CP13: 0 | CQ13: 0 | CR13: 1 | CS13: 20 | CT13: 20 | CU13: 0 | CV13: 0 | CW13: 0 | CX13: 0 | CY13: 0 | CZ13: 0 | DA13: 0 | DB13: 0 | DC13: 0 | DD13: 20 | DE13: 0 | DF13: 0 | DG13: 0 | DH13: 0 | DI13: 0 | DJ13: 6 | DK13: 0 | DL13: 7 | DM13: 0 | DN13: 0 | DO13: 0 | DP13: 0 | DQ13: 0 | DR13: 0 | DS13: 0 | DT13: 0 | DU13: 0 | DV13: 0 | DW13: =AVERAGE(DQ13:DV13) -> 0 | DX13: =(L13+M13+N13+O13)-(P13+Q13+R13+DW13) -> -6 | DY13: =(DW13*4)-DX13 -> 6 | EA13: 0 | EC13: 50 | ED13: 14 | EE13: 14 | EG13: 0 | EI13: 0 | EJ13: 0 | EK13: 0 | EL13: 0 | EM13: 0 | EO13: 0 | EP13: 0 | EQ13: 0 | ER13: 0 | ES13: 0 | ET13: 0 | EU13: 0 | EV13: 110 | EW13: 0 | EX13: 0 | EY13: 0 | EZ13: =AVERAGE(ES13:EY13) -> 15.714286 | FA13: =(L13+M13+N13+O13)-(R13+EZ13) -> -21.714286 | FB13: =(EZ13*2)-FA13 -> 53.142857 | FD13: =EA13/32 -> 0
A14: Hydraulic Oil | B14: 7 | C14: Volvo | D14: Super Hydraulic Oil ISO VG 68 | E14: 1 | F14: x | G14: 208 | H14: L | I14: VOE15058191 | J14: Drum | K14: FM | L14: 12.48077 | Q14: 80 | R14: =90 -> 90 | S14: 47 | T14: 35.19 | U14: 45.33 | V14: 41.29 | W14: 94.4 | X14: 49.06 | Y14: 66.58 | Z14: 48.961538 | AA14: 62.057692 | AB14: 68.961538 | AC14: 36.384615 | AD14: 59 | AE14: 70.355769 | AF14: 37.692308 | AG14: 50.961538 | AH14: 47.971154 | AI14: 52.3125 | AJ14: 56.153846 | AK14: 57.730769 | AL14: 63.153846 | AM14: 37.442308 | AN14: 80.75 | AO14: 35.692308 | AP14: 33.480769 | AQ14: 33.576923 | AR14: 17.384615 | AS14: 17.576923 | AT14: 89.392308 | AU14: 27.961538 | AV14: 41.46 | AW14: 36.019231 | AX14: 36.576923 | AY14: 23.865385 | AZ14: 21.980769 | BA14: 28.384615 | BB14: 24.634615 | BC14: 26.384615 | BD14: 21.384615 | BE14: 22.192308 | BF14: 22.769231 | BG14: 17.769231 | BH14: 17.384615 | BI14: 17 | BJ14: 18.096154 | BK14: 19 | BL14: 24.096154 | BM14: 18 | BN14: 16.076923 | BO14: 8.3076923 | BP14: 15.096154 | BQ14: 4 | BR14: 17 | BS14: 13.576923 | BT14: 11.096154 | BU14: 6 | BV14: 28 | BW14: 13.288462 | BX14: 14.182692 | BY14: 7 | BZ14: 5.0048077 | CA14: 9.0961538 | CB14: 16 | CC14: 12 | CD14: 9 | CE14: 4 | CF14: 11 | CG14: 17 | CH14: 5.0961538 | CI14: 13 | CJ14: 9.0961538 | CK14: 22 | CL14: 15.288462 | CM14: 6.8653846 | CN14: 7.2 | CO14: 14.84 | CP14: 23 | CQ14: 16.25 | CR14: 22 | CS14: 25.048077 | CT14: 25.048077 | CU14: 40 | CV14: 9 | CW14: 19 | CX14: 22 | CY14: 17 | CZ14: 48 | DA14: 64 | DB14: 96 | DC14: 302 | DD14: 101 | DE14: 7 | DF14: 24 | DG14: 67 | DH14: 16 | DI14: 93 | DJ14: 73 | DK14: 122 | DL14: 24 | DM14: 4 | DN14: 39 | DO14: 0.5 | DP14: 7 | DQ14: 10 | DR14: 5 | DS14: 42 | DT14: 11 | DU14: 51 | DV14: 90 | DW14: =AVERAGE(DQ14:DV14) -> 34.833333 | DX14: =(L14+M14+N14+O14)-(P14+Q14+R14+DW14) -> -192.35256 | DY14: =(DW14*4)-DX14 -> 331.6859 | EA14: 0 | EB14: 4 Drum | EC14: 127 | ED14: 26 | EE14: 45 | EF14: 62 | EG14: 30 | EH14: 145 | EI14: 42 | EJ14: 43 | EK14: 95 | EL14: 44 | EM14: 52 | EN14: 56 | EO14: 24 | EP14: 37 | EQ14: 71 | ER14: 58 | ES14: 49 | ET14: 36 | EU14: 72 | EV14: 82 | EW14: 56 | EX14: 18 | EY14: 31 | EZ14: =AVERAGE(ES14:EY14) -> 49.142857 | FA14: =(L14+M14+N14+O14)-(R14+EZ14) -> -126.66209 | FB14: =(EZ14*2)-FA14 -> 224.9478 | FD14: =EA14/4 -> 0
A15: Engine Oil | B15: 8 | C15: Volvo | D15: Ultra Diesel Engine Oil VDS-3 SAE 15W-40 | E15: 1 | F15: x | G15: 20 | H15: L | I15: VOE15067197 | J15: Can | K15: FM | L15: 12.05 | N15: =288+640+640 -> 1568 | Q15: =200 -> 200 | S15: 214 | T15: 114 | U15: 144 | V15: 229 | W15: 193 | X15: 249 | Y15: 344 | Z15: 286 | AA15: 279 | AB15: 144 | AC15: 86 | AD15: 150 | AE15: 273 | AF15: 226 | AG15: 295 | AH15: 252.5 | AI15: 235.55 | AJ15: 290 | AK15: 461 | AL15: 329 | AM15: 403 | AN15: 370 | AO15: 351 | AP15: 350 | AQ15: 241 | AR15: 304.5 | AS15: 191.5 | AT15: 215.1 | AU15: 299 | AV15: 225 | AW15: 190 | AX15: 285 | AY15: 288 | AZ15: 352 | BA15: 349 | BB15: 380 | BC15: 231 | BD15: 216 | BE15: 229 | BF15: 174.19231 | BG15: 213 | BH15: 298 | BI15: 166 | BJ15: 223 | BK15: 296 | BL15: 271 | BM15: 264 | BN15: 470 | BO15: 314 | BP15: 354 | BQ15: 333 | BR15: 187 | BS15: 215 | BT15: 272 | BU15: 348 | BV15: 271 | BW15: 359 | BX15: 370 | BY15: 162 | BZ15: 229 | CA15: 266 | CB15: 260 | CC15: 195 | CD15: 205 | CE15: 178 | CF15: 277 | CG15: 259 | CH15: 252 | CI15: 203 | CJ15: 291 | CK15: 191 | CL15: 158 | CM15: 268 | CN15: 187 | CO15: 204 | CP15: 460.2 | CQ15: 139 | CR15: 239 | CS15: 431 | CT15: 431 | CU15: 564 | CV15: 669 | CW15: 293 | CX15: 530 | CY15: 310 | CZ15: 261 | DA15: 428 | DB15: 286 | DC15: 250 | DD15: 247 | DE15: 271 | DF15: 357 | DG15: 335.05 | DH15: 437 | DI15: 324 | DJ15: 476 | DK15: 339 | DL15: 371 | DM15: 385 | DN15: 210 | DO15: 66 | DP15: 240 | DQ15: 248 | DR15: 357 | DS15: 254 | DT15: 62 | DU15: 39 | DV15: 36 | DW15: =AVERAGE(DQ15:DV15) -> 166 | DX15: =(L15+M15+N15+O15)-(P15+Q15+R15+DW15) -> 1214.05 | DY15: =(DW15*4)-DX15 -> -550.05 | EA15: 0 | EB15: 32 Can | EC15: 151 | ED15: 127 | EE15: 534 | EF15: 95 | EG15: 334 | EH15: 645 | EI15: 409 | EJ15: 63 | EK15: 0 | EL15: 4 | EM15: 620 | EN15: 181 | EO15: 177 | EP15: 380 | EQ15: 250 | ER15: 162 | ES15: 206 | ET15: 514 | EU15: 400 | EV15: 414.25 | EW15: 483 | EX15: 236 | EY15: 386 | EZ15: =AVERAGE(ES15:EY15) -> 377.03571 | FA15: =(L15+M15+N15+O15)-(R15+EZ15) -> 1203.0143 | FB15: =(EZ15*2)-FA15 -> -448.94286 | FD15: =EA15/32 -> 0
A16: Engine Oil | B16: 9 | C16: Volvo | D16: Ultra Diesel Engine Oil VDS-3 SAE 15W-40 | E16: 1 | F16: x | G16: 208 | H16: L | I16: VOE15067404 | J16: Drum | K16: FM | L16: 8 | N16: =80 -> 80 | S16: 5.9 | T16: 23.4 | U16: =31.17 -> 31.17 | V16: 11 | W16: 76.269231 | X16: 76.06 | Y16: 31.35 | Z16: 20.399038 | AA16: 25.346154 | AB16: 49.903846 | AC16: 65.875 | AD16: 116 | AE16: 86.692308 | AF16: 19.721154 | AG16: 30.848462 | AH16: 44.963846 | AI16: 52.331731 | AJ16: 41.326923 | AK16: 86.177885 | AL16: 181.32692 | AM16: 135.19712 | AN16: 52.259615 | AO16: 43.211538 | AP16: 57.840385 | AQ16: 78.403846 | AR16: 53.596154 | AS16: 25 | AT16: 162.58654 | AU16: 52.384615 | AV16: 92.384615 | AW16: 138.09615 | AX16: 73.442308 | AY16: 90.144231 | AZ16: 166.43269 | BA16: 99.274038 | BB16: 59.346154 | BC16: 78.533654 | BD16: 87.384615 | BE16: 79 | BF16: 150.13462 | BG16: 186 | BH16: 90 | BI16: 47.788462 | BJ16: 121.54808 | BK16: 97.192308 | BL16: 110.81731 | BM16: 60.192308 | BN16: 84.153846 | BO16: 68 | BP16: 101.96154 | BQ16: 18.038462 | BR16: 45.033654 | BS16: 56.307692 | BT16: 92.788462 | BU16: 56.173077 | BV16: 195.32692 | BW16: 97.2 | BX16: 86.096154 | BY16: 52.288462 | BZ16: 73.673077 | CA16: 64 | CB16: 54 | CC16: 109 | CD16: 40.173077 | CE16: 42.192308 | CF16: 62 | CG16: 53 | CH16: 51 | CI16: 61 | CJ16: 47 | CK16: 50.711538 | CL16: 178.42308 | CM16: 106 | CN16: 43 | CO16: 107.26 | CP16: 64.326923 | CQ16: 151 | CR16: 217 | CS16: 100.09615 | CT16: 100.09615 | CU16: 108 | CV16: 269 | CW16: 268 | CX16: 293.07692 | CY16: 117.92308 | CZ16: 113 | DA16: 232 | DB16: 14 | DC16: 219 | DD16: 58 | DE16: 254 | DF16: 114 | DG16: 208 | DH16: 91 | DI16: 102 | DJ16: 97 | DK16: 81 | DL16: 93 | DM16: 41 | DN16: 32 | DO16: 13 | DP16: 86 | DQ16: 51 | DR16: 69 | DS16: 80 | DT16: 85 | DU16: 98 | DV16: 90.8 | DW16: =AVERAGE(DQ16:DV16) -> 78.966667 | DX16: =(L16+M16+N16+O16)-(P16+Q16+R16+DW16) -> 9.0333333 | DY16: =(DW16*4)-DX16 -> 306.83333 | EA16: =80*3 -> 240 | EB16: 4 Drum | EC16: 149 | ED16: 26 | EE16: 11 | EF16: =55+60 -> 115 | EG16: 65 | EH16: 145 | EI16: 17 | EJ16: 32 | EK16: 60 | EL16: 53 | EM16: 54 | EN16: 51 | EO16: 98 | EP16: 32 | EQ16: 22 | ER16: 48 | ES16: 29 | ET16: 55 | EU16: 226 | EV16: 132 | EW16: 37 | EX16: 96 | EY16: 61 | EZ16: =AVERAGE(ES16:EY16) -> 90.857143 | FA16: =(L16+M16+#REF!+N16)-(R16+EZ16) -> #REF! | FB16: =(EZ16*2)-FA16 -> #REF! | FD16: =EA16/4 -> 60
A17: Coolant | B17: 10 | C17: Volvo | D17: Volvo VCS Coolant Concentrate | E17: 1 | F17: x | G17: 18 | H17: L | I17: VOE15161234 | J17: Can | K17: FM | L17: 14.777778 | N17: 36 | S17: 58 | T17: 49 | U17: 57 | V17: 27 | W17: 79 | X17: 49 | Y17: 66 | Z17: 64 | AA17: 83 | AB17: 67 | AC17: 71 | AD17: 87 | AE17: 75 | AF17: 64 | AG17: 40 | AH17: 82 | AI17: 32 | AJ17: 36 | AK17: 62 | AL17: 83 | AM17: 90 | AN17: 91 | AO17: 64 | AP17: 37 | AQ17: 71 | AR17: 60 | AS17: 59 | AT17: 40.111111 | AU17: 35 | AV17: 83 | AW17: 52 | AX17: 37 | AY17: 60 | AZ17: 44 | BA17: 49 | BB17: 40 | BC17: 37 | BD17: 30 | BE17: 44 | BF17: 25 | BG17: 28 | BH17: 44 | BI17: 42 | BJ17: 44 | BK17: 46 | BL17: 32 | BM17: 32 | BN17: 81 | BO17: 32 | BP17: 17 | BQ17: 14 | BR17: 22 | BS17: 19 | BT17: 40 | BU17: 25 | BV17: 31 | BW17: 19 | BX17: 47 | BY17: 15 | BZ17: 23 | CA17: 20 | CB17: 39 | CC17: 32 | CD17: 17 | CE17: 48 | CF17: 16 | CG17: 24 | CH17: 39 | CI17: 33 | CJ17: 33 | CK17: 5 | CL17: 1 | CM17: 20 | CN17: 32 | CO17: 26 | CP17: 19 | CQ17: 6 | CR17: 10 | CS17: 13 | CT17: 13 | CU17: 18 | CV17: 25 | CW17: 35 | CX17: 14 | CY17: 7 | CZ17: 28 | DA17: 6 | DB17: 22 | DC17: 7 | DD17: 15 | DE17: 19 | DF17: 18 | DG17: 20 | DH17: 16.222222 | DI17: 32 | DJ17: 20 | DK17: 9 | DL17: 19 | DM17: 13 | DN17: 6 | DO17: 0 | DP17: 2 | DQ17: 16 | DR17: 4 | DS17: 12 | DT17: 11 | DU17: 6 | DV17: 19 | DW17: =AVERAGE(DQ17:DV17) -> 11.333333 | DX17: =(L17+M17+N17+O17)-(P17+Q17+R17+DW17) -> 39.444444 | DY17: =(DW17*4)-DX17 -> 5.8888889 | EA17: 0 | EB17: 36 Can | EC17: 102 | ED17: 72 | EE17: 222 | EF17: 88 | EG17: 101 | EH17: 207 | EI17: 38 | EJ17: 37 | EK17: 80 | EL17: 6 | EM17: 176 | EN17: 3 | EO17: 63 | EP17: 65 | EQ17: 94 | ER17: 23 | ES17: 17 | ET17: 71 | EU17: 120 | EV17: 101 | EW17: 106 | EX17: 2 | EY17: 29 | EZ17: =AVERAGE(ES17:EY17) -> 63.714286 | FA17: =(L17+M17+N17+O17)-(R17+EZ17) -> -12.936508 | FB17: =(EZ17*2)-FA17 -> 140.36508 | FD17: =EA17/36 -> 0
A18: Gear Oil & Transmission Oil | B18: 11 | C18: Volvo | D18: Volvo Automatic Transmission Fluid | E18: 1 | F18: x | G18: 20 | H18: L | I18: VOE15067098 | J18: Can | K18: MM | L18: 30 | R18: =70 -> 70 | S18: 2 | U18: 2 | V18: 2 | W18: 1 | X18: 4 | Y18: 9 | Z18: 30 | AA18: 17 | AB18: 33 | AC18: 13 | AE18: 0 | AF18: 47 | AG18: 2 | AH18: 7 | AI18: 6 | AJ18: 18 | AK18: 9 | AL18: 29 | AM18: 53 | AN18: 0 | AO18: 16 | AP18: 19 | AQ18: 4 | AR18: 2 | AS18: 6 | AT18: 15 | AU18: 20 | AV18: 25 | AW18: 2 | AX18: 14 | AY18: 32 | AZ18: 43 | BA18: 31 | BB18: 4 | BC18: 1 | BD18: 5 | BE18: 38 | BF18: 5 | BG18: 14 | BH18: 41 | BI18: 27 | BJ18: 44 | BK18: 54 | BL18: 3 | BM18: 1 | BN18: 51 | BO18: 49 | BP18: 34 | BQ18: 5 | BR18: 3 | BS18: 18 | BT18: 3 | BU18: 4 | BV18: 5 | BW18: 6 | BX18: 8 | BY18: 1 | BZ18: 31 | CA18: 0 | CB18: 0 | CC18: 0 | CD18: 5 | CE18: 1 | CF18: 0 | CG18: 17 | CH18: 3 | CI18: 0 | CJ18: 0 | CK18: 0 | CL18: 6 | CM18: 38.2 | CN18: 3 | CO18: 0 | CP18: 2 | CQ18: 0 | CR18: 0 | CS18: 1 | CT18: 1 | CU18: 1 | CV18: 10 | CW18: 0 | CX18: 2 | CY18: 0 | CZ18: 2 | DA18: 0 | DB18: 0 | DC18: 0 | DD18: 1 | DE18: 2 | DF18: 13 | DG18: 0 | DH18: 2 | DI18: 5 | DJ18: 0 | DK18: 0 | DL18: 19 | DM18: 3 | DN18: 4 | DO18: 4 | DP18: 14 | DQ18: 7 | DR18: 2 | DS18: 1 | DT18: 3 | DU18: 12 | DV18: 1 | DW18: =AVERAGE(DQ18:DV18) -> 4.3333333 | DX18: =(L18+M18+N18+O18)-(P18+Q18+R18+DW18) -> -44.333333 | DY18: =(DW18*3)-DX18 -> 57.333333 | DZ18: For MDY | EA18: 0 | EB18: 32 Can | EC18: 30 | ED18: 3 | EE18: 1 | EF18: 1 | EG18: 0 | EH18: 1 | EI18: 8 | EJ18: 25 | EK18: 3 | EL18: 0 | EM18: 20 | EO18: 46 | EP18: 0 | EQ18: 5 | ER18: 3 | ES18: 36 | ET18: 5 | EU18: 45 | EV18: 11 | EW18: 59 | EX18: 26 | EY18: 0 | EZ18: =AVERAGE(ES18:EY18) -> 26 | FA18: =(L18+M18+N18+O18)-(R18+EZ18) -> -66 | FB18: =(EZ18*2)-FA18 -> 118 | FD18: =EA18/32 -> 0
A19: Gear Oil & Transmission Oil | B19: 12 | C19: Volvo | D19: Rear Axle Oil 85W140 | E19: 1 | F19: x | G19: 20 | H19: L | I19: 1161937 | J19: Can | K19: MM | L19: 0 | T19: 1 | V19: 8 | W19: 0 | X19: 0 | Z19: 0 | AA19: 5 | AB19: 7 | AC19: 0 | AE19: 10 | AF19: 0 | AG19: 10 | AH19: 0 | AI19: 0 | AJ19: 0 | AK19: 0 | AL19: 0 | AM19: 0 | AN19: 0 | AO19: 0 | AP19: 1 | AQ19: 0 | AR19: 0 | AS19: 0 | AT19: 0 | AU19: 0 | AV19: 0 | AW19: 0 | AX19: 0 | AY19: 0 | AZ19: 0 | BA19: 0 | BB19: 0 | BC19: 0 | BD19: 0 | BE19: 0 | BF19: 0 | BG19: 0 | BH19: 0 | BI19: 0 | BJ19: 0 | BK19: 0 | BL19: 0 | BM19: 0 | BN19: 0 | BO19: 0 | BP19: 0 | BQ19: 0 | BR19: 0 | BS19: 0 | BT19: 0 | BU19: 0 | BV19: 0 | BW19: 0 | BX19: 0 | BY19: 0 | BZ19: 0 | CA19: 0 | CB19: 0 | CC19: 0 | CD19: 0 | CE19: 0 | CF19: 0 | CG19: 0 | CH19: 0 | CI19: 0 | CJ19: 0 | CK19: 0 | CL19: 0 | CM19: 0 | CN19: 0 | CO19: 0 | CP19: 0 | CQ19: 0 | CR19: 0 | CS19: 0 | CT19: 0 | CU19: 0 | CV19: 0 | CW19: 0 | CX19: 0 | CY19: 0 | CZ19: 0 | DA19: 0 | DB19: 0 | DC19: 0 | DD19: 0 | DE19: 0 | DF19: 0 | DG19: 0 | DH19: 0 | DI19: 0 | DJ19: 0 | DK19: 0 | DL19: 0 | DM19: 0 | DN19: 0 | DO19: 0 | DP19: 0 | DQ19: 0 | DR19: 0 | DS19: 0 | DT19: 0 | DU19: 0 | DV19: 0 | DW19: =AVERAGE(DQ19:DV19) -> 0 | DX19: =(L19+M19+N19+O19)-(P19+Q19+R19+DW19) -> 0 | DY19: =(DW19*2)-DX19 -> 0 | EA19: 0 | EC19: 0 | ED19: 8 | EE19: 16 | EG19: 0 | EI19: 0 | EJ19: 5 | EK19: 7 | EL19: 0 | EM19: 0 | EN19: 10 | EO19: 0 | EP19: 10 | EQ19: 0 | ER19: 0 | ES19: 0 | ET19: 0 | EU19: 0 | EV19: 0 | EW19: 0 | EX19: 0 | EY19: 0 | EZ19: =AVERAGE(ES19:EY19) -> 0 | FA19: =(L19+M19+N19+O19)-(R19+EZ19) -> 0 | FB19: =(EZ19*2)-FA19 -> 0 | FD19: =EA19/32 -> 0
A20: Gear Oil & Transmission Oil | B20: 13 | C20: Volvo | D20: Volvo Transmission Fluid AT 102 | E20: 1 | F20: x | G20: 20 | H20: L | I20: VOE15143928 | J20: Can | K20: MM | L20: 40 | R20: 60 | S20: 5 | W20: 0 | X20: 2 | Z20: 2 | AA20: 0 | AB20: 5 | AC20: 15 | AE20: 52 | AF20: 16 | AG20: 0 | AH20: 0 | AI20: 6 | AJ20: 0 | AK20: 17 | AL20: 5 | AM20: 20 | AN20: 0 | AO20: 10 | AP20: 10 | AQ20: 4 | AR20: 0 | AS20: 10 | AT20: 55 | AU20: 0 | AV20: 0 | AW20: 50 | AX20: 19 | AY20: 0 | AZ20: 28 | BA20: 35 | BB20: 10 | BC20: 0 | BD20: 4 | BE20: 15 | BF20: 0 | BG20: 0 | BH20: 0 | BI20: 0 | BJ20: 0 | BK20: 0 | BL20: 0 | BM20: 20 | BN20: 7 | BO20: 3 | BP20: 0 | BQ20: 0 | BR20: 0 | BS20: 0 | BT20: 20 | BU20: 2 | BV20: 12 | BW20: 0 | BX20: 0 | BY20: 0 | BZ20: 0 | CA20: 0 | CB20: 0 | CC20: 0 | CD20: 0 | CE20: 0 | CF20: 0 | CG20: 0 | CH20: 0 | CI20: 0 | CJ20: 0 | CK20: 0 | CL20: 0 | CM20: 32 | CN20: 0 | CO20: 0 | CP20: 6 | CQ20: 0 | CR20: 0 | CS20: 0 | CT20: 0 | CU20: 0 | CV20: 0 | CW20: 0 | CX20: 0 | CY20: 0 | CZ20: 0 | DA20: 0 | DB20: 5 | DC20: 0 | DD20: 15 | DE20: 0 | DF20: 0 | DG20: 0 | DH20: 0 | DI20: 0 | DJ20: 0 | DK20: 0 | DL20: 12 | DM20: 0 | DN20: 0 | DO20: 0 | DP20: 0 | DQ20: 18 | DR20: 0 | DS20: 0 | DT20: 0 | DU20: 0 | DV20: 0 | DW20: =AVERAGE(DQ20:DV20) -> 3 | DX20: =(L20+M20+N20+O20)-(P20+Q20+R20+DW20) -> -23 | DY20: =(DW20*3)-DX20 -> 32 | EA20: 0 | EB20: 32 Can | EC20: 0 | EG20: 0 | EI20: 0 | EJ20: 0 | EK20: 0 | EL20: 0 | EM20: 0 | EO20: 0 | EP20: 0 | EQ20: 0 | ER20: 0 | ES20: 0 | ET20: 0 | EU20: 0 | EV20: 33 | EW20: 0 | EX20: 0 | EY20: 0 | EZ20: =AVERAGE(ES20:EY20) -> 4.7142857 | FA20: =(L20+M20+N20+O20)-(R20+EZ20) -> -24.714286 | FB20: =(EZ20*2)-FA20 -> 34.142857 | FD20: =EA20/32 -> 0
A21: Coolant | B21: 14 | C21: Volvo | D21: Volvo VCS Coolant Ready Mixed | E21: 1 | F21: x | G21: 18 | H21: L | I21: VOE15142332 | J21: Can | K21: MM | L21: 0 | S21: 5 | T21: 1 | V21: 55 | W21: 10 | X21: 3 | Y21: 22 | Z21: 2 | AA21: 6 | AB21: 6 | AC21: 7 | AD21: 11 | AE21: 8 | AF21: 8 | AG21: 5 | AH21: 1 | AI21: 1 | AJ21: 9 | AK21: 18 | AL21: 6 | AM21: 30 | AN21: 8 | AO21: 11 | AP21: 7 | AQ21: 12 | AR21: 3 | AS21: 0 | AT21: 40 | AU21: 2 | AV21: 5 | AW21: 0 | AX21: 1 | AY21: 0 | AZ21: 2 | BA21: 17 | BB21: 11 | BC21: 4 | BD21: 2 | BE21: 0 | BF21: 0 | BG21: 5 | BH21: 2 | BI21: 0 | BJ21: 1 | BK21: 0 | BL21: 0 | BM21: 0 | BN21: 0 | BO21: 0 | BP21: 0 | BQ21: 0 | BR21: 0 | BS21: 0 | BT21: 0 | BU21: 0 | BV21: 0 | BW21: 0 | BX21: 0 | BY21: 0 | BZ21: 0 | CA21: 0 | CB21: 0 | CC21: 0 | CD21: 0 | CE21: 0 | CF21: 0 | CG21: 0 | CH21: 0 | CI21: 0 | CJ21: 0 | CK21: 0 | CL21: 0 | CM21: 0 | CN21: 0 | CO21: 0 | CP21: 0 | CQ21: 0 | CR21: 0 | CS21: 0 | CT21: 0 | CU21: 0 | CV21: 0 | CW21: 0 | CX21: 0 | CY21: 0 | CZ21: 0 | DA21: 0 | DB21: 0 | DC21: 0 | DD21: 0 | DE21: 0 | DF21: 0 | DG21: 0 | DH21: 0 | DI21: 0 | DJ21: 0 | DK21: 0 | DL21: 0 | DM21: 0 | DN21: 0 | DO21: 0 | DP21: 0 | DQ21: 0 | DR21: 0 | DS21: 0 | DT21: 0 | DU21: 0 | DV21: 0 | DW21: =AVERAGE(DQ21:DV21) -> 0 | DX21: =(L21+M21+N21+O21)-(P21+Q21+R21+DW21) -> 0 | DY21: =(DW21*2)-DX21 -> 0 | DZ21: ** Supplier don't produce this P/N in future. | EA21: 0 | EB21: 36 Can | EC21: 2 | ED21: 272 | EE21: 328 | EF21: 8 | EG21: 20 | EH21: 28 | EI21: 7 | EJ21: 5 | EK21: 0 | EL21: 2 | EM21: 10 | EN21: 5 | EO21: 14 | EP21: 0 | EQ21: 1 | ER21: 0 | ES21: 5 | ET21: 10 | EU21: 42 | EV21: 19 | EW21: 6 | EX21: 85 | EY21: 0 | EZ21: =AVERAGE(ES21:EY21) -> 23.857143 | FA21: =(L21+M21+N21+O21)-(R21+EZ21) -> -23.857143 | FB21: =(EZ21*2)-FA21 -> 71.571429 | FD21: =EA21/36 -> 0
A22: Gear Oil & Transmission Oil | B22: 15 | C22: Volvo | D22: Volvo Automatic Transmission Fluid | E22: 1 | F22: x | G22: 208 | H22: L | I22: VOE15067157 | J22: Drum | K22: SM | L22: 2 | S22: 1 | V22: 1 | W22: 0 | X22: 1 | Y22: 2.096 | Z22: 1 | AA22: 0 | AB22: 0 | AC22: 1 | AE22: 0.0048076923 | AF22: 1 | AG22: 0 | AH22: 0 | AI22: 0.26923077 | AJ22: 0.26442308 | AK22: 0 | AL22: 4 | AM22: 2 | AN22: 3 | AO22: 0.096153846 | AP22: 0 | AQ22: 0 | AR22: 0 | AS22: 1 | AT22: 2 | AU22: 0 | AV22: 1 | AW22: 0 | AX22: 0 | AY22: 0 | AZ22: 0 | BA22: 0 | BB22: 0 | BC22: 0 | BD22: 0 | BE22: 0 | BF22: 0 | BG22: 0 | BH22: 0 | BI22: 0 | BJ22: 0 | BK22: 1 | BL22: 0 | BM22: 0 | BN22: 0 | BO22: 0 | BP22: 0 | BQ22: 0 | BR22: 0 | BS22: 0 | BT22: 0 | BU22: 0 | BV22: 0 | BW22: 0 | BX22: 0 | BY22: 0 | BZ22: 1 | CA22: 0 | CB22: 0 | CC22: 0 | CD22: 0 | CE22: 0 | CF22: 0 | CG22: 0 | CH22: 0 | CI22: 0 | CJ22: 0 | CK22: 0 | CL22: 0 | CM22: 0 | CN22: 0 | CO22: 0 | CP22: 0 | CQ22: 0 | CR22: 0 | CS22: 0 | CT22: 0 | CU22: 0 | CV22: 0 | CW22: 0 | CX22: 0 | CY22: 0 | CZ22: 0 | DA22: 0 | DB22: 0 | DC22: 0 | DD22: 0 | DE22: 0 | DF22: 0 | DG22: 0 | DH22: 0 | DI22: 0 | DJ22: 0 | DK22: 0 | DL22: 0 | DM22: 0 | DN22: 0 | DO22: 0 | DP22: 0 | DQ22: 0 | DR22: 0 | DS22: 0 | DT22: 0 | DU22: 0 | DV22: 0 | DW22: =AVERAGE(DQ22:DV22) -> 0 | DX22: =(L22+M22+N22+O22)-(P22+Q22+R22+DW22) -> 2 | DY22: =(DW22*2)-DX22 -> -2 | EA22: 0 | EC22: 0 | EE22: 1 | EF22: 21 | EG22: 0 | EH22: 21 | EI22: 0 | EJ22: 0 | EK22: 0 | EL22: 1 | EM22: 0 | EO22: 1 | EP22: 0 | EQ22: 0 | ER22: 0 | ES22: 0 | ET22: 0 | EU22: 0 | EV22: 0 | EW22: 0 | EX22: 0 | EY22: 0 | EZ22: =AVERAGE(ES22:EY22) -> 0 | FA22: =(L22+M22+N22+O22)-(R22+EZ22) -> 2 | FB22: =(EZ22*2)-FA22 -> -2 | FD22: =EA22/4 -> 0
A23: Gear Oil & Transmission Oil | B23: 16 | C23: Volvo | D23: Volvo Gear Oil HD GL-5 SAE 85W-140 | E23: 1 | F23: x | G23: 208 | H23: L | I23: VOE15067629 | J23: Drum | K23: SM | L23: 0 | W23: 0 | X23: 0 | Z23: 0 | AA23: 0 | AB23: 0 | AC23: 0 | AE23: 0 | AF23: 0 | AG23: 0 | AH23: 0 | AI23: 0 | AJ23: 0 | AK23: 0 | AL23: 0 | AM23: 0 | AN23: 0 | AO23: 0 | AP23: 0 | AQ23: 0 | AR23: 0 | AS23: 0 | AT23: 0 | AU23: 0 | AV23: 0 | AW23: 0 | AX23: 0 | AY23: 0 | AZ23: 0 | BA23: 0 | BB23: 0 | BC23: 0 | BD23: 0 | BE23: 0 | BF23: 0 | BG23: 0 | BH23: 0 | BI23: 0 | BJ23: 0 | BK23: 0 | BL23: 0 | BM23: 0 | BN23: 1 | BO23: 0 | BP23: 0 | BQ23: 0 | BR23: 0 | BS23: 0 | BT23: 0 | BU23: 0 | BV23: 0.057692308 | BW23: 0.043269231 | BX23: 0 | BY23: 0 | BZ23: 0 | CA23: 0 | CB23: 0 | CC23: 1 | CD23: 0 | CE23: 0 | CF23: 0 | CG23: 0 | CH23: 0 | CI23: 0 | CJ23: 0 | CK23: 0 | CL23: 0 | CM23: 1.4567308 | CN23: 0 | CO23: 0 | CP23: 0 | CQ23: 0 | CR23: 0 | CS23: 0 | CT23: 0 | CU23: 0 | CV23: 0 | CW23: 0 | CX23: 0 | CY23: 0 | CZ23: 0 | DA23: 0 | DB23: 0 | DC23: 0 | DD23: 0 | DE23: 0 | DF23: 0 | DG23: 0 | DH23: 0 | DI23: 0 | DJ23: 0 | DK23: 0 | DL23: 0 | DM23: 0 | DN23: 0 | DO23: 0 | DP23: 0 | DQ23: 0 | DR23: 0 | DS23: 0 | DT23: 0 | DU23: 0 | DV23: 0 | DW23: =AVERAGE(DQ23:DV23) -> 0 | DX23: =(L23+M23+N23+O23)-(P23+Q23+R23+DW23) -> 0 | DY23: =(DW23*2)-DX23 -> 0 | EA23: 0 | EC23: 0 | EG23: 0 | EI23: 0 | EJ23: 0 | EK23: 0 | EL23: 0 | EM23: 0 | EO23: 0 | EP23: 3 | EQ23: 0 | ER23: 0 | ES23: 0 | ET23: 0 | EU23: 0 | EV23: 0 | EW23: 0 | EX23: 0 | EY23: 0 | EZ23: =AVERAGE(ES23:EY23) -> 0 | FA23: =(L23+M23+N23+O23)-(R23+EZ23) -> 0 | FB23: =(EZ23*2)-FA23 -> 0 | FD23: =EA23/4 -> 0
A24: Gear Oil & Transmission Oil | B24: 17 | C24: Volvo | D24: Gearbox Oil SAE50 | E24: 1 | F24: x | G24: 20 | H24: L | I24: 85136370 | J24: Can | K24: SM | L24: 0 | T24: 1 | W24: 0 | X24: 0 | Z24: 18 | AA24: 2 | AB24: 0 | AC24: 0 | AE24: 3 | AF24: 0 | AG24: 17 | AH24: 2 | AI24: 3 | AJ24: 8 | AK24: 1 | AL24: 28 | AM24: 29 | AN24: 3 | AO24: 10 | AP24: 1 | AQ24: 1 | AR24: 0 | AS24: 1 | AT24: 13 | AU24: 0 | AV24: 0 | AW24: 0 | AX24: 15 | AY24: 2 | AZ24: 0 | BA24: 0 | BB24: 1 | BC24: 0 | BD24: 0 | BE24: 0 | BF24: 0 | BG24: 0 | BH24: 0 | BI24: 0 | BJ24: 0 | BK24: 0 | BL24: 1 | BM24: 0 | BN24: 0 | BO24: 0 | BP24: 0 | BQ24: 0 | BR24: 0 | BS24: 0 | BT24: 0 | BU24: 0 | BV24: 0 | BW24: 0 | BX24: 0 | BY24: 0 | BZ24: 0 | CA24: 0 | CB24: 0 | CC24: 0 | CD24: 0 | CE24: 0 | CF24: 0 | CG24: 0 | CH24: 0 | CI24: 0 | CJ24: 0 | CK24: 0 | CL24: 0 | CM24: 0 | CN24: 0 | CO24: 0 | CP24: 0 | CQ24: 0 | CR24: 0 | CS24: 0 | CT24: 0 | CU24: 0 | CV24: 0 | CW24: 0 | CX24: 0 | CY24: 0 | CZ24: 0 | DA24: 0 | DB24: 0 | DC24: 0 | DD24: 0 | DE24: 0 | DF24: 0 | DG24: 0 | DH24: 0 | DI24: 0 | DJ24: 0 | DK24: 0 | DL24: 0 | DM24: 0 | DN24: 0 | DO24: 0 | DP24: 0 | DQ24: 0 | DR24: 0 | DS24: 0 | DT24: 0 | DU24: 0 | DV24: 0 | DW24: =AVERAGE(DQ24:DV24) -> 0 | DX24: =(L24+M24+N24+O24)-(P24+Q24+R24+DW24) -> 0 | DY24: =(DW24*2)-DX24 -> 0 | EA24: 0 | EC24: 0 | ED24: 5 | EE24: 5 | EG24: 29 | EH24: 29 | EI24: 0 | EJ24: 25 | EK24: 25 | EL24: 0 | EM24: 10 | EN24: 2 | EO24: 0 | EP24: 0 | EQ24: 0 | ER24: 25 | ES24: 50 | ET24: 0 | EU24: 9 | EV24: 35 | EW24: 0 | EX24: 0 | EY24: 4 | EZ24: =AVERAGE(ES24:EY24) -> 14 | FA24: =(L24+M24+N24+O24)-(R24+EZ24) -> -14 | FB24: =(EZ24*2)-FA24 -> 42 | FD24: =EA24/32 -> 0
A25: Gear Oil & Transmission Oil | B25: 18 | C25: UD | D25: Genuine Gear Oil GL-4 80W90 | E25: 1 | F25: x | G25: 20 | H25: L | I25: 99990-1Z03J | J25: Can | K25: SM | L25: 0 | T25: 1 | W25: 0 | X25: 0 | Z25: 0 | AA25: 5 | AB25: 7 | AC25: 0 | AE25: 1 | AF25: 0 | AG25: 0 | AH25: 0 | AI25: 0 | AJ25: 0 | AK25: 0 | AL25: 0 | AM25: 0 | AN25: 0 | AO25: 0 | AP25: 0 | AQ25: 0 | AR25: 0 | AS25: 0 | AT25: 0 | AU25: 0 | AV25: 0 | AW25: 0 | AX25: 0 | AY25: 0 | AZ25: 0 | BA25: 0 | BB25: 0 | BC25: 0 | BD25: 0 | BE25: 0 | BF25: 0 | BG25: 0 | BH25: 0 | BI25: 0 | BJ25: 0 | BK25: 0 | BL25: 0 | BM25: 0 | BN25: 0 | BO25: 0 | BP25: 0 | BQ25: 0 | BR25: 0 | BS25: 0 | BT25: 0 | BU25: 0 | BV25: 0 | BW25: 0 | BX25: 0 | BY25: 0 | BZ25: 0 | CA25: 0 | CB25: 0 | CC25: 0 | CD25: 0 | CE25: 0 | CF25: 0 | CG25: 0 | CH25: 0 | CI25: 0 | CJ25: 0 | CK25: 0 | CL25: 0 | CM25: 0 | CN25: 0 | CO25: 0 | CP25: 0 | CQ25: 0 | CR25: 0 | CS25: 0 | CT25: 0 | CU25: 0 | CV25: 0 | CW25: 0 | CX25: 0 | CY25: 0 | CZ25: 0 | DA25: 0 | DB25: 0 | DC25: 0 | DD25: 0 | DE25: 0 | DF25: 0 | DG25: 0 | DH25: 0 | DI25: 0 | DJ25: 0 | DK25: 0 | DL25: 0 | DM25: 0 | DN25: 0 | DO25: 0 | DP25: 0 | DQ25: 0 | DR25: 0 | DS25: 0 | DT25: 0 | DU25: 0 | DV25: 0 | DW25: =AVERAGE(DQ25:DV25) -> 0 | DX25: =(L25+M25+N25+O25)-(P25+Q25+R25+DW25) -> 0 | DY25: =(DW25*2)-DX25 -> 0 | EA25: 0 | EC25: 0 | ED25: 12 | EE25: 12 | EG25: 0 | EI25: 0 | EJ25: 5 | EK25: 7 | EL25: 0 | EM25: 0 | EO25: 0 | EP25: 0 | EQ25: 0 | ER25: 0 | ES25: 0 | ET25: 0 | EU25: 0 | EV25: 0 | EW25: 0 | EX25: 0 | EY25: 0 | EZ25: =AVERAGE(ES25:EY25) -> 0 | FA25: =(L25+M25+N25+O25)-(R25+EZ25) -> 0 | FB25: =(EZ25*2)-FA25 -> 0 | FD25: =EA25/32 -> 0
A26: Brake Oil | B26: 19 | C26: Volvo | D26: Super Wet Brake Transaxle Oil | E26: 1 | F26: x | G26: 20 | H26: L | I26: VOE15058290 | J26: Can | K26: MM | L26: 62.8 | R26: =90+100 -> 190 | S26: 5 | T26: 1 | U26: 2 | V26: 11 | W26: 30 | X26: 10 | Y26: 10 | Z26: 15 | AA26: 0 | AB26: 11 | AC26: 0 | AE26: 2 | AF26: 12 | AG26: 0 | AH26: 20 | AI26: 0 | AJ26: 50 | AK26: 19 | AL26: 14 | AM26: 90 | AN26: 163 | AO26: 6 | AP26: 54 | AQ26: 10 | AR26: 15 | AS26: 30 | AT26: 38 | AU26: 11 | AV26: 3 | AW26: 26 | AX26: 32 | AY26: 5 | AZ26: 40 | BA26: 20 | BB26: 20 | BC26: 1 | BD26: 0 | BE26: 31 | BF26: 94 | BG26: 0 | BH26: 32 | BI26: 10 | BJ26: 6 | BK26: 40 | BL26: 2 | BM26: 0 | BN26: 20 | BO26: 3 | BP26: 30 | BQ26: 0 | BR26: 0 | BS26: 0 | BT26: 30 | BU26: 50 | BV26: 30 | BW26: 0 | BX26: 0 | BY26: 0 | BZ26: 20 | CA26: 80 | CB26: 0 | CC26: 0 | CD26: 0 | CE26: 0 | CF26: 0 | CG26: 0 | CH26: 0 | CI26: 0 | CJ26: 0 | CK26: 0 | CL26: 0 | CM26: 57 | CN26: 0 | CO26: 0 | CP26: 0 | CQ26: 7 | CR26: 0 | CS26: 39 | CT26: 39 | CU26: 0 | CV26: 1 | CW26: 0 | CX26: 0 | CY26: 0 | CZ26: 0 | DA26: 40 | DB26: 30 | DC26: 0 | DD26: 2 | DE26: 0 | DF26: 30 | DG26: 0 | DH26: 20 | DI26: 0 | DJ26: 81.2 | DK26: 0 | DL26: 58 | DM26: 10 | DN26: 0 | DO26: 1 | DP26: 10 | DQ26: 18 | DR26: 0 | DS26: 0 | DT26: 6 | DU26: 0 | DV26: 30 | DW26: =AVERAGE(DQ26:DV26) -> 9 | DX26: =(L26+M26+N26+O26)-(P26+Q26+R26+DW26) -> -136.2 | DY26: =(DW26*4)-DX26 -> 172.2 | DZ26: For MDY | EA26: 0 | EC26: 0 | EE26: 21 | EG26: 278 | EH26: 278 | EI26: 0 | EJ26: 0 | EK26: 15 | EL26: 10 | EM26: 0 | EO26: 0 | EP26: 0 | EQ26: 7 | ER26: 0 | ES26: 0 | ET26: 0 | EU26: 10 | EV26: 56 | EW26: 0 | EX26: 0 | EY26: 30 | EZ26: =AVERAGE(ES26:EY26) -> 13.714286 | FA26: =(L26+M26+N26+O26)-(R26+EZ26) -> -140.91429 | FB26: =(EZ26*2)-FA26 -> 168.34286 | FD26: =EA26/32 -> 0
A27: Engine Oil | B27: 20 | C27: Volvo | D27: Ultra Diesel Engine Oil VDS-3 SAE 15W-40 | E27: 3 | F27: x | G27: 6 | H27: L | I27: VOE17429515 | J27: Bottle | K27: SM | L27: 0 | S27: 5 | T27: 2 | U27: 2 | V27: 1 | W27: 1 | X27: 0 | Y27: 2 | Z27: 15 | AA27: 3 | AB27: 3 | AC27: 37 | AD27: 23 | AE27: 7 | AF27: 5 | AG27: 4 | AH27: 0 | AI27: 0 | AJ27: 1 | AK27: 5 | AL27: 0 | AM27: 1 | AN27: 0 | AO27: 3 | AP27: 2 | AQ27: 0 | AR27: 0 | AS27: 0 | AT27: 0 | AU27: 1 | AV27: 0 | AW27: 0 | AX27: 0 | AY27: 4 | AZ27: 0 | BA27: 0 | BB27: 0 | BC27: 0 | BD27: 0 | BE27: 0 | BF27: 0 | BG27: 0 | BH27: 0 | BI27: 0 | BJ27: 0 | BK27: 0 | BL27: 0 | BM27: 0 | BN27: 0 | BO27: 0 | BP27: 0 | BQ27: 0 | BR27: 0 | BS27: 0 | BT27: 0 | BU27: 0 | BV27: 0 | BW27: 0 | BX27: 0 | BY27: 0 | BZ27: 0 | CA27: 0 | CB27: 0 | CC27: 0 | CD27: 0 | CE27: 0 | CF27: 0 | CG27: 0 | CH27: 0 | CI27: 1 | CJ27: 0 | CK27: 0 | CL27: 1 | CM27: 2 | CN27: 0 | CO27: 0 | CP27: 1 | CQ27: 60 | CR27: 0 | CS27: 0 | CT27: 0 | CU27: 0 | CV27: 0 | CW27: 0 | CX27: 0 | CY27: 0 | CZ27: 0 | DA27: 0 | DB27: 0 | DC27: 0 | DD27: 0 | DE27: 0 | DF27: 0 | DG27: 0 | DH27: 0 | DI27: 0 | DJ27: 0 | DK27: 0 | DL27: 0 | DM27: 0 | DN27: 0 | DO27: 0 | DP27: 0 | DQ27: 0 | DR27: 0 | DS27: 0 | DT27: 0 | DU27: 0 | DV27: 0 | DW27: =AVERAGE(DQ27:DV27) -> 0 | DX27: =(L27+M27+N27+O27)-(P27+Q27+R27+DW27) -> 0 | DY27: =(DW27*2)-DX27 -> 0 | EA27: 0 | EC27: 0 | ED27: 30 | EG27: 0 | EI27: 6 | EJ27: 0 | EK27: 53 | EL27: 3 | EM27: 1 | EN27: 1 | EO27: 0 | EP27: 0 | EQ27: 0 | ER27: 0 | ES27: 0 | ET27: 0 | EU27: 0 | EV27: 0 | EW27: 0 | EX27: 0 | EY27: 0 | EZ27: =AVERAGE(ES27:EY27) -> 0 | FA27: =(L27+M27+N27+O27)-(R27+EZ27) -> 0 | FB27: =(EZ27*2)-FA27 -> 0 | FD27: =EA27/32 -> 0
A28: Hydraulic Oil | B28: 21 | C28: Volvo | D28: Volvo Super Hydraulic Oil ISO VG 68 | E28: 1 | F28: x | G28: 20 | H28: L | I28: VOE15058186 | J28: Can | K28: SM | L28: 16 | N28: 32 | T28: 6 | U28: 1 | V28: 10 | W28: 11 | X28: 4 | Y28: 26 | Z28: 15 | AA28: 16 | AB28: 19 | AC28: 2 | AD28: 14 | AE28: 15 | AF28: 22 | AG28: 27 | AH28: 35 | AI28: 1.1 | AJ28: 20 | AK28: 36 | AL28: 30 | AM28: 30 | AN28: 18 | AO28: 17 | AP28: 16 | AQ28: 20 | AR28: 29 | AS28: 11 | AT28: 20 | AU28: 28 | AV28: 35 | AW28: 23 | AX28: 12 | AY28: 15 | AZ28: 36 | BA28: 61 | BB28: 28 | BC28: 47 | BD28: 11 | BE28: 26 | BF28: 5 | BG28: 22 | BH28: 21 | BI28: 37 | BJ28: 14 | BK28: 6 | BL28: 10 | BM28: 13 | BN28: 16 | BO28: 19 | BP28: 13 | BQ28: 0 | BR28: 12 | BS28: 8 | BT28: 16 | BU28: 7 | BV28: 10 | BW28: 8 | BX28: 14 | BY28: 7 | BZ28: 4 | CA28: 29 | CB28: 1 | CC28: 3 | CD28: 21 | CE28: 6 | CF28: 10 | CG28: 20 | CH28: 23 | CI28: 2 | CJ28: 4 | CK28: 10 | CL28: 7 | CM28: 3 | CN28: 2 | CO28: 24 | CP28: 38 | CQ28: 8 | CR28: 16 | CS28: 8 | CT28: 8 | CU28: 7 | CV28: 35 | CW28: 14 | CX28: 7 | CY28: 8 | CZ28: 4 | DA28: 2 | DB28: 0 | DC28: 11 | DD28: 4 | DE28: 16 | DF28: 1 | DG28: 26 | DH28: 13 | DI28: 7 | DJ28: 5 | DK28: 23 | DL28: 6 | DM28: 10 | DN28: 1 | DO28: 0 | DP28: 1 | DQ28: 4 | DR28: 13 | DS28: 15 | DT28: 6 | DU28: 4 | DV28: 1 | DW28: =AVERAGE(DQ28:DV28) -> 7.1666667 | DX28: =(L28+M28+N28+O28)-(P28+Q28+R28+DW28) -> 40.833333 | DY28: =(DW28*4)-DX28 -> -12.166667 | EA28: 0 | EB28: 32 Can | EC28: 11 | ED28: 9 | EE28: 6 | EF28: 38 | EG28: 0 | EH28: 53 | EI28: 18 | EJ28: 16 | EK28: 11 | EL28: 8 | EM28: 25 | EN28: 13 | EO28: 48 | EP28: 0 | EQ28: 0 | ER28: 10 | ES28: 22 | ET28: 37 | EU28: 24 | EV28: 44 | EW28: 71 | EX28: 2 | EY28: 22 | EZ28: =AVERAGE(ES28:EY28) -> 31.714286 | FA28: =(L28+M28+N28+O28)-(R28+EZ28) -> 16.285714 | FB28: =(EZ28*2)-FA28 -> 47.142857 | FD28: =EA28/32 -> 0
A29: Brake Oil | B29: 22 | C29: Volvo | D29: Super Wet Brake Transaxle Oil | E29: 1 | F29: x | G29: 208 | H29: L | I29: VOE15058299 | J29: Drum | K29: SM | L29: 0 | W29: 2 | X29: 1 | Z29: 0 | AA29: 0 | AB29: 0 | AC29: 5 | AE29: 15 | AF29: 0 | AG29: 0 | AH29: 0 | AI29: 0 | AJ29: 0 | AK29: 0 | AL29: 0 | AM29: 0 | AN29: 0 | AO29: 0 | AP29: 0 | AQ29: 0 | AR29: 30 | AS29: 0 | AT29: 0 | AU29: 0 | AV29: 50 | AW29: 55 | AX29: 1 | AY29: 0 | AZ29: 0 | BA29: 0 | BB29: 0 | BC29: 0 | BD29: 0 | BE29: 0 | BF29: 0 | BG29: 5 | BH29: 0 | BI29: 0 | BJ29: 0 | BK29: 0 | BL29: 0 | BM29: 11 | BN29: 1 | BO29: 0 | BP29: 0 | BQ29: 0 | BR29: 0 | BS29: 0 | BT29: 0 | BU29: 0 | BV29: 10 | BW29: 0 | BX29: 3 | BY29: 0 | BZ29: 4 | CA29: 3 | CB29: 0 | CC29: 0 | CD29: 0 | CE29: 0 | CF29: 0 | CG29: 0 | CH29: 0 | CI29: 0 | CJ29: 0 | CK29: 0 | CL29: 0 | CM29: 0 | CN29: 0 | CO29: 0 | CP29: 0 | CQ29: 0 | CR29: 0 | CS29: 0 | CT29: 0 | CU29: 0 | CV29: 0 | CW29: 0 | CX29: 0 | CY29: 0 | CZ29: 0 | DA29: 0 | DB29: 0 | DC29: 0 | DD29: 0 | DE29: 0 | DF29: 0 | DG29: 0 | DH29: 0 | DI29: 0 | DJ29: 0 | DK29: 0 | DL29: 0 | DM29: 0 | DN29: 0 | DO29: 0 | DP29: 0 | DQ29: 0 | DR29: 0 | DS29: 0 | DT29: 0 | DU29: 0 | DV29: 0 | DW29: =AVERAGE(DQ29:DV29) -> 0 | DX29: =(L29+M29+N29+O29)-(P29+Q29+R29+DW29) -> 0 | DY29: =(DW29*2)-DX29 -> 0 | EA29: 0 | EG29: 0 | EI29: 20 | EJ29: 0 | EK29: 0 | EL29: 0 | EM29: 0 | EO29: 0 | EP29: 0 | EQ29: 0 | ER29: 0 | ES29: 0 | ET29: 0 | EU29: 0 | EV29: 0 | EW29: 0 | EX29: 0 | EY29: 0 | EZ29: =AVERAGE(ES29:EY29) -> 0 | FA29: =(L29+M29+N29+O29)-(R29+EZ29) -> 0 | FB29: =(EZ29*2)-FA29 -> 0 | FD29: =EA29/4 -> 0
A30: Hydraulic Oil | B30: 23 | C30: SD-LG | D30: Hydraulic Oil, VG68 | E30: 1 | F30: x | G30: 208 | H30: L | I30: 5301000287 | J30: Drum | K30: SM | L30: 1 | AE30: 0 | AF30: 0 | AG30: 0 | AH30: 0 | AI30: 0 | AJ30: 0 | AK30: 0 | AL30: 0 | AM30: 0 | AN30: 0 | AO30: 0 | AP30: 0 | AQ30: 0 | AR30: 2 | AS30: 0 | AT30: 2 | AU30: 0 | AV30: 0 | AW30: 0 | AX30: 0 | AY30: 0 | AZ30: 0 | BA30: 0 | BB30: 0 | BC30: 0 | BD30: 0 | BE30: 0 | BF30: 0 | BG30: 0 | BH30: 0 | BI30: 0 | BJ30: 0 | BK30: 0 | BL30: 0 | BM30: 0 | BN30: 0 | BO30: 0 | BP30: 0 | BQ30: 0 | BR30: 0 | BS30: 0 | BT30: 0 | BU30: 0 | BV30: 0 | BW30: 0 | BX30: 0 | BY30: 0 | BZ30: 0 | CA30: 0 | CB30: 0 | CC30: 0 | CD30: 0 | CE30: 0 | CF30: 0 | CG30: 0 | CH30: 0 | CI30: 0 | CJ30: 0 | CK30: 0 | CL30: 0 | CM30: 0 | CN30: 0 | CO30: 0 | CP30: 0 | CQ30: 0 | CR30: 0 | CS30: 0 | CT30: 0 | CU30: 0 | CV30: 0 | CW30: 0 | CX30: 0 | CY30: 0 | CZ30: 0 | DA30: 2 | DB30: 0 | DC30: 0 | DD30: 0 | DE30: 0 | DF30: 0 | DG30: 0 | DH30: 0 | DI30: 0 | DJ30: 0 | DK30: 0 | DL30: 0 | DM30: 0 | DN30: 0 | DO30: 0 | DP30: 0 | DQ30: 0 | DR30: 0 | DS30: 0 | DT30: 0 | DU30: 0 | DV30: 0 | DW30: =AVERAGE(DQ30:DV30) -> 0 | DX30: =(L30+M30+N30+O30)-(P30+Q30+R30+DW30) -> 1 | DY30: =(DW30*2)-DX30 -> -1 | EA30: 0 | EO30: 0 | EP30: 0 | EQ30: 0 | ER30: 0 | ES30: 0 | ET30: 0 | EU30: 0 | EV30: 0 | EW30: 0 | EX30: 0 | EY30: 0 | EZ30: =AVERAGE(ES30:EY30) -> 0 | FA30: =(L30+M30+N30+O30)-(R30+EZ30) -> 1 | FB30: =(EZ30*2)-FA30 -> -1 | FD30: =EA30/4 -> 0
A31: Gear Oil & Transmission Oil | B31: 24 | C31: Volvo | D31: Volvo Transmission Fluid AT 102 | E31: 1 | F31: x | G31: 208 | H31: L | I31: VOE17286292 | J31: Drum | K31: SM | L31: 1 | AM31: 0 | AN31: 0 | AO31: 0 | AP31: 0 | AQ31: 0 | AR31: 0 | AS31: 0 | AT31: 0 | AU31: 0 | AV31: 0 | AW31: 0 | AX31: 0 | AY31: 0 | AZ31: 0 | BA31: 0 | BB31: 0 | BC31: 0 | BD31: 0 | BE31: 0 | BF31: 0 | BG31: 6 | BH31: 4 | BI31: 0 | BJ31: 0 | BK31: 0 | BL31: 0 | BM31: 6 | BN31: 0 | BO31: 0 | BP31: 0 | BQ31: 0 | BR31: 0 | BS31: 0 | BT31: 0 | BU31: 4 | BV31: 1 | BW31: 0 | BX31: 0 | BY31: 0 | BZ31: 0 | CA31: 0 | CB31: 0 | CC31: 0 | CD31: 0 | CE31: 0 | CF31: 0 | CG31: 0 | CH31: 0 | CI31: 0 | CJ31: 0 | CK31: 0 | CL31: 0 | CM31: 0 | CN31: 0 | CO31: 0 | CP31: 0 | CQ31: 0 | CR31: 0 | CS31: 0 | CT31: 0 | CU31: 0 | CV31: 0 | CW31: 0 | CX31: 0 | CY31: 0 | CZ31: 0 | DA31: 0 | DB31: 0 | DC31: 0 | DD31: 0 | DE31: 0 | DF31: 0 | DG31: 0 | DH31: 0 | DI31: 0 | DJ31: 0 | DK31: 0 | DL31: 0 | DM31: 0 | DN31: 0 | DO31: 0 | DP31: 0 | DQ31: 0 | DR31: 0 | DS31: 0 | DT31: 0 | DU31: 0 | DV31: 0 | DW31: =AVERAGE(DQ31:DV31) -> 0 | DX31: =(L31+M31+N31+O31)-(P31+Q31+R31+DW31) -> 1 | DY31: =(DW31*2)-DX31 -> -1 | EA31: 0 | EO31: 0 | EP31: 0 | EQ31: 0 | ER31: 0 | ES31: 0 | ET31: 0 | EU31: 0 | EV31: 0 | EW31: 0 | EX31: 0 | EY31: 0 | EZ31: =AVERAGE(ES31:EY31) -> 0 | FA31: =(L31+M31+N31+O31)-(R31+EZ31) -> 1 | FB31: =(EZ31*2)-FA31 -> -1 | FD31: =EA31/4 -> 0
A32: Coolant | B32: 25 | C32: Volvo | D32: Volvo VCS Coolant 40/60 | E32: 1 | F32: x | G32: 18 | H32: L | I32: VOE17470368 | J32: Can | K32: SM | L32: 3.7777778 | N32: 108 | R32: =50+30 -> 80 | AO32: 0 | AP32: 0 | AQ32: 0 | AR32: 0 | AS32: 0 | AT32: 0 | AU32: 0 | AV32: 0 | AW32: 0 | AX32: 0 | AY32: 0 | AZ32: 0 | BA32: 0 | BB32: 3 | BC32: 0 | BD32: 2 | BE32: 0 | BF32: 0 | BG32: 0 | BH32: 0 | BI32: 0 | BJ32: 10 | BK32: 0 | BL32: 6 | BM32: 2 | BN32: 12 | BO32: 2 | BP32: 6 | BQ32: 0 | BR32: 4 | BS32: 1 | BT32: 2 | BU32: 2 | BV32: 0 | BW32: 2 | BX32: 3 | BY32: 1 | BZ32: 1 | CA32: 1 | CB32: 1 | CC32: 3 | CD32: 0 | CE32: 0 | CF32: 0 | CG32: 0 | CH32: 0 | CI32: 1 | CJ32: 0 | CK32: 0 | CL32: 0 | CM32: 0 | CN32: 14 | CO32: 0 | CP32: 1 | CQ32: 0 | CR32: 0 | CS32: 0 | CT32: 0 | CU32: 0 | CV32: 0 | CW32: 0 | CX32: 5 | CY32: 4 | CZ32: 12 | DA32: 17 | DB32: 10 | DC32: 2 | DD32: 0 | DE32: 0 | DF32: 33 | DG32: 15 | DH32: 7.2222222 | DI32: 13 | DJ32: 14 | DK32: 6 | DL32: 70 | DM32: 20 | DN32: 37 | DO32: 17 | DP32: 14 | DQ32: 3 | DR32: 4 | DS32: 0 | DT32: 0 | DU32: 0 | DV32: 0 | DW32: =AVERAGE(DQ32:DV32) -> 1.1666667 | DX32: =(L32+M32+N32+O32)-(P32+Q32+R32+DW32) -> 30.611111 | DY32: =(DW32*2)-DX32 -> -28.277778 | EA32: 0 | EZ32: =AVERAGE(ES32:EY32) -> #DIV/0! | FA32: =(L32+M32+N32+O32)-(R32+EZ32) -> #DIV/0! | FB32: =(EZ32*2)-FA32 -> #DIV/0! | FD32: =EA32/36 -> 0
A33: Hydraulic Oil | B33: 26 | C33: Volvo | D33: Volvo Hydraulic Oil Volvo 98608 Super 46 | E33: 1 | F33: x | G33: 208 | H33: L | I33: VOE15067446 | J33: Drum | K33: MM | L33: 26 | Q33: 60 | AO33: 0 | AP33: 0 | AQ33: 0 | AR33: 0 | AS33: 0 | AT33: 0 | AU33: 0 | AV33: 0 | AW33: 0 | AX33: 0 | AY33: 0 | AZ33: 0 | BA33: 0 | BB33: 0 | BC33: 0 | BD33: 0 | BE33: 0 | BF33: 0 | BG33: 0 | BH33: 0 | BI33: 0 | BJ33: 0 | BK33: 0 | BL33: 0 | BM33: 0 | BN33: 0 | BO33: 0 | BP33: 0 | BQ33: 0 | BR33: 0 | BS33: 0 | BT33: 0 | BU33: 0 | BV33: 0 | BW33: 0 | BX33: 0 | BY33: 0 | BZ33: 0 | CA33: 0 | CB33: 0 | CC33: 0 | CD33: 0 | CE33: 0 | CF33: 0 | CG33: 0 | CH33: 0 | CI33: 0 | CJ33: 0 | CK33: 0 | CL33: 0 | CM33: 0 | CN33: 0 | CO33: 22 | CP33: 26 | CQ33: 7 | CR33: 18 | CS33: 12 | CT33: 12 | CU33: 36 | CV33: 23 | CW33: 11 | CX33: 22 | CY33: 9 | CZ33: 19 | DA33: 12 | DB33: 13 | DC33: 28 | DD33: 19 | DE33: 16 | DF33: 18 | DG33: 19 | DH33: 14 | DI33: 15 | DJ33: 10 | DK33: 24 | DL33: 5 | DM33: 5 | DN33: 18 | DO33: 2 | DP33: 3 | DQ33: 1 | DR33: 1 | DS33: 11 | DT33: 9 | DU33: 5 | DV33: 9 | DW33: =AVERAGE(DQ33:DV33) -> 6 | DX33: =(L33+M33+N33+O33)-(P33+Q33+R33+DW33) -> -40 | DY33: =(DW33*2)-DX33 -> 52 | EA33: 0 | FD33: =EA33/4 -> 0

Sheet HO
A1: FS 19624 | B1: 0 | C1: FS 19624 | D1: 0 | F1: 3831236 | G1: 0 | H1: 0 | I1: 0 | J1: 0 | K1: FS 19624 | L1: 0
A2: FH 23600 | B2: 2 | C2: FH 23600 | D2: 0 | F2: 21212204 | G2: 0 | H2: 0 | I2: 0 | J2: 0 | K2: FH 23600 | L2: 0
A3: AF 1934M | B3: 3 | C3: AF 1934M | D3: 0 | F3: 21192875 | G3: 0 | H3: 0 | I3: 0 | J3: 0 | K3: AF 1934M | L3: 0
A4: AF 25413 | B4: 2 | C4: AF 25413 | D4: 0 | F4: 477556 | G4: 0 | H4: 0 | I4: 0 | J4: 0 | K4: AF 25413 | L4: 0
A5: AF 25526 | B5: 0 | C5: AF 25526 | D5: 0 | F5: 20998367 | G5: 0 | H5: 0 | I5: 0 | J5: 0 | K5: AF 25526 | L5: 0
A6: AF 820M | B6: 0 | C6: AF 820M | D6: 0 | F6: 21707133 | G6: 0 | H6: 0 | I6: 0 | J6: 0 | K6: AF 820M | L6: 0
A7: FF 185 | B7: 2 | C7: FF 185 | D7: 0 | F7: 21707132 | G7: 0 | H7: 0 | I7: 0 | J7: 0 | K7: FF 185 | L7: 0
A8: FS 19730 | B8: 6 | C8: FS 19730 | D8: 0 | F8: 8193841 | G8: 0 | H8: 0 | I8: 0 | J8: 0 | K8: FS 19730 | L8: 0
A9: LF 678 | B9: 4 | C9: LF 678 | D9: 0 | F9: 8159975 | G9: 0 | H9: 0 | I9: 0 | J9: 0 | K9: LF 678 | L9: 0
A10: LF 701 | B10: 0 | C10: LF 701 | D10: 0 | F10: LF 3654 | G10: 0 | H10: 0 | I10: 0 | J10: 0 | K10: LF 701 | L10: 0
A11: P 821575(N) | B11: 0 | C11: P 821575(N) | D11: 0 | F11: FS 19573 | G11: 0 | H11: 0 | I11: 0 | J11: 0 | K11: P 821575(N) | L11: 0
A12: WF 2071 | B12: 11 | C12: WF 2071 | D12: 0 | F12: FF 5135 | G12: 0 | H12: 0 | I12: 0 | J12: 0 | K12: WF 2071 | L12: 0
A13: WF 2073 | B13: 2 | C13: WF 2073 | D13: 0 | F13: FS 19624 | G13: 0 | H13: 0 | I13: 0 | J13: 0 | K13: WF 2073 | L13: 0
A14: WF 2075 | B14: 6 | C14: WF 2075 | D14: 0 | F14: LF 670 | G14: 0 | H14: 0 | I14: 0 | J14: 0 | K14: WF 2075 | L14: 0
A15: WF 2076 | B15: 6 | C15: WF 2076 | D15: 0 | F15: FH 23600 | G15: 0 | H15: 0 | I15: 0 | J15: 2 | K15: WF 2076 | L15: 0
A16: WF 2126 | B16: 5 | C16: WF 2126 | D16: 0 | F16: FF 4036 | G16: 0 | H16: 0 | I16: 0 | J16: 0 | K16: WF 2126 | L16: 0
A17: LF 3379 | B17: 0 | C17: LF 3379 | D17: 0 | F17: LF 3356 | G17: 0 | H17: 0 | I17: 0 | J17: 0 | K17: LF 3379 | L17: 0
A18: 26560163 | B18: 0 | C18: 26560163 | D18: 0 | F18: LF 3642 | G18: 0 | H18: 0 | I18: 0 | J18: 0 | K18: 26560163 | L18: 0
A19: 691782 | B19: 1.1 | C19: 691782 | D19: 1.1 | F19: LF 3376 | G19: 0 | H19: 0 | I19: 0 | J19: 0 | K19: 691782 | L19: 1.1
A20: 692250 | B20: 3 | C20: 692250 | D20: 0 | F20: 212013S | G20: 0 | H20: 0 | I20: 0 | J20: 0 | K20: 692250 | L20: 0
A21: 692332 | B21: 31.18 | C21: 692332 | D21: 28.18 | F21: 256535 | G21: 0 | H21: 0 | I21: 0 | J21: 0 | K21: 692332 | L21: 0.18
A22: 692334 | B22: 4 | C22: 692334 | D22: 0 | F22: 3A111-19130 | G22: 0 | H22: 0 | I22: 0 | J22: 0 | K22: 692334 | L22: 0
A23: 692178 | B23: 0 | C23: 692178 | D23: 0 | F23: AA 2955 | G23: 0 | H23: 0 | I23: 0 | J23: 0 | K23: 692178 | L23: 0
A24: 692027 | B24: 3.78 | C24: 692027 | D24: 0.78 | F24: AA 2956 | G24: 0 | H24: 0 | I24: 0 | J24: 0 | K24: 692027 | L24: 44.78
A25: 692026 | B25: 6 | C25: 692026 | D25: 5 | F25: AF 1658K | G25: 0 | H25: 0 | I25: 0 | J25: 0 | K25: 692026 | L25: 4
A26: 692079 | B26: 48 | C26: 692079 | D26: 40 | F26: AF 1791 | G26: 0 | H26: 0 | I26: 0 | J26: 0 | K26: 692079 | L26: 9
A27: 692077 | B27: 8 | C27: 692077 | D27: 4 | F27: AF 1811 | G27: 0 | H27: 0 | I27: 0 | J27: 0 | K27: 692077 | L27: 0
A28: 692030 | B28: 1.28 | C28: 692030 | D28: 0.28 | F28: AF 1828 | G28: 0 | H28: 0 | I28: 0 | J28: 0 | K28: 692030 | L28: 0.28
A29: 686033 | B29: 75 | C29: 686033 | D29: 47 | F29: AF 1840 | G29: 0 | H29: 0 | I29: 0 | J29: 0 | K29: 686033 | L29: 39
A30: 686032 | B30: 399 | C30: 686032 | D30: 322 | F30: AF 1841 | G30: 0 | H30: 0 | I30: 0 | J30: 0 | K30: 686032 | L30: 285
A31: 690814 | B31: 0 | C31: 690814 | D31: 0 | F31: AF 1862 | G31: 0 | H31: 0 | I31: 0 | J31: 0 | K31: 690814 | L31: 0
A32: 691848 | B32: 1 | C32: 691848 | D32: 0 | F32: AF 1863 | G32: 0 | H32: 0 | I32: 0 | J32: 0 | K32: 691848 | L32: 0
A33: 691911 | B33: 10 | C33: 691911 | D33: 0 | F33: AF 1894 | G33: 0 | H33: 0 | I33: 0 | J33: 0 | K33: 691911 | L33: 0
A34: 691781 | B34: 19 | C34: 691781 | D34: 0 | F34: AF 1902M | G34: 0 | H34: 0 | I34: 0 | J34: 0 | K34: 691781 | L34: 0
A35: VOE15067197 | B35: 573.05 | C35: VOE15067197 | D35: 0.05 | F35: AF 1903M | G35: 0 | H35: 0 | I35: 0 | J35: 0 | K35: VOE15067197 | L35: 0.05
A36: VOE15067404 | B36: 59 | C36: VOE15067404 | D36: 40 | F36: AF 1913 | G36: 0 | H36: 0 | I36: 0 | J36: 0 | K36: VOE15067404 | L36: 0
A37: VOE15058186 | B37: 22 | C37: VOE15058186 | D37: 7 | F37: AF 1934M | G37: 0 | H37: 0 | I37: 0 | J37: 3 | K37: VOE15058186 | L37: 0
A38: VOE15058191 | B38: 1.98077 | C38: VOE15058191 | D38: 17.48077 | F38: AF 1935M | G38: 0 | H38: 0 | I38: 0 | J38: 0 | K38: VOE15058191 | L38: 1.48077
A39: VOE15067098 | B39: 74 | C39: VOE15067098 | D39: 50 | F39: AF 25064 | G39: 0 | H39: 0 | I39: 0 | J39: 0 | K39: VOE15067098 | L39: 20
A40: VOE15067157 | B40: 1 | C40: VOE15067157 | D40: 1 | F40: AF 25088 | G40: 0 | H40: 0 | I40: 0 | J40: 0 | K40: VOE15067157 | L40: 2
A41: VOE15058290 | B41: 69.8 | C41: VOE15058290 | D41: 0.8 | F41: AF 25125M | G41: 0 | H41: 0 | I41: 0 | J41: 0 | K41: VOE15058290 | L41: 9.8
A42: VOE15058299 | B42: 0 | C42: VOE15058299 | D42: 0 | F42: AF 25126M | G42: 0 | H42: 0 | I42: 0 | J42: 0 | K42: VOE15058299 | L42: 0
A43: VOE15067515 | B43: 0.025 | C43: VOE15067515 | D43: 0.025 | F43: AF 25267 | G43: 0 | H43: 0 | I43: 0 | J43: 0 | K43: VOE15067515 | L43: 1.025
A44: VOE15067522 | B44: 6.8 | C44: VOE15067522 | D44: 16.8 | F44: AF 25278 | G44: 0 | H44: 0 | I44: 0 | J44: 0 | K44: VOE15067522 | L44: 0.8
A45: VOE15067640 | B45: 16 | C45: VOE15067640 | D45: 14 | F45: AF 25291 | G45: 0 | H45: 0 | I45: 0 | J45: 0 | K45: VOE15067640 | L45: 2
A46: VOE15161234 | B46: 14.777778 | C46: VOE15161234 | D46: 0.77777778 | F46: AF 25384 | G46: 0 | H46: 0 | I46: 0 | J46: 0 | K46: VOE15161234 | L46: 0.77777778
A47: 692070 | B47: 1 | C47: 692070 | D47: 1 | F47: AF 25412 | G47: 0 | H47: 0 | I47: 0 | J47: 0 | K47: 692070 | L47: 1
A48: 692053 | B48: 729.03889 | C48: 692053 | D48: 224.03889 | F48: AF 25413 | G48: 0 | H48: 0 | I48: 0 | J48: 2 | K48: 692053 | L48: 0.038888889
A49: 692052 | B49: 33 | C49: 692052 | D49: 1 | F49: AF 25414 | G49: 0 | H49: 0 | I49: 0 | J49: 0 | K49: 692052 | L49: 0
A50: 692172 | B50: 0 | C50: 692172 | D50: 0 | F50: AF 25438 | G50: 0 | H50: 0 | I50: 0 | J50: 0 | K50: 692172 | L50: 0
A51: 692090 | B51: 0 | C51: 692090 | D51: 0 | F51: AF 25484 | G51: 0 | H51: 0 | I51: 0 | J51: 0 | K51: 692090 | L51: 0
A52: 692335 | B52: 79 | C52: 692335 | D52: 12 | F52: AF 25492 | G52: 0 | H52: 0 | I52: 0 | J52: 0 | K52: 692335 | L52: 1.78
A53: VOE15067629 | B53: 0 | C53: VOE15067629 | D53: 0 | F53: AF 25526 | G53: 0 | H53: 0 | I53: 0 | J53: 0 | K53: VOE15067629 | L53: 0
A54: VOE15143928 | B54: 58 | C54: VOE15143928 | D54: 58 | F54: AF 25539 | G54: 0 | H54: 0 | I54: 0 | J54: 0 | K54: VOE15143928 | L54: 20
A55: VOE15198387 | B55: 0 | C55: VOE15198387 | D55: 0 | F55: AF 25553 | G55: 0 | H55: 0 | I55: 0 | J55: 0 | K55: VOE15198387 | L55: 57
A56: 685850 | B56: 3 | C56: 685850 | D56: 0 | F56: AF 25555 | G56: 0 | H56: 0 | I56: 0 | J56: 0 | K56: 685850 | L56: 0
A57: 692054 | B57: 391 | C57: 692054 | D57: 20 | F57: AF 25557 | G57: 0 | H57: 0 | I57: 0 | J57: 0 | K57: 692054 | L57: 0
A58: 692082 | B58: 0 | C58: 692082 | D58: 0 | F58: AF 25589 | G58: 0 | H58: 0 | I58: 0 | J58: 0 | K58: 692082 | L58: 0
A59: 724027 | B59: 0 | C59: 724027 | D59: 0 | F59: AF 25593 | G59: 0 | H59: 0 | I59: 0 | J59: 0 | K59: 724027 | L59: 0
A60: 793317 | B60: 36 | C60: 793317 | D60: 0 | F60: AF 25618 | G60: 0 | H60: 0 | I60: 0 | J60: 0 | K60: 793317 | L60: 53
A61: 692247 | B61: 3478 | C61: 692247 | D61: 22 | F61: AF 25624 | G61: 0 | H61: 0 | I61: 0 | J61: 0 | K61: 692247 | L61: 521
A62: 732728 | B62: 6 | C62: 732728 | D62: 0 | F62: AF 25708M | G62: 0 | H62: 0 | I62: 0 | J62: 0 | K62: 732728 | L62: 0
A63: 692249 | B63: 6653 | C63: 692249 | D63: 1 | F63: AF 25957 | G63: 0 | H63: 0 | I63: 0 | J63: 0 | K63: 692249 | L63: 6
A64: 772588 | B64: 0 | C64: 772588 | D64: 0 | F64: AF 26207 | G64: 0 | H64: 0 | I64: 0 | J64: 0 | K64: 772588 | L64: 0
A65: 724026 | B65: 85 | C65: 724026 | D65: 0 | F65: AF 26208 | G65: 0 | H65: 0 | I65: 0 | J65: 0 | K65: 724026 | L65: 0
A66: 691970 | B66: 175 | C66: 691970 | D66: 0 | F66: AF 332 | G66: 0 | H66: 0 | I66: 0 | J66: 0 | K66: 691970 | L66: 0
A67: 691870 | B67: 310 | C67: 691870 | D67: 301 | F67: AF 335M | G67: 0 | H67: 0 | I67: 0 | J67: 0 | K67: 691870 | L67: 294
... A80: 692333 | B80: 26 | C80: 692333 | D80: 0 | F80: AF 4701 | G80: 0 | H80: 0 | I80: 0 | J80: 0 | K80: 692333 | L80: 49
A81: VOE15067446 | B81: 34 | C81: VOE15067446 | D81: 10 | F81: AF 4838 | G81: 0 | H81: 0 | I81: 0 | J81: 0 | K81: VOE15067446 | L81: 3
A82: 691849 | B82: 1 | C82: 691849 | D82: 1 | F82: AF 4840 | G82: 0 | H82: 0 | I82: 0 | J82: 0 | K82: 691849 | L82: 1
A83: ZXEDRU1 | B83: 171 | C83: ZXEDRU1 | D83: 97 | F83: AF 4895 | G83: 0 | H83: 0 | I83: 0 | J83: 0 | K83: ZXEDRU1 | L83: 0
A84: 841092 | B84: 8 | C84: 841092 | D84: 0 | F84: AF 4896 | G84: 0 | H84: 0 | I84: 0 | J84: 0 | K84: 841092 | L84: 0
A85: VOE17429515 | B85: 0 | C85: VOE17429515 | D85: 0 | F85: AF 4903 | G85: 0 | H85: 0 | I85: 0 | J85: 0 | K85: VOE17429515 | L85: 0
A86: 804723 | B86: 0.13333333 | C86: 804723 | D86: -7.5772721e-15 | F86: AF 490M | G86: 0 | H86: 0 | I86: 0 | J86: 0 | K86: 804723 | L86: -7.5772721e-15
A87: 795005 | B87: 44 | C87: 795005 | D87: 1 | F87: AF 4939 | G87: 0 | H87: 0 | I87: 0 | J87: 0 | K87: 795005 | L87: 1
A88: 841078 | B88: 4 | C88: 841078 | D88: 0 | F88: AF 4970 | G88: 0 | H88: 0 | I88: 0 | J88: 0 | K88: 841078 | L88: 0
A89: 3140015-120 | B89: 19 | C89: 3140015-120 | D89: 17 | F89: AF 820M | G89: 0 | H89: 0 | I89: 0 | J89: 0 | K89: 3140015-120 | L89: 17
A90: 844573 | B90: 3542 | C90: 844573 | D90: 0 | F90: AF 827 | G90: 0 | H90: 0 | I90: 0 | J90: 0 | K90: 844573 | L90: 13
A91: Turbine Oil ISO VG46 | B91: 2 | C91: Turbine Oil ISO VG46 | D91: 0 | F91: AF 875M | G91: 0 | H91: 0 | I91: 0 | J91: 0 | K91: Turbine Oil ISO VG46 | L91: 0
A92: Hydraulic Oil ISO 46 | B92: 2 | C92: Hydraulic Oil ISO 46 | D92: 0 | F92: AF 876 | G92: 0 | H92: 0 | I92: 0 | J92: 0 | K92: Hydraulic Oil ISO 46 | L92: 0
A93: Engine Oil 15W40 CI-4 | B93: 4 | C93: Engine Oil 15W40 CI-4 | D93: 0 | F93: AF 890 | G93: 0 | H93: 0 | I93: 0 | J93: 0 | K93: Engine Oil 15W40 CI-4 | L93: 0
A94: Gear Oil SAE 90 | B94: 3 | C94: Gear Oil SAE 90 | D94: 0 | F94: AF 891 | G94: 0 | H94: 0 | I94: 0 | J94: 0 | K94: Gear Oil SAE 90 | L94: 0
A95: Grease EP-2 | B95: 2 | C95: Grease EP-2 | D95: 0 | F95: AF 928M | G95: 0 | H95: 0 | I95: 0 | J95: 0 | K95: Grease EP-2 | L95: 0
A96: Gear Oil SAE 40 | B96: 1 | C96: Gear Oil SAE 40 | D96: 0 | F96: AF 971 | G96: 0 | H96: 0 | I96: 0 | J96: 0 | K96: Gear Oil SAE 40 | L96: 0
A97: Turbine Oil VG 46 | B97: 1 | C97: Turbine Oil VG 46 | D97: 0 | F97: AF 975M | G97: 0 | H97: 0 | I97: 0 | J97: 0 | K97: Turbine Oil VG 46 | L97: 0
A98: Gear Oil SAE 140 | B98: 1 | C98: Gear Oil SAE 140 | D98: 0 | F98: AH 1135M | G98: 0 | H98: 0 | I98: 0 | J98: 0 | K98: Gear Oil SAE 140 | L98: 0
A99: Turbine Oil VG 32 | B99: 1 | C99: Turbine Oil VG 32 | D99: 0 | F99: AH 1138 | G99: 0 | H99: 0 | I99: 0 | J99: 0 | K99: Turbine Oil VG 32 | L99: 0
A100: Gear Oil SAE 50 | B100: 1 | C100: Gear Oil SAE 50 | D100: 0 | F100: AH 1183 | G100: 0 | H100: 0 | I100: 0 | J100: 0 | K100: Gear Oil SAE 50 | L100: 0
A101: Turbine Oil ISO VG32 | B101: 2 | C101: Turbine Oil ISO VG32 | D101: 0 | F101: AH 1197 | G101: 0 | H101: 0 | I101: 0 | J101: 0 | K101: Turbine Oil ISO VG32 | L101: 0
A102: SRA15036348 | B102: 89 | C102: SRA15036348 | D102: 89 | F102: FF 105 | G102: 0 | H102: 0 | I102: 0 | J102: 0 | K102: SRA15036348 | L102: 86
... A109: 032 11117 | B109: 3 | C109: 032 11117 | D109: 3 | F109: FF 246 | G109: 0 | H109: 0 | I109: 0 | J109: 0 | K109: 032 11117 | L109: 3
A110: 2200052 | B110: 2 | C110: 2200052 | D110: 2 | F110: FF 42000 | G110: 0 | H110: 0 | I110: 0 | J110: 0 | K110: 2200052 | L110: 2
A111: 2200053 | B111: 1 | C111: 2200053 | D111: 1 | F111: FF 42003 | G111: 0 | H111: 0 | I111: 0 | J111: 0 | K111: 2200053 | L111: 1
A112: 2200055 | B112: 1 | C112: 2200055 | D112: 1 | F112: FF 5021 | G112: 0 | H112: 0 | I112: 0 | J112: 0 | K112: 2200055 | L112: 1
A113: 50 PUMA2.15S | B113: 14 | C113: 50 PUMA2.15S | D113: 12 | F113: FF 5029 | G113: 0 | H113: 0 | I113: 0 | J113: 0 | K113: 50 PUMA2.15S | L113: 7
A114: 801-02155223 | B114: 1 | C114: 801-02155223 | D114: 1 | F114: FF 5030 | G114: 0 | H114: 0 | I114: 0 | J114: 0 | K114: 801-02155223 | L114: 1
A115: 801-02155412-9 | B115: 3 | C115: 801-02155412-9 | D115: 3 | F115: FF 5036 | G115: 0 | H115: 0 | I115: 0 | J115: 0 | K115: 801-02155412-9 | L115: 3
A116: Coupling 2 | B116: 5 | C116: Coupling 2 | D116: 5 | F116: FF 5037 | G116: 0 | H116: 0 | I116: 0 | J116: 0 | K116: Coupling 2 | L116: 5
A117: Coupling 3 | B117: 5 | C117: Coupling 3 | D117: 5 | F117: FF 5045 | G117: 0 | H117: 0 | I117: 0 | J117: 0 | K117: Coupling 3 | L117: 5
A118: LSC1.4S, 220/50Hz | B118: 1 | C118: LSC1.4S, 220/50Hz | D118: 1 | F118: FF 5053 | G118: 0 | H118: 0 | I118: 0 | J118: 0 | K118: LSC1.4S, 220/50Hz | L118: 1
...

Sheet HO + All Branch
A1: FS 19624 | B1: 0 | C1: 0 | D1: 0 | E1: FS 19624 | F1: =G1+H1 -> 0 | G1: 0 | H1: 0 | I1: FS 19624 | J1: 0 | K1: FS 19624 | L1: =M1+N1 -> 0 | M1: 0 | N1: =VLOOKUP(K1,HO!K:L,2,) -> 0
A2: FH 23600 | B2: 2 | C2: 0 | D2: 2 | E2: FH 23600 | F2: =G2+H2 -> 0 | G2: 0 | H2: 0 | I2: FH 23600 | J2: 0 | K2: FH 23600 | L2: =M2+N2 -> 0 | M2: 0 | N2: =VLOOKUP(K2,HO!K:L,2,) -> 0
A3: AF 1934M | B3: 3 | C3: 0 | D3: 3 | E3: AF 1934M | F3: =G3+H3 -> 0 | G3: 0 | H3: 0 | I3: AF 1934M | J3: 0 | K3: AF 1934M | L3: =M3+N3 -> 0 | M3: 0 | N3: =VLOOKUP(K3,HO!K:L,2,) -> 0
A4: AF 25413 | B4: 2 | C4: 0 | D4: 2 | E4: AF 25413 | F4: =G4+H4 -> 0 | G4: 0 | H4: 0 | I4: AF 25413 | J4: 0 | K4: AF 25413 | L4: =M4+N4 -> 0 | M4: 0 | N4: =VLOOKUP(K4,HO!K:L,2,) -> 0
A5: AF 25526 | B5: 0 | C5: 0 | D5: 0 | E5: AF 25526 | F5: =G5+H5 -> 0 | G5: 0 | H5: 0 | I5: AF 25526 | J5: 0 | K5: AF 25526 | L5: =M5+N5 -> 0 | M5: 0 | N5: =VLOOKUP(K5,HO!K:L,2,) -> 0
A6: AF 820M | B6: 0 | C6: 0 | D6: 0 | E6: AF 820M | F6: =G6+H6 -> 0 | G6: 0 | H6: 0 | I6: AF 820M | J6: 0 | K6: AF 820M | L6: =M6+N6 -> 0 | M6: 0 | N6: =VLOOKUP(K6,HO!K:L,2,) -> 0
A7: FF 185 | B7: 2 | C7: 0 | D7: 2 | E7: FF 185 | F7: =G7+H7 -> 0 | G7: 0 | H7: 0 | I7: FF 185 | J7: 0 | K7: FF 185 | L7: =M7+N7 -> 0 | M7: 0 | N7: =VLOOKUP(K7,HO!K:L,2,) -> 0
A8: FS 19730 | B8: 6 | C8: 0 | D8: 6 | E8: FS 19730 | F8: =G8+H8 -> 0 | G8: 0 | H8: 0 | I8: FS 19730 | J8: 0 | K8: FS 19730 | L8: =M8+N8 -> 0 | M8: 0 | N8: =VLOOKUP(K8,HO!K:L,2,) -> 0
A9: LF 678 | B9: 8 | C9: 4 | D9: 4 | E9: LF 678 | F9: =G9+H9 -> 4 | G9: 4 | H9: 0 | I9: LF 678 | J9: 4 | K9: LF 678 | L9: =M9+N9 -> 4 | M9: 4 | N9: =VLOOKUP(K9,HO!K:L,2,) -> 0
A10: LF 701 | B10: 1 | C10: 1 | D10: 0 | E10: LF 701 | F10: =G10+H10 -> 1 | G10: 1 | H10: 0 | I10: LF 701 | J10: 1 | K10: LF 701 | L10: =M10+N10 -> 1 | M10: 1 | N10: =VLOOKUP(K10,HO!K:L,2,) -> 0
A11: P 821575(N) | B11: 0 | C11: 0 | D11: 0 | E11: P 821575(N) | F11: =G11+H11 -> 0 | G11: 0 | H11: 0 | I11: P 821575(N) | J11: 0 | K11: P 821575(N) | L11: =M11+N11 -> 0 | M11: 0 | N11: =VLOOKUP(K11,HO!K:L,2,) -> 0
A12: WF 2071 | B12: 11 | C12: 0 | D12: 11 | E12: WF 2071 | F12: =G12+H12 -> 0 | G12: 0 | H12: 0 | I12: WF 2071 | J12: 0 | K12: WF 2071 | L12: =M12+N12 -> 0 | M12: 0 | N12: =VLOOKUP(K12,HO!K:L,2,) -> 0
... A17: LF 3379 | B17: 0 | C17: 0 | D17: 0 | E17: LF 3379 | F17: =G17+H17 -> 0 | G17: 0 | H17: 0 | I17: LF 3379 | J17: 0 | K17: LF 3379 | L17: =M17+N17 -> 0 | M17: 0 | N17: =VLOOKUP(K17,HO!K:L,2,) -> 0
A18: 691782 | B18: 1.1 | C18: 0 | D18: 1.1 | E18: 691782 | F18: =G18+H18 -> 1.1 | G18: 0 | H18: 1.1 | I18: 26560163 | J18: 1 | K18: 691782 | L18: =M18+N18 -> 1.1 | M18: 0 | N18: =VLOOKUP(K18,HO!K:L,2,) -> 1.1
A19: 692250 | B19: 3.79 | C19: 0.79 | D19: 3 | E19: 692250 | F19: =G19+H19 -> 1.4 | G19: 1.4 | H19: 0 | I19: 691782 | J19: 1.1 | K19: 692250 | L19: =M19+N19 -> 1.98 | M19: 1.98 | N19: =VLOOKUP(K19,HO!K:L,2,) -> 0
A20: 692332 | B20: 125.23 | C20: 94.05 | D20: 31.18 | E20: 692332 | F20: =G20+H20 -> 111.23 | G20: 83.05 | H20: 28.18 | I20: 692250 | J20: 1.25 | K20: 692332 | L20: =M20+N20 -> 41.23 | M20: 41.05 | N20: =VLOOKUP(K20,HO!K:L,2,) -> 0.18
A21: 692334 | B21: 54 | C21: 50 | D21: 4 | E21: 692334 | F21: =G21+H21 -> 34 | G21: 34 | H21: 0 | I21: 692332 | J21: 78.23 | K21: 692334 | L21: =M21+N21 -> 11 | M21: 11 | N21: =VLOOKUP(K21,HO!K:L,2,) -> 0
A22: 692178 | B22: 0 | C22: 0 | D22: 0 | E22: 692178 | F22: =G22+H22 -> 0 | G22: 0 | H22: 0 | I22: 692334 | J22: 26 | K22: 692178 | L22: =M22+N22 -> 0 | M22: 0 | N22: =VLOOKUP(K22,HO!K:L,2,) -> 0
A23: 692027 | B23: 59.78 | C23: 56 | D23: 3.78 | E23: 692027 | F23: =G23+H23 -> 23.78 | G23: 23 | H23: 0.78 | I23: 692178 | J23: 0 | K23: 692027 | L23: =M23+N23 -> 86.78 | M23: 42 | N23: =VLOOKUP(K23,HO!K:L,2,) -> 44.78
A24: 692026 | B24: 9.53 | C24: 3.53 | D24: 6 | E24: 692026 | F24: =G24+H24 -> 8.48 | G24: 3.48 | H24: 5 | I24: 692027 | J24: 17.78 | K24: 692026 | L24: =M24+N24 -> 6.975 | M24: 2.975 | N24: =VLOOKUP(K24,HO!K:L,2,) -> 4
A25: 692079 | B25: 83 | C25: 35 | D25: 48 | E25: 692079 | F25: =G25+H25 -> 74 | G25: 34 | H25: 40 | I25: 692026 | J25: 7.455 | K25: 692079 | L25: =M25+N25 -> 39 | M25: 30 | N25: =VLOOKUP(K25,HO!K:L,2,) -> 9
A26: 692077 | B26: 11.88 | C26: 3.88 | D26: 8 | E26: 692077 | F26: =G26+H26 -> 7.88 | G26: 3.88 | H26: 4 | I26: 692079 | J26: 77 | K26: 692077 | L26: =M26+N26 -> 4.88 | M26: 4.88 | N26: =VLOOKUP(K26,HO!K:L,2,) -> 0
A27: 692030 | B27: 4.28 | C27: 3 | D27: 1.28 | E27: 692030 | F27: =G27+H27 -> 0.28 | G27: 0 | H27: 0.28 | I27: 692077 | J27: 9.88 | K27: 692030 | L27: =M27+N27 -> 0.28 | M27: 0 | N27: =VLOOKUP(K27,HO!K:L,2,) -> 0.28
A28: 686033 | B28: 98 | C28: 23 | D28: 75 | E28: 686033 | F28: =G28+H28 -> 65 | G28: 18 | H28: 47 | I28: 692030 | J28: 0.28 | K28: 686033 | L28: =M28+N28 -> 49 | M28: 10 | N28: =VLOOKUP(K28,HO!K:L,2,) -> 39
A29: 686032 | B29: 405 | C29: 6 | D29: 399 | E29: 686032 | F29: =G29+H29 -> 339 | G29: 17 | H29: 322 | I29: 686033 | J29: 62 | K29: 686032 | L29: =M29+N29 -> 296 | M29: 11 | N29: =VLOOKUP(K29,HO!K:L,2,) -> 285
... A33: 691781 | B33: 20 | C33: 1 | D33: 19 | E33: 691781 | F33: =G33+H33 -> 0 | G33: 0 | H33: 0 | I33: 691911 | J33: 0 | K33: 691781 | L33: =M33+N33 -> 0 | M33: 0 | N33: =VLOOKUP(K33,HO!K:L,2,) -> 0
A34: VOE15067197 | B34: 910.05 | C34: 337 | D34: 573.05 | E34: VOE15067197 | F34: =G34+H34 -> 30.05 | G34: 30 | H34: 0.05 | I34: 691781 | J34: 0 | K34: VOE15067197 | L34: =M34+N34 -> 12.05 | M34: 12 | N34: =VLOOKUP(K34,HO!K:L,2,) -> 0.05
A35: VOE15067404 | B35: 141 | C35: 82 | D35: 59 | E35: VOE15067404 | F35: =G35+H35 -> 51 | G35: 11 | H35: 40 | I35: VOE15067197 | J35: 752.05 | K35: VOE15067404 | L35: =M35+N35 -> 8 | M35: 8 | N35: =VLOOKUP(K35,HO!K:L,2,) -> 0
A36: VOE15058186 | B36: 34 | C36: 12 | D36: 22 | E36: VOE15058186 | F36: =G36+H36 -> 28 | G36: 21 | H36: 7 | I36: VOE15067404 | J36: 344 | K36: VOE15058186 | L36: =M36+N36 -> 16 | M36: 16 | N36: =VLOOKUP(K36,HO!K:L,2,) -> 0
A37: VOE15058191 | B37: 88.98077 | C37: 87 | D37: 1.98077 | E37: VOE15058191 | F37: =G37+H37 -> 34.48077 | G37: 17 | H37: 17.48077 | I37: VOE15058186 | J37: 46 | K37: VOE15058191 | L37: =M37+N37 -> 12.48077 | M37: 11 | N37: =VLOOKUP(K37,HO!K:L,2,) -> 1.48077
A38: VOE15067098 | B38: 95 | C38: 21 | D38: 74 | E38: VOE15067098 | F38: =G38+H38 -> 56 | G38: 6 | H38: 50 | I38: VOE15058191 | J38: 201.48077 | K38: VOE15067098 | L38: =M38+N38 -> 30 | M38: 10 | N38: =VLOOKUP(K38,HO!K:L,2,) -> 20
A39: VOE15067157 | B39: 2 | C39: 1 | D39: 1 | E39: VOE15067157 | F39: =G39+H39 -> 2 | G39: 1 | H39: 1 | I39: VOE15067098 | J39: 49 | K39: VOE15067157 | L39: =M39+N39 -> 2 | M39: 0 | N39: =VLOOKUP(K39,HO!K:L,2,) -> 2
A40: VOE15058290 | B40: 85.8 | C40: 16 | D40: 69.8 | E40: VOE15058290 | F40: =G40+H40 -> 18.8 | G40: 18 | H40: 0.8 | I40: VOE15067157 | J40: 2 | K40: VOE15058290 | L40: =M40+N40 -> 62.8 | M40: 53 | N40: =VLOOKUP(K40,HO!K:L,2,) -> 9.8
A41: VOE15058299 | B41: 0 | C41: 0 | D41: 0 | E41: VOE15058299 | F41: =G41+H41 -> 0 | G41: 0 | H41: 0 | I41: VOE15058290 | J41: 128.8 | K41: VOE15058299 | L41: =M41+N41 -> 0 | M41: 0 | N41: =VLOOKUP(K41,HO!K:L,2,) -> 0
A42: VOE15067515 | B42: 94.025 | C42: 94 | D42: 0.025 | E42: VOE15067515 | F42: =G42+H42 -> 41.025 | G42: 41 | H42: 0.025 | I42: VOE15058299 | J42: 0 | K42: VOE15067515 | L42: =M42+N42 -> 119.025 | M42: 118 | N42: =VLOOKUP(K42,HO!K:L,2,) -> 1.025
A43: VOE15067522 | B43: 126.8 | C43: 120 | D43: 6.8 | E43: VOE15067522 | F43: =G43+H43 -> 98.8 | G43: 82 | H43: 16.8 | I43: VOE15067515 | J43: 272.025 | K43: VOE15067522 | L43: =M43+N43 -> 43.8 | M43: 43 | N43: =VLOOKUP(K43,HO!K:L,2,) -> 0.8
A44: VOE15067640 | B44: 32 | C44: 16 | D44: 16 | E44: VOE15067640 | F44: =G44+H44 -> 31 | G44: 17 | H44: 14 | I44: VOE15067522 | J44: 159.8 | K44: VOE15067640 | L44: =M44+N44 -> 10 | M44: 8 | N44: =VLOOKUP(K44,HO!K:L,2,) -> 2
A45: VOE15161234 | B45: 32.777778 | C45: 18 | D45: 14.777778 | E45: VOE15161234 | F45: =G45+H45 -> 16.777778 | G45: 16 | H45: 0.77777778 | I45: VOE15067640 | J45: 29 | K45: VOE15161234 | L45: =M45+N45 -> 14.777778 | M45: 14 | N45: =VLOOKUP(K45,HO!K:L,2,) -> 0.77777778
A46: 692070 | B46: 1 | C46: 0 | D46: 1 | E46: 692070 | F46: =G46+H46 -> 1 | G46: 0 | H46: 1 | I46: VOE15161234 | J46: 84.777778 | K46: 692070 | L46: =M46+N46 -> 1 | M46: 0 | N46: =VLOOKUP(K46,HO!K:L,2,) -> 1
A47: 692053 | B47: 951.03889 | C47: 222 | D47: 729.03889 | E47: 692053 | F47: =G47+H47 -> 433.03889 | G47: 209 | H47: 224.03889 | I47: 692070 | J47: 1 | K47: 692053 | L47: =M47+N47 -> 19.038889 | M47: 19 | N47: =VLOOKUP(K47,HO!K:L,2,) -> 0.038888889
A48: 692052 | B48: 112 | C48: 79 | D48: 33 | E48: 692052 | F48: =G48+H48 -> 94 | G48: 93 | H48: 1 | I48: 692053 | J48: 563.03889 | K48: 692052 | L48: =M48+N48 -> 8 | M48: 8 | N48: =VLOOKUP(K48,HO!K:L,2,) -> 0
A49: 692172 | B49: 0 | C49: 0 | D49: 0 | E49: 692172 | F49: =G49+H49 -> 0 | G49: 0 | H49: 0 | I49: 692052 | J49: 46 | K49: 692172 | L49: =M49+N49 -> 0 | M49: 0 | N49: =VLOOKUP(K49,HO!K:L,2,) -> 0
A50: 692090 | B50: 0 | C50: 0 | D50: 0 | E50: 692090 | F50: =G50+H50 -> 0 | G50: 0 | H50: 0 | I50: 692172 | J50: 0 | K50: 692090 | L50: =M50+N50 -> 0 | M50: 0 | N50: =VLOOKUP(K50,HO!K:L,2,) -> 0
A51: 692335 | B51: 162 | C51: 83 | D51: 79 | E51: 692335 | F51: =G51+H51 -> 116 | G51: 104 | H51: 12 | I51: 692090 | J51: 0 | K51: 692335 | L51: =M51+N51 -> 54.78 | M51: 53 | N51: =VLOOKUP(K51,HO!K:L,2,) -> 1.78
A52: VOE15067629 | B52: 0 | C52: 0 | D52: 0 | E52: VOE15067629 | F52: =G52+H52 -> 0 | G52: 0 | H52: 0 | I52: 692335 | J52: 73 | K52: VOE15067629 | L52: =M52+N52 -> 0 | M52: 0 | N52: =VLOOKUP(K52,HO!K:L,2,) -> 0
A53: VOE15143928 | B53: 70 | C53: 12 | D53: 58 | E53: VOE15143928 | F53: =G53+H53 -> 58 | G53: 0 | H53: 58 | I53: VOE15067629 | J53: 0 | K53: VOE15143928 | L53: =M53+N53 -> 40 | M53: 20 | N53: =VLOOKUP(K53,HO!K:L,2,) -> 20
A54: VOE15198387 | B54: 7 | C54: 7 | D54: 0 | E54: VOE15198387 | F54: =G54+H54 -> 0 | G54: 0 | H54: 0 | I54: VOE15143928 | J54: 58 | K54: VOE15198387 | L54: =M54+N54 -> 64 | M54: 7 | N54: =VLOOKUP(K54,HO!K:L,2,) -> 57
A55: 685850 | B55: 3 | C55: 0 | D55: 3 | E55: 685850 | F55: =G55+H55 -> 0 | G55: 0 | H55: 0 | I55: VOE15198387 | J55: 64 | K55: 685850 | L55: =M55+N55 -> 0 | M55: 0 | N55: =VLOOKUP(K55,HO!K:L,2,) -> 0
A56: 692054 | B56: 655 | C56: 264 | D56: 391 | E56: 692054 | F56: =G56+H56 -> 290 | G56: 270 | H56: 20 | I56: 685850 | J56: 0 | K56: 692054 | L56: =M56+N56 -> 56 | M56: 56 | N56: =VLOOKUP(K56,HO!K:L,2,) -> 0
A57: 692082 | B57: 0 | C57: 0 | D57: 0 | E57: 692082 | F57: =G57+H57 -> 0 | G57: 0 | H57: 0 | I57: 692054 | J57: 211 | K57: 692082 | L57: =M57+N57 -> 0 | M57: 0 | N57: =VLOOKUP(K57,HO!K:L,2,) -> 0
A58: 724027 | B58: 0 | C58: 0 | D58: 0 | E58: 724027 | F58: =G58+H58 -> 0 | G58: 0 | H58: 0 | I58: 692082 | J58: 0 | K58: 724027 | L58: =M58+N58 -> 0 | M58: 0 | N58: =VLOOKUP(K58,HO!K:L,2,) -> 0
A59: 793317 | B59: 51 | C59: 15 | D59: 36 | E59: 793317 | F59: =G59+H59 -> 12 | G59: 12 | H59: 0 | I59: 724027 | J59: 0 | K59: 793317 | L59: =M59+N59 -> 63 | M59: 10 | N59: =VLOOKUP(K59,HO!K:L,2,) -> 53
A60: 692247 | B60: 5766 | C60: 2288 | D60: 3478 | E60: 692247 | F60: =G60+H60 -> 1052 | G60: 1030 | H60: 22 | I60: 793317 | J60: 12 | K60: 692247 | L60: =M60+N60 -> 2761 | M60: 2240 | N60: =VLOOKUP(K60,HO!K:L,2,) -> 521
A61: 732728 | B61: 6 | C61: 0 | D61: 6 | E61: 732728 | F61: =G61+H61 -> 0 | G61: 0 | H61: 0 | I61: 692247 | J61: 768 | K61: 732728 | L61: =M61+N61 -> 0 | M61: 0 | N61: =VLOOKUP(K61,HO!K:L,2,) -> 0
A62: 692249 | B62: 10414 | C62: 3761 | D62: 6653 | E62: 692249 | F62: =G62+H62 -> 1890 | G62: 1889 | H62: 1 | I62: 732728 | J62: 0 | K62: 692249 | L62: =M62+N62 -> 3483 | M62: 3477 | N62: =VLOOKUP(K62,HO!K:L,2,) -> 6
A63: 772588 | B63: 0 | C63: 0 | D63: 0 | E63: 772588 | F63: =G63+H63 -> 0 | G63: 0 | H63: 0 | I63: 692249 | J63: 1011 | K63: 772588 | L63: =M63+N63 -> 0 | M63: 0 | N63: =VLOOKUP(K63,HO!K:L,2,) -> 0
A64: 724026 | B64: 93 | C64: 8 | D64: 85 | E64: 724026 | F64: =G64+H64 -> 11 | G64: 11 | H64: 0 | I64: 772588 | J64: 0 | K64: 724026 | L64: =M64+N64 -> 2 | M64: 2 | N64: =VLOOKUP(K64,HO!K:L,2,) -> 0
A65: 691970 | B65: 585 | C65: 410 | D65: 175 | E65: 691970 | F65: =G65+H65 -> 411 | G65: 411 | H65: 0 | I65: 724026 | J65: 8 | K65: 691970 | L65: =M65+N65 -> 203 | M65: 203 | N65: =VLOOKUP(K65,HO!K:L,2,) -> 0
A66: 691870 | B66: 310 | C66: 0 | D66: 310 | E66: 691870 | F66: =G66+H66 -> 301 | G66: 0 | H66: 301 | I66: 691970 | J66: 370 | K66: 691870 | L66: =M66+N66 -> 294 | M66: 0 | N66: =VLOOKUP(K66,HO!K:L,2,) -> 294
A67: 692051 | B67: 248 | C67: 0 | D67: 248 | E67: 692051 | F67: =G67+H67 -> 238 | G67: 0 | H67: 238 | I67: 691870 | J67: 299 | K67: 692051 | L67: =M67+N67 -> 237 | M67: 0 | N67: =VLOOKUP(K67,HO!K:L,2,) -> 237
... A79: 692333 | B79: 141 | C79: 115 | D79: 26 | E79: 692333 | F79: =G79+H79 -> 119 | G79: 119 | H79: 0 | I79: 692099 | J79: 6 | K79: 692333 | L79: =M79+N79 -> 113 | M79: 64 | N79: =VLOOKUP(K79,HO!K:L,2,) -> 49
A80: VOE15067446 | B80: 51 | C80: 17 | D80: 34 | E80: VOE15067446 | F80: =G80+H80 -> 27 | G80: 17 | H80: 10 | I80: 692333 | J80: 81 | K80: VOE15067446 | L80: =M80+N80 -> 26 | M80: 23 | N80: =VLOOKUP(K80,HO!K:L,2,) -> 3
A81: 691849 | B81: 1 | C81: 0 | D81: 1 | E81: 691849 | F81: =G81+H81 -> 1 | G81: 0 | H81: 1 | I81: VOE15067446 | J81: 86 | K81: 691849 | L81: =M81+N81 -> 1 | M81: 0 | N81: =VLOOKUP(K81,HO!K:L,2,) -> 1
A82: ZXEDRU1 | B82: 406 | C82: 235 | D82: 171 | E82: ZXEDRU1 | F82: =G82+H82 -> 299 | G82: 202 | H82: 97 | I82: 691849 | J82: 1 | K82: ZXEDRU1 | L82: =M82+N82 -> 158 | M82: 158 | N82: =VLOOKUP(K82,HO!K:L,2,) -> 0
A83: 841092 | B83: 8 | C83: 0 | D83: 8 | E83: 841092 | F83: =G83+H83 -> 0 | G83: 0 | H83: 0 | I83: ZXEDRU1 | J83: 282 | K83: 841092 | L83: =M83+N83 -> 0 | M83: 0 | N83: =VLOOKUP(K83,HO!K:L,2,) -> 0
A84: VOE17429515 | B84: 0 | C84: 0 | D84: 0 | E84: VOE17429515 | F84: =G84+H84 -> 0 | G84: 0 | H84: 0 | I84: 841092 | J84: 0 | K84: VOE17429515 | L84: =M84+N84 -> 0 | M84: 0 | N84: =VLOOKUP(K84,HO!K:L,2,) -> 0
A85: 804723 | B85: 0.13333333 | C85: 0 | D85: 0.13333333 | E85: 804723 | F85: =G85+H85 -> -7.5772721e-15 | G85: 0 | H85: -7.5772721e-15 | I85: VOE17429515 | J85: 0 | K85: 804723 | L85: =M85+N85 -> -7.5772721e-15 | M85: 0 | N85: =VLOOKUP(K85,HO!K:L,2,) -> -7.5772721e-15
A86: 795005 | B86: 45 | C86: 1 | D86: 44 | E86: 795005 | F86: =G86+H86 -> 20 | G86: 19 | H86: 1 | I86: 804723 | J86: -7.5772721e-15 | K86: 795005 | L86: =M86+N86 -> 16 | M86: 15 | N86: =VLOOKUP(K86,HO!K:L,2,) -> 1
A87: 841078 | B87: 11 | C87: 7 | D87: 4 | E87: 841078 | F87: =G87+H87 -> 6 | G87: 6 | H87: 0 | I87: 795005 | J87: 17 | K87: 841078 | L87: =M87+N87 -> 5 | M87: 5 | N87: =VLOOKUP(K87,HO!K:L,2,) -> 0
A88: 3140015-120 | B88: 21 | C88: 2 | D88: 19 | E88: 3140015-120 | F88: =G88+H88 -> 17 | G88: 0 | H88: 17 | I88: 841078 | J88: 5 | K88: 3140015-120 | L88: =M88+N88 -> 17 | M88: 0 | N88: =VLOOKUP(K88,HO!K:L,2,) -> 17
A89: 844573 | B89: 6651 | C89: 3109 | D89: 3542 | E89: 844573 | F89: =G89+H89 -> 2075 | G89: 2075 | H89: 0 | I89: 3140015-120 | J89: 17 | K89: 844573 | L89: =M89+N89 -> 411 | M89: 398 | N89: =VLOOKUP(K89,HO!K:L,2,) -> 13
A90: Turbine Oil ISO VG46 | B90: 2 | C90: 0 | D90: 2 | E90: Turbine Oil ISO VG46 | F90: =G90+H90 -> 0 | G90: 0 | H90: 0 | I90: 844573 | J90: 3190 | K90: Turbine Oil ISO VG46 | L90: =M90+N90 -> 0 | M90: 0 | N90: =VLOOKUP(K90,HO!K:L,2,) -> 0
A91: Hydraulic Oil ISO 46 | B91: 2 | C91: 0 | D91: 2 | E91: Hydraulic Oil ISO 46 | F91: =G91+H91 -> 0 | G91: 0 | H91: 0 | I91: Turbine Oil ISO VG46 | J91: 0 | K91: Hydraulic Oil ISO 46 | L91: =M91+N91 -> 0 | M91: 0 | N91: =VLOOKUP(K91,HO!K:L,2,) -> 0
A92: Engine Oil 15W40 CI-4 | B92: 4 | C92: 0 | D92: 4 | E92: Engine Oil 15W40 CI-4 | F92: =G92+H92 -> 0 | G92: 0 | H92: 0 | I92: Hydraulic Oil ISO 46 | J92: 0 | K92: Engine Oil 15W40 CI-4 | L92: =M92+N92 -> 0 | M92: 0 | N92: =VLOOKUP(K92,HO!K:L,2,) -> 0
A93: Gear Oil SAE 90 | B93: 3 | C93: 0 | D93: 3 | E93: Gear Oil SAE 90 | F93: =G93+H93 -> 0 | G93: 0 | H93: 0 | I93: Engine Oil 15W40 CI-4 | J93: 0 | K93: Gear Oil SAE 90 | L93: =M93+N93 -> 0 | M93: 0 | N93: =VLOOKUP(K93,HO!K:L,2,) -> 0
A94: Grease EP-2 | B94: 2 | C94: 0 | D94: 2 | E94: Grease EP-2 | F94: =G94+H94 -> 0 | G94: 0 | H94: 0 | I94: Gear Oil SAE 90 | J94: 0 | K94: Grease EP-2 | L94: =M94+N94 -> 0 | M94: 0 | N94: =VLOOKUP(K94,HO!K:L,2,) -> 0
A95: Gear Oil SAE 40 | B95: 1 | C95: 0 | D95: 1 | E95: Gear Oil SAE 40 | F95: =G95+H95 -> 0 | G95: 0 | H95: 0 | I95: Grease EP-2 | J95: 0 | K95: Gear Oil SAE 40 | L95: =M95+N95 -> 0 | M95: 0 | N95: =VLOOKUP(K95,HO!K:L,2,) -> 0
A96: Turbine Oil VG 46 | B96: 1 | C96: 0 | D96: 1 | E96: Turbine Oil VG 46 | F96: =G96+H96 -> 0 | G96: 0 | H96: 0 | I96: Gear Oil SAE 40 | J96: 0 | K96: Turbine Oil VG 46 | L96: =M96+N96 -> 0 | M96: 0 | N96: =VLOOKUP(K96,HO!K:L,2,) -> 0
A97: Gear Oil SAE 140 | B97: 1 | C97: 0 | D97: 1 | E97: Gear Oil SAE 140 | F97: =G97+H97 -> 0 | G97: 0 | H97: 0 | I97: Turbine Oil VG 46 | J97: 0 | K97: Gear Oil SAE 140 | L97: =M97+N97 -> 0 | M97: 0 | N97: =VLOOKUP(K97,HO!K:L,2,) -> 0
A98: Turbine Oil VG 32 | B98: 1 | C98: 0 | D98: 1 | E98: Turbine Oil VG 32 | F98: =G98+H98 -> 0 | G98: 0 | H98: 0 | I98: Gear Oil SAE 140 | J98: 0 | K98: Turbine Oil VG 32 | L98: =M98+N98 -> 0 | M98: 0 | N98: =VLOOKUP(K98,HO!K:L,2,) -> 0
A99: Gear Oil SAE 50 | B99: 1 | C99: 0 | D99: 1 | E99: Gear Oil SAE 50 | F99: =G99+H99 -> 0 | G99: 0 | H99: 0 | I99: Turbine Oil VG 32 | J99: 0 | K99: Gear Oil SAE 50 | L99: =M99+N99 -> 0 | M99: 0 | N99: =VLOOKUP(K99,HO!K:L,2,) -> 0
A100: Turbine Oil ISO VG32 | B100: 2 | C100: 0 | D100: 2 | E100: Turbine Oil ISO VG32 | F100: =G100+H100 -> 0 | G100: 0 | H100: 0 | I100: Gear Oil SAE 50 | J100: 0 | K100: Turbine Oil ISO VG32 | L100: =M100+N100 -> 0 | M100: 0 | N100: =VLOOKUP(K100,HO!K:L,2,) -> 0
A101: SRA15036348 | B101: 89 | C101: 0 | D101: 89 | E101: SRA15036348 | F101: =G101+H101 -> 89 | G101: 0 | H101: 89 | I101: Turbine Oil ISO VG32 | J101: 0 | K101: SRA15036348 | L101: =M101+N101 -> 86 | M101: 0 | N101: =VLOOKUP(K101,HO!K:L,2,) -> 86
A102: KTZ43.7, 380V/50Hz | B102: 2 | C102: 0 | D102: 2 | E102: KTZ43.7, 380V/50Hz | F102: =G102+H102 -> 2 | G102: 0 | H102: 2 | I102: SRA15036348 | J102: 89 | K102: KTZ43.7, 380V/50Hz | L102: =M102+N102 -> 2 | M102: 0 | N102: =VLOOKUP(K102,HO!K:L,2,) -> 2
... A108: 032 11117 | B108: 3 | C108: 0 | D108: 3 | E108: 032 11117 | F108: =G108+H108 -> 3 | G108: 0 | H108: 3 | I108: 022748-18 | J108: 1 | K108: 032 11117 | L108: =M108+N108 -> 3 | M108: 0 | N108: =VLOOKUP(K108,HO!K:L,2,) -> 3
A109: 2200052 | B109: 2 | C109: 0 | D109: 2 | E109: 2200052 | F109: =G109+H109 -> 2 | G109: 0 | H109: 2 | I109: 032 11117 | J109: 3 | K109: 2200052 | L109: =M109+N109 -> 2 | M109: 0 | N109: =VLOOKUP(K109,HO!K:L,2,) -> 2
A110: 2200053 | B110: 1 | C110: 0 | D110: 1 | E110: 2200053 | F110: =G110+H110 -> 1 | G110: 0 | H110: 1 | I110: 2200052 | J110: 2 | K110: 2200053 | L110: =M110+N110 -> 1 | M110: 0 | N110: =VLOOKUP(K110,HO!K:L,2,) -> 1
A111: 2200055 | B111: 1 | C111: 0 | D111: 1 | E111: 2200055 | F111: =G111+H111 -> 1 | G111: 0 | H111: 1 | I111: 2200053 | J111: 1 | K111: 2200055 | L111: =M111+N111 -> 1 | M111: 0 | N111: =VLOOKUP(K111,HO!K:L,2,) -> 1
A112: 50 PUMA2.15S | B112: 14 | C112: 0 | D112: 14 | E112: 50 PUMA2.15S | F112: =G112+H112 -> 12 | G112: 0 | H112: 12 | I112: 2200055 | J112: 1 | K112: 50 PUMA2.15S | L112: =M112+N112 -> 7 | M112: 0 | N112: =VLOOKUP(K112,HO!K:L,2,) -> 7
A113: 801-02155223 | B113: 1 | C113: 0 | D113: 1 | E113: 801-02155223 | F113: =G113+H113 -> 1 | G113: 0 | H113: 1 | I113: 50 PUMA2.15S | J113: 7 | K113: 801-02155223 | L113: =M113+N113 -> 1 | M113: 0 | N113: =VLOOKUP(K113,HO!K:L,2,) -> 1
A114: 801-02155412-9 | B114: 3 | C114: 0 | D114: 3 | E114: 801-02155412-9 | F114: =G114+H114 -> 3 | G114: 0 | H114: 3 | I114: 801-02155223 | J114: 1 | K114: 801-02155412-9 | L114: =M114+N114 -> 3 | M114: 0 | N114: =VLOOKUP(K114,HO!K:L,2,) -> 3
A115: Coupling 2 | B115: 5 | C115: 0 | D115: 5 | E115: Coupling 2 | F115: =G115+H115 -> 5 | G115: 0 | H115: 5 | I115: 801-02155412-9 | J115: 3 | K115: Coupling 2 | L115: =M115+N115 -> 5 | M115: 0 | N115: =VLOOKUP(K115,HO!K:L,2,) -> 5
A116: Coupling 3 | B116: 5 | C116: 0 | D116: 5 | E116: Coupling 3 | F116: =G116+H116 -> 5 | G116: 0 | H116: 5 | I116: Coupling 2 | J116: 5 | K116: Coupling 3 | L116: =M116+N116 -> 5 | M116: 0 | N116: =VLOOKUP(K116,HO!K:L,2,) -> 5
A117: LSC1.4S, 220/50Hz | B117: 3 | C117: 2 | D117: 1 | E117: LSC1.4S, 220/50Hz | F117: =G117+H117 -> 3 | G117: 2 | H117: 1 | I117: Coupling 3 | J117: 5 | K117: LSC1.4S, 220/50Hz | L117: =M117+N117 -> 3 | M117: 2 | N117: =VLOOKUP(K117,HO!K:L,2,) -> 1
A118: LSP1.4S, 220/50Hz | B118: 0 | C118: 0 | D118: 0 | E118: LSP1.4S, 220/50Hz | F118: =G118+H118 -> 0 | G118: 0 | H118: 0 | I118: LSC1.4S, 220/50Hz | J118: 3 | K118: LSP1.4S, 220/50Hz | L118: =M118+N118 -> 0 | M118: 0 | N118: =VLOOKUP(K118,HO!K:L,2,) -> 0
A119: TE5-80H | B119: 0 | C119: 0 | D119: 0 | E119: TE5-80H | F119: =G119+H119 -> 0 | G119: 0 | H119: 0 | I119: LSP1.4S, 220/50Hz | J119: 0 | K119: TE5-80H | L119: =M119+N119 -> 0 | M119: 0 | N119: =VLOOKUP(K119,HO!K:L,2,) -> 0
A120: TE5-50H | B120: 0 | C120: 0 | D120: 0 | E120: TE5-50H | F120: =G120+H120 -> 0 | G120: 0 | H120: 0 | I120: TE5-80H | J120: 0 | K120: TE5-50H | L120: =M120+N120 -> 0 | M120: 0 | N120: =VLOOKUP(K120,HO!K:L,2,) -> 0
A121: LH 311 (coupling 3 inch) | B121: 9 | C121: 0 | D121: 9 | E121: LH 311 (coupling 3 inch) | F121: =G121+H121 -> 9 | G121: 0 | H121: 9 | I121: TE5-50H | J121: 0 | K121: LH 311 (coupling 3 inch) | L121: =M121+N121 -> 9 | M121: 0 | N121: =VLOOKUP(K121,HO!K:L,2,) -> 9
A122: HS2.75S, 220V/50Hz | B122: 14 | C122: 0 | D122: 14 | E122: HS2.75S, 220V/50Hz | F122: =G122+H122 -> 14 | G122: 0 | H122: 14 | I122: LH 311 (coupling 3 inch) | J122: 9 | K122: HS2.75S, 220V/50Hz | L122: =M122+N122 -> 14 | M122: 0 | N122: =VLOOKUP(K122,HO!K:L,2,) -> 14
A123: HS2.4S, 220V/50Hz | B123: 9 | C123: 2 | D123: 7 | E123: HS2.4S, 220V/50Hz | F123: =G123+H123 -> 9 | G123: 2 | H123: 7 | I123: HS2.75S, 220V/50Hz | J123: 14 | K123: HS2.4S, 220V/50Hz | L123: =M123+N123 -> 9 | M123: 2 | N123: =VLOOKUP(K123,HO!K:L,2,) -> 7
...

Sheet INQ
A7: PO No. | B7: Description | C7: Part No. | D7: Unit Code | E7: Order Qty | F7: Pallet | G7: Remark
A8: PO 123 | B8: Ultra Diesel Engine Oil VDS-3 SAE 15W-40 | C8: VOE15067404 | D8: Drum | E8: =4*20 -> 80 | F8: 20 | G8: Stock & Customer
A11: PO No. | B11: Description | C11: Part No. | D11: Unit Code | E11: Order Qty | F11: Pallet | G11: Remark
A12: PO 124 | B12: Ultra Diesel Engine Oil VDS-3 SAE 15W-40 | C12: VOE15067404 | D12: Drum | E12: =4*20 -> 80 | F12: 20 | G12: Stock & Customer
A15: PO No. | B15: Description | C15: Part No. | D15: Unit Code | E15: Order Qty | F15: Pallet | G15: Remark
A16: PO 125 | B16: Ultra Diesel Engine Oil VDS-3 SAE 15W-40 | C16: VOE15067404 | D16: Drum | E16: =4*20 -> 80 | F16: 20 | G16: Stock & Customer

Sheet Sheet3
A1: 3831236 | B1: 0 | C1: 0 | E1: 3831236 | F1: 0 | G1: 0 | H1: 0 | I1: 0
A2: 21212204 | B2: 0 | C2: 0 | E2: 21212204 | F2: 0 | G2: 0 | H2: 0 | I2: 0
A3: 21192875 | B3: 0 | C3: 0 | E3: 21192875 | F3: 0 | G3: 0 | H3: 0 | I3: 0
A4: 477556 | B4: 0 | C4: 0 | E4: 477556 | F4: 0 | G4: 0 | H4: 0 | I4: 0
A5: 20998367 | B5: 0 | C5: 0 | E5: 20998367 | F5: 0 | G5: 0 | H5: 0 | I5: 0
A6: 21707133 | B6: 0 | C6: 0 | E6: 21707133 | F6: 0 | G6: 0 | H6: 0 | I6: 0
A7: 21707132 | B7: 0 | C7: 0 | E7: 21707132 | F7: 0 | G7: 0 | H7: 0 | I7: 0
A8: 8193841 | B8: 0 | C8: 0 | E8: 8193841 | F8: 0 | G8: 0 | H8: 0 | I8: 0
A9: 8159975 | B9: 0 | C9: 0 | E9: 8159975 | F9: 0 | G9: 0 | H9: 0 | I9: 0
A10: LF 3654 | B10: 0 | C10: 0 | E10: LF 3654 | F10: 0 | G10: 0 | H10: 0 | I10: 0
A11: FS 19573 | B11: 0 | C11: 0 | E11: FS 19573 | F11: 0 | G11: 0 | H11: 0 | I11: 0
A12: FF 5135 | B12: 0 | C12: 0 | E12: FF 5135 | F12: 0 | G12: 0 | H12: 0 | I12: 0
A13: FS 19624 | B13: 0 | C13: 0 | E13: FS 19624 | F13: 0 | G13: 0 | H13: 0 | I13: 0
A14: LF 670 | B14: 0 | C14: 0 | E14: LF 670 | F14: 0 | G14: 0 | H14: 0 | I14: 0
A15: FH 23600 | B15: 0 | C15: 0 | E15: FH 23600 | F15: 0 | G15: 0 | H15: 0 | I15: 0
A16: FF 4036 | B16: 0 | C16: 0 | E16: FF 4036 | F16: 0 | G16: 0 | H16: 0 | I16: 0
A17: LF 3356 | B17: 0 | C17: 0 | E17: LF 3356 | F17: 0 | G17: 0 | H17: 0 | I17: 0
A18: LF 3642 | B18: 0 | C18: 0 | E18: LF 3642 | F18: 0 | G18: 0 | H18: 0 | I18: 0
A19: LF 3376 | B19: 0 | C19: 0 | E19: LF 3376 | F19: 0 | G19: 0 | H19: 0 | I19: 0
A20: 212013S | B20: 0 | C20: 0 | E20: 212013S | F20: 0 | G20: 0 | H20: 0 | I20: 0
A21: 256535 | B21: 0 | C21: 0 | E21: 256535 | F21: 0 | G21: 0 | H21: 0 | I21: 0
A22: 3A111-19130 | B22: 0 | C22: 0 | E22: 3A111-19130 | F22: 0 | G22: 0 | H22: 0 | I22: 0
A23: AA 2955 | B23: 0 | C23: 0 | E23: AA 2955 | F23: 0 | G23: 0 | H23: 0 | I23: 0
A24: AA 2956 | B24: 0 | C24: 0 | E24: AA 2956 | F24: 0 | G24: 0 | H24: 0 | I24: 0
A25: AF 1658K | B25: 0 | C25: 0 | E25: AF 1658K | F25: 0 | G25: 0 | H25: 0 | I25: 0
A26: AF 1791 | B26: 0 | C26: 0 | E26: AF 1791 | F26: 0 | G26: 0 | H26: 0 | I26: 0
A27: AF 1811 | B27: 0 | C27: 0 | E27: AF 1811 | F27: 0 | G27: 0 | H27: 0 | I27: 0
A28: AF 1828 | B28: 0 | C28: 0 | E28: AF 1828 | F28: 0 | G28: 0 | H28: 0 | I28: 0
A29: AF 1840 | B29: 0 | C29: 0 | E29: AF 1840 | F29: 0 | G29: 0 | H29: 0 | I29: 0
A30: AF 1841 | B30: 0 | C30: 0 | E30: AF 1841 | F30: 0 | G30: 0 | H30: 0 | I30: 0
A31: AF 1862 | B31: 0 | C31: 0 | E31: AF 1862 | F31: 0 | G31: 0 | H31: 0 | I31: 0
A32: AF 1863 | B32: 0 | C32: 0 | E32: AF 1863 | F32: 0 | G32: 0 | H32: 0 | I32: 0
A33: AF 1894 | B33: 0 | C33: 0 | E33: AF 1894 | F33: 0 | G33: 0 | H33: 0 | I33: 0
... A405: TPK1025 | B405: 0 | C405: 0 | E405: TPK1025 | F405: 0 | G405: 0 | H405: 0 | I405: 0
A406: 20514654 | B406: 0 | C406: 0 | E406: 20514654 | F406: 0 | G406: 0 | H406: 0 | I406: 0
A407: 15607-2190L | B407: 0 | C407: 0 | E407: 15607-2190L | F407: 0 | G407: 0 | H407: 0 | I407: 0
A408: 8602 | B408: 0 | C408: 0 | E408: 8602 | F408: 0 | G408: 0 | H408: 0 | I408: 0
A409: C1717 | B409: 0 | C409: 0 | E409: C1717 | F409: 0 | G409: 0 | H409: 0 | I409: 0
A410: FF5421 | B410: 0 | C410: 0 | E410: FF5421 | F410: 0 | G410: 0 | H410: 0 | I410: 0
A411: LF3970 | B411: 0 | C411: 0 | E411: LF3970 | F411: 0 | G411: 0 | H411: 0 | I411: 0
A412: 21707134 | B412: 0 | C412: 0 | E412: 21707134 | F412: 0 | G412: 0 | H412: 0 | I412: 0
A413: 20976003 | B413: 0 | C413: 0 | E413: 20976003 | F413: 0 | G413: 0 | H413: 0 | I413: 0
A414: 20805349 | B414: 0 | C414: 0 | E414: 20805349 | F414: 0 | G414: 0 | H414: 0 | I414: 0
A415: 11110683 | B415: 0 | C415: 0 | E415: 11110683 | F415: 0 | G415: 0 | H415: 0 | I415: 0
A416: 11110668 | B416: 0 | C416: 0 | E416: 11110668 | F416: 0 | G416: 0 | H416: 0 | I416: 0
A417: 11711074 | B417: 0 | C417: 0 | E417: 11711074 | F417: 0 | G417: 0 | H417: 0 | I417: 0
A418: 1030-61460 | B418: 0 | C418: 0 | E418: 1030-61460 | F418: 0 | G418: 0 | H418: 0 | I418: 0
A419: 14524170 | B419: 0 | C419: 0 | E419: 14524170 | F419: 0 | G419: 0 | H419: 0 | I419: 0
A420: 14509379 | B420: 0 | C420: 0 | E420: 14509379 | F420: 0 | G420: 0 | H420: 0 | I420: 0
A421: EDL26000TE | B421: 0 | C421: 0 | E421: EDL26000TE | F421: 0 | G421: 0 | H421: 0 | I421: 0
A422: EDL11000SE | B422: 0 | C422: 0 | E422: EDL11000SE | F422: 0 | G422: 0 | H422: 0 | I422: 0
A423: EDL13000STE | B423: 0 | C423: 0 | E423: EDL13000STE | F423: 0 | G423: 0 | H423: 0 | I423: 0
A424: EF12000E | B424: 0 | C424: 0 | E424: EF12000E | F424: 0 | G424: 0 | H424: 0 | I424: 0
A425: GSV7500REX | B425: 0 | C425: 0 | E425: GSV7500REX | F425: 0 | G425: 0 | H425: 0 | I425: 0
A426: EDL11000E | B426: 0 | C426: 0 | E426: EDL11000E | F426: 0 | G426: 0 | H426: 0 | I426: 0
A427: EDL16000E | B427: 0 | C427: 0 | E427: EDL16000E | F427: 0 | G427: 0 | H427: 0 | I427: 0
A428: EDL21000E | B428: 0 | C428: 0 | E428: EDL21000E | F428: 0 | G428: 0 | H428: 0 | I428: 0
A429: EDL13000TE | B429: 0 | C429: 0 | E429: EDL13000TE | F429: 0 | G429: 0 | H429: 0 | I429: 0
A430: EDL20000TE | B430: 0 | C430: 0 | E430: EDL20000TE | F430: 0 | G430: 0 | H430: 0 | I430: 0
A431: EDL18000STE | B431: 0 | C431: 0 | E431: EDL18000STE | F431: 0 | G431: 0 | H431: 0 | I431: 0
A432: EDL30000STE | B432: 0 | C432: 0 | E432: EDL30000STE | F432: 0 | G432: 0 | H432: 0 | I432: 0
... A439: SGB7001HSa | B439: 0 | C439: 0 | E439: SGB7001HSa | F439: 0 | G439: 0 | H439: 0 | I439: 0
A440: 691782 | B440: 0 | C440: 0 | E440: 691782 | F440: 0 | G440: 0 | H440: 0 | I440: 0
A441: 692250 | B441: 0.085 | C441: 0.02 | E441: 692250 | F441: 0.7 | G441: 0.615 | H441: 0 | I441: 0
A442: 692332 | B442: 22 | C442: 28 | E442: 692332 | F442: 19 | G442: 19 | H442: 24 | I442: 20
A443: 692334 | B443: 18 | C443: 7 | E443: 692334 | F443: 6 | G443: 0 | H443: 5 | I443: 3
A444: 692179 | B444: 0 | C444: 0 | E444: 692179 | F444: 0 | G444: 0 | H444: 0 | I444: 0
A445: 692178 | B445: 0 | C445: 0 | E445: 692178 | F445: 0 | G445: 0 | H445: 0 | I445: 0
A446: 692027 | B446: 8 | C446: 10 | E446: 692027 | F446: 1 | G446: 1 | H446: 8 | I446: 1
A447: 692026 | B447: 0.1 | C447: 0.05 | E447: 692026 | F447: 1.1 | G447: 0.155 | H447: 0 | I447: 0.05
A448: 718637 | B448: 0 | C448: 0 | E448: 718637 | F448: 0 | G448: 0 | H448: 0 | I448: 0
A449: 692079 | B449: 6 | C449: 15 | E449: 692079 | F449: 2 | G449: 2 | H449: 1 | I449: 5
A450: 692077 | B450: 0 | C450: 0 | E450: 692077 | F450: 0 | G450: 1 | H450: 0 | I450: 0
A451: 692030 | B451: 0 | C451: 0 | E451: 692030 | F451: 0 | G451: 0 | H451: 0 | I451: 0
... A457: 691781 | B457: 0 | C457: 0 | E457: 691781 | F457: 0 | G457: 0 | H457: 0 | I457: 0
A458: VOE15067197 | B458: 39 | C458: 36 | E458: VOE15067197 | F458: 248 | G458: 357 | H458: 254 | I458: 62
A459: VOE15067404 | B459: 98 | C459: 90.8 | E459: VOE15067404 | F459: 51 | G459: 69 | H459: 80 | I459: 85
A460: VOE15058186 | B460: 4 | C460: 1 | E460: VOE15058186 | F460: 4 | G460: 13 | H460: 15 | I460: 6
A461: VOE15058191 | B461: 51 | C461: 90 | E461: VOE15058191 | F461: 10 | G461: 5 | H461: 42 | I461: 11
A462: VOE15067098 | B462: 12 | C462: 1 | E462: VOE15067098 | F462: 7 | G462: 2 | H462: 1 | I462: 3
A463: VOE15067157 | B463: 0 | C463: 0 | E463: VOE15067157 | F463: 0 | G463: 0 | H463: 0 | I463: 0
A464: VOE15058290 | B464: 0 | C464: 30 | E464: VOE15058290 | F464: 18 | G464: 0 | H464: 0 | I464: 6
A465: VOE15058299 | B465: 0 | C465: 0 | E465: VOE15058299 | F465: 0 | G465: 0 | H465: 0 | I465: 0
A466: VOE15067515 | B466: 36 | C466: 67 | E466: VOE15067515 | F466: 29 | G466: 27 | H466: 32 | I466: 36
A467: VOE15067522 | B467: 12 | C467: 15 | E467: VOE15067522 | F467: 15 | G467: 16 | H467: 31 | I467: 33
A468: VOE15067640 | B468: 2 | C468: 2 | E468: VOE15067640 | F468: 0 | G468: 6 | H468: 8 | I468: 2
A469: VOE15161234 | B469: 6 | C469: 19 | E469: VOE15161234 | F469: 16 | G469: 4 | H469: 12 | I469: 11
A470: 692069 | B470: 0 | C470: 0 | E470: 692069 | F470: 0 | G470: 0 | H470: 0 | I470: 0
A471: 692070 | B471: 0 | C471: 0 | E471: 692070 | F471: 0 | G471: 0 | H471: 0 | I471: 0
A472: 692053 | B472: 179 | C472: 115 | E472: 692053 | F472: 284 | G472: 398 | H472: 350 | I472: 366
A473: 692052 | B473: 51.53 | C473: 69.47 | E473: 692052 | F473: 36 | G473: 70 | H473: 58 | I473: 42
A474: 692172 | B474: 0 | C474: 0 | E474: 692172 | F474: 0 | G474: 0 | H474: 0 | I474: 0
A475: 692090 | B475: 0 | C475: 0 | E475: 692090 | F475: 0 | G475: 0 | H475: 0 | I475: 0
A476: 692335 | B476: 0 | C476: 8.22 | E476: 692335 | F476: 11 | G476: 11 | H476: 11 | I476: 2
A477: VOE15067629 | B477: 0 | C477: 0 | E477: VOE15067629 | F477: 0 | G477: 0 | H477: 0 | I477: 0
A478: VOE15143928 | B478: 0 | C478: 0 | E478: VOE15143928 | F478: 18 | G478: 0 | H478: 0 | I478: 0
A479: VOE15198387 | B479: 0 | C479: 0 | E479: VOE15198387 | F479: 0 | G479: 0 | H479: 0 | I479: 0
A480: 692415 | B480: 0 | C480: 0 | E480: 692415 | F480: 0 | G480: 0 | H480: 0 | I480: 0
A481: 793316 | B481: 0 | C481: 0 | E481: 793316 | F481: 0 | G481: 0 | H481: 0 | I481: 0
A482: 685850 | B482: 0 | C482: 0 | E482: 685850 | F482: 0 | G482: 0 | H482: 0 | I482: 0
...
