Workbook

Sheet Branch
M4: Calculation based on Actual Sales | W4: Calculation based on W/H Issuing
A5: No. | B5: Brand | C5: Description | D5: Pack Size | H5: Part No | I5: Unit Code | J5: Moving Item | K5: Closing Balance Qty | L5: Pending PO Qty | M5: Month | N5: Month | O5: Month | P5: Month | Q5: Avg sale | R5: Estimated Stk in hand condition | S5: Estimated Order Plan | U5: Final Order Qty | W5: Month | X5: Month | Y5: Month | Z5: Month | AA5: Avg Issue | AB5: Estimated Stk in hand condition | AC5: Estimated Order Plan
Q7: =SUM(M7:P7)/4 -> 0 | R7: =(K7+L7)-Q7 -> 0 | S7: =Q7-R7 -> 0 | AA7: =SUM(W7:Z7)/4 -> 0 | AB7: =(K7+L7)-AA7 -> 0 | AC7: =AA7-AB7 -> 0
Q8: =SUM(M8:P8)/4 -> 0 | R8: =K8-(L8+Q8) -> 0 | S8: =Q8-R8 -> 0 | AA8: =SUM(W8:Z8)/4 -> 0
Q9: =SUM(M9:P9)/4 -> 0 | R9: =K9-(L9+Q9) -> 0 | S9: =Q9-R9 -> 0 | AA9: =SUM(W9:Z9)/4 -> 0
Q10: =SUM(M10:P10)/4 -> 0 | R10: =K10-(L10+Q10) -> 0 | S10: =Q10-R10 -> 0 | AA10: =SUM(W10:Z10)/4 -> 0
A14: Importation Lead Time (PO ~ MAI)
A15: 1 | B15: Lubricant | C15: 2 months
A16: 2 | B16: Tyre | C16: 3 months
A17: 3 | B17: Generator | C17: 4 months
A18: 4 | B18: Pump | C18: 5 months

Sheet draft
P4: Calculation based on Actual Sales | AB4: Calculation based on W/H Issuing
A5: No. | B5: Brand | C5: Description | D5: Pack Size | H5: Part No | I5: Unit Code | J5: Moving Item | K5: Closing Balance Qty | L5: At the Port (Qty) | M5: On The Way (Qty) | N5: Waiting Shipment (Qty) | O5: Branch Outstanding PO Qty | P5: Feb | Q5: Mar | R5: Apr | S5: May | T5: Jun | U5: Jul | V5: Avg sale | W5: Estimated Stk in hand condition | X5: Estimated Order Plan | Z5: Final Order Qty | AB5: Feb | AC5: Mar | AD5: Apr | AE5: May | AF5: Jun | AG5: Jul | AH5: Avg Issue | AI5: Estimated Stk in hand condition | AJ5: Estimated Order Plan
A7: 1 | B7: Champion | C7: Spark Plug | D7: 1 | F7: 200 | H7: PRG7C | I7: Pcs | J7: FM | K7: 14912 | P7: 90 | Q7: 120 | R7: 180 | S7: 310 | T7: 100 | U7: 110 | V7: =SUM(P7:U7)/6 -> 151.66667 | W7: =(K7+L7+M7+N7)-(O7+V7) -> 14760.333 | X7: =(V7*2)-W7 -> -14457 | AH7: =SUM(AB7:AG7)/7 -> 0 | AI7: =(K7+L7+M7+N7)-(O7+AH7) -> 14912 | AJ7: =(AH7*2)-AI7 -> -14912
A8: 2 | B8: Champion | C8: Spark Plug | D8: 1 | F8: 200 | H8: RC10YC4 | I8: Pcs | J8: FM | K8: 6842 | S8: 100 | T8: 590 | U8: 640 | V8: =SUM(P8:U8)/6 -> 221.66667 | W8: =(K8+L8+M8+N8)-(O8+V8) -> 6620.3333 | X8: =(V8*2)-W8 -> -6177 | AH8: =SUM(AB8:AG8)/7 -> 0 | AI8: =(K8+L8+M8+N8)-(O8+AH8) -> 6842 | AJ8: =(AH8*2)-AI8 -> -6842
A9: 3 | B9: Champion | C9: Spark Plug | H9: Z9Y | I9: Pcs | J9: FM | K9: 9055 | P9: 51 | Q9: 260 | R9: 355 | S9: 461 | T9: 295 | U9: 370 | V9: =SUM(P9:U9)/6 -> 298.66667 | W9: =(K9+L9+M9+N9)-(O9+V9) -> 8756.3333 | X9: =(V9*2)-W9 -> -8159 | AH9: =SUM(AB9:AG9)/7 -> 0 | AI9: =(K9+L9+M9+N9)-(O9+AH9) -> 9055 | AJ9: =(AH9*2)-AI9 -> -9055
A10: 4 | B10: ECED | C10: ECED TBR 10.00R20, BT168,TT (Standard) | H10: 10.00R20, BT168 | I10: Set | J10: FM | K10: 27 | P10: 10 | Q10: 59 | R10: 28 | S10: 6 | T10: 14 | U10: 6 | V10: =SUM(P10:U10)/6 -> 20.5 | W10: =(K10+L10+M10+N10)-(O10+V10) -> 6.5 | X10: =(V10*2)-W10 -> 34.5 | AH10: =SUM(AB10:AG10)/7 -> 0 | AI10: =(K10+L10+M10+N10)-(O10+AH10) -> 27 | AJ10: =(AH10*2)-AI10 -> -27
A11: 5 | B11: ECED | C11: ECED TBR 10.00R20, BT188,TT (Standard) | H11: 10.00R20, BT188 | I11: Set | J11: FM | K11: 19 | P11: 46 | Q11: 25 | R11: 16 | S11: 4 | T11: 6 | U11: 25 | V11: =SUM(P11:U11)/6 -> 20.333333 | W11: =(K11+L11+M11+N11)-(O11+V11) -> -1.3333333 | X11: =(V11*2)-W11 -> 42 | AH11: =SUM(AB11:AG11)/7 -> 0 | AI11: =(K11+L11+M11+N11)-(O11+AH11) -> 19 | AJ11: =(AH11*2)-AI11 -> -19
A12: 6 | B12: ECED | C12: ECED TBR 11.00R20, BT118,TT (Standard) | H12: 11.00R20, BT118 | I12: Set | J12: FM | K12: 22 | P12: 202 | Q12: 8 | R12: 8 | S12: 6 | T12: 6 | U12: 6 | V12: =SUM(P12:U12)/6 -> 39.333333 | W12: =(K12+L12+M12+N12)-(O12+V12) -> -17.333333 | X12: =(V12*2)-W12 -> 96 | AH12: =SUM(AB12:AG12)/7 -> 0 | AI12: =(K12+L12+M12+N12)-(O12+AH12) -> 22 | AJ12: =(AH12*2)-AI12 -> -22
A13: 7 | B13: ECED | C13: ECED TBR 11.00.R20, BT168,TT (Standard) | H13: 11.00R20, BT168 | I13: Set | J13: FM | K13: 36 | P13: 9 | Q13: 13 | R13: 16 | S13: 15 | T13: 50 | U13: 56 | V13: =SUM(P13:U13)/6 -> 26.5 | W13: =(K13+L13+M13+N13)-(O13+V13) -> 9.5 | X13: =(V13*2)-W13 -> 43.5 | AH13: =SUM(AB13:AG13)/7 -> 0 | AI13: =(K13+L13+M13+N13)-(O13+AH13) -> 36 | AJ13: =(AH13*2)-AI13 -> -36
A14: 8 | B14: ECED | C14: ECED TBR 11R22.5, BT218,TL | H14: 11R22.5, BT218 | I14: Set | J14: FM | K14: 2 | P14: 11 | Q14: 2 | R14: 765 | S14: 22 | T14: 10 | U14: 28 | V14: =SUM(P14:U14)/6 -> 139.66667 | W14: =(K14+L14+M14+N14)-(O14+V14) -> -137.66667 | X14: =(V14*2)-W14 -> 417 | AH14: =SUM(AB14:AG14)/7 -> 0 | AI14: =(K14+L14+M14+N14)-(O14+AH14) -> 2 | AJ14: =(AH14*2)-AI14 -> -2
A15: 9 | B15: ECED | C15: ECED TBR 265/70R19.5, BT 929, TL (Standard) | H15: 265/70R19.5, BT929 | I15: Set | J15: FM | K15: 64 | P15: 50 | Q15: 18 | R15: 44 | S15: 27 | T15: 22 | U15: 25 | V15: =SUM(P15:U15)/6 -> 31 | W15: =(K15+L15+M15+N15)-(O15+V15) -> 33 | X15: =(V15*2)-W15 -> 29 | AH15: =SUM(AB15:AG15)/7 -> 0 | AI15: =(K15+L15+M15+N15)-(O15+AH15) -> 64 | AJ15: =(AH15*2)-AI15 -> -64
A16: 10 | B16: Valvoline | C16: 4T Premium 20W40, SL, JASO MA | D16: 24 | E16: x | F16: 1 | G16: L | H16: 692247 | I16: Bottle | J16: FM | K16: 3539 | P16: 892 | Q16: 299 | R16: 342 | S16: 490 | T16: 775 | U16: 853 | V16: =SUM(P16:U16)/6 -> 608.5 | W16: =(K16+L16+M16+N16)-(O16+V16) -> 2930.5 | X16: =(V16*2)-W16 -> -1713.5 | AH16: =SUM(AB16:AG16)/7 -> 0 | AI16: =(K16+L16+M16+N16)-(O16+AH16) -> 3539 | AJ16: =(AH16*2)-AI16 -> -3539
A17: 11 | B17: Valvoline | C17: 4T Premium 20W40, SL, JASO MA | D17: 24 | E17: x | F17: 0.8 | G17: L | H17: 732728 | I17: Bottle | J17: FM | K17: 404 | P17: 69 | Q17: 21 | S17: 27 | T17: 14 | U17: 332 | V17: =SUM(P17:U17)/6 -> 77.166667 | W17: =(K17+L17+M17+N17)-(O17+V17) -> 326.83333 | X17: =(V17*2)-W17 -> -172.5 | AH17: =SUM(AB17:AG17)/7 -> 0 | AI17: =(K17+L17+M17+N17)-(O17+AH17) -> 404 | AJ17: =(AH17*2)-AI17 -> -404
A18: 12 | B18: Valvoline | C18: All Fleet Premium 15W40, CI-4/SL | D18: 24 | E18: x | F18: 1 | G18: L | H18: 691970 | I18: Bottle | J18: FM | K18: 2001 | P18: 351 | Q18: 70 | R18: 354 | S18: 337 | T18: 174 | U18: 130 | V18: =SUM(P18:U18)/6 -> 236 | W18: =(K18+L18+M18+N18)-(O18+V18) -> 1765 | X18: =(V18*2)-W18 -> -1293 | AH18: =SUM(AB18:AG18)/7 -> 0 | AI18: =(K18+L18+M18+N18)-(O18+AH18) -> 2001 | AJ18: =(AH18*2)-AI18 -> -2001
A19: 13 | B19: Valvoline | C19: All Fleet Premium 15W40, CI-4/SL | D19: 1 | E19: x | F19: 200 | G19: L | H19: 692052 | I19: Drum | J19: FM | K19: 194 | P19: 85.2 | Q19: 83 | R19: 94 | S19: 114.11 | T19: 115.16 | U19: 76 | V19: =SUM(P19:U19)/6 -> 94.578333 | W19: =(K19+L19+M19+N19)-(O19+V19) -> 99.421667 | X19: =(V19*2)-W19 -> 89.735 | AH19: =SUM(AB19:AG19)/7 -> 0 | AI19: =(K19+L19+M19+N19)-(O19+AH19) -> 194 | AJ19: =(AH19*2)-AI19 -> -194
A20: 14 | B20: Valvoline | C20: All Fleet Premium 15W40, CI-4/SL | D20: 1 | E20: x | F20: 18 | G20: L | H20: 692053 | I20: Can | J20: FM | K20: 465 | P20: 300 | Q20: 408 | R20: 258 | S20: 387 | T20: 360 | U20: 261 | V20: =SUM(P20:U20)/6 -> 329 | W20: =(K20+L20+M20+N20)-(O20+V20) -> 136 | X20: =(V20*2)-W20 -> 522 | AH20: =SUM(AB20:AG20)/7 -> 0 | AI20: =(K20+L20+M20+N20)-(O20+AH20) -> 465 | AJ20: =(AH20*2)-AI20 -> -465
A21: 15 | B21: Valvoline | C21: All Fleet Premium 15W40, CI-4/SL | D21: 4 | E21: x | F21: 5 | G21: L | H21: 692054 | I21: Bottle | J21: FM | K21: 901 | P21: 405 | Q21: 186 | R21: 209 | S21: 305 | T21: 280 | U21: 154 | V21: =SUM(P21:U21)/6 -> 256.5 | W21: =(K21+L21+M21+N21)-(O21+V21) -> 644.5 | X21: =(V21*2)-W21 -> -131.5 | AH21: =SUM(AB21:AG21)/7 -> 0 | AI21: =(K21+L21+M21+N21)-(O21+AH21) -> 901 | AJ21: =(AH21*2)-AI21 -> -901
A22: 16 | B22: Valvoline | C22: All Fleet Turbo 15W40, CF-4/SG | D22: 4 | E22: x | F22: 5 | G22: L | H22: 692128 | I22: Bottle | J22: FM | K22: 506 | P22: 66 | Q22: 73 | R22: 38 | S22: 63 | T22: 99 | U22: 80 | V22: =SUM(P22:U22)/6 -> 69.833333 | W22: =(K22+L22+M22+N22)-(O22+V22) -> 436.16667 | X22: =(V22*2)-W22 -> -296.5 | AH22: =SUM(AB22:AG22)/7 -> 0 | AI22: =(K22+L22+M22+N22)-(O22+AH22) -> 506 | AJ22: =(AH22*2)-AI22 -> -506
A23: 17 | B23: Valvoline | C23: All Fleet Turbo 15W40, CF-4/SG | D23: 24 | E23: x | F23: 1 | G23: L | H23: 692171 | I23: Bottle | J23: FM | K23: 229 | P23: 78 | Q23: 3 | R23: 27 | S23: 34 | T23: 34 | U23: 136 | V23: =SUM(P23:U23)/6 -> 52 | W23: =(K23+L23+M23+N23)-(O23+V23) -> 177 | X23: =(V23*2)-W23 -> -73 | AH23: =SUM(AB23:AG23)/7 -> 0 | AI23: =(K23+L23+M23+N23)-(O23+AH23) -> 229 | AJ23: =(AH23*2)-AI23 -> -229
A24: 18 | B24: Valvoline | C24: Champ 4T 20W50, SG/CD | D24: 24 | E24: x | F24: 0.8 | G24: L | H24: 692249 | I24: Bottle | J24: FM | K24: 5720 | P24: 4144 | Q24: 1948 | R24: 1464 | S24: 2968 | T24: 3538 | U24: 3167 | V24: =SUM(P24:U24)/6 -> 2871.5 | W24: =(K24+L24+M24+N24)-(O24+V24) -> 2848.5 | X24: =(V24*2)-W24 -> 2894.5 | AH24: =SUM(AB24:AG24)/7 -> 0 | AI24: =(K24+L24+M24+N24)-(O24+AH24) -> 5720 | AJ24: =(AH24*2)-AI24 -> -5720
A25: 19 | B25: Valvoline | C25: Champ 4T 20W50, SG/CD | D25: 24 | E25: x | F25: 0.8 | G25: L | H25: 772588 | I25: Bottle | J25: FM | K25: 58 | P25: 108 | Q25: 188 | R25: 4 | S25: 144 | T25: 86 | U25: 311 | V25: =SUM(P25:U25)/6 -> 140.16667 | W25: =(K25+L25+M25+N25)-(O25+V25) -> -82.166667 | X25: =(V25*2)-W25 -> 362.5 | AH25: =SUM(AB25:AG25)/7 -> 0 | AI25: =(K25+L25+M25+N25)-(O25+AH25) -> 58 | AJ25: =(AH25*2)-AI25 -> -58
A26: 20 | B26: Valvoline | C26: Champ 4T Scooter 10W30 (24x1L) | D26: 24 | E26: x | F26: 1 | G26: L | H26: 841092 | I26: Bottle | J26: FM | K26: 908 | P26: 69 | Q26: 32 | R26: 7 | S26: 54 | T26: 35 | U26: 266 | V26: =SUM(P26:U26)/6 -> 77.166667 | W26: =(K26+L26+M26+N26)-(O26+V26) -> 830.83333 | X26: =(V26*2)-W26 -> -676.5 | AH26: =SUM(AB26:AG26)/7 -> 0 | AI26: =(K26+L26+M26+N26)-(O26+AH26) -> 908 | AJ26: =(AH26*2)-AI26 -> -908
A27: 21 | B27: Valvoline | C27: Champ 4T Scooter 10W40 (24x1L) | D27: 24 | E27: x | F27: 1 | G27: L | H27: 841078 | I27: Bottle | J27: FM | K27: 878 | P27: 153 | Q27: 16 | R27: 37 | S27: 79 | T27: 132 | U27: 284 | V27: =SUM(P27:U27)/6 -> 116.83333 | W27: =(K27+L27+M27+N27)-(O27+V27) -> 761.16667 | X27: =(V27*2)-W27 -> -527.5 | AH27: =SUM(AB27:AG27)/7 -> 0 | AI27: =(K27+L27+M27+N27)-(O27+AH27) -> 878 | AJ27: =(AH27*2)-AI27 -> -878
A28: 22 | B28: Valvoline | C28: Champ 4T Synth 10W40, SJ/JASO MA2 | D28: 24 | E28: x | F28: 0.8 | G28: L | H28: 804562 (807562) | I28: Bottle | J28: FM | K28: 1421 | P28: 50 | Q28: 61 | R28: 37 | S28: 66 | T28: 98 | U28: 333 | V28: =SUM(P28:U28)/6 -> 107.5 | W28: =(K28+L28+M28+N28)-(O28+V28) -> 1313.5 | X28: =(V28*2)-W28 -> -1098.5 | AH28: =SUM(AB28:AG28)/7 -> 0 | AI28: =(K28+L28+M28+N28)-(O28+AH28) -> 1421 | AJ28: =(AH28*2)-AI28 -> -1421
A29: 23 | B29: Valvoline | C29: Crimson Grease, NLGI 3 | D29: 1 | E29: x | F29: 20 | G29: KG | H29: 793317 | I29: Can | J29: FM | K29: 66 | P29: 8 | Q29: 33 | R29: 24 | S29: 27 | T29: 45 | U29: 28 | V29: =SUM(P29:U29)/6 -> 27.5 | W29: =(K29+L29+M29+N29)-(O29+V29) -> 38.5 | X29: =(V29*2)-W29 -> 16.5 | AH29: =SUM(AB29:AG29)/7 -> 0 | AI29: =(K29+L29+M29+N29)-(O29+AH29) -> 66 | AJ29: =(AH29*2)-AI29 -> -66
A30: 24 | B30: Valvoline | C30: DEX III ATF | D30: 24 | E30: x | F30: 1 | G30: L | H30: 692180 | I30: Bottle | J30: FM | K30: 941 | P30: 163 | Q30: 96 | R30: 138 | S30: 60 | T30: 94 | U30: 215 | V30: =SUM(P30:U30)/6 -> 127.66667 | W30: =(K30+L30+M30+N30)-(O30+V30) -> 813.33333 | X30: =(V30*2)-W30 -> -558 | AH30: =SUM(AB30:AG30)/7 -> 0 | AI30: =(K30+L30+M30+N30)-(O30+AH30) -> 941 | AJ30: =(AH30*2)-AI30 -> -941
A31: 25 | B31: Valvoline | C31: Durablend 10W40, SN | D31: 4 | E31: x | F31: 4 | G31: L | H31: 690814 | I31: Bottle | J31: FM | K31: 681 | P31: 362 | Q31: 122 | R31: 243 | S31: 349 | T31: 406 | U31: 224 | V31: =SUM(P31:U31)/6 -> 284.33333 | W31: =(K31+L31+M31+N31)-(O31+V31) -> 396.66667 | X31: =(V31*2)-W31 -> 172 | AH31: =SUM(AB31:AG31)/7 -> 0 | AI31: =(K31+L31+M31+N31)-(O31+AH31) -> 681 | AJ31: =(AH31*2)-AI31 -> -681
A32: 26 | B32: Valvoline | C32: Durablend 10W40, SN | D32: 6 | E32: x | F32: 1 | G32: L | H32: 691848 | I32: Bottle | J32: FM | K32: 562 | P32: 86 | Q32: 26 | R32: 113 | S32: 107 | T32: 84 | U32: 162 | V32: =SUM(P32:U32)/6 -> 96.333333 | W32: =(K32+L32+M32+N32)-(O32+V32) -> 465.66667 | X32: =(V32*2)-W32 -> -273 | AH32: =SUM(AB32:AG32)/7 -> 0 | AI32: =(K32+L32+M32+N32)-(O32+AH32) -> 562 | AJ32: =(AH32*2)-AI32 -> -562
A33: 27 | B33: Valvoline | C33: Gear Gard Super 140, GL-5 | D33: 1 | E33: x | F33: 18 | G33: L | H33: 692079 | I33: Can | J33: FM | K33: 48 | P33: 22 | Q33: 39 | R33: 18 | S33: 18 | T33: 13 | U33: 14 | V33: =SUM(P33:U33)/6 -> 20.666667 | W33: =(K33+L33+M33+N33)-(O33+V33) -> 27.333333 | X33: =(V33*2)-W33 -> 14 | AH33: =SUM(AB33:AG33)/7 -> 0 | AI33: =(K33+L33+M33+N33)-(O33+AH33) -> 48 | AJ33: =(AH33*2)-AI33 -> -48
A34: 28 | B34: Valvoline | C34: Gear Oil Tube | D34: 60 | E34: x | F34: 0.12 | G34: L | H34: 3140015-120 | I34: Bottle | J34: FM | K34: 1381 | S34: 195 | T34: 170 | U34: 306 | V34: =SUM(P34:U34)/6 -> 111.83333 | W34: =(K34+L34+M34+N34)-(O34+V34) -> 1269.1667 | X34: =(V34*2)-W34 -> -1045.5 | AH34: =SUM(AB34:AG34)/7 -> 0 | AI34: =(K34+L34+M34+N34)-(O34+AH34) -> 1381 | AJ34: =(AH34*2)-AI34 -> -1381
A35: 29 | B35: Valvoline | C35: Premium Conventional Motor Oil 10W30, SM/CF | D35: 4 | E35: x | F35: 4 | G35: L | H35: 691849 | I35: Bottle | J35: FM | K35: 536 | P35: 231 | Q35: 19 | R35: 232 | S35: 269 | T35: 264 | U35: 128 | V35: =SUM(P35:U35)/6 -> 190.5 | W35: =(K35+L35+M35+N35)-(O35+V35) -> 345.5 | X35: =(V35*2)-W35 -> 35.5 | AH35: =SUM(AB35:AG35)/7 -> 0 | AI35: =(K35+L35+M35+N35)-(O35+AH35) -> 536 | AJ35: =(AH35*2)-AI35 -> -536
A36: 30 | B36: Valvoline | C36: Premium Conventional Motor Oil 10W30, SM/CF | D36: 24 | E36: x | F36: 1 | G36: L | H36: 691918 | I36: Bottle | J36: FM | K36: 525 | P36: 67 | Q36: 204 | R36: 122 | S36: 173 | T36: 114 | U36: 143 | V36: =SUM(P36:U36)/6 -> 137.16667 | W36: =(K36+L36+M36+N36)-(O36+V36) -> 387.83333 | X36: =(V36*2)-W36 -> -113.5 | AH36: =SUM(AB36:AG36)/7 -> 0 | AI36: =(K36+L36+M36+N36)-(O36+AH36) -> 525 | AJ36: =(AH36*2)-AI36 -> -525
A37: 31 | B37: Valvoline | C37: Premium Conventional Motor Oil 20W50, SM/CF | D37: 24 | E37: x | F37: 1 | G37: L | H37: 691781 | I37: Bottle | J37: FM | K37: 1317 | P37: 146 | Q37: 161 | R37: 141 | S37: 112 | T37: 200 | U37: 266 | V37: =SUM(P37:U37)/6 -> 171 | W37: =(K37+L37+M37+N37)-(O37+V37) -> 1146 | X37: =(V37*2)-W37 -> -804 | AH37: =SUM(AB37:AG37)/7 -> 0 | AI37: =(K37+L37+M37+N37)-(O37+AH37) -> 1317 | AJ37: =(AH37*2)-AI37 -> -1317
A38: 32 | B38: Valvoline | C38: Premium Conventional Motor Oil 20W50, SM/CF | D38: 4 | E38: x | F38: 4 | G38: L | H38: 691911 | I38: Bottle | J38: FM | K38: 391 | P38: 59 | Q38: 40 | R38: 38 | S38: 96 | T38: 68 | U38: 123 | V38: =SUM(P38:U38)/6 -> 70.666667 | W38: =(K38+L38+M38+N38)-(O38+V38) -> 320.33333 | X38: =(V38*2)-W38 -> -179 | AH38: =SUM(AB38:AG38)/7 -> 0 | AI38: =(K38+L38+M38+N38)-(O38+AH38) -> 391 | AJ38: =(AH38*2)-AI38 -> -391
A39: 33 | B39: Valvoline | C39: Syn power 4T 10W30 (10x0.9L) | D39: 10 | E39: x | F39: 0.9 | G39: L | H39: 795005(504930) | I39: Bottle | J39: FM | K39: 372 | P39: 1 | Q39: 11 | T39: 1 | U39: 107 | V39: =SUM(P39:U39)/6 -> 20 | W39: =(K39+L39+M39+N39)-(O39+V39) -> 352 | X39: =(V39*2)-W39 -> -312 | AH39: =SUM(AB39:AG39)/7 -> 0 | AI39: =(K39+L39+M39+N39)-(O39+AH39) -> 372 | AJ39: =(AH39*2)-AI39 -> -372
A40: 34 | B40: Valvoline | C40: SynPower 5W30, SN/GF-4 | D40: 4 | E40: x | F40: 4 | G40: L | H40: 685850 | I40: Bottle | J40: FM | K40: 185 | P40: 52 | Q40: 13 | R40: 41 | S40: 41 | T40: 19 | U40: 38 | V40: =SUM(P40:U40)/6 -> 34 | W40: =(K40+L40+M40+N40)-(O40+V40) -> 151 | X40: =(V40*2)-W40 -> -83 | AH40: =SUM(AB40:AG40)/7 -> 0 | AI40: =(K40+L40+M40+N40)-(O40+AH40) -> 185 | AJ40: =(AH40*2)-AI40 -> -185
A41: 35 | B41: Valvoline | C41: SynPower 5W30, SN/GF-4 | D41: 6 | E41: x | F41: 1 | G41: L | H41: 686031 | I41: Bottle | J41: FM | K41: 345 | P41: 112 | Q41: 107 | R41: 117 | S41: 116 | T41: 150 | U41: 121 | V41: =SUM(P41:U41)/6 -> 120.5 | W41: =(K41+L41+M41+N41)-(O41+V41) -> 224.5 | X41: =(V41*2)-W41 -> 16.5 | AH41: =SUM(AB41:AG41)/7 -> 0 | AI41: =(K41+L41+M41+N41)-(O41+AH41) -> 345 | AJ41: =(AH41*2)-AI41 -> -345
A42: 36 | B42: Valvoline | C42: SynPower 5W40, SN | D42: 4 | E42: x | F42: 4 | G42: L | H42: 686033 | I42: Bottle | J42: FM | K42: 264 | P42: 31 | Q42: 13 | R42: 26 | S42: 31 | T42: 47 | U42: 14 | V42: =SUM(P42:U42)/6 -> 27 | W42: =(K42+L42+M42+N42)-(O42+V42) -> 237 | X42: =(V42*2)-W42 -> -183 | AH42: =SUM(AB42:AG42)/7 -> 0 | AI42: =(K42+L42+M42+N42)-(O42+AH42) -> 264 | AJ42: =(AH42*2)-AI42 -> -264
A43: 37 | B43: Valvoline | C43: Ultramax AW 46 | D43: 1 | E43: x | F43: 200 | G43: L | H43: 692332 | I43: Drum | J43: FM | K43: 77 | P43: 35.5 | Q43: 42.5 | R43: 31.62 | S43: 44.62 | T43: 52.6 | U43: 34.72 | V43: =SUM(P43:U43)/6 -> 40.26 | W43: =(K43+L43+M43+N43)-(O43+V43) -> 36.74 | X43: =(V43*2)-W43 -> 43.78 | AH43: =SUM(AB43:AG43)/7 -> 0 | AI43: =(K43+L43+M43+N43)-(O43+AH43) -> 77 | AJ43: =(AH43*2)-AI43 -> -77
A44: 38 | B44: Valvoline | C44: Ultramax AW 68 | D44: 1 | E44: x | F44: 200 | G44: L | H44: 692334 | I44: Drum | J44: FM | K44: 150 | P44: 56.5 | Q44: 37.64 | R44: 52 | S44: 72.4 | T44: 43.6 | U44: 34.1 | V44: =SUM(P44:U44)/6 -> 49.373333 | W44: =(K44+L44+M44+N44)-(O44+V44) -> 100.62667 | X44: =(V44*2)-W44 -> -1.88 | AH44: =SUM(AB44:AG44)/7 -> 0 | AI44: =(K44+L44+M44+N44)-(O44+AH44) -> 150 | AJ44: =(AH44*2)-AI44 -> -150
...

Sheet working (2)
C1: 1 x 20ft | D1: 20 pallet
C2: Drum | D2: 4 drum / pallet | J2: =318+20 -> 338 | K2: =500000/1330 -> 375.93985 | L2: =35000/1330 -> 26.315789
C3: Cube Pail | D3: 32 can / pallet
C4: Round Pail | D4: 36 can / pallet
A6: Segmant | B6: No. | C6: Brand | D6: Description | E6: Pack Size | I6: Part No | J6: Unit Code | K6: Moving Item | L6: Closing Balance Qty 2-7-24 & Branch Closing of 28-6-24 | M6: At the Port (Qty) | N6: On The Way (Qty) | O6: Waiting Shipment (Qty) | P6: BTB order Forecast | Q6: All Branch order Forecast | R6: Branch Outstanding PO Qty | S6: Jun | T6: Jul | U6: Aug | V6: Sep | W6: Oct | X6: Nov | Y6: Dec | Z6: Jan'16 | AA6: Feb'16 | AB6: Mar'16 | AC6: Apr'16 | AD6: May'16 | AE6: Jun'16 | AF6: Jul'16 | AG6: Aug'16 | AH6: Sep'16 | AI6: Oct'16 | AJ6: Nov'16 | AK6: Dec'16 | AL6: Jan'17 | AM6: Feb'17 | AN6: Mar'17 | AO6: Apr'17 | AP6: May'17 | AQ6: Jun'17 | AR6: Jul'17 | AS6: Aug'17 | AT6: Sep'17 | AU6: Oct'17 | AV6: Nov'17 | AW6: Dec'17 | AX6: Jan'18 | AY6: Feb'18 | AZ6: Mar'18 | BA6: Apr'18 | BB6: May'18 | BC6: Jun'18 | BD6: Jul'18 | BE6: Aug'18 | BF6: Sep'18 | BG6: Oct'18 | BH6: Nov'18 | BI6: Dec'18 | BJ6: Jan'19 | BK6: Feb'19 | BL6: Mar'19 | BM6: Apr'19 | BN6: May'19 | BO6: Jun'19 | BP6: Jul'19 | BQ6: Aug'19 | BR6: Sep'19 | BS6: Oct'19 | BT6: Nov'19 | BU6: Dec'19 | BV6: Jan'20 | BW6: Feb'20 | BX6: Mar'20 | BY6: Apr'20 | BZ6: May'20 | CA6: Jun'20 | CB6: Jul'20 | CC6: Aug'20 | CD6: Sep'20 | CE6: Oct'20 | CF6: Nov'20 | CG6: Dec'20 | CH6: Jan'21 | CI6: Feb'21 | CJ6: Mar'21 | CK6: Apr'21 | CL6: May'21 | CM6: Jun'21 | CN6: Jul'21 | CO6: Aug'21 | CP6: Sep'21 | CQ6: Oct'21 | CR6: Nov'21 | CS6: Dec'21 | CT6: Jan'22 | CU6: Feb'22 | CV6: Mar'22 | CW6: Apr'22 | CX6: May'22 | CY6: Jun'22 | CZ6: Jul'22 | DA6: Aug'22 | DB6: Sep'22 | DC6: Oct'22 | DD6: Nov'22 | DE6: Dec'22 | DF6: Jan'23 | DG6: Feb'23 | DH6: Mar'23 | DI6: Apr'23 | DJ6: May'23 | DK6: Jun'23 | DL6: Jul'23 | DM6: Aug'23 | DN6: Sep'23 | DO6: Oct'23 | DP6: Nov'23 | DQ6: Dec'23 | DR6: Jan'24 | DS6: Feb'24 | DT6: Mar'24 | DU6: Apr'24 | DV6: May'24 | DW6: Avg sale | DX6: Estimated Stk in hand condition | DY6: Estimated Order Plan | EA6: Final Order Qty | EC6: Jul | ED6: Aug | EE6: Sep | EF6: Oct | EG6: Nov | EH6: Dec | EI6: Jan'16 | EJ6: Feb'16 | EK6: Mar'16 | EL6: Apr'16 | EM6: May'16 | EN6: Jun'16 | EO6: Jul'16 | EP6: Aug'16 | EQ6: Sep'16 | ER6: Oct'16 | ES6: Nov'16 | ET6: Dec'16 | EU6: Jan'17 | EV6: Feb'17 | EW6: Mar'17 | EX6: Apr'17 | EY6: May'17 | EZ6: Avg Issue | FA6: Estimated Stk in hand condition | FB6: Estimated Order Plan
FD7: Pallet
A8: Engine Oil | B8: 1 | C8: Volvo | D8: Diesel Engine Oil VDS-3 SAE 15W40 | E8: 1 | F8: x | G8: 20 | H8: L | I8: 85102464 | J8: Can | K8: FM | L8: 0 | S8: 25 | T8: 28 | U8: 60 | V8: 29 | W8: 42 | X8: 42 | Z8: 41 | AA8: 40 | AB8: 270 | AC8: 125 | AD8: 37 | AE8: 2 | AF8: 0 | AG8: 0 | AH8: 0 | AI8: 0 | AJ8: 0 | AK8: 2 | AL8: 0 | AM8: 0 | AN8: 0 | AO8: 0 | AP8: 0 | AQ8: 0 | AR8: 0 | AS8: 0 | AT8: 0 | AU8: 0 | AV8: 0 | AW8: 0 | AX8: 0 | AY8: 0 | AZ8: 0 | BA8: 0 | BB8: 0 | BC8: 0 | BD8: 0 | BE8: 0 | BF8: 0 | BG8: 0 | BH8: 0 | BI8: 0 | BJ8: 0 | BK8: 0 | BL8: 0 | BM8: 0 | BN8: 0 | BO8: 0 | BP8: 0 | BQ8: 0 | BR8: 0 | BS8: 0 | BT8: 0 | BU8: 0 | BV8: 0 | BW8: 0 | BX8: 0 | BY8: 0 | BZ8: 0 | CA8: 0 | CB8: 0 | CC8: 0 | CD8: 0 | CE8: 0 | CF8: 0 | CG8: 0 | CH8: 0 | CI8: 0 | CJ8: 0 | CK8: 0 | CL8: 0 | CM8: 0 | CN8: 0 | CO8: 0 | CP8: 0 | CQ8: 0 | CR8: 0 | CS8: 0 | CT8: 0 | CU8: 0 | CV8: 0 | CW8: 0 | CX8: 0 | CY8: 0 | CZ8: 0 | DA8: 0 | DB8: 0 | DC8: 0 | DD8: 0 | DE8: 0 | DF8: 0 | DG8: 0 | DH8: 0 | DI8: 0 | DJ8: 0 | DK8: 0 | DL8: 0 | DM8: 0 | DN8: 0 | DO8: 0 | DP8: 0 | DQ8: 0 | DR8: 0 | DS8: 0 | DT8: 0 | DU8: 0 | DV8: 0 | DW8: =AVERAGE(DQ8:DV8) -> 0 | DX8: =(L8+M8+N8+O8)-(P8+Q8+R8+DW8) -> 0 | DY8: =(DW8*2)-DX8 -> 0 | EA8: 0 | EC8: 45 | ED8: 242 | EE8: 234 | EF8: 45 | EG8: 40 | EH8: 155 | EI8: 9 | EJ8: 41 | EK8: 401 | EL8: 6 | EM8: 0 | EO8: 0 | EP8: 0 | EQ8: 0 | ER8: 0 | ES8: 0 | ET8: 0 | EU8: 0 | EV8: 0 | EW8: 0 | EX8: 0 | EY8: 0 | EZ8: =AVERAGE(ES8:EY8) -> 0 | FA8: =(L8+M8+N8+O8)-(R8+EZ8) -> 0 | FB8: =(EZ8*2)-FA8 -> 0 | FD8: =EA8/32 -> 0
A9: Engine Oil | B9: 2 | C9: Volvo | D9: Diesel Engine Oil VDS-3 SAE 15W40 | E9: 1 | F9: x | G9: 208 | H9: L | I9: 85102465 | J9: Drum | K9: FM | L9: 0 | S9: 41.04 | T9: 16 | U9: 17 | V9: 21.29 | W9: 32 | X9: 35 | Y9: 36.096 | Z9: 18 | AA9: 28 | AB9: 17 | AC9: 16.576923 | AD9: 11 | AE9: 3 | AF9: 0 | AG9: 0 | AH9: 0 | AI9: 0 | AJ9: 0 | AK9: 1.9615385 | AL9: 0 | AM9: 0 | AN9: 0.096153846 | AO9: 0 | AP9: 0 | AQ9: 0.038461538 | AR9: 0 | AS9: 0 | AT9: 0 | AU9: 0.0048076923 | AV9: 0 | AW9: 0.0048076923 | AX9: 0 | AY9: 0 | AZ9: 0 | BA9: 0 | BB9: 1 | BC9: 0 | BD9: 0 | BE9: 0 | BF9: 0 | BG9: 0 | BH9: 0 | BI9: 0 | BJ9: 0 | BK9: 0 | BL9: 0 | BM9: 0 | BN9: 0 | BO9: 0 | BP9: 0 | BQ9: 0 | BR9: 0 | BS9: 0 | BT9: 0 | BU9: 0 | BV9: 0.048076923 | BW9: 0.0048076923 | BX9: 0 | BY9: 0 | BZ9: 0 | CA9: 0 | CB9: 0 | CC9: 0 | CD9: 0 | CE9: 0 | CF9: 0 | CG9: 0 | CH9: 0 | CI9: 0 | CJ9: 0 | CK9: 0 | CL9: 0 | CM9: 0 | CN9: 0 | CO9: 0 | CP9: 0 | CQ9: 0 | CR9: 0 | CS9: 0 | CT9: 0 | CU9: 0 | CV9: 0 | CW9: 0 | CX9: 0 | CY9: 0 | CZ9: 0 | DA9: 0 | DB9: 0 | DC9: 0 | DD9: 0 | DE9: 0 | DF9: 0 | DG9: 0 | DH9: 0 | DI9: 0 | DJ9: 0 | DK9: 0 | DL9: 0 | DM9: 0 | DN9: 0 | DO9: 0 | DP9: 0 | DQ9: 0 | DR9: 0 | DS9: 0 | DT9: 0 | DU9: 0 | DV9: 0 | DW9: =AVERAGE(DQ9:DV9) -> 0 | DX9: =(L9+M9+N9+O9)-(P9+Q9+R9+DW9) -> 0 | DY9: =(DW9*2)-DX9 -> 0 | EA9: 0 | EC9: 58 | ED9: 10 | EE9: 25 | EF9: 23 | EG9: 19 | EH9: 58 | EI9: 24 | EJ9: 5 | EK9: 2 | EL9: 2 | EM9: 6 | EO9: 0 | EP9: 0 | EQ9: 0 | ER9: 0 | ES9: 0 | ET9: 0 | EU9: 0 | EV9: 0 | EW9: 0 | EX9: 0 | EY9: 0 | EZ9: =AVERAGE(ES9:EY9) -> 0 | FA9: =(L9+M9+N9+O9)-(R9+EZ9) -> 0 | FB9: =(EZ9*2)-FA9 -> 0 | FD9: =EA9/4 -> 0
A10: Gear Oil & Transmission Oil | B10: 3 | C10: Volvo | D10: Gear Oil HD GL-5 SAE 80W-90 | E10: 1 | F10: x | G10: 20 | H10: L | I10: VOE15067515 | J10: Can | K10: FM | L10: 119.025 | N10: 96 | R10: 70 | S10: 24 | T10: 44 | U10: 30 | V10: 48 | W10: 38 | X10: 29 | Y10: 56 | Z10: 44 | AA10: 56 | AB10: 62 | AC10: 61 | AD10: 92 | AE10: 55 | AF10: 76 | AG10: 53 | AH10: 47 | AI10: 56.05 | AJ10: 60 | AK10: 48 | AL10: 93 | AM10: 83.3 | AN10: 93 | AO10: 91 | AP10: 91 | AQ10: 110 | AR10: 75 | AS10: 65 | AT10: 106.5 | AU10: 57 | AV10: 44 | AW10: 122 | AX10: 60 | AY10: 117 | AZ10: 122 | BA10: 59 | BB10: 127 | BC10: 33 | BD10: 92 | BE10: 101 | BF10: 36 | BG10: 113 | BH10: 143.1 | BI10: 66 | BJ10: 159 | BK10: 112 | BL10: 63 | BM10: 92 | BN10: 161 | BO10: 76 | BP10: 108 | BQ10: 41 | BR10: 53 | BS10: 83 | BT10: 52 | BU10: 108 | BV10: 113 | BW10: 90 | BX10: 118 | BY10: 33 | BZ10: 103 | CA10: 76 | CB10: 72 | CC10: 66 | CD10: 89 | CE10: 80 | CF10: 76 | CG10: 85 | CH10: 127 | CI10: 67 | CJ10: 78 | CK10: 53 | CL10: 22 | CM10: 73 | CN10: 62 | CO10: 68 | CP10: 136 | CQ10: 57 | CR10: 47 | CS10: 88 | CT10: 88 | CU10: 122 | CV10: 115 | CW10: 68 | CX10: 60 | CY10: 55 | CZ10: 73 | DA10: 40 | DB10: 50 | DC10: 43 | DD10: 42 | DE10: 36 | DF10: 82 | DG10: 55 | DH10: 63 | DI10: 43 | DJ10: 51 | DK10: 81 | DL10: 27 | DM10: 21 | DN10: 57 | DO10: 17 | DP10: 22 | DQ10: 29 | DR10: 27 | DS10: 32 | DT10: 36 | DU10: 36 | DV10: 67 | DW10: =AVERAGE(DQ10:DV10) -> 37.833333 | DX10: =(L10+M10+N10+O10)-(P10+Q10+R10+DW10) -> 107.19167 | DY10: =(DW10*5)-DX10 -> 81.975 | EA10: 0 | EB10: 32 Can | EC10: 99 | ED10: 163 | EE10: 46 | EF10: 70 | EG10: 49 | EH10: 167 | EI10: 72 | EJ10: 26 | EK10: 51 | EL10: 40 | EM10: 74 | EN10: 40 | EO10: 83 | EP10: 20 | EQ10: 36 | ER10: 39 | ES10: 57 | ET10: 56 | EU10: 120 | EV10: 83 | EW10: 83 | EX10: 63 | EY10: 110 | EZ10: =AVERAGE(ES10:EY10) -> 81.714286 | FA10: =(L10+M10+N10+O10)-(R10+EZ10) -> 63.310714 | FB10: =(EZ10*2)-FA10 -> 100.11786 | FD10: =EA10/32 -> 0
A11: Gear Oil & Transmission Oil | B11: 4 | C11: Volvo | D11: Gear Oil HD GL-5 SAE 85W-140 | E11: 1 | F11: x | G11: 20 | H11: L | I11: VOE15067522 | J11: Can | K11: FM | L11: 43.8 | N11: 64 | R11: =25 -> 25 | S11: 72 | T11: 76 | U11: 69 | V11: 121 | W11: 122 | X11: 102 | Y11: 93 | Z11: 148 | AA11: 171 | AB11: 84 | AC11: 71 | AD11: 102 | AE11: 83 | AF11: 62 | AG11: 94 | AH11: 114.05 | AI11: 84.05 | AJ11: 116 | AK11: 85 | AL11: 165 | AM11: 137 | AN11: 96 | AO11: 73 | AP11: 64 | AQ11: 67 | AR11: 34 | AS11: 55 | AT11: 31.05 | AU11: 43 | AV11: 73 | AW11: 79 | AX11: 62 | AY11: 85 | AZ11: 63 | BA11: 63 | BB11: 69 | BC11: 51 | BD11: 45 | BE11: 101 | BF11: 25 | BG11: 32 | BH11: 59 | BI11: 75 | BJ11: 81 | BK11: 71 | BL11: 54 | BM11: 58 | BN11: 83 | BO11: 34 | BP11: 43 | BQ11: 12 | BR11: 58 | BS11: 49 | BT11: 38 | BU11: 69 | BV11: 76 | BW11: 47 | BX11: 45 | BY11: 26 | BZ11: 15 | CA11: 59 | CB11: 39 | CC11: 51 | CD11: 42 | CE11: 47 | CF11: 50 | CG11: 62 | CH11: 62 | CI11: 53 | CJ11: 43 | CK11: 37 | CL11: 26 | CM11: 42 | CN11: 31 | CO11: 58 | CP11: 75 | CQ11: 40 | CR11: 56 | CS11: 64 | CT11: 64 | CU11: 92 | CV11: 53 | CW11: 50 | CX11: 55 | CY11: 46 | CZ11: 51 | DA11: 20 | DB11: 37 | DC11: 27 | DD11: 43 | DE11: 41 | DF11: 43 | DG11: 39 | DH11: 30 | DI11: 16 | DJ11: 28.2 | DK11: 33 | DL11: 26 | DM11: 19 | DN11: 29 | DO11: 37 | DP11: 33 | DQ11: 15 | DR11: 16 | DS11: 31 | DT11: 33 | DU11: 12 | DV11: 15 | DW11: =AVERAGE(DQ11:DV11) -> 20.333333 | DX11: =(L11+M11+N11+O11)-(P11+Q11+R11+DW11) -> 62.466667 | DY11: =(DW11*5)-DX11 -> 39.2 | EA11: 0 | EB11: 32 Can | EC11: 4 | ED11: 220 | EE11: 299 | EF11: 30 | EG11: 64 | EH11: 165 | EI11: 112 | EJ11: 166 | EK11: 161 | EL11: 94 | EM11: 93 | EN11: 67 | EO11: 45 | EP11: 49 | EQ11: 49 | ER11: 64 | ES11: 99 | ET11: 119 | EU11: 158 | EV11: 87 | EW11: 266 | EX11: 40 | EY11: 46 | EZ11: =AVERAGE(ES11:EY11) -> 116.42857 | FA11: =(L11+M11+N11+O11)-(R11+EZ11) -> -33.628571 | FB11: =(EZ11*2)-FA11 -> 266.48571 | FD11: =EA11/32 -> 0
A12: Grease | B12: 5 | C12: Volvo | D12: Lithium Grease EP2 | E12: 1 | F12: x | G12: 16 | H12: L | I12: VOE15067640 | J12: Can | K12: FM | L12: 10 | S12: 49 | T12: 21 | U12: 48 | V12: 28 | W12: 6 | X12: 7 | Y12: 26 | Z12: 33 | AA12: 52 | AB12: 35 | AC12: 8 | AD12: 38 | AE12: 2 | AF12: 12 | AG12: 6 | AH12: 5 | AI12: 6.1875 | AJ12: 30 | AK12: 16 | AL12: 57 | AM12: 18 | AN12: 17 | AO12: 8 | AP12: 12 | AQ12: 5 | AR12: 10 | AS12: 10 | AT12: 2 | AU12: 8 | AV12: 21 | AW12: 32.076923 | AX12: 20 | AY12: 24 | AZ12: 21 | BA12: 22 | BB12: 10 | BC12: 17 | BD12: 6 | BE12: 9 | BF12: 1 | BG12: 11 | BH12: 14 | BI12: 4 | BJ12: 24 | BK12: 27 | BL12: 17 | BM12: 0 | BN12: 12 | BO12: 6 | BP12: 5 | BQ12: 7 | BR12: 1 | BS12: 10 | BT12: 0 | BU12: 14 | BV12: 13 | BW12: 7 | BX12: 7 | BY12: 2 | BZ12: 3 | CA12: 0 | CB12: 0 | CC12: 0 | CD12: 0 | CE12: 0 | CF12: 0 | CG12: 3 | CH12: 4 | CI12: 1 | CJ12: 0 | CK12: 0 | CL12: 1 | CM12: 0 | CN12: 5 | CO12: 2 | CP12: 2 | CQ12: 0 | CR12: 0 | CS12: 0 | CT12: 0 | CU12: 7 | CV12: 6 | CW12: 0 | CX12: 0 | CY12: 0 | CZ12: 1 | DA12: 0 | DB12: 1 | DC12: 0 | DD12: 2 | DE12: 0 | DF12: 1 | DG12: 0 | DH12: 1 | DI12: 0 | DJ12: 0 | DK12: 0 | DL12: 1 | DM12: 0 | DN12: 0 | DO12: 0 | DP12: 0 | DQ12: 0 | DR12: 6 | DS12: 8 | DT12: 2 | DU12: 2 | DV12: 2 | DW12: =AVERAGE(DQ12:DV12) -> 3.3333333 | DX12: =(L12+M12+N12+O12)-(P12+Q12+R12+DW12) -> 6.6666667 | DY12: =(DW12*5)-DX12 -> 10 | EA12: 0 | EB12: 36 Can | EC12: 28 | ED12: 202 | EE12: 124 | EF12: 5 | EG12: 0 | EH12: 27 | EI12: 82 | EJ12: 47 | EK12: 30 | EL12: 17 | EM12: 29 | EN12: 5 | EO12: 12 | EP12: 5 | EQ12: 0 | ER12: 8 | ES12: 21 | ET12: 19 | EU12: 51 | EV12: 17 | EW12: 44 | EX12: 8 | EY12: 14 | EZ12: =AVERAGE(ES12:EY12) -> 24.857143 | FA12: =(L12+M12+N12+O12)-(R12+EZ12) -> -14.857143 | FB12: =(EZ12*2)-FA12 -> 64.571429 | FD12: =EA12/36 -> 0
A13: Gear Oil & Transmission Oil | B13: 6 | C13: Volvo | D13: Super Gear Oil 75W80 | E13: 1 | F13: x | G13: 20 | H13: L | I13: VOE15198387 | J13: Can | K13: FM | L13: 64 | R13: =70 -> 70 | T13: 1 | V13: 13 | W13: 0 | X13: 0 | Z13: 0 | AA13: 0 | AB13: 0 | AC13: 0 | AE13: 0 | AF13: 20 | AG13: 0 | AH13: 0 | AI13: 0 | AJ13: 0 | AK13: 9 | AL13: 15 | AM13: 10 | AN13: 0 | AO13: 0 | AP13: 10 | AQ13: 0 | AR13: 0 | AS13: 5 | AT13: 85 | AU13: 0 | AV13: 0 | AW13: 16 | AX13: 55 | AY13: 5 | AZ13: 30 | BA13: 0 | BB13: 0 | BC13: 0 | BD13: 0 | BE13: 0 | BF13: 0 | BG13: 15 | BH13: 9 | BI13: 0 | BJ13: 0 | BK13: 0 | BL13: 10 | BM13: 0 | BN13: 0 | BO13: 0 | BP13: 0 | BQ13: 0 | BR13: 0 | BS13: 0 | BT13: 0 | BU13: 0 | BV13: 0 | BW13: 0 | BX13: 0 | BY13: 0 | BZ13: 0 | CA13: 0 | CB13: 0 | CC13: 0 | CD13: 0 | CE13: 0 | CF13: 0 | CG13: 0 | CH13: 0 | CI13: 0 | CJ13: 0 | CK13: 0 | CL13: 0 | CM13: 0 | CN13: 0 | CO13: 0 | CP13: 0 | CQ13: 0 | CR13: 1 | CS13: 20 | CT13: 20 | CU13: 0 | CV13: 0 | CW13: 0 | CX13: 0 | CY13: 0 | CZ13: 0 | DA13: 0 | DB13: 0 | DC13: 0 | DD13: 20 | DE13: 0 | DF13: 0 | DG13: 0 | DH13: 0 | DI13: 0 | DJ13: 6 | DK13: 0 | DL13: 7 | DM13: 0 | DN13: 0 | DO13: 0 | DP13: 0 | DQ13: 0 | DR13: 0 | DS13: 0 | DT13: 0 | DU13: 0 | DV13: 0 | DW13: =AVERAGE(DQ13:DV13) -> 0 | DX13: =(L13+M13+N13+O13)-(P13+Q13+R13+DW13) -> -6 | DY13: =(DW13*4)-DX13 -> 6 | EA13: 0 | EC13: 50 | ED13: 14 | EE13: 14 | EG13: 0 | EI13: 0 | EJ13: 0 | EK13: 0 | EL13: 0 | EM13: 0 | EO13: 0 | EP13: 0 | EQ13: 0 | ER13: 0 | ES13: 0 | ET13: 0 | EU13: 0 | EV13: 110 | EW13: 0 | EX13: 0 | EY13: 0 | EZ13: =AVERAGE(ES13:EY13) -> 15.714286 | FA13: =(L13+M13+N13+O13)-(R13+EZ13) -> -21.714286 | FB13: =(EZ13*2)-FA13 -> 53.142857 | FD13: =EA13/32 -> 0
A14: Hydraulic Oil | B14: 7 | C14: Volvo | D14: Super Hydraulic Oil ISO VG 68 | E14: 1 | F14: x | G14: 208 | H14: L | I14: VOE15058191 | J14: Drum | K14: FM | L14: 12.48077 | Q14: 80 | R14: =90 -> 90 | S14: 47 | T14: 35.19 | U14: 45.33 | V14: 41.29 | W14: 94.4 | X14: 49.06 | Y14: 66.58 | Z14: 48.961538 | AA14: 62.057692 | AB14: 68.961538 | AC14: 36.384615 | AD14: 59 | AE14: 70.355769 | AF14: 37.692308 | AG14: 50.961538 | AH14: 47.971154 | AI14: 52.3125 | AJ14: 56.153846 | AK14: 57.730769 | AL14: 63.153846 | AM14: 37.442308 | AN14: 80.75 | AO14: 35.692308 | AP14: 33.480769 | AQ14: 33.576923 | AR14: 17.384615 | AS14: 17.576923 | AT14: 89.392308 | AU14: 27.961538 | AV14: 41.46 | AW14: 36.019231 | AX14: 36.576923 | AY14: 23.865385 | AZ14: 21.980769 | BA14: 28.384615 | BB14: 24.634615 | BC14: 26.384615 | BD14: 21.384615 | BE14: 22.192308 | BF14: 22.769231 | BG14: 17.769231 | BH14: 17.384615 | BI14: 17 | BJ14: 18.096154 | BK14: 19 | BL14: 24.096154 | BM14: 18 | BN14: 16.076923 | BO14: 8.3076923 | BP14: 15.096154 | BQ14: 4 | BR14: 17 | BS14: 13.576923 | BT14: 11.096154 | BU14: 6 | BV14: 28 | BW14: 13.288462 | BX14: 14.182692 | BY14: 7 | BZ14: 5.0048077 | CA14: 9.0961538 | CB14: 16 | CC14: 12 | CD14: 9 | CE14: 4 | CF14: 11 | CG14: 17 | CH14: 5.0961538 | CI14: 13 | CJ14: 9.0961538 | CK14: 22 | CL14: 15.288462 | CM14: 6.8653846 | CN14: 7.2 | CO14: 14.84 | CP14: 23 | CQ14: 16.25 | CR14: 22 | CS14: 25.048077 | CT14: 25.048077 | CU14: 40 | CV14: 9 | CW14: 19 | CX14: 22 | CY14: 17 | CZ14: 48 | DA14: 64 | DB14: 96 | DC14: 302 | DD14: 101 | DE14: 7 | DF14: 24 | DG14: 67 | DH14: 16 | DI14: 93 | DJ14: 73 | DK14: 122 | DL14: 24 | DM14: 4 | DN14: 39 | DO14: 0.5 | DP14: 7 | DQ14: 10 | DR14: 5 | DS14: 42 | DT14: 11 | DU14: 51 | DV14: 90 | DW14: =AVERAGE(DQ14:DV14) -> 34.833333 | DX14: =(L14+M14+N14+O14)-(P14+Q14+R14+DW14) -> -192.35256 | DY14: =(DW14*4)-DX14 -> 331.6859 | EA14: 0 | EB14: 4 Drum | EC14: 127 | ED14: 26 | EE14: 45 | EF14: 62 | EG14: 30 | EH14: 145 | EI14: 42 | EJ14: 43 | EK14: 95 | EL14: 44 | EM14: 52 | EN14: 56 | EO14: 24 | EP14: 37 | EQ14: 71 | ER14: 58 | ES14: 49 | ET14: 36 | EU14: 72 | EV14: 82 | EW14: 56 | EX14: 18 | EY14: 31 | EZ14: =AVERAGE(ES14:EY14) -> 49.142857 | FA14: =(L14+M14+N14+O14)-(R14+EZ14) -> -126.66209 | FB14: =(EZ14*2)-FA14 -> 224.9478 | FD14: =EA14/4 -> 0
A15: Engine Oil | B15: 8 | C15: Volvo | D15: Ultra Diesel Engine Oil VDS-3 SAE 15W-40 | E15: 1 | F15: x | G15: 20 | H15: L | I15: VOE15067197 | J15: Can | K15: FM | L15: 12.05 | N15: =288+640+640 -> 1568 | Q15: =200 -> 200 | S15: 214 | T15: 114 | U15: 144 | V15: 229 | W15: 193 | X15: 249 | Y15: 344 | Z15: 286 | AA15: 279 | AB15: 144 | AC15: 86 | AD15: 150 | AE15: 273 | AF15: 226 | AG15: 295 | AH15: 252.5 | AI15: 235.55 | AJ15: 290 | AK15: 461 | AL15: 329 | AM15: 403 | AN15: 370 | AO15: 351 | AP15: 350 | AQ15: 241 | AR15: 304.5 | AS15: 191.5 | AT15: 215.1 | AU15: 299 | AV15: 225 | AW15: 190 | AX15: 285 | AY15: 288 | AZ15: 352 | BA15: 349 | BB15: 380 | BC15: 231 | BD15: 216 | BE15: 229 | BF15: 174.19231 | BG15: 213 | BH15: 298 | BI15: 166 | BJ15: 223 | BK15: 296 | BL15: 271 | BM15: 264 | BN15: 470 | BO15: 314 | BP15: 354 | BQ15: 333 | BR15: 187 | BS15: 215 | BT15: 272 | BU15: 348 | BV15: 271 | BW15: 359 | BX15: 370 | BY15: 162 | BZ15: 229 | CA15: 266 | CB15: 260 | CC15: 195 | CD15: 205 | CE15: 178 | CF15: 277 | CG15: 259 | CH15: 252 | CI15: 203 | CJ15: 291 | CK15: 191 | CL15: 158 | CM15: 268 | CN15: 187 | CO15: 204 | CP15: 460.2 | CQ15: 139 | CR15: 239 | CS15: 431 | CT15: 431 | CU15: 564 | CV15: 669 | CW15: 293 | CX15: 530 | CY15: 310 | CZ15: 261 | DA15: 428 | DB15: 286 | DC15: 250 | DD15: 247 | DE15: 271 | DF15: 357 | DG15: 335.05 | DH15: 437 | DI15: 324 | DJ15: 476 | DK15: 339 | DL15: 371 | DM15: 385 | DN15: 210 | DO15: 66 | DP15: 240 | DQ15: 248 | DR15: 357 | DS15: 254 | DT15: 62 | DU15: 39 | DV15: 36 | DW15: =AVERAGE(DQ15:DV15) -> 166 | DX15: =(L15+M15+N15+O15)-(P15+Q15+R15+DW15) -> 1214.05 | DY15: =(DW15*4)-DX15 -> -550.05 | EA15: 0 | EB15: 32 Can | EC15: 151 | ED15: 127 | EE15: 534 | EF15: 95 | EG15: 334 | EH15: 645 | EI15: 409 | EJ15: 63 | EK15: 0 | EL15: 4 | EM15: 620 | EN15: 181 | EO15: 177 | EP15: 380 | EQ15: 250 | ER15: 162 | ES15: 206 | ET15: 514 | EU15: 400 | EV15: 414.25 | EW15: 483 | EX15: 236 | EY15: 386 | EZ15: =AVERAGE(ES15:EY15) -> 377.03571 | FA15: =(L15+M15+N15+O15)-(R15+EZ15) -> 1203.0143 | FB15: =(EZ15*2)-FA15 -> -448.94286 | FD15: =EA15/32 -> 0
A16: Engine Oil | B16: 9 | C16: Volvo | D16: Ultra Diesel Engine Oil VDS-3 SAE 15W-40 | E16: 1 | F16: x | G16: 208 | H16: L | I16: VOE15067404 | J16: Drum | K16: FM | L16: 8 | N16: =80 -> 80 | S16: 5.9 | T16: 23.4 | U16: =31.17 -> 31.17 | V16: 11 | W16: 76.269231 | X16: 76.06 | Y16: 31.35 | Z16: 20.399038 | AA16: 25.346154 | AB16: 49.903846 | AC16: 65.875 | AD16: 116 | AE16: 86.692308 | AF16: 19.721154 | AG16: 30.848462 | AH16: 44.963846 | AI16: 52.331731 | AJ16: 41.326923 | AK16: 86.177885 | AL16: 181.32692 | AM16: 135.19712 | AN16: 52.259615 | AO16: 43.211538 | AP16: 57.840385 | AQ16: 78.403846 | AR16: 53.596154 | AS16: 25 | AT16: 162.58654 | AU16: 52.384615 | AV16: 92.384615 | AW16: 138.09615 | AX16: 73.442308 | AY16: 90.144231 | AZ16: 166.43269 | BA16: 99.274038 | BB16: 59.346154 | BC16: 78.533654 | BD16: 87.384615 | BE16: 79 | BF16: 150.13462 | BG16: 186 | BH16: 90 | BI16: 47.788462 | BJ16: 121.54808 | BK16: 97.192308 | BL16: 110.81731 | BM16: 60.192308 | BN16: 84.153846 | BO16: 68 | BP16: 101.96154 | BQ16: 18.038462 | BR16: 45.033654 | BS16: 56.307692 | BT16: 92.788462 | BU16: 56.173077 | BV16: 195.32692 | BW16: 97.2 | BX16: 86.096154 | BY16: 52.288462 | BZ16: 73.673077 | CA16: 64 | CB16: 54 | CC16: 109 | CD16: 40.173077 | CE16: 42.192308 | CF16: 62 | CG16: 53 | CH16: 51 | CI16: 61 | CJ16: 47 | CK16: 50.711538 | CL16: 178.42308 | CM16: 106 | CN16: 43 | CO16: 107.26 | CP16: 64.326923 | CQ16: 151 | CR16: 217 | CS16: 100.09615 | CT16: 100.09615 | CU16: 108 | CV16: 269 | CW16: 268 | CX16: 293.07692 | CY16: 117.92308 | CZ16: 113 | DA16: 232 | DB16: 14 | DC16: 219 | DD16: 58 | DE16: 254 | DF16: 114 | DG16: 208 | DH16: 91 | DI16: 102 | DJ16: 97 | DK16: 81 | DL16: 93 | DM16: 41 | DN16: 32 | DO16: 13 | DP16: 86 | DQ16: 51 | DR16: 69 | DS16: 80 | DT16: 85 | DU16: 98 | DV16: 90.8 | DW16: =AVERAGE(DQ16:DV16) -> 78.966667 | DX16: =(L16+M16+N16+O16)-(P16+Q16+R16+DW16) -> 9.0333333 | DY16: =(DW16*4)-DX16 -> 306.83333 | EA16: =80*3 -> 240 | EB16: 4 Drum | EC16: 149 | ED16: 26 | EE16: 11 | EF16: =55+60 -> 115 | EG16: 65 | EH16: 145 | EI16: 17 | EJ16: 32 | EK16: 60 | EL16: 53 | EM16: 54 | EN16: 51 | EO16: 98 | EP16: 32 | EQ16: 22 | ER16: 48 | ES16: 29 | ET16: 55 | EU16: 226 | EV16: 132 | EW16: 37 | EX16: 96 | EY16: 61 | EZ16: =AVERAGE(ES16:EY16) -> 90.857143 | FA16: =(L16+M16+#REF!+N16)-(R16+EZ16) -> #REF! | FB16: =(EZ16*2)-FA16 -> #REF! | FD16: =EA16/4 -> 60
A17: Coolant | B17: 10 | C17: Volvo | D17: Volvo VCS Coolant Concentrate | E17: 1 | F17: x | G17: 18 | H17: L | I17: VOE15161234 | J17: Can | K17: FM | L17: 14.777778 | N17: 36 | S17: 58 | T17: 49 | U17: 57 | V17: 27 | W17: 79 | X17: 49 | Y17: 66 | Z17: 64 | AA17: 83 | AB17: 67 | AC17: 71 | AD17: 87 | AE17: 75 | AF17: 64 | AG17: 40 | AH17: 82 | AI17: 32 | AJ17: 36 | AK17: 62 | AL17: 83 | AM17: 90 | AN17: 91 | AO17: 64 | AP17: 37 | AQ17: 71 | AR17: 60 | AS17: 59 | AT17: 40.111111 | AU17: 35 | AV17: 83 | AW17: 52 | AX17: 37 | AY17: 60 | AZ17: 44 | BA17: 49 | BB17: 40 | BC17: 37 | BD17: 30 | BE17: 44 | BF17: 25 | BG17: 28 | BH17: 44 | BI17: 42 | BJ17: 44 | BK17: 46 | BL17: 32 | BM17: 32 | BN17: 81 | BO17: 32 | BP17: 17 | BQ17: 14 | BR17: 22 | BS17: 19 | BT17: 40 | BU17: 25 | BV17: 31 | BW17: 19 | BX17: 47 | BY17: 15 | BZ17: 23 | CA17: 20 | CB17: 39 | CC17: 32 | CD17: 17 | CE17: 48 | CF17: 16 | CG17: 24 | CH17: 39 | CI17: 33 | CJ17: 33 | CK17: 5 | CL17: 1 | CM17: 20 | CN17: 32 | CO17: 26 | CP17: 19 | CQ17: 6 | CR17: 10 | CS17: 13 | CT17: 13 | CU17: 18 | CV17: 25 | CW17: 35 | CX17: 14 | CY17: 7 | CZ17: 28 | DA17: 6 | DB17: 22 | DC17: 7 | DD17: 15 | DE17: 19 | DF17: 18 | DG17: 20 | DH17: 16.222222 | DI17: 32 | DJ17: 20 | DK17: 9 | DL17: 19 | DM17: 13 | DN17: 6 | DO17: 0 | DP17: 2 | DQ17: 16 | DR17: 4 | DS17: 12 | DT17: 11 | DU17: 6 | DV17: 19 | DW17: =AVERAGE(DQ17:DV17) -> 11.333333 | DX17: =(L17+M17+N17+O17)-(P17+Q17+R17+DW17) -> 39.444444 | DY17: =(DW17*4)-DX17 -> 5.8888889 | EA17: 0 | EB17: 36 Can | EC17: 102 | ED17: 72 | EE17: 222 | EF17: 88 | EG17: 101 | EH17: 207 | EI17: 38 | EJ17: 37 | EK17: 80 | EL17: 6 | EM17: 176 | EN17: 3 | EO17: 63 | EP17: 65 | EQ17: 94 | ER17: 23 | ES17: 17 | ET17: 71 | EU17: 120 | EV17: 101 | EW17: 106 | EX17: 2 | EY17: 29 | EZ17: =AVERAGE(ES17:EY17) -> 63.714286 | FA17: =(L17+M17+N17+O17)-(R17+EZ17) -> -12.936508 | FB17: =(EZ17*2)-FA17 -> 140.36508 | FD17: =EA17/36 -> 0
A18: Gear Oil & Transmission Oil | B18: 11 | C18: Volvo | D18: Volvo Automatic Transmission Fluid | E18: 1 | F18: x | G18: 20 | H18: L | I18: VOE15067098 | J18: Can | K18: MM | L18: 30 | R18: =70 -> 70 | S18: 2 | U18: 2 | V18: 2 | W18: 1 | X18: 4 | Y18: 9 | Z18: 30 | AA18: 17 | AB18: 33 | AC18: 13 | AE18: 0 | AF18: 47 | AG18: 2 | AH18: 7 | AI18: 6 | AJ18: 18 | AK18: 9 | AL18: 29 | AM18: 53 | AN18: 0 | AO18: 16 | AP18: 19 | AQ18: 4 | AR18: 2 | AS18: 6 | AT18: 15 | AU18: 20 | AV18: 25 | AW18: 2 | AX18: 14 | AY18: 32 | AZ18: 43 | BA18: 31 | BB18: 4 | BC18: 1 | BD18: 5 | BE18: 38 | BF18: 5 | BG18: 14 | BH18: 41 | BI18: 27 | BJ18: 44 | BK18: 54 | BL18: 3 | BM18: 1 | BN18: 51 | BO18: 49 | BP18: 34 | BQ18: 5 | BR18: 3 | BS18: 18 | BT18: 3 | BU18: 4 | BV18: 5 | BW18: 6 | BX18: 8 | BY18: 1 | BZ18: 31 | CA18: 0 | CB18: 0 | CC18: 0 | CD18: 5 | CE18: 1 | CF18: 0 | CG18: 17 | CH18: 3 | CI18: 0 | CJ18: 0 | CK18: 0 | CL18: 6 | CM18: 38.2 | CN18: 3 | CO18: 0 | CP18: 2 | CQ18: 0 | CR18: 0 | CS18: 1 | CT18: 1 | CU18: 1 | CV18: 10 | CW18: 0 | CX18: 2 | CY18: 0 | CZ18: 2 | DA18: 0 | DB18: 0 | DC18: 0 | DD18: 1 | DE18: 2 | DF18: 13 | DG18: 0 | DH18: 2 | DI18: 5 | DJ18: 0 | DK18: 0 | DL18: 19 | DM18: 3 | DN18: 4 | DO18: 4 | DP18: 14 | DQ18: 7 | DR18: 2 | DS18: 1 | DT18: 3 | DU18: 12 | DV18: 1 | DW18: =AVERAGE(DQ18:DV18) -> 4.3333333 | DX18: =(L18+M18+N18+O18)-(P18+Q18+R18+DW18) -> -44.333333 | DY18: =(DW18*3)-DX18 -> 57.333333 | DZ18: For MDY | EA18: 0 | EB18: 32 Can | EC18: 30 | ED18: 3 | EE18: 1 | EF18: 1 | EG18: 0 | EH18: 1 | EI18: 8 | EJ18: 25 | EK18: 3 | EL18: 0 | EM18: 20 | EO18: 46 | EP18: 0 | EQ18: 5 | ER18: 3 | ES18: 36 | ET18: 5 | EU18: 45 | EV18: 11 | EW18: 59 | EX18: 26 | EY18: 0 | EZ18: =AVERAGE(ES18:EY18) -> 26 | FA18: =(L18+M18+N18+O18)-(R18+EZ18) -> -66 | FB18: =(EZ18*2)-FA18 -> 118 | FD18: =EA18/32 -> 0
A19: Gear Oil & Transmission Oil | B19: 12 | C19: Volvo | D19: Rear Axle Oil 85W140 | E19: 1 | F19: x | G19: 20 | H19: L | I19: 1161937 | J19: Can | K19: MM | L19: 0 | T19: 1 | V19: 8 | W19: 0 | X19: 0 | Z19: 0 | AA19: 5 | AB19: 7 | AC19: 0 | AE19: 10 | AF19: 0 | AG19: 10 | AH19: 0 | AI19: 0 | AJ19: 0 | AK19: 0 | AL19: 0 | AM19: 0 | AN19: 0 | AO19: 0 | AP19: 1 | AQ19: 0 | AR19: 0 | AS19: 0 | AT19: 0 | AU19: 0 | AV19: 0 | AW19: 0 | AX19: 0 | AY19: 0 | AZ19: 0 | BA19: 0 | BB19: 0 | BC19: 0 | BD19: 0 | BE19: 0 | BF19: 0 | BG19: 0 | BH19: 0 | BI19: 0 | BJ19: 0 | BK19: 0 | BL19: 0 | BM19: 0 | BN19: 0 | BO19: 0 | BP19: 0 | BQ19: 0 | BR19: 0 | BS19: 0 | BT19: 0 | BU19: 0 | BV19: 0 | BW19: 0 | BX19: 0 | BY19: 0 | BZ19: 0 | CA19: 0 | CB19: 0 | CC19: 0 | CD19: 0 | CE19: 0 | CF19: 0 | CG19: 0 | CH19: 0 | CI19: 0 | CJ19: 0 | CK19: 0 | CL19: 0 | CM19: 0 | CN19: 0 | CO19: 0 | CP19: 0 | CQ19: 0 | CR19: 0 | CS19: 0 | CT19: 0 | CU19: 0 | CV19: 0 | CW19: 0 | CX19: 0 | CY19: 0 | CZ19: 0 | DA19: 0 | DB19: 0 | DC19: 0 | DD19: 0 | DE19: 0 | DF19: 0 | DG19: 0 | DH19: 0 | DI19: 0 | DJ19: 0 | DK19: 0 | DL19: 0 | DM19: 0 | DN19: 0 | DO19: 0 | DP19: 0 | DQ19: 0 | DR19: 0 | DS19: 0 | DT19: 0 | DU19: 0 | DV19: 0 | DW19: =AVERAGE(DQ19:DV19) -> 0 | DX19: =(L19+M19+N19+O19)-(P19+Q19+R19+DW19) -> 0 | DY19: =(DW19*2)-DX19 -> 0 | EA19: 0 | EC19: 0 | ED19: 8 | EE19: 16 | EG19: 0 | EI19: 0 | EJ19: 5 | EK19: 7 | EL19: 0 | EM19: 0 | EN19: 10 | EO19: 0 | EP19: 10 | EQ19: 0 | ER19: 0 | ES19: 0 | ET19: 0 | EU19: 0 | EV19: 0 | EW19: 0 | EX19: 0 | EY19: 0 | EZ19: =AVERAGE(ES19:EY19) -> 0 | FA19: =(L19+M19+N19+O19)-(R19+EZ19) -> 0 | FB19: =(EZ19*2)-FA19 -> 0 | FD19: =EA19/32 -> 0
A20: Gear Oil & Transmission Oil | B20: 13 | C20: Volvo | D20: Volvo Transmission Fluid AT 102 | E20: 1 | F20: x | G20: 20 | H20: L | I20: VOE15143928 | J20: Can | K20: MM | L20: 40 | R20: 60 | S20: 5 | W20: 0 | X20: 2 | Z20: 2 | AA20: 0 | AB20: 5 | AC20: 15 | AE20: 52 | AF20: 16 | AG20: 0 | AH20: 0 | AI20: 6 | AJ20: 0 | AK20: 17 | AL20: 5 | AM20: 20 | AN20: 0 | AO20: 10 | AP20: 10 | AQ20: 4 | AR20: 0 | AS20: 10 | AT20: 55 | AU20: 0 | AV20: 0 | AW20: 50 | AX20: 19 | AY20: 0 | AZ20: 28 | BA20: 35 | BB20: 10 | BC20: 0 | BD20: 4 | BE20: 15 | BF20: 0 | BG20: 0 | BH20: 0 | BI20: 0 | BJ20: 0 | BK20: 0 | BL20: 0 | BM20: 20 | BN20: 7 | BO20: 3 | BP20: 0 | BQ20: 0 | BR20: 0 | BS20: 0 | BT20: 20 | BU20: 2 | BV20: 12 | BW20: 0 | BX20: 0 | BY20: 0 | BZ20: 0 | CA20: 0 | CB20: 0 | CC20: 0 | CD20: 0 | CE20: 0 | CF20: 0 | CG20: 0 | CH20: 0 | CI20: 0 | CJ20: 0 | CK20: 0 | CL20: 0 | CM20: 32 | CN20: 0 | CO20: 0 | CP20: 6 | CQ20: 0 | CR20: 0 | CS20: 0 | CT20: 0 | CU20: 0 | CV20: 0 | CW20: 0 | CX20: 0 | CY20: 0 | CZ20: 0 | DA20: 0 | DB20: 5 | DC20: 0 | DD20: 15 | DE20: 0 | DF20: 0 | DG20: 0 | DH20: 0 | DI20: 0 | DJ20: 0 | DK20: 0 | DL20: 12 | DM20: 0 | DN20: 0 | DO20: 0 | DP20: 0 | DQ20: 18 | DR20: 0 | DS20: 0 | DT20: 0 | DU20: 0 | DV20: 0 | DW20: =AVERAGE(DQ20:DV20) -> 3 | DX20: =(L20+M20+N20+O20)-(P20+Q20+R20+DW20) -> -23 | DY20: =(DW20*3)-DX20 -> 32 | EA20: 0 | EB20: 32 Can | EC20: 0 | EG20: 0 | EI20: 0 | EJ20: 0 | EK20: 0 | EL20: 0 | EM20: 0 | EO20: 0 | EP20: 0 | EQ20: 0 | ER20: 0 | ES20: 0 | ET20: 0 | EU20: 0 | EV20: 33 | EW20: 0 | EX20: 0 | EY20: 0 | EZ20: =AVERAGE(ES20:EY20) -> 4.7142857 | FA20: =(L20+M20+N20+O20)-(R20+EZ20) -> -24.714286 | FB20: =(EZ20*2)-FA20 -> 34.142857 | FD20: =EA20/32 -> 0
A21: Coolant | B21: 14 | C21: Volvo | D21: Volvo VCS Coolant Ready Mixed | E21: 1 | F21: x | G21: 18 | H21: L | I21: VOE15142332 | J21: Can | K21: MM | L21: 0 | S21: 5 | T21: 1 | V21: 55 | W21: 10 | X21: 3 | Y21: 22 | Z21: 2 | AA21: 6 | AB21: 6 | AC21: 7 | AD21: 11 | AE21: 8 | AF21: 8 | AG21: 5 | AH21: 1 | AI21: 1 | AJ21: 9 | AK21: 18 | AL21: 6 | AM21: 30 | AN21: 8 | AO21: 11 | AP21: 7 | AQ21: 12 | AR21: 3 | AS21: 0 | AT21: 40 | AU21: 2 | AV21: 5 | AW21: 0 | AX21: 1 | AY21: 0 | AZ21: 2 | BA21: 17 | BB21: 11 | BC21: 4 | BD21: 2 | BE21: 0 | BF21: 0 | BG21: 5 | BH21: 2 | BI21: 0 | BJ21: 1 | BK21: 0 | BL21: 0 | BM21: 0 | BN21: 0 | BO21: 0 | BP21: 0 | BQ21: 0 | BR21: 0 | BS21: 0 | BT21: 0 | BU21: 0 | BV21: 0 | BW21: 0 | BX21: 0 | BY21: 0 | BZ21: 0 | CA21: 0 | CB21: 0 | CC21: 0 | CD21: 0 | CE21: 0 | CF21: 0 | CG21: 0 | CH21: 0 | CI21: 0 | CJ21: 0 | CK21: 0 | CL21: 0 | CM21: 0 | CN21: 0 | CO21: 0 | CP21: 0 | CQ21: 0 | CR21: 0 | CS21: 0 | CT21: 0 | CU21: 0 | CV21: 0 | CW21: 0 | CX21: 0 | CY21: 0 | CZ21: 0 | DA21: 0 | DB21: 0 | DC21: 0 | DD21: 0 | DE21: 0 | DF21: 0 | DG21: 0 | DH21: 0 | DI21: 0 | DJ21: 0 | DK21: 0 | DL21: 0 | DM21: 0 | DN21: 0 | DO21: 0 | DP21: 0 | DQ21: 0 | DR21: 0 | DS21: 0 | DT21: 0 | DU21: 0 | DV21: 0 | DW21: =AVERAGE(DQ21:DV21) -> 0 | DX21: =(L21+M21+N21+O21)-(P21+Q21+R21+DW21) -> 0 | DY21: =(DW21*2)-DX21 -> 0 | DZ21: ** Supplier don't produce this P/N in future. | EA21: 0 | EB21: 36 Can | EC21: 2 | ED21: 272 | EE21: 328 | EF21: 8 | EG21: 20 | EH21: 28 | EI21: 7 | EJ21: 5 | EK21: 0 | EL21: 2 | EM21: 10 | EN21: 5 | EO21: 14 | EP21: 0 | EQ21: 1 | ER21: 0 | ES21: 5 | ET21: 10 | EU21: 42 | EV21: 19 | EW21: 6 | EX21: 85 | EY21: 0 | EZ21: =AVERAGE(ES21:EY21) -> 23.857143 | FA21: =(L21+M21+N21+O21)-(R21+EZ21) -> -23.857143 | FB21: =(EZ21*2)-FA21 -> 71.571429 | FD21: =EA21/36 -> 0
A22: Gear Oil & Transmission Oil | B22: 15 | C22: Volvo | D22: Volvo Automatic Transmission Fluid | E22: 1 | F22: x | G22: 208 | H22: L | I22: VOE15067157 | J22: Drum | K22: SM | L22: 2 | S22: 1 | V22: 1 | W22: 0 | X22: 1 | Y22: 2.096 | Z22: 1 | AA22: 0 | AB22: 0 | AC22: 1 | AE22: 0.0048076923 | AF22: 1 | AG22: 0 | AH22: 0 | AI22: 0.26923077 | AJ22: 0.26442308 | AK22: 0 | AL22: 4 | AM22: 2 | AN22: 3 | AO22: 0.096153846 | AP22: 0 | AQ22: 0 | AR22: 0 | AS22: 1 | AT22: 2 | AU22: 0 | AV22: 1 | AW22: 0 | AX22: 0 | AY22: 0 | AZ22: 0 | BA22: 0 | BB22: 0 | BC22: 0 | BD22: 0 | BE22: 0 | BF22: 0 | BG22: 0 | BH22: 0 | BI22: 0 | BJ22: 0 | BK22: 1 | BL22: 0 | BM22: 0 | BN22: 0 | BO22: 0 | BP22: 0 | BQ22: 0 | BR22: 0 | BS22: 0 | BT22: 0 | BU22: 0 | BV22: 0 | BW22: 0 | BX22: 0 | BY22: 0 | BZ22: 1 | CA22: 0 | CB22: 0 | CC22: 0 | CD22: 0 | CE22: 0 | CF22: 0 | CG22: 0 | CH22: 0 | CI22: 0 | CJ22: 0 | CK22: 0 | CL22: 0 | CM22: 0 | CN22: 0 | CO22: 0 | CP22: 0 | CQ22: 0 | CR22: 0 | CS22: 0 | CT22: 0 | CU22: 0 | CV22: 0 | CW22: 0 | CX22: 0 | CY22: 0 | CZ22: 0 | DA22: 0 | DB22: 0 | DC22: 0 | DD22: 0 | DE22: 0 | DF22: 0 | DG22: 0 | DH22: 0 | DI22: 0 | DJ22: 0 | DK22: 0 | DL22: 0 | DM22: 0 | DN22: 0 | DO22: 0 | DP22: 0 | DQ22: 0 | DR22: 0 | DS22: 0 | DT22: 0 | DU22: 0 | DV22: 0 | DW22: =AVERAGE(DQ22:DV22) -> 0 | DX22: =(L22+M22+N22+O22)-(P22+Q22+R22+DW22) -> 2 | DY22: =(DW22*2)-DX22 -> -2 | EA22: 0 | EC22: 0 | EE22: 1 | EF22: 21 | EG22: 0 | EH22: 21 | EI22: 0 | EJ22: 0 | EK22: 0 | EL22: 1 | EM22: 0 | EO22: 1 | EP22: 0 | EQ22: 0 | ER22: 0 | ES22: 0 | ET22: 0 | EU22: 0 | EV22: 0 | EW22: 0 | EX22: 0 | EY22: 0 | EZ22: =AVERAGE(ES22:EY22) -> 0 | FA22: =(L22+M22+N22+O22)-(R22+EZ22) -> 2 | FB22: =(EZ22*2)-FA22 -> -2 | FD22: =EA22/4 -> 0
A23: Gear Oil & Transmission Oil | B23: 16 | C23: Volvo | D23: Volvo Gear Oil HD GL-5 SAE 85W-140 | E23: 1 | F23: x | G23: 208 | H23: L | I23: VOE15067629 | J23: Drum | K23: SM | L23: 0 | W23: 0 | X23: 0 | Z23: 0 | AA23: 0 | AB23: 0 | AC23: 0 | AE23: 0 | AF23: 0 | AG23: 0 | AH23: 0 | AI23: 0 | AJ23: 0 | AK23: 0 | AL23: 0 | AM23: 0 | AN23: 0 | AO23: 0 | AP23: 0 | AQ23: 0 | AR23: 0 | AS23: 0 | AT23: 0 | AU23: 0 | AV23: 0 | AW23: 0 | AX23: 0 | AY23: 0 | AZ23: 0 | BA23: 0 | BB23: 0 | BC23: 0 | BD23: 0 | BE23: 0 | BF23: 0 | BG23: 0 | BH23: 0 | BI23: 0 | BJ23: 0 | BK23: 0 | BL23: 0 | BM23: 0 | BN23: 1 | BO23: 0 | BP23: 0 | BQ23: 0 | BR23: 0 | BS23: 0 | BT23: 0 | BU23: 0 | BV23: 0.057692308 | BW23: 0.043269231 | BX23: 0 | BY23: 0 | BZ23: 0 | CA23: 0 | CB23: 0 | CC23: 1 | CD23: 0 | CE23: 0 | CF23: 0 | CG23: 0 | CH23: 0 | CI23: 0 | CJ23: 0 | CK23: 0 | CL23: 0 | CM23: 1.4567308 | CN23: 0 | CO23: 0 | CP23: 0 | CQ23: 0 | CR23: 0 | CS23: 0 | CT23: 0 | CU23: 0 | CV23: 0 | CW23: 0 | CX23: 0 | CY23: 0 | CZ23: 0 | DA23: 0 | DB23: 0 | DC23: 0 | DD23: 0 | DE23: 0 | DF23: 0 | DG23: 0 | DH23: 0 | DI23: 0 | DJ23: 0 | DK23: 0 | DL23: 0 | DM23: 0 | DN23: 0 | DO23: 0 | DP23: 0 | DQ23: 0 | DR23: 0 | DS23: 0 | DT23: 0 | DU23: 0 | DV23: 0 | DW23: =AVERAGE(DQ23:DV23) -> 0 | DX23: =(L23+M23+N23+O23)-(P23+Q23+R23+DW23) -> 0 | DY23: =(DW23*2)-DX23 -> 0 | EA23: 0 | EC23: 0 | EG23: 0 | EI23: 0 | EJ23: 0 | EK23: 0 | EL23: 0 | EM23: 0 | EO23: 0 | EP23: 3 | EQ23: 0 | ER23: 0 | ES23: 0 | ET23: 0 | EU23: 0 | EV23: 0 | EW23: 0 | EX23: 0 | EY23: 0 | EZ23: =AVERAGE(ES23:EY23) -> 0 | FA23: =(L23+M23+N23+O23)-(R23+EZ23) -> 0 | FB23: =(EZ23*2)-FA23 -> 0 | FD23: =EA23/4 -> 0
A24: Gear Oil & Transmission Oil | B24: 17 | C24: Volvo | D24: Gearbox Oil SAE50 | E24: 1 | F24: x | G24: 20 | H24: L | I24: 85136370 | J24: Can | K24: SM | L24: 0 | T24: 1 | W24: 0 | X24: 0 | Z24: 18 | AA24: 2 | AB24: 0 | AC24: 0 | AE24: 3 | AF24: 0 | AG24: 17 | AH24: 2 | AI24: 3 | AJ24: 8 | AK24: 1 | AL24: 28 | AM24: 29 | AN24: 3 | AO24: 10 | AP24: 1 | AQ24: 1 | AR24: 0 | AS24: 1 | AT24: 13 | AU24: 0 | AV24: 0 | AW24: 0 | AX24: 15 | AY24: 2 | AZ24: 0 | BA24: 0 | BB24: 1 | BC24: 0 | BD24: 0 | BE24: 0 | BF24: 0 | BG24: 0 | BH24: 0 | BI24: 0 | BJ24: 0 | BK24: 0 | BL24: 1 | BM24: 0 | BN24: 0 | BO24: 0 | BP24: 0 | BQ24: 0 | BR24: 0 | BS24: 0 | BT24: 0 | BU24: 0 | BV24: 0 | BW24: 0 | BX24: 0 | BY24: 0 | BZ24: 0 | CA24: 0 | CB24: 0 | CC24: 0 | CD24: 0 | CE24: 0 | CF24: 0 | CG24: 0 | CH24: 0 | CI24: 0 | CJ24: 0 | CK24: 0 | CL24: 0 | CM24: 0 | CN24: 0 | CO24: 0 | CP24: 0 | CQ24: 0 | CR24: 0 | CS24: 0 | CT24: 0 | CU24: 0 | CV24: 0 | CW24: 0 | CX24: 0 | CY24: 0 | CZ24: 0 | DA24: 0 | DB24: 0 | DC24: 0 | DD24: 0 | DE24: 0 | DF24: 0 | DG24: 0 | DH24: 0 | DI24: 0 | DJ24: 0 | DK24: 0 | DL24: 0 | DM24: 0 | DN24: 0 | DO24: 0 | DP24: 0 | DQ24: 0 | DR24: 0 | DS24: 0 | DT24: 0 | DU24: 0 | DV24: 0 | DW24: =AVERAGE(DQ24:DV24) -> 0 | DX24: =(L24+M24+N24+O24)-(P24+Q24+R24+DW24) -> 0 | DY24: =(DW24*2)-DX24 -> 0 | EA24: 0 | EC24: 0 | ED24: 5 | EE24: 5 | EG24: 29 | EH24: 29 | EI24: 0 | EJ24: 25 | EK24: 25 | EL24: 0 | EM24: 10 | EN24: 2 | EO24: 0 | EP24: 0 | EQ24: 0 | ER24: 25 | ES24: 50 | ET24: 0 | EU24: 9 | EV24: 35 | EW24: 0 | EX24: 0 | EY24: 4 | EZ24: =AVERAGE(ES24:EY24) -> 14 | FA24: =(L24+M24+N24+O24)-(R24+EZ24) -> -14 | FB24: =(EZ24*2)-FA24 -> 42 | FD24: =EA24/32 -> 0
A25: Gear Oil & Transmission Oil | B25: 18 | C25: UD | D25: Genuine Gear Oil GL-4 80W90 | E25: 1 | F25: x | G25: 20 | H25: L | I25: 99990-1Z03J | J25: Can | K25: SM | L25: 0 | T25: 1 | W25: 0 | X25: 0 | Z25: 0 | AA25: 5 | AB25: 7 | AC25: 0 | AE25: 1 | AF25: 0 | AG25: 0 | AH25: 0 | AI25: 0 | AJ25: 0 | AK25: 0 | AL25: 0 | AM25: 0 | AN25: 0 | AO25: 0 | AP25: 0 | AQ25: 0 | AR25: 0 | AS25: 0 | AT25: 0 | AU25: 0 | AV25: 0 | AW25: 0 | AX25: 0 | AY25: 0 | AZ25: 0 | BA25: 0 | BB25: 0 | BC25: 0 | BD25: 0 | BE25: 0 | BF25: 0 | BG25: 0 | BH25: 0 | BI25: 0 | BJ25: 0 | BK25: 0 | BL25: 0 | BM25: 0 | BN25: 0 | BO25: 0 | BP25: 0 | BQ25: 0 | BR25: 0 | BS25: 0 | BT25: 0 | BU25: 0 | BV25: 0 | BW25: 0 | BX25: 0 | BY25: 0 | BZ25: 0 | CA25: 0 | CB25: 0 | CC25: 0 | CD25: 0 | CE25: 0 | CF25: 0 | CG25: 0 | CH25: 0 | CI25: 0 | CJ25: 0 | CK25: 0 | CL25: 0 | CM25: 0 | CN25: 0 | CO25: 0 | CP25: 0 | CQ25: 0 | CR25: 0 | CS25: 0 | CT25: 0 | CU25: 0 | CV25: 0 | CW25: 0 | CX25: 0 | CY25: 0 | CZ25: 0 | DA25: 0 | DB25: 0 | DC25: 0 | DD25: 0 | DE25: 0 | DF25: 0 | DG25: 0 | DH25: 0 | DI25: 0 | DJ25: 0 | DK25: 0 | DL25: 0 | DM25: 0 | DN25: 0 | DO25: 0 | DP25: 0 | DQ25: 0 | DR25: 0 | DS25: 0 | DT25: 0 | DU25: 0 | DV25: 0 | DW25: =AVERAGE(DQ25:DV25) -> 0 | DX25: =(L25+M25+N25+O25)-(P25+Q25+R25+DW25) -> 0 | DY25: =(DW25*2)-DX25 -> 0 | EA25: 0 | EC25: 0 | ED25: 12 | EE25: 12 | EG25: 0 | EI25: 0 | EJ25: 5 | EK25: 7 | EL25: 0 | EM25: 0 | EO25: 0 | EP25: 0 | EQ25: 0 | ER25: 0 | ES25: 0 | ET25: 0 | EU25: 0 | EV25: 0 | EW25: 0 | EX25: 0 | EY25: 0 | EZ25: =AVERAGE(ES25:EY25) -> 0 | FA25: =(L25+M25+N25+O25)-(R25+EZ25) -> 0 | FB25: =(EZ25*2)-FA25 -> 0 | FD25: =EA25/32 -> 0
A26: Brake Oil | B26: 19 | C26: Volvo | D26: Super Wet Brake Transaxle Oil | E26: 1 | F26: x | G26: 20 | H26: L | I26: VOE15058290 | J26: Can | K26: MM | L26: 62.8 | R26: =90+100 -> 190 | S26: 5 | T26: 1 | U26: 2 | V26: 11 | W26: 30 | X26: 10 | Y26: 10 | Z26: 15 | AA26: 0 | AB26: 11 | AC26: 0 | AE26: 2 | AF26: 12 | AG26: 0 | AH26: 20 | AI26: 0 | AJ26: 50 | AK26: 19 | AL26: 14 | AM26: 90 | AN26: 163 | AO26: 6 | AP26: 54 | AQ26: 10 | AR26: 15 | AS26: 30 | AT26: 38 | AU26: 11 | AV26: 3 | AW26: 26 | AX26: 32 | AY26: 5 | AZ26: 40 | BA26: 20 | BB26: 20 | BC26: 1 | BD26: 0 | BE26: 31 | BF26: 94 | BG26: 0 | BH26: 32 | BI26: 10 | BJ26: 6 | BK26: 40 | BL26: 2 | BM26: 0 | BN26: 20 | BO26: 3 | BP26: 30 | BQ26: 0 | BR26: 0 | BS26: 0 | BT26: 30 | BU26: 50 | BV26: 30 | BW26: 0 | BX26: 0 | BY26: 0 | BZ26: 20 | CA26: 80 | CB26: 0 | CC26: 0 | CD26: 0 | CE26: 0 | CF26: 0 | CG26: 0 | CH26: 0 | CI26: 0 | CJ26: 0 | CK26: 0 | CL26: 0 | CM26: 57 | CN26: 0 | CO26: 0 | CP26: 0 | CQ26: 7 | CR26: 0 | CS26: 39 | CT26: 39 | CU26: 0 | CV26: 1 | CW26: 0 | CX26: 0 | CY26: 0 | CZ26: 0 | DA26: 40 | DB26: 30 | DC26: 0 | DD26: 2 | DE26: 0 | DF26: 30 | DG26: 0 | DH26: 20 | DI26: 0 | DJ26: 81.2 | DK26: 0 | DL26: 58 | DM26: 10 | DN26: 0 | DO26: 1 | DP26: 10 | DQ26: 18 | DR26: 0 | DS26: 0 | DT26: 6 | DU26: 0 | DV26: 30 | DW26: =AVERAGE(DQ26:DV26) -> 9 | DX26: =(L26+M26+N26+O26)-(P26+Q26+R26+DW26) -> -136.2 | DY26: =(DW26*4)-DX26 -> 172.2 | DZ26: For MDY | EA26: 0 | EC26: 0 | EE26: 21 | EG26: 278 | EH26: 278 | EI26: 0 | EJ26: 0 | EK26: 15 | EL26: 10 | EM26: 0 | EO26: 0 | EP26: 0 | EQ26: 7 | ER26: 0 | ES26: 0 | ET26: 0 | EU26: 10 | EV26: 56 | EW26: 0 | EX26: 0 | EY26: 30 | EZ26: =AVERAGE(ES26:EY26) -> 13.714286 | FA26: =(L26+M26+N26+O26)-(R26+EZ26) -> -140.91429 | FB26: =(EZ26*2)-FA26 -> 168.34286 | FD26: =EA26/32 -> 0
A27: Engine Oil | B27: 20 | C27: Volvo | D27: Ultra Diesel Engine Oil VDS-3 SAE 15W-40 | E27: 3 | F27: x | G27: 6 | H27: L | I27: VOE17429515 | J27: Bottle | K27: SM | L27: 0 | S27: 5 | T27: 2 | U27: 2 | V27: 1 | W27: 1 | X27: 0 | Y27: 2 | Z27: 15 | AA27: 3 | AB27: 3 | AC27: 37 | AD27: 23 | AE27: 7 | AF27: 5 | AG27: 4 | AH27: 0 | AI27: 0 | AJ27: 1 | AK27: 5 | AL27: 0 | AM27: 1 | AN27: 0 | AO27: 3 | AP27: 2 | AQ27: 0 | AR27: 0 | AS27: 0 | AT27: 0 | AU27: 1 | AV27: 0 | AW27: 0 | AX27: 0 | AY27: 4 | AZ27: 0 | BA27: 0 | BB27: 0 | BC27: 0 | BD27: 0 | BE27: 0 | BF27: 0 | BG27: 0 | BH27: 0 | BI27: 0 | BJ27: 0 | BK27: 0 | BL27: 0 | BM27: 0 | BN27: 0 | BO27: 0 | BP27: 0 | BQ27: 0 | BR27: 0 | BS27: 0 | BT27: 0 | BU27: 0 | BV27: 0 | BW27: 0 | BX27: 0 | BY27: 0 | BZ27: 0 | CA27: 0 | CB27: 0 | CC27: 0 | CD27: 0 | CE27: 0 | CF27: 0 | CG27: 0 | CH27: 0 | CI27: 1 | CJ27: 0 | CK27: 0 | CL27: 1 | CM27: 2 | CN27: 0 | CO27: 0 | CP27: 1 | CQ27: 60 | CR27: 0 | CS27: 0 | CT27: 0 | CU27: 0 | CV27: 0 | CW27: 0 | CX27: 0 | CY27: 0 | CZ27: 0 | DA27: 0 | DB27: 0 | DC27: 0 | DD27: 0 | DE27: 0 | DF27: 0 | DG27: 0 | DH27: 0 | DI27: 0 | DJ27: 0 | DK27: 0 | DL27: 0 | DM27: 0 | DN27: 0 | DO27: 0 | DP27: 0 | DQ27: 0 | DR27: 0 | DS27: 0 | DT27: 0 | DU27: 0 | DV27: 0 | DW27: =AVERAGE(DQ27:DV27) -> 0 | DX27: =(L27+M27+N27+O27)-(P27+Q27+R27+DW27) -> 0 | DY27: =(DW27*2)-DX27 -> 0 | EA27: 0 | EC27: 0 | ED27: 30 | EG27: 0 | EI27: 6 | EJ27: 0 | EK27: 53 | EL27: 3 | EM27: 1 | EN27: 1 | EO27: 0 | EP27: 0 | EQ27: 0 | ER27: 0 | ES27: 0 | ET27: 0 | EU27: 0 | EV27: 0 | EW27: 0 | EX27: 0 | EY27: 0 | EZ27: =AVERAGE(ES27:EY27) -> 0 | FA27: =(L27+M27+N27+O27)-(R27+EZ27) -> 0 | FB27: =(EZ27*2)-FA27 -> 0 | FD27: =EA27/32 -> 0
A28: Hydraulic Oil | B28: 21 | C28: Volvo | D28: Volvo Super Hydraulic Oil ISO VG 68 | E28: 1 | F28: x | G28: 20 | H28: L | I28: VOE15058186 | J28: Can | K28: SM | L28: 16 | N28: 32 | T28: 6 | U28: 1 | V28: 10 | W28: 11 | X28: 4 | Y28: 26 | Z28: 15 | AA28: 16 | AB28: 19 | AC28: 2 | AD28: 14 | AE28: 15 | AF28: 22 | AG28: 27 | AH28: 35 | AI28: 1.1 | AJ28: 20 | AK28: 36 | AL28: 30 | AM28: 30 | AN28: 18 | AO28: 17 | AP28: 16 | AQ28: 20 | AR28: 29 | AS28: 11 | AT28: 20 | AU28: 28 | AV28: 35 | AW28: 23 | AX28: 12 | AY28: 15 | AZ28: 36 | BA28: 61 | BB28: 28 | BC28: 47 | BD28: 11 | BE28: 26 | BF28: 5 | BG28: 22 | BH28: 21 | BI28: 37 | BJ28: 14 | BK28: 6 | BL28: 10 | BM28: 13 | BN28: 16 | BO28: 19 | BP28: 13 | BQ28: 0 | BR28: 12 | BS28: 8 | BT28: 16 | BU28: 7 | BV28: 10 | BW28: 8 | BX28: 14 | BY28: 7 | BZ28: 4 | CA28: 29 | CB28: 1 | CC28: 3 | CD28: 21 | CE28: 6 | CF28: 10 | CG28: 20 | CH28: 23 | CI28: 2 | CJ28: 4 | CK28: 10 | CL28: 7 | CM28: 3 | CN28: 2 | CO28: 24 | CP28: 38 | CQ28: 8 | CR28: 16 | CS28: 8 | CT28: 8 | CU28: 7 | CV28: 35 | CW28: 14 | CX28: 7 | CY28: 8 | CZ28: 4 | DA28: 2 | DB28: 0 | DC28: 11 | DD28: 4 | DE28: 16 | DF28: 1 | DG28: 26 | DH28: 13 | DI28: 7 | DJ28: 5 | DK28: 23 | DL28: 6 | DM28: 10 | DN28: 1 | DO28: 0 | DP28: 1 | DQ28: 4 | DR28: 13 | DS28: 15 | DT28: 6 | DU28: 4 | DV28: 1 | DW28: =AVERAGE(DQ28:DV28) -> 7.1666667 | DX28: =(L28+M28+N28+O28)-(P28+Q28+R28+DW28) -> 40.833333 | DY28: =(DW28*4)-DX28 -> -12.166667 | EA28: 0 | EB28: 32 Can | EC28: 11 | ED28: 9 | EE28: 6 | EF28: 38 | EG28: 0 | EH28: 53 | EI28: 18 | EJ28: 16 | EK28: 11 | EL28: 8 | EM28: 25 | EN28: 13 | EO28: 48 | EP28: 0 | EQ28: 0 | ER28: 10 | ES28: 22 | ET28: 37 | EU28: 24 | EV28: 44 | EW28: 71 | EX28: 2 | EY28: 22 | EZ28: =AVERAGE(ES28:EY28) -> 31.714286 | FA28: =(L28+M28+N28+O28)-(R28+EZ28) -> 16.285714 | FB28: =(EZ28*2)-FA28 -> 47.142857 | FD28: =EA28/32 -> 0
