Workbook

Sheet summary
A1: Company Name | B1: Principal | C1: Principal | E1: Sale man | F1: Sale man phone | G1: Address | H1: Phone No.
B2: USD | C2: KS | D2: Status
A3: ='U Bo Lwin (STW)'!B8 -> BO LWIN | B3: ='U Bo Lwin (STW)'!E12+'U Bo Lwin (STW)'!E13 -> 0 | E3: Aung Than Htay | F3: 09-961828856 | G3: PA LET WA TOWNSHIP, MINDAT DISTRICT,CHIN STATE. | H3: Tel: 09-49670830, 09-783955410
A5: ='Than Naing & Family Cons;'!B8 -> THAN NAING & FAMILY CONSTRUCTION | B5: ='Than Naing & Family Cons;'!E12+'Than Naing & Family Cons;'!E13 -> 0 | E5: Nay Htun Linn | G5: No.(720), Kan Gyi Aung St, Saw Bwar Gyi Kone Quarter | H5: 09-5116118 , 09-444691976
A7: ='Kyaw Min Tun'!B54 -> KYAW MIN TUN, U (STW) | B7: ='Kyaw Min Tun'!E12+'Kyaw Min Tun'!E13 -> 0 | D7: Difficult Cusromer | E7: Aung Than Htay | F7: 09-961828856 | G7: Pauk Taw Tsp, Sittwe, Rakhine State. | H7: 09-258907886 , 09-448204231
A9: ='San Thar Tun (STW)'!B8 -> SAN THAR HTUN, U | B9: ='San Thar Tun (STW)'!E12+'San Thar Tun (STW)'!E13 -> 0 | E9: Soe Lin (Sittwe) | G9: Kyauk Taw Tsp, Rakhine State | H9: 09-8532202
A11: ='Chaw Su '!B7 -> CHAW SU CONSTRUCTION CO.,LTD (STW) | B11: ='Chaw Su '!E11+'Chaw Su '!E12 -> 0 | E11: Soe Lin (Sittwe) | G11: Ponenarkyun T/S, Sittwe Division, Rakhine State. | H11: 09-421746770 , 09-421746771
B14: =SUM(B3:B12) -> 0

Sheet Than Naing & Family Cons;
D4: =TODAY() -> 45307
D6: Summary | E6: USD
A7: Customer Statement | C7: စာခ်ဴပ္ပါအေရာင္းတန္ဘိုး | D7: Contacted Amt | E7: =+D19 -> 210960
A8: Customer | B8: THAN NAING & FAMILY CONSTRUCTION | C8: ရက္လြန္ဒဏ္ေၾကး | D8: Fine to Date | E8: =+D69 -> 17052.462
A9: Contact Person | B9: U Than Naing | C9: စုစုေပါင္းရရန္ွရွိ | D9: Total AR | E9: =SUM(E7:E8) -> 228012.46
A10: Saleman | B10: Ko Nay Htun Linn | C10: လက္ရွိေပးသြင္းျပီးေငြ | D10: Payment to Date | E10: =+E69+E67 -> 228012.46
A11: No. Contract | B11: HS-303/2016(17.May.2016) | C11: စုစုေပါင္းေပးရန္တာ၀န္ | D11: Total Payable | E11: =+E9-E10 -> 0.0015
A12: Interest Rate | C12: အျမန္ဆံုးေပးသြင္းရမည့္ေငြ | D12: Overdue | F12: Remark : | G12: Sittwe Branch BOH ( Ko Nay Htun Lin ) agreed with customer to give all payment due at every end of month when we make deal with customer,he request to pay this payment term.
A13: AR Invoice No | B13: AR 30000732 | C13: ထပ္မံေပးရန္က်န္ရွိေငြ | D13: Future Due
A14: Sale Order No | B14: SO 30000765 | D14: Fine to Date | E14: =D69-(E29+E34+E38+E42+E46+E50+E53+E58+E62+E66) -> 0.0015 | G14: Customer tight cash flow.
A15: SUNWARD MEDIUM EXCAVATOR SE210LCE 2 unit /SN: SE210LCE00951, SE210LCE00952
A17: Date | B17: Particular | C17: Installment Plan | D17: Due | E17: Paid | F17: Bal:
A19: 17.May.2016 | B19: Machine Price - $ 196,000 (Landed Price ) for 2 units | D19: 210960 | F19: =D19-E19 -> 210960
A20: 17.May.2016 | B20: Upon on mc delivery time - 50,000,000 Kyats @ 1175 rate - $ 42553.19 (May-2016) | C20: 42553.19 | F20: =F19+D20-E20 -> 210960
A21: 18.May.2016 | B21: RV 30001694(18.May.2016) $ 42553.19 @ 1175= ks 500 lakh | E21: 42553.19 | F21: =F20+D21-E21 -> 168406.81
A22: 17.Jun.2016 | B22: After 1 month later - $ 12,787.2 + $ 2301.7 = $ 15089 (Jun-2016) | C22: 15089 | F22: =F21+D22-E22 -> 168406.81
A23: 27.Jun.2016 | B23: RV 30001799(30.Jun.16) ~STW/RV/171 (27.Jun.2016) $ 15089 @ 1186 =17,895,000 | E23: 15089 | F23: =F22+D23-E23 -> 153317.81
A24: 17.Jul.2016 | B24: After 2 months later - $ 12,787.2 + $ 2109.8 = $ 14897 (JuL-2016) | C24: 14897 | F24: =F23+D24-E24 -> 153317.81
A25: 29.July.2016 | B25: RV 30001926(01.Aug.16) ~STW/RV/233(29.July.2016) $ 14,897 @1189 | E25: 14897 | F25: =F24+D25-E25 -> 138420.81
A26: 17.Aug.2016 | B26: After 3 months later - $ 12,787.2 + $ 1918.1 = $ 14705 (Aug-2016) | C26: 14705 | F26: =F25+D26-E26 -> 138420.81
A27: 31.Aug.2016 | B27: 5% Fine calculate (31.Aug.16 to 30.Nov.2016) | D27: =C26*5%*3 -> 2205.75 | F27: =F26+D27-E27 -> 140626.56
A28: 16.Nov.2016 | B28: RV 30002238(25.Nov.2016)~RV/STW/2016/11/458 (16.Nov.2016) $ 14705@ 1310= ks 19,263,500 | E28: 14705 | F28: =F27+D28-E28 -> 125921.56
A29: 04.April.2017 | B29: RV/STW/2017/04//236 , (04.Apr.17)~KBZ ref: 021CMCS170951007(05.Apr.17), $ 2205.75 @ 1358 (Fine) | E29: 2205.75 | F29: =F28+D29-E29 -> 123715.81 | G29: =E29+E34+E38+E42+E46+E50+E53 -> 9977.15
A30: 17.Sep.2016 | B30: After 4 months later - $ 12,787.2 + $ 1726.2= $ 14513 (Sep-2016) | C30: 14513 | F30: =F29+D30-E30 -> 123715.81 | G30: =G29*1358 -> 13548970
A31: 31.Sep.2016 | B31: 5% Fine calculate (31.Sep.16 to 30.Nov.2016) | D31: =C30*5%*2 -> 1451.3 | F31: =F30+D31-E31 -> 125167.11
A32: 16.Nov.2016 | B32: RV 30002238(25.Nov.2016)~RV/STW/2016/11/459 (16.Nov.2016) $ 14513@ 1310= ks 19,012,000/ | E32: 14505.25 | F32: =F31+D32-E32 -> 110661.86
A33: 25.Nov.2016 | B33: RV 30002251 (25.Nov.2016)(bank charges ) | E33: 7.75 | F33: =F32+D33-E33 -> 110654.11
A34: 04.April.2017 | B34: RV/STW/2017/04//236 , (04.Apr.17)~KBZ ref: 021CMCS170951007(05.Apr.17), $ 1541.3 @ 1358 (Fine) | E34: 1451.3 | F34: =F33+D34-E34 -> 109202.81
A35: 17.Oct.2016 | B35: After 5 months later - $ 12,787.2 + $ 1534.4= $ 14322 (Oct-2016) | C35: 14322 | F35: =F34+D35-E35 -> 109202.81
A36: 31.Oct.2016 | B36: 5% Fine calculate (31.Oct.16 to 30.Jan.2017) | D36: =C35*5%*3 -> 2148.3 | F36: =F35+D36-E36 -> 111351.11
A37: 08.Feb.2017 | B37: RV 30002463 (08.Feb.2017), 14322 @ 1361 | E37: 14322 | F37: =F36+D37-E37 -> 97029.11
A38: 04.April.2017 | B38: RV/STW/2017/04//236 , (04.Apr.17)~KBZ ref: 021CMCS170951007(05.Apr.17), $ 2148.3 @ 1358 (Fine) | E38: 2148.3 | F38: =F37+D38-E38 -> 94880.81
A39: 17.Nov.2016 | B39: After 6 months later - $ 12,787.2 + $ 1342.6= $ 14130 (Nov-2016) | C39: 14130 | F39: =F38+D39-E39 -> 94880.81
A40: 31.Nov.2016 | B40: 5% Fine calculate (31.Nov.16 to 30.Jan-2017) | D40: =C39*5%*2 -> 1413 | F40: =F39+D40-E40 -> 96293.81
A41: 08.Feb.2017 | B41: RV 30002463 (08.Feb.2017) , 14130 @ 1361 | E41: 14130 | F41: =F40+D41-E41 -> 82163.81
A42: 04.April.2017 | B42: RV/STW/2017/04//236 , (04.Apr.17)~KBZ ref: 021CMCS170951007(05.Apr.17), $ 1413 @ 1358 (Fine) | E42: 1413 | F42: =F41+D42-E42 -> 80750.81
A43: 17.Dec.2016 | B43: After 7 months later - $ 12,787.2 + $ 1150.8 = $ 13938 (Dec-2016) | C43: 13938 | F43: =F42+D43-E43 -> 80750.81
A44: 31.Dec.2016 | B44: 5% Fine calculate (31.Dec.16 to 30.Feb-2017) | D44: =C43*5%*2 -> 1393.8 | F44: =F43+D44-E44 -> 82144.61
A45: 17.Feb.2017 | B45: RV 30002503 ~ RV/STW/2017/02/139, $ 13,938 @ 1365 | E45: 13938 | F45: =F44+D45-E45 -> 68206.61
A46: 04.April.2017 | B46: RV/STW/2017/04//236 , (04.Apr.17)~KBZ ref: 021CMCS170951007(05.Apr.17), $ 1393.8 @ 1358 (Fine) | E46: 1393.8 | F46: =F45+D46-E46 -> 66812.81
...

Sheet Kyaw Min Tun
C6: =TODAY() -> 45307 | D6: Summary | E6: USD
A7: Customer Statement | C7: စာခ်ဴပ္ပါအေရာင္းတန္ဘိုး | D7: Contracted Amt | E7: =D19 -> 37190
A8: Customer | B8: KYAW MIN TUN, U (STW) | C8: ရက္လြန္ဒဏ္ေၾကး | D8: Fine to Date | E8: =+D39 -> 71382.5
A9: Contact Person | B9: Kyaw Min Tun | C9: စုစုေပါင္းရရန္ွရွိ | D9: Total AR | E9: =SUM(E7:E8) -> 108572.5
A10: Saleman | B10: Aung Than Htay | C10: လက္ရွိေပးသြင္းျပီးေငြ | D10: Payment to Date | E10: =+E39 -> 108572.5
A11: No. Contract | B11: HS-282/2017 | C11: စုစုေပါင္းေပးရန္တာ၀န္ | D11: Total Payable | E11: =+E9-E10 -> 0
A12: Interest Rate | C12: အျမန္ဆံုးေပးသြင္းရမည့္ေငြ | D12: Overdue | E12: =SUM(C20:C34)-E36 -> 0
A13: AR Invoice No | B13: AR 30001086 | C13: ထပ္မံေပးရန္က်န္ရွိေငြ | D13: Future Due
A14: SO Invoice No | B14: SO 30001116 | D14: Fine to Date | E14: =D39-E37 -> 0
B16: SUNWARD MINI EXCAVATOR SWE60E 1 unit /SN:SWE60E01250 | G16: [SWE60E] SUNWARD MINI EXCAVATOR SWE60E
A17: Date | B17: Particular | C17: Installment Plan | D17: Due | E17: Paid | F17: Bal:
A19: 43794 | B19: Aggrement Contract (Principle $24190 + Fine $13000) | D19: 37190 | F19: =D19-E19 -> 37190
A20: 43860 | B20: 1 month after delivery ( $ 4500 ) | C20: 4500 | F20: =F19+D20-E20 -> 37190
A21: 43860 | B21: 5% Fine for Calculation (30-JAN-20 to 30-JUL-23) | D21: =C20*5%*42 -> 9450 | F21: =F20+D21-E21 -> 46640
A22: 43889 | B22: 2 month after delivery ( $ 4500 ) | C22: 4500 | F22: =F21+D22-E22 -> 46640
A23: 43889 | B23: 5% Fine for Calculation (28-FEB-20 to 30-JUL-23) | D23: =C22*5%*41 -> 9225 | F23: =F22+D23-E23 -> 55865
A24: 43920 | B24: 3 month after delivery ( $ 4500 ) | C24: 4500 | F24: =F23+D24-E24 -> 55865
A25: 43920 | B25: 5% Fine for Calculation (30-MAR-20 to 30-JUL-23) | D25: =C24*5%*40 -> 9000 | F25: =F24+D25-E25 -> 64865
A26: 43951 | B26: 4 month after delivery ( $ 4500 ) | C26: 4500 | F26: =F25+D26-E26 -> 64865
A27: 43951 | B27: 5% Fine for Calculation (30-APR-20 to 30-JUL-23) | D27: =C26*5%*39 -> 8775 | F27: =F26+D27-E27 -> 73640
A28: 43981 | B28: 5 month after delivery ( $ 4500 ) | C28: 4500 | F28: =F27+D28-E28 -> 73640
A29: 43981 | B29: 5% Fine for Calculation (30-MAY-20 to 30-JUL-23) | D29: =C28*5%*38 -> 8550 | F29: =F28+D29-E29 -> 82190
A30: 44012 | B30: 6 month after delivery ( $ 4500 ) | C30: 4500 | F30: =F29+D30-E30 -> 82190
A31: 44012 | B31: 5% Fine for Calculation (30-JUN-20 to 30-JUL-23) | D31: =C30*5%*37 -> 8325 | F31: =F30+D31-E31 -> 90515
A32: 44043 | B32: 7 month after delivery ( $ 4500 ) | C32: 4500 | F32: =F31+D32-E32 -> 90515
A33: 44043 | B33: 5% Fine for Calculation (30-JUL-20 to 30-JUL-23) | D33: =C32*5%*36 -> 8100 | F33: =F32+D33-E33 -> 98615
A34: 44073 | B34: 8 month after delivery ( $ 5690 ) | C34: 5690 | F34: =F33+D34-E34 -> 98615
A35: 44073 | B35: 5% Fine for Calculation (30-AUG-20 to 30-JUL-23) | D35: =C34*5%*35 -> 9957.5 | F35: =F34+D35-E35 -> 108572.5
A36: 45230 | B36: BCE-RV-23100018, BCE-GR-23100057, Repossess machine hours Prin $37,190, Fine $71,382.5/- | E36: 37190 | F36: =F35+D36-E36 -> 71382.5
A37: 45230 | B37: BCE-RV-23100018, BCE-GR-23100057, Repossess machine hours Prin $37,190, Fine $71,382.5/- | E37: 71382.5 | F37: =F36+D37-E37 -> 0
F38: =F37+D38-E38 -> 0
A39: Total | C39: =SUM(C20:C38) -> 37190 | D39: =SUM(D20:D38) -> 71382.5 | E39: =SUM(E20:E38) -> 108572.5 | F39: =+F38 -> 0
E42: Theint Theint Hmwe
E43: Finance
E44: Fast Point Co.,Ltd
A46: Legal ပစ္ရႏ္ | B46: MD Approved မ က် ေသး
E47: =D19-E58 -> 1842.5
D50: =TODAY() -> 45307
D52: Summary | E52: USD
A53: Customer Statement | C53: စာခ်ဴပ္ပါအေရာင္းတန္ဘိုး | D53: Contacted Amt | E53: =+D65 -> 59629.5
...

Sheet San Thar Tun (STW)
D4: =TODAY() -> 45307
D6: Summary | E6: USD
A7: Customer Statement | C7: စာခ်ဴပ္ပါအေရာင္းတန္ဘိုး | D7: Contacted Amt | E7: =D19 -> 52217.55
A8: Customer | B8: SAN THAR HTUN, U | C8: ရက္လြန္ဒဏ္ေၾကး | D8: Fine to Date | E8: =+D33 -> 0.00375
A9: Contact Person | B9: San Thar Htun, U | C9: စုစုေပါင္းရရန္ွရွိ | D9: Total AR | E9: =SUM(E7:E8) -> 52217.554
A10: Saleman | B10: Soe Lin (STW) | C10: လက္ရွိေပးသြင္းျပီးေငြ | D10: Payment to Date | E10: =+E33 -> 52217.55
A11: No. Contract | C11: စုစုေပါင္းေပးရန္တာ၀န္ | D11: Total Payable | E11: =+E9-E10 -> 0.00375
A12: Interest Rate | C12: အျမန္ဆံုးေပးသြင္းရမည့္ေငြ | D12: Overdue
A13: AR Invoice No | B13: AR-30001620 | C13: ထပ္မံေပးရန္က်န္ရွိေငြ | D13: Future Due
A14: SO Invoice No | B14: SO-30001523 | D14: Fine to Date | E14: =D30 -> 315.48875
B16: SUNWARD MINI EXCAVATOR SE50U / SWE50E00632
A17: Date | B17: Particular | C17: Installment Plan | D17: Due | E17: Paid | F17: Bal:
A19: 14.Mar.2018 | B19: Machine Price - $ 52217.55 (Include 5% Tax) | D19: 52217.55 | F19: =D19-E19 -> 52217.55
B20: 25% Upon On Machine Delivery - $11,750 ( Mar'18 ) | C20: 11750 | F20: =F19+D20-E20 -> 52217.55
A21: 19.Feb.2018 | B21: BCE-RV-18020198, BCE-RV-18020199~RV-30003620 (1-2-2018) Total Amount | E21: 11750 | F21: =F20+D21-E21 -> 40467.55
A22: 14.July.2018 | B22: After 4 month Later - $11,750 + $2,609 = $14,359 ( Jul'18 ) | C22: 14359 | F22: =F21+D22-E22 -> 40467.55
A23: 43305 | B23: BCE-RV-18070036, BCE-RV-18070037~RV 30004107 (24/July/18)~RV/STW/2018/07/436 (24/July/18) ( $ 14359 @ 1423 = ks 20,432,800 ) | E23: 14359 | F23: =F22+D23-E23 -> 26108.55
A24: 43418 | B24: After 8 month Later -$11,750 + $1,739 = $13,489 ( Nov'18 ) | C24: 13489 | F24: =F23+D24-E24 -> 26108.55
A25: 43418 | B25: 5% Fine Calculate for after 8 month later (14-Nov-2018 to 14-Jan-2019) | D25: =C24*5%/2 -> 337.225 | F25: =F24+D25-E25 -> 26445.775
A26: 43458 | B26: 04-CFD-ARD-FRM-001-00 (Discount Form) (USD 337.23) | D26: -337.23 | F26: =F25+D26-E26 -> 26108.545
A27: 43454 | B27: BCE-RV-18120030, BCE-RV-18120031(20/Dec/18)~RV/STW/2018/12/733 (20/Dec/18) ($13489@1565 = ks 21,110,000 ) | E27: 13489 | F27: =F26+D27-E27 -> 12619.545
A28: 14.Mar.2019 | B28: After 12 Month Later -$11,750+ $870 = $12,620 ( Mar'19 ) | C28: 12619.55 | F28: =F27+D28-E28 -> 12619.545
A29: 43579 | B29: BCE-RV-19040023, BCE-RV-19040024(24/Apr/19)~RV/STW/2019/04/2629 (24/Apr/19) ($12620 @1525 = ks 19245500) | E29: 12619.55 | F29: =F28+D29-E29 -> -0.005
A30: 43538 | B30: 5% Fine Calculate for after 12 month later (14-Mar-2019 to 14-Jul-2019) | D30: =C28*5%/2 -> 315.48875 | F30: =F29+D30-E30 -> 315.48375
A31: 43776 | B31: CnC/DIS/2019/10/001 (Discount) Approved by CFD and Ma Naw ($315.49) | D31: -315.48 | F31: =F30+D31-E31 -> 0.00375
F32: =F31+D32-E32 -> 0.00375
A33: Total | C33: =SUM(C20:C32) -> 52217.55 | D33: =SUM(D20:D32) -> 0.00375 | E33: =SUM(E20:E32) -> 52217.55 | F33: =+F32 -> 0.00375
A38: 43295 | B38: Customer မွ rate တက္ေနသျဖင့္ ေနာက္က်ျခင္းျဖစ္ပါသည္။ မဇင္ approved (24/July/18 )
A39: 43563 | B39: Legal Notice Letter ေပးပို႔ထားပါသည္။ (22/Apr/19) ေန႔ေနာက္ဆံုးထားရက္သတ္မွတ္ထားပါသည္။
A40: 43732 | B40: Customer ဘက္မွ Final Due မွာေက်ာ္သြားခဲ့ေသာ ရက္လြန္ေၾကးကို မေပးပါသျဖင့္ Handover Contract ကိုလြဲေျပာင္းထားျခင့္မရွိပါ။
B41: တုိက္ရိုက္ဆက္သြယ္ေျပာဆိုေသာ္လဲမရပါ။

Sheet U Bo Lwin (STW)
D4: =TODAY() -> 45307
D6: Summary | E6: USD
A7: Customer Statement | C7: စာခ်ဴပ္ပါအေရာင္းတန္ဘိုး | D7: Contracted Amt | E7: =D19 -> 92000
A8: Customer | B8: BO LWIN | C8: ရက္လြန္ဒဏ္ေၾကး | D8: Fine to Date | E8: =+D27 -> 0
A9: Contact Person | B9: BO LWIN | C9: စုစုေပါင္းရရန္ွရွိ | D9: Total AR | E9: =SUM(E7:E8) -> 92000
A10: Saleman | B10: Aung Than Htay | C10: လက္ရွိေပးသြင္းျပီးေငြ | D10: Payment to Date | E10: =+E27 -> 92000
A11: No. Contract | B11: HS-00019 | C11: စုစုေပါင္းေပးရန္တာ၀န္ | D11: Total Payable | E11: =+E9-E10 -> 0
A12: Interest Rate | B12: No interest | C12: အျမန္ဆံုးေပးသြင္းရမည့္ေငြ | D12: Overdue
A13: AR Invoice No | B13: STW-BCE-UNT-SI-19020014 | C13: ထပ္မံေပးရန္က်န္ရွိေငြ | D13: Future Due
A14: SO Invoice No | B14: STW-BSO-UNT-2019-01-0003 | D14: Fine to Date
B16: SCHWING SETTER-Self Loading Mobile Concrete / SN : 707
A17: Date | B17: Particular | C17: Installment Plan | D17: Due | E17: Paid | F17: Bal:
A19: 43517 | B19: Machine Price - $ 92000 (Include 5% Tax) & Principle $87619.05 , 5% $4380.95 = Total Price $92000 | D19: 92000 | F19: =D19-E19 -> 92000
B20: 50% Downpayment - $46000 | C20: 46000 | F20: =F19+D20-E20 -> 92000
A21: 43479 | B21: BCE-RV-19010169 , BCE-RV-19010170 (15/Jan/19)~RV/STW/2019/01/026 (1/14/2019) ($658.33@1519 = ks 1,000,000) | E21: 658.33 | F21: =F20+D21-E21 -> 91341.67
A22: 43516 | B22: BCE-RV-19020040, BCE-RV-19020041(20/Feb/19)~RV/C&C/2019/02/001 (20/Feb/19) ($45341.67 @1519 = Ks 68874000) | E22: 45341.67 | F22: =F21+D22-E22 -> 46000
A23: 43698 | B23: After 6 Month Later by delivery -$46000 ( Aug'19 ) | C23: 46000 | F23: =F22+D23-E23 -> 46000
A24: 43706 | B24: BCE-RV-19080030 (2019-08-29 )~CNC/RV/2019/08/14953 (29-Aug-19) (Transfer to Daw Marlar Win Account ) ($46000@1518 = KS 69,828,000 ) | E24: 46000 | F24: =F23+D24-E24 -> 0
F25: =F24+D25-E25 -> 0
F26: =F25+D26-E26 -> 0
A27: Total | C27: =SUM(C20:C26) -> 92000 | D27: =SUM(D20:D26) -> 0 | E27: =SUM(E20:E26) -> 92000 | F27: =+F26 -> 0
D30: =C23*5% -> 2300

Sheet Chaw Su 
D3: =TODAY() -> 45307
D5: Summary | E5: USD
A6: Customer Statement | C6: စာခ်ဴပ္ပါအေရာင္းတန္ဘိုး | D6: Contacted Amt | E6: =+D18 -> 116308.3
A7: Customer | B7: CHAW SU CONSTRUCTION CO.,LTD (STW) | C7: ရက္လြန္ဒဏ္ေၾကး | D7: Fine to Date | E7: =+D63 -> 12411.552
A8: Contact Person | C8: စုစုေပါင္းရရန္ွရွိ | D8: Total AR | E8: =SUM(E6:E7) -> 128719.85
A9: Saleman | B9: Yae Wai Aung | C9: လက္ရွိေပးသြင္းျပီးေငြ | D9: Payment to Date | E9: =+E63 -> 128719.85
A10: No. Contract | B10: HS 515/2017 | C10: စုစုေပါင္းေပးရန္တာ၀န္ | D10: Total Payable | E10: =+E8-E9 -> 0.002
A11: Interest Rate | C11: အျမန္ဆံုးေပးသြင္းရမည့္ေငြ | D11: Overdue
A12: AR Invoice No | B12: AR 30001260 | C12: ထပ္မံေပးရန္က်န္ရွိေငြ | D12: Future Due
A13: Sale Order No | B13: SO 30001060 | D13: Fine to Date
B15: SUNWARD MEDIUM EXCAVATOR SE210LCE / SN : SE210LCE00988
A16: Date | C16: Installment Plan | D16: Due | E16: Paid | F16: Bal:
B18: Machine Price - $99000 (Landed Price),(include tax) | D18: 116308.3 | F18: =D18-E18 -> 116308.3
A19: 26.July.2017 | B19: 10% upon on mc delivery time - $9900 (Jul-2017) | C19: 9900 | F19: =F18+D19-E19 -> 116308.3
A20: 13.Feb.2017 | B20: RV 30002516(13.Feb.17)3639@ 1374= ks 5000000 | E20: 3639 | F20: =F19+D20-E20 -> 112669.3
A21: 04.July.2017 | B21: RV 30003044(04.July.2017) $ 6261@1357= ks 8,496,000.00 | E21: 6261 | F21: =F20+D21-E21 -> 106408.3
A22: 26.Oct.2017 | B22: After 3 months later - $ 14850 + $ 4945 = $ 19795 (Oct-2017) | C22: 19795 | F22: =F21+D22-E22 -> 106408.3
A23: 26.Oct.2017 | B23: 5% Fine calculate (26.Oct.17 to 26.Apr.2018) | D23: =C22*5%*2 -> 1979.5 | F23: =F22+D23-E23 -> 108387.8
A24: 28.Feb.2018 | B24: BCE-RV-18020200~RV/STW/2018/02/144 $3756.57@1331=KS 5,000,000 | E24: 1979.5 | F24: =F23+D24-E24 -> 106408.3
A25: 28.Feb.2018 | B25: BCE-RV-18020200, BCE-RV-18020329(28/Feb/19)~RV/STW/2018/02/144 $3756.57@1331=KS 5,000,000 | C25: =C22-E25 -> 18966.48 | E25: 828.52 | F25: =F24+D25-E25 -> 105579.78
A26: 10.Mar.2018 | B26: BCE-RV-18030025 (12/Mar/18), BCE-RV-18030254~RV/STW/2018/03/166 $3756.574 @1331=KS 5,000,000 | C26: =C25-E26 -> 15209.91 | E26: 3756.57 | F26: =F25+D26-E26 -> 101823.21
A27: 26.Apr.2018 | B27: 5% Fine calculate (26.Apr.18 to 26.Jul.2018) | D27: =C26*5% -> 760.4955 | F27: =F26+D27-E27 -> 102583.71
A28: 43234 | B28: BCE-RV-18050024~STW/RV/275 (14-5-2018) Total MMk 5,000,000/- @ 1344 Rate $ 3720/- (Fine Chgs; $ ) | E28: 760.5 | F28: =F27+D28-E28 -> 101823.21
A29: 43234 | B29: BCE-RV-18050024, BCE-RV-18050223(14/may/18)~STW/RV/275 (14-5-2018) Total MMk 5,000,000/- @ 1344 Rate $ 3720/- (Fine Chgs; $ ) | C29: =C26-E29 -> 14106.31 | E29: 1103.6 | F29: =F28+D29-E29 -> 100719.61
A30: 43256 | B30: BCE-RV-18070038, BCE-RV-18090003, BCE-RV-18070228~RV 30004227 (17/July/18)~RV/STW/2018/06/323 $ 3706.45 @1349=TOTAL 5000000 | C30: =C29-E30 -> 10399.86 | E30: 3706.45 | F30: =F29+D30-E30 -> 97013.155
A31: 43292 | B31: BCE-RV-18070039, RV 30004218 (11/July/18), BCE-RV-18070229~RV/STW/2018/07/394 (11/July/18) ($ 3571.43 @ 1400 = ks 5,000,000 ) | C31: =C30-E31 -> 6828.43 | E31: 3571.43 | F31: =F30+D31-E31 -> 93441.726
A32: 26.Jul.2018 | B32: 5% Fine calculate (26.Jul.18 to 26.Oct.2018) | D32: =C31*5% -> 341.4215 | F32: =F31+D32-E32 -> 93783.147
A33: 43333 | B33: BCE-RV-18080056~RV/STW/2018/08/484 (21/Aug/18) ( $ 1340.48 @ 1492 = 2,000,000 ) | E33: 341.42 | F33: =F32+D33-E33 -> 93441.727
A34: 43399 | B34: BCE-RV-18100104(22/Oct/18), BCE-RV-18100109~RV/STW/2018/10/598 (26/Oct/18) ($3164.56@1580 = ks 5000000 ) | C34: =C31-E34 -> 5386.86 | E34: 1441.57 | F34: =F33+D34-E34 -> 92000.157
A35: 43399 | B35: BCE-RV-18100105(26/Oct/18), BCE-RV-18100110~RV/STW/2018/10/599 (26/Oct/18) ( $ 253.16 @ 1580 = ks 400,000 ) | C35: =C34-E35 -> 5133.7 | E35: 253.16 | F35: =F34+D35-E35 -> 91746.997
A36: 26.Oct.2018 | B36: 5% Fine calculate (26.Oct.18 to 26.Jan.2019) | D36: =C35*5% -> 256.685 | F36: =F35+D36-E36 -> 92003.682
A37: 26.Jan.2018 | B37: After 6 months later - $ 14850 + $ 4121 = $ 18971 (Jan-2018) | C37: 18971 | F37: =F36+D37-E37 -> 92003.682
A38: 26.Jan.2017 | B38: 5% Fine calculate (26.Jan.17 to 26.Apr.2018) | D38: =C37*5% -> 948.55 | F38: =F37+D38-E38 -> 92952.232
A39: 28.Feb.2018 | B39: BCE-RV-18020200~RV/STW/2018/02/144 $3756.57@1331=KS 5,000,000 | E39: 948.55 | F39: =F38+D39-E39 -> 92003.682
A40: 26.Apr.2018 | B40: 5% Fine calculate (26.Apr.18 to 26.Jul.2018) | D40: =C37*5% -> 948.55 | F40: =F39+D40-E40 -> 92952.232
A41: 43234 | B41: BCE-RV-18050024~STW/RV/275 (14-5-2018) Total MMk 5,000,000/- @ 1344 Rate $ 3720/- (Fine Chgs; $ ) | E41: 948.55 | F41: =F40+D41-E41 -> 92003.682
A42: 26.Jul.2018 | B42: 5% Fine calculate (26.Jul.18 to 26.Oct.2018) | D42: =C37*5% -> 948.55 | F42: =F41+D42-E42 -> 92952.232
A43: 43333 | B43: BCE-RV-18080056, BCE-RV-18080057~RV/STW/2018/08/484 (21/Aug/18) ( $ 1340.48 @ 1492 = 2,000,000 ) | E43: 948.55 | F43: =F42+D43-E43 -> 92003.682
A44: 26.Oct.2018 | B44: 5% Fine calculate (26.Oct.18 to 26.Jan.2019) | D44: =C37*5% -> 948.55 | F44: =F43+D44-E44 -> 92952.232
A45: 26.Apr.2018 | B45: After 9 months later - $ 14850 + $ 3297 = $ 18147 (Apr-2018) | C45: 18147 | F45: =F44+D45-E45 -> 92952.232
...

Sheet U Zaw Min
D4: =TODAY() -> 45307
D6: Summary | E6: USD
A7: Customer Statement | C7: စာခ်ဴပ္ပါအေရာင္းတန္ဘိုး | D7: Contracted Amt | E7: =D19 -> 50000.5
A8: Customer | B8: ZAW MIN,U | C8: ရက္လြန္ဒဏ္ေၾကး | D8: Fine to Date | E8: =+D38 -> 0
A9: Contact Person | C9: စုစုေပါင္းရရန္ွရွိ | D9: Total AR | E9: =SUM(E7:E8) -> 50000.5
A10: Saleman | B10: Aung Than Htay | C10: လက္ရွိေပးသြင္းျပီးေငြ | D10: Payment to Date | E10: =+E38 -> 50000.5
A11: No. Contract | B11: HS - 162/2020 | C11: စုစုေပါင္းေပးရန္တာ၀န္ | D11: Total Payable | E11: =+E9-E10 -> 0
A12: Interest Rate | B12: No interest / Without colleteral | C12: အျမန္ဆံုးေပးသြင္းရမည့္ေငြ | D12: Overdue
A13: AR Invoice No | B13: BCE-UNT-SI-20020003 | C13: ထပ္မံေပးရန္က်န္ရွိေငြ | D13: Future Due
A14: SO Invoice No | B14: STW-BSO-UNT-2020-02-0001 | D14: Fine to Date
B16: Matador Self Propelled Concrete Mixer MSPM3.5R / SN ; 190 830414
A17: Date | B17: Particular | C17: Installment Plan | D17: Due | E17: Paid | F17: Bal:
A19: 43867 | B19: Machine Price- 55,000 USD, Dis - 5,000 USD - Principal ($47,619.52) - HP ($2,380.98 ) | D19: 50000.5 | F19: =D19-E19 -> 50000.5
B20: Upon on machine delivery time down payment 50% - $ 25,000 (06-Feb-2020 ) | C20: 25000 | F20: =F19+D20-E20 -> 50000.5
A21: 43858 | B21: BCE-RV-20010067, BCE-RV-20010068~HQT-RV-2020-01-0403 (29-Jan-2020)~RV - 14963 ($25000@1468 = KS 36,700,000) | E21: 25000 | F21: =F20+D21-E21 -> 25000.5
A22: 43896 | B22: 1 month after delivery - $ 4,167 ( 06-Mar-2020 ) | C22: 4167 | F22: =F21+D22-E22 -> 25000.5
A23: 43900 | B23: BCE-RV-20030017, BCE-RV-20030018(10-Mar-2020)~RV/STW/2020/03/32027 (10-Mar-2020) ($4167 rate 1371 = KS 5,713,000) | C23: =C22-E23 -> 0 | E23: 4167 | F23: =F22+D23-E23 -> 20833.5
A24: 43927 | B24: 2 month after delivery - $ 4,167 ( 06-Apr-2020 ) | C24: 4167 | F24: =F23+D24-E24 -> 20833.5
A25: 43929 | B25: BCE-RV-20040017, BCE-RV-20040018(8-Apr-2020)~RV/STW/2020/04/32090 (8-Apr-2020) ($4167 @1410 = KS 5,875,400) | E25: 4167 | F25: =F24+D25-E25 -> 16666.5
A26: 43957 | B26: 3 month after delivery - $ 4,167 ( 06-May-2020 ) | C26: 4167 | F26: =F25+D26-E26 -> 16666.5
A27: 43963 | B27: BCE-RV-20050012, BCE-RV-20050013(12-May-2020)~RV/STW/2020/05/47032 (12-May-2020) $4167@1405 = KS 5,854,600 | C27: =C26-E27 -> 0 | E27: 4167 | F27: =F26+D27-E27 -> 12499.5
A28: 43988 | B28: 4 month after delivery - $ 4,167 ( 06-Jun-2020 ) | C28: 4167 | F28: =F27+D28-E28 -> 12499.5
A29: 43991 | B29: BCE-RV-20060013, BCE-RV-20060014(10-Jun-2020)~RV/STW/2020/06/28141 (9-Jun-2020) $4167 @1407 = KS 5,863,000 | E29: 4167 | F29: =F28+D29-E29 -> 8332.5
A30: 44018 | B30: 5 month after delivery - $ 4,167 ( 06-Jul-2020 ) | C30: 4167 | F30: =F29+D30-E30 -> 8332.5
A31: 44029 | B31: BCE-RV-20070047, BCE-RV-20070048(17-Jul-2020)~RV/STW/2020/07/47046 (17-Jul-2020) ($4167 @1381 = KS 5,755,000) | C31: =C30-E31 -> 0 | E31: 4167 | F31: =F30+D31-E31 -> 4165.5
A32: 44049 | B32: 6 month after delivery - $ 4,165 ( 06-Aug-2020 ) | C32: 4165.5 | F32: =F31+D32-E32 -> 4165.5
A33: 44060 | B33: BCE-RV-20080028, BCE-RV-20080029(18-Aug-2020)~RV/STW/2020/08/47050 (17-Aug-2020) ($4165.50 rate 1375 = Ks 5,726,800/ Dis ks 762.5) | E33: 4165.5 | F33: =F32+D33-E33 -> 0
F34: =F33+D34-E34 -> 0
F35: =F34+D35-E35 -> 0
F36: =F35+D36-E36 -> 0
F37: =F36+D37-E37 -> 0
A38: Total | C38: =SUM(C20:C37) -> 50000.5 | D38: =SUM(D20:D37) -> 0 | E38: =SUM(E20:E37) -> 50000.5 | F38: =+F37 -> 0
D41: =C36*5% -> 0

Sheet Kyaw Min Tun (2)
D4: =TODAY() -> 45307
D6: Summary | E6: USD
A7: Customer Statement | C7: စာခ်ဴပ္ပါအေရာင္းတန္ဘိုး | D7: Contracted Amt | E7: =D19 -> 37190
A8: Customer | B8: KYAW MIN TUN, U (STW) | C8: ရက္လြန္ဒဏ္ေၾကး | D8: Fine to Date | E8: =+D32 -> 0
A9: Contact Person | B9: Kyaw Min Tun | C9: စုစုေပါင္းရရန္ွရွိ | D9: Total AR | E9: =SUM(E7:E8) -> 37190
A10: Saleman | B10: Aung Than Htay | C10: လက္ရွိေပးသြင္းျပီးေငြ | D10: Payment to Date | E10: =+E32 -> 0
A11: No. Contract | B11: HS-282/2017 | C11: စုစုေပါင္းေပးရန္တာ၀န္ | D11: Total Payable | E11: =+E9-E10 -> 37190
A12: Interest Rate | C12: အျမန္ဆံုးေပးသြင္းရမည့္ေငြ | D12: Overdue | E12: =SUM(C20:C22) -> 13500
A13: AR Invoice No | B13: AR 30001086 | C13: ထပ္မံေပးရန္က်န္ရွိေငြ | D13: Future Due | E13: =SUM(C23:C27) -> 23690
A14: SO Invoice No | B14: SO 30001116 | D14: Fine to Date
B16: SUNWARD MINI EXCAVATOR SWE60E 1 unit /SN:SWE60E01250
A17: Date | B17: Particular | C17: Installment Plan | D17: Due | E17: Paid | F17: Bal:
A19: 43794 | B19: Aggrement Contract (Principle $24190 + Fine $13000) | D19: 37190 | F19: =D19-E19 -> 37190
A20: 43860 | B20: 1 month after delivery ( $ 4500 ) | C20: 4500 | F20: =F19+D20-E20 -> 37190
A21: 43889 | B21: 2 month after delivery ( $ 4500 ) | C21: 4500 | F21: =F20+D21-E21 -> 37190
A22: 43920 | B22: 3 month after delivery ( $ 4500 ) | C22: 4500 | F22: =F21+D22-E22 -> 37190
A23: 43951 | B23: 4 month after delivery ( $ 4500 ) | C23: 4500 | F23: =F22+D23-E23 -> 37190
A24: 43981 | B24: 5 month after delivery ( $ 4500 ) | C24: 4500 | F24: =F23+D24-E24 -> 37190
A25: 44012 | B25: 6 month after delivery ( $ 4500 ) | C25: 4500 | F25: =F24+D25-E25 -> 37190
A26: 44043 | B26: 7 month after delivery ( $ 4500 ) | C26: 4500 | F26: =F25+D26-E26 -> 37190
A27: 44073 | B27: 8 month after delivery ( $ 5690 ) | C27: 5690 | F27: =F26+D27-E27 -> 37190
F28: =F27+D28-E28 -> 37190
F29: =F28+D29-E29 -> 37190
F30: =F29+D30-E30 -> 37190
F31: =F30+D31-E31 -> 37190
A32: Total | C32: =SUM(C20:C31) -> 37190 | D32: =SUM(D20:D31) -> 0 | E32: =SUM(E20:E31) -> 0 | F32: =+F31 -> 37190
E34: =D19-E45 -> 1842.5
D37: =TODAY() -> 45307
D39: Summary | E39: USD
A40: Customer Statement | C40: စာခ်ဴပ္ပါအေရာင္းတန္ဘိုး | D40: Contacted Amt | E40: =+D52 -> 59629.5
A41: Customer | B41: KYAW MIN TUN, U (STW) | C41: ရက္လြန္ဒဏ္ေၾကး | D41: Fine to Date | E41: =+D119 -> 33134.45
A42: Contact Person | B42: Kyaw Min Tun | C42: စုစုေပါင္းရရန္ွရွိ | D42: Total AR | E42: =SUM(E40:E41) -> 92763.95
A43: Saleman | B43: Aung Than Htay | C43: လက္ရွိေပးသြင္းျပီးေငြ | D43: Payment to Date | E43: =+E119 -> 35439.36
A44: No. Contract | C44: စုစုေပါင္းေပးရန္တာ၀န္ | D44: Total Payable | E44: =+E42-E43 -> 57324.59
A45: Interest Rate | C45: အျမန္ဆံုးေပးသြင္းရမည့္ေငြ | D45: Overdue | E45: =SUM(C61:C112) -> 35347.5
A46: AR Invoice No | B46: AR 30001086 | C46: ထပ္မံေပးရန္က်န္ရွိေငြ | D46: Future Due | E46: =SUM(C113) -> 0
A47: Sale Order No | B47: SO 30001116 | D47: Fine to Date | E47: =D119-(E59+E63+E65+E71+E73+E79+E81+E85+E87+E91+E92+E94+E98+E102+E106+E110+E67+E75) -> 21977.09
B49: SUNWARD MINI EXCAVATOR SWE60E 1 unit /SN:SWE60E01250
A50: Date | C50: Installment Plan | D50: Due | E50: Paid | F50: Bal:
B52: Machine Price $55,000 (Landed Price ) | D52: 59629.5 | F52: =D52-E52 -> 59629.5
...
