Workbook
Name List: #REF!
Name List: #REF!
Name List: #REF!
Name List: #REF!
Name List: #REF!
Name List: #REF!
Name valuevx: 42.314159

Sheet BMC Mail Data (2)
A1: BMC BU S'parts | H1: Complete | I1: Shortage+ | N1: Surplus- | P1: Damage
A2: No | C2: Product Code | D2: Product Name | E2: Product Brand | F2: UOM | G2: P Price $ | H2: C/L Qty (13/1/2024) | I2: Actual Qty | L2: Moto | M2: T/F | N2: Ground Date | O2: M/E | P2: Dead Stock | Q2: T/F | R2: Damage | S2: Different Qty | T2: Remark
A3: 1 | B3: =TRIM(C3) -> B073969 | C3: B073969 | D3: Hl Bezel Beading | E3: Matador | F3: Pcs | G3: 0.39 | H3: 29 | I3: 29 | J3: =VLOOKUP(B3,'[1]Jan''24 (3)'!$G$4:$T$2414,14,0) -> 11.31 | K3: =J3-I3 -> -17.69 | L3: =J3=I3 -> FALSE | M3: =I3=L3 -> FALSE | N3: 45310 | O3: M | Q3: =H3=I3 -> TRUE | S3: =H3-I3 -> 0
A4: 2 | B4: =TRIM(C4) -> B074170 | C4: B074170 | D4: Side Blinker S/H LH | E4: Matador | F4: Pcs | G4: 3.83 | H4: 1 | I4: 1 | J4: =VLOOKUP(B4,'[1]Jan''24 (3)'!$G$4:$T$2414,14,0) -> 3.83 | K4: =J4-I4 -> 2.83 | L4: =J4=I4 -> FALSE | M4: =I4=L4 -> FALSE | N4: 45309 | O4: M | Q4: =H4=I4 -> TRUE | S4: =H4-I4 -> 0
A5: 3 | B5: =TRIM(C5) -> 8771 | C5: 8771 | D5: OIL SEAL ( 18-24-4 ) | E5: Matador | F5: Pcs | G5: 0.14 | H5: =23-1 -> 22 | I5: 22 | J5: =VLOOKUP(B5,'[1]Jan''24 (3)'!$G$4:$T$2414,14,0) -> 3.08 | K5: =J5-I5 -> -18.92 | L5: =J5=I5 -> FALSE | M5: =I5=L5 -> FALSE | N5: 45309 | O5: E | Q5: =H5=I5 -> TRUE | S5: =H5-I5 -> 0 | T5: SPDO-BMC-UMG-HO-3W-2024-01-0063-2(16.1.24=1pc)
A6: 4 | B6: =TRIM(C6) -> 20359 | C6: 20359 | D6: SEAL RING(Rear Suspension) | E6: Matador | F6: Pcs | G6: 0.23 | H6: =7-1 -> 6 | I6: 6 | J6: =VLOOKUP(B6,'[1]Jan''24 (3)'!$G$4:$T$2414,14,0) -> 1.38 | K6: =J6-I6 -> -4.62 | L6: =J6=I6 -> FALSE | M6: =I6=L6 -> FALSE | N6: 45310 | O6: E | Q6: =H6=I6 -> TRUE | S6: =H6-I6 -> 0 | T6: SPDO-BMC-UMG-HO-3W-2024-01-0063-2(16.1.24=1pc)
A7: 5 | B7: =TRIM(C7) -> 74414 | C7: 74414 | D7: BUFFER FOR COUPLING SHOCK ABSORBER | E7: Matador | F7: Pcs | G7: 0.17 | H7: 26 | I7: 26 | J7: =VLOOKUP(B7,'[1]Jan''24 (3)'!$G$4:$T$2414,14,0) -> 4.42 | K7: =J7-I7 -> -21.58 | L7: =J7=I7 -> FALSE | M7: =I7=L7 -> FALSE | N7: 45310 | O7: M | Q7: =H7=I7 -> TRUE | S7: =H7-I7 -> 0
A8: 6 | B8: =TRIM(C8) -> 75708 | C8: 75708 | D8: SILENT BLOCK | E8: Matador | F8: Pcs | G8: 0.47 | H8: 10 | I8: 10 | J8: =VLOOKUP(B8,'[1]Jan''24 (3)'!$G$4:$T$2414,14,0) -> 4.7 | K8: =J8-I8 -> -5.3 | L8: =J8=I8 -> FALSE | M8: =I8=L8 -> FALSE | N8: 45309 | O8: E | Q8: =H8=I8 -> TRUE | S8: =H8-I8 -> 0
A9: 7 | B9: =TRIM(C9) -> 107718 | C9: 107718 | D9: ROLLER BUSH | E9: Matador | F9: Pcs | G9: 0.84 | H9: 134 | I9: =62*2+10 -> 134 | J9: =VLOOKUP(B9,'[1]Jan''24 (3)'!$G$4:$T$2414,14,0) -> 112.56 | K9: =J9-I9 -> -21.44 | L9: =J9=I9 -> FALSE | M9: =I9=L9 -> FALSE | N9: 45313 | O9: E | Q9: =H9=I9 -> TRUE | S9: =H9-I9 -> 0
A10: 8 | B10: =TRIM(C10) -> 109117 | C10: 109117 | D10: RING | E10: Matador | F10: Pcs | G10: 0.8 | H10: 16 | I10: 16 | J10: =VLOOKUP(B10,'[1]Jan''24 (3)'!$G$4:$T$2414,14,0) -> 12.8 | K10: =J10-I10 -> -3.2 | L10: =J10=I10 -> FALSE | M10: =I10=L10 -> FALSE | N10: 45309 | O10: E | Q10: =H10=I10 -> TRUE | S10: =H10-I10 -> 0
A11: 9 | B11: =TRIM(C11) -> 136434 | C11: 136434 | D11: OIL SEAL | E11: Matador | F11: Pcs | G11: 0.14 | H11: 5 | I11: 5 | J11: =VLOOKUP(B11,'[1]Jan''24 (3)'!$G$4:$T$2414,14,0) -> 0.7 | K11: =J11-I11 -> -4.3 | L11: =J11=I11 -> FALSE | M11: =I11=L11 -> FALSE | N11: 45309 | O11: E | Q11: =H11=I11 -> TRUE | S11: =H11-I11 -> 0
A12: 10 | B12: =TRIM(C12) -> 137235 | C12: 137235 | D12: "STEERING PIN ""APE 501-400""" | E12: Matador | F12: Pcs | G12: 0.74 | H12: 69 | I12: 69 | J12: =VLOOKUP(B12,'[1]Jan''24 (3)'!$G$4:$T$2414,14,0) -> 51.06 | K12: =J12-I12 -> -17.94 | L12: =J12=I12 -> FALSE | M12: =I12=L12 -> FALSE | N12: 45310 | O12: M | Q12: =H12=I12 -> TRUE | S12: =H12-I12 -> 0
A13: 11 | B13: =TRIM(C13) -> 183511 | C13: 183511 | D13: OIL SEAL | E13: Matador | F13: Pcs | G13: 0.14 | H13: 14 | I13: 14 | J13: =VLOOKUP(B13,'[1]Jan''24 (3)'!$G$4:$T$2414,14,0) -> 1.96 | K13: =J13-I13 -> -12.04 | L13: =J13=I13 -> FALSE | M13: =I13=L13 -> FALSE | N13: 45309 | O13: E | Q13: =H13=I13 -> TRUE | S13: =H13-I13 -> 0
A14: 12 | B14: =TRIM(C14) -> 196302 | C14: 196302 | D14: OIL SEAL | E14: Matador | F14: Pcs | G14: 0.22 | H14: 19 | I14: 19 | J14: =VLOOKUP(B14,'[1]Jan''24 (3)'!$G$4:$T$2414,14,0) -> 4.18 | K14: =J14-I14 -> -14.82 | L14: =J14=I14 -> FALSE | M14: =I14=L14 -> FALSE | N14: 45309 | O14: E | Q14: =H14=I14 -> TRUE | S14: =H14-I14 -> 0
A15: 13 | B15: =TRIM(C15) -> 567992 | C15: 567992 | D15: BRG RACE L/T (TH)(Front Suspension, Bottom) | E15: Matador | F15: Pcs | G15: 2.6 | H15: 5 | I15: 5 | J15: =VLOOKUP(B15,'[1]Jan''24 (3)'!$G$4:$T$2414,14,0) -> 13 | K15: =J15-I15 -> 8 | L15: =J15=I15 -> FALSE | M15: =I15=L15 -> FALSE | N15: 45310 | O15: M | Q15: =H15=I15 -> TRUE | S15: =H15-I15 -> 0
A16: 14 | B16: =TRIM(C16) -> 567993 | C16: 567993 | D16: BRG RACE L/B(TH)(Front Suspension, Bottom) | E16: Matador | F16: Pcs | G16: 1.28 | H16: 4 | I16: 4 | J16: =VLOOKUP(B16,'[1]Jan''24 (3)'!$G$4:$T$2414,14,0) -> 5.12 | K16: =J16-I16 -> 1.12 | L16: =J16=I16 -> FALSE | M16: =I16=L16 -> FALSE | N16: 45310 | O16: M | Q16: =H16=I16 -> TRUE | S16: =H16-I16 -> 0
A17: 15 | B17: =TRIM(C17) -> 568289 | C17: 568289 | D17: RUBBER BUMPER | E17: Matador | F17: Pcs | G17: 5.32 | H17: 7 | I17: 7 | J17: =VLOOKUP(B17,'[1]Jan''24 (3)'!$G$4:$T$2414,14,0) -> 37.24 | K17: =J17-I17 -> 30.24 | L17: =J17=I17 -> FALSE | M17: =I17=L17 -> FALSE | N17: 45310 | O17: M | Q17: =H17=I17 -> TRUE | S17: =H17-I17 -> 0
A18: 16 | B18: =TRIM(C18) -> 587617 | C18: 587617 | D18: ELASTIC JOINT CONNCETION HUB (WHL.SIDE) | E18: Matador | F18: Pcs | G18: 4.86 | H18: 2 | I18: 2 | J18: =VLOOKUP(B18,'[1]Jan''24 (3)'!$G$4:$T$2414,14,0) -> 9.72 | K18: =J18-I18 -> 7.72 | L18: =J18=I18 -> FALSE | M18: =I18=L18 -> FALSE | N18: 45309 | O18: M | Q18: =H18=I18 -> TRUE | S18: =H18-I18 -> 0
A19: 17 | B19: =TRIM(C19) -> 587806 | C19: 587806 | D19: CLUTCH CONTROL CABLE WITH TERMINAL (Clutch Inner) | E19: Matador | F19: Pcs | G19: 0.42 | H19: 13 | I19: 13 | J19: =VLOOKUP(B19,'[1]Jan''24 (3)'!$G$4:$T$2414,14,0) -> 5.46 | K19: =J19-I19 -> -7.54 | L19: =J19=I19 -> FALSE | M19: =I19=L19 -> FALSE | N19: 45309 | O19: M | Q19: =H19=I19 -> TRUE | S19: =H19-I19 -> 0
A20: 18 | B20: =TRIM(C20) -> 587812 | C20: 587812 | D20: TRANSMISSION CABLE FOR ODOMETER (Mileage Inner) | E20: Matador | F20: Pcs | G20: 0.6 | H20: 135 | I20: 135 | J20: =VLOOKUP(B20,'[1]Jan''24 (3)'!$G$4:$T$2414,14,0) -> 81 | K20: =J20-I20 -> -54 | L20: =J20=I20 -> FALSE | M20: =I20=L20 -> FALSE | N20: 45308 | O20: M | Q20: =H20=I20 -> TRUE | S20: =H20-I20 -> 0
A21: 19 | B21: =TRIM(C21) -> 587919 | C21: 587919 | D21: CABLE,GEAR CONTROL ASSLY NO.2(LIGHT GREY) ( Gear Assly) | E21: Matador | F21: Pcs | G21: 0.85 | H21: =15-1-2-1-1 -> 10 | I21: 10 | J21: =VLOOKUP(B21,'[1]Jan''24 (3)'!$G$4:$T$2414,14,0) -> 8.5 | K21: =J21-I21 -> -1.5 | L21: =J21=I21 -> FALSE | M21: =I21=L21 -> FALSE | N21: 45309 | O21: M | Q21: =H21=I21 -> TRUE | S21: =H21-I21 -> 0 | T21: SPDO-BMC-UMG-HO-3W-2024-01-0051,0052,0053,0054(15,16.1.24=1pc)
A22: 20 | B22: =TRIM(C22) -> 604508 | C22: 604508 | D22: DECOMPRESSOR CONTROL CABLE INNER ( DC/Choke Inner) | E22: Matador | F22: Pcs | G22: 0.24 | H22: 2 | I22: 2 | J22: =VLOOKUP(B22,'[1]Jan''24 (3)'!$G$4:$T$2414,14,0) -> 0.48 | K22: =J22-I22 -> -1.52 | L22: =J22=I22 -> FALSE | M22: =I22=L22 -> FALSE | N22: 45309 | O22: M | Q22: =H22=I22 -> TRUE | S22: =H22-I22 -> 0
A23: 21 | B23: =TRIM(C23) -> 604535 | C23: 604535 | D23: FLEXIBLE COUPLING | E23: Matador | F23: Pcs | G23: 3.04 | H23: =7-1-1 -> 5 | I23: 5 | J23: =VLOOKUP(B23,'[1]Jan''24 (3)'!$G$4:$T$2414,14,0) -> 15.2 | K23: =J23-I23 -> 10.2 | L23: =J23=I23 -> FALSE | M23: =I23=L23 -> FALSE | N23: 45316 | O23: E | Q23: =H23=I23 -> TRUE | S23: =H23-I23 -> 0 | T23: SPDO-BMC-UMG-HO-3W-2024-01-0057,0060(16.1.24=1pc)
A24: 22 | B24: =TRIM(C24) -> 604779 | C24: 604779 | D24: CLUTCH CONTROL TRANSMISSION ASSLY.(Clutch Assly) | E24: Matador | F24: Pcs | G24: 1.27 | H24: =1-1 -> 0 | I24: 0 | J24: =VLOOKUP(B24,'[1]Jan''24 (3)'!$G$4:$T$2414,14,0) -> 0 | K24: =J24-I24 -> 0 | L24: =J24=I24 -> TRUE | M24: =I24=L24 -> FALSE | N24: 45320 | O24: E | Q24: =H24=I24 -> TRUE | S24: =H24-I24 -> 0 | T24: SPDO-BMC-UMG-HO-3W-2024-01-0066(23.1.24=1pc)
A25: 23 | B25: =TRIM(C25) -> 632428P | C25: 632428P | D25: FILTER ELEMENT ASSLY ( ENGINETECH AIR FI | E25: Matador | F25: Pcs | G25: 2.54 | H25: 21 | I25: 22 | J25: =VLOOKUP(B25,'[1]Jan''24 (3)'!$G$4:$T$2414,14,0) -> 55.88 | K25: =J25-I25 -> 33.88 | L25: =J25=I25 -> FALSE | M25: =I25=L25 -> FALSE | N25: 45308 | O25: M | Q25: =H25=I25 -> FALSE | S25: =H25-I25 -> -1
A26: 24 | B26: =TRIM(C26) -> 645124 | C26: 645124 | D26: SPEEDOCABLE - VE (Mileage Assly) | E26: Matador | F26: Pcs | G26: 1.77 | H26: =172-1 -> 171 | I26: =17+50+50+50+4 -> 171 | J26: =VLOOKUP(B26,'[1]Jan''24 (3)'!$G$4:$T$2414,14,0) -> 302.67 | K26: =J26-I26 -> 131.67 | L26: =J26=I26 -> FALSE | M26: =I26=L26 -> FALSE | N26: 45316 | O26: E | Q26: =H26=I26 -> TRUE | S26: =H26-I26 -> 0 | T26: SPDO-BMC-UMG-HO-3W-2024-01-0064(17.1.24=1pc)
A27: 25 | B27: =TRIM(C27) -> 661282 | C27: 661282 | D27: NEEDLE ROLLER BEARING(Rear Suspension) | E27: Matador | F27: Pcs | G27: 1.08 | H27: =10-2-2-1 -> 5 | I27: 5 | J27: =VLOOKUP(B27,'[1]Jan''24 (3)'!$G$4:$T$2414,14,0) -> 5.4 | K27: =J27-I27 -> 0.4 | L27: =J27=I27 -> FALSE | M27: =I27=L27 -> FALSE | N27: 45308 | O27: E | Q27: =H27=I27 -> TRUE | S27: =H27-I27 -> 0 | T27: SPDO-BMC-UMG-HO-3W-2024-01-0053,0054,0061(15.1.24=2,2,1pc)
A28: 26 | B28: =TRIM(C28) -> 925508 | C28: 925508 | D28: MAJOR KIT TMC (KBX 1008) | E28: Matador | F28: Pcs | G28: 7.55 | H28: 3 | I28: 3 | J28: =VLOOKUP(B28,'[1]Jan''24 (3)'!$G$4:$T$2414,14,0) -> 22.65 | K28: =J28-I28 -> 19.65 | L28: =J28=I28 -> FALSE | M28: =I28=L28 -> FALSE | N28: 45310 | O28: M | Q28: =H28=I28 -> TRUE | S28: =H28-I28 -> 0
A29: 27 | B29: =TRIM(C29) -> 925509 | C29: 925509 | D29: MINOR KIT TMC (KBX 1009) | E29: Matador | F29: Pcs | G29: 3.2 | H29: 4 | I29: 4 | J29: =VLOOKUP(B29,'[1]Jan''24 (3)'!$G$4:$T$2414,14,0) -> 12.8 | K29: =J29-I29 -> 8.8 | L29: =J29=I29 -> FALSE | M29: =I29=L29 -> FALSE | N29: 45310 | O29: M | Q29: =H29=I29 -> TRUE | S29: =H29-I29 -> 0
A30: 28 | B30: =TRIM(C30) -> 925573 | C30: 925573 | D30: MAJOR KIT WHL CYL. RR ( KBX 1109 )(FOR 6 | E30: Matador | F30: Pcs | G30: 2.44 | H30: =1-1 -> 0 | I30: 0 | J30: =VLOOKUP(B30,'[1]Jan''24 (3)'!$G$4:$T$2414,14,0) -> 0 | K30: =J30-I30 -> 0 | L30: =J30=I30 -> TRUE | M30: =I30=L30 -> FALSE | N30: 45320 | O30: E | Q30: =H30=I30 -> TRUE | S30: =H30-I30 -> 0 | T30: SPDO-BMC-UMG-HO-3W-2024-01-0066(23.1.24=1pc)
A31: 29 | B31: =TRIM(C31) -> 925574 | C31: 925574 | D31: MINOR KIT WHL CYL. RR ( KBX 1110 )(FOR 6 | E31: Matador | F31: Pcs | G31: 0.61 | H31: 6 | I31: 6 | J31: =VLOOKUP(B31,'[1]Jan''24 (3)'!$G$4:$T$2414,14,0) -> 3.66 | K31: =J31-I31 -> -2.34 | L31: =J31=I31 -> FALSE | M31: =I31=L31 -> FALSE | N31: 45310 | O31: M | Q31: =H31=I31 -> TRUE | S31: =H31-I31 -> 0
A32: 30 | B32: =TRIM(C32) -> 940004 | C32: 940004 | D32: FRONT BRAKE SHOE SET | E32: Matador | F32: Pcs | G32: 3.45 | H32: 7 | I32: 9 | J32: =VLOOKUP(B32,'[1]Jan''24 (3)'!$G$4:$T$2414,14,0) -> 31.05 | K32: =J32-I32 -> 22.05 | L32: =J32=I32 -> FALSE | M32: =I32=L32 -> FALSE | N32: 45310 | O32: M | Q32: =H32=I32 -> FALSE | S32: =H32-I32 -> -2
A33: 31 | B33: =TRIM(C33) -> 120212012 | C33: 120212012 | D33: (*) NEEDLE BUSH | E33: Matador | F33: Pcs | G33: 0.63 | H33: 2 | I33: 2 | J33: =VLOOKUP(B33,'[1]Jan''24 (3)'!$G$4:$T$2414,14,0) -> 1.26 | K33: =J33-I33 -> -0.74 | L33: =J33=I33 -> FALSE | M33: =I33=L33 -> FALSE | N33: 45309 | O33: E | Q33: =H33=I33 -> TRUE | S33: =H33-I33 -> 0
A34: 32 | B34: =TRIM(C34) -> 127141016 | C34: 127141016 | D34: GASKET G.B. COVER | E34: Matador | F34: Pcs | G34: 0.41 | H34: 13 | I34: 13 | J34: =VLOOKUP(B34,'[1]Jan''24 (3)'!$G$4:$T$2414,14,0) -> 5.33 | K34: =J34-I34 -> -7.67 | L34: =J34=I34 -> FALSE | M34: =I34=L34 -> FALSE | N34: 45309 | O34: E | Q34: =H34=I34 -> TRUE | S34: =H34-I34 -> 0
A35: 33 | B35: =TRIM(C35) -> 127290013 | C35: 127290013 | D35: PLUNGER SHAFT | E35: Matador | F35: Pcs | G35: 0.68 | H35: 13 | I35: 13 | J35: =VLOOKUP(B35,'[1]Jan''24 (3)'!$G$4:$T$2414,14,0) -> 8.84 | K35: =J35-I35 -> -4.16 | L35: =J35=I35 -> FALSE | M35: =I35=L35 -> FALSE | N35: 45310 | O35: E | Q35: =H35=I35 -> TRUE | S35: =H35-I35 -> 0
A36: 34 | B36: =TRIM(C36) -> 127640012 | C36: 127640012 | D36: COMPLETE GEAR SHIFTER HSG ASSLY | E36: Matador | F36: Pcs | G36: 3.57 | H36: 1 | I36: 1 | J36: =VLOOKUP(B36,'[1]Jan''24 (3)'!$G$4:$T$2414,14,0) -> 3.57 | K36: =J36-I36 -> 2.57 | L36: =J36=I36 -> FALSE | M36: =I36=L36 -> FALSE | N36: 45310 | O36: E | Q36: =H36=I36 -> TRUE | S36: =H36-I36 -> 0
A37: 35 | B37: =TRIM(C37) -> 127691011P | C37: 127691011P | D37: CLUTCH BOX | E37: Matador | F37: Pcs | G37: 1.69 | H37: 1 | I37: 1 | J37: =VLOOKUP(B37,'[1]Jan''24 (3)'!$G$4:$T$2414,14,0) -> 1.69 | K37: =J37-I37 -> 0.69 | L37: =J37=I37 -> FALSE | M37: =I37=L37 -> FALSE | N37: 45310 | O37: E | Q37: =H37=I37 -> TRUE | S37: =H37-I37 -> 0
A38: 36 | B38: =TRIM(C38) -> 127692015 | C38: 127692015 | D38: DRIVING PLATE THK. 2.0 MM | E38: Matador | F38: Pcs | G38: 0.3 | H38: 412 | I38: =172+240 -> 412 | J38: =VLOOKUP(B38,'[1]Jan''24 (3)'!$G$4:$T$2414,14,0) -> 123.6 | K38: =J38-I38 -> -288.4 | L38: =J38=I38 -> FALSE | M38: =I38=L38 -> FALSE | N38: 45310 | O38: E | Q38: =H38=I38 -> TRUE | S38: =H38-I38 -> 0
A39: 37 | B39: =TRIM(C39) -> 127693019 | C39: 127693019 | D39: PRESSURE PLATE OUTER (VE) | E39: Matador | F39: Pcs | G39: 0.31 | H39: 69 | I39: 69 | J39: =VLOOKUP(B39,'[1]Jan''24 (3)'!$G$4:$T$2414,14,0) -> 21.39 | K39: =J39-I39 -> -47.61 | L39: =J39=I39 -> FALSE | M39: =I39=L39 -> FALSE | N39: 45310 | O39: E | Q39: =H39=I39 -> TRUE | S39: =H39-I39 -> 0
A40: 38 | B40: =TRIM(C40) -> 127740018 | C40: 127740018 | D40: CLUTCH SHAFT ASSLY (IMPROVED) | E40: Matador | F40: Pcs | G40: 3.84 | H40: 3 | I40: 3 | J40: =VLOOKUP(B40,'[1]Jan''24 (3)'!$G$4:$T$2414,14,0) -> 11.52 | K40: =J40-I40 -> 8.52 | L40: =J40=I40 -> FALSE | M40: =I40=L40 -> FALSE | N40: 45310 | O40: E | Q40: =H40=I40 -> TRUE | S40: =H40-I40 -> 0
...

Sheet Summary List
B1: BMC BU S'parts Ground Stock Taking Summary Report
B2: Physical Stock Taking Cut off date:17.1.24~31.1.24 and Transaction Cut off date:2.2.24.
B4: Final Summary List
B5: Sr. No. | C5: Product Brand | D5: Total C/L Qty (13.1.24) | E5: Total Actual Ground Item | F5: Total Actual Ground Qty | G5: Different Ground (Qty) | H5: Different Ground Surplus (Price $) | I5: Different Ground Shortage (Price $) | J5: Different Ground Damage (Price $) | K5: Remark
B6: 1 | C6: DAMON | D6: 6428 | E6: 183 | F6: 6459 | G6: =D6-F6 -> -31 | H6: 64.73 | I6: 0 | J6: 1.98 | K6: Surplus-31Pcs & Damage-1Pc.
B7: 2 | C7: DENSO | D7: 4 | E7: 1 | F7: 4 | G7: =D7-F7 -> 0 | H7: 0 | I7: 0 | J7: 0
B8: 3 | C8: Giant | D8: 0 | E8: 2 | F8: 2 | G8: =D8-F8 -> -2 | H8: 0.02 | I8: 0 | J8: 0 | K8: Surplus-2Pcs.
B9: 4 | C9: KAWASAKI | D9: 3848 | E9: 576 | F9: 3954 | G9: =D9-F9 -> -106 | H9: 5268 | J9: 164.07 | K9: Surplus-106Pcs & Damage-13Pcs.
B10: 5 | C10: Matador | D10: 14050 | E10: 925 | F10: 14202 | G10: =D10-F10 -> -152 | H10: 418.66 | I10: 0 | J10: 191.78 | K10: Surplus-152Pcs & Damage-66Pcs.
B11: 6 | C11: RT250i | D11: 192 | E11: 90 | F11: 195 | G11: =D11-F11 -> -3 | H11: 183.39 | I11: 0 | J11: 0 | K11: Surplus-3Pcs.
B12: 7 | C12: SELENA | D12: 324 | E12: 79 | F12: 330 | G12: =D12-F12 -> -6 | H12: 53.94 | I12: 0 | J12: 0 | K12: Surplus-6Pcs.
B13: 8 | C13: Star | D13: 0 | E13: 1 | F13: 1 | G13: =D13-F13 -> -1 | H13: 0 | I13: 0 | J13: 0
B14: 9 | C14: UMG Motor | D14: 1532 | E14: 142 | F14: 1550 | G14: =D14-F14 -> -18 | H14: 27.37 | I14: 0 | J14: 4.43 | K14: Surplus-18Pcs & Damage-2Pcs.
B15: 10 | C15: Vespa | D15: 1378 | E15: 276 | F15: 1377 | G15: =D15-F15 -> 1 | H15: 92.19 | I15: 24.6 | J15: 2.66 | K15: Surplus-1Pcs& Shortage-2 & Damage-1Pcs.
B16: 11 | C16: Volvoline | D16: 12 | E16: 1 | F16: 8 | G16: =D16-F16 -> 4 | H16: 0 | I16: 16.25 | J16: 0 | K16: Shortage-4Pcs.
B17: Total | D17: =SUM(D6:D16) -> 27768 | E17: =SUM(E6:E16) -> 2276 | F17: =SUM(F6:F16) -> 28082 | G17: =SUM(G6:G16) -> -314 | H17: =SUM(H6:H16) -> 6108.3 | I17: =SUM(I6:I16) -> 40.85 | J17: =SUM(J6:J16) -> 364.92
B21: Thin Thin N'we | D21: Kyaw Myo Swe & Aung Phyo Hein | F21: Aye Thandar Htwe | H21: Min Paing Phyo | J21: Zin Zin Mar & Khin Yadanar Htun
B22: Cor Inventory | D22: Cor Inventory | F22: S'parts Head | H22: Service & S'parts Head | J22: F/A
B23: CFD DIV | D23: CFD DIV | F23: BMC BU | H23: BMC BU | J23: BMC BU
B27: Zin Mar Thaung(Ms.) | D27: Chit San Ko(Mr.) | F27: Win Theingi Nwe(Mrs.) | H27: Phyo Ko Ko | J27: Zaw Min Myat(Mr.) | K27: Aye Min Htoo(Mr.)
B28: AGM | D28: GM | F28: AGM | H28: OM | J28: ACOO | K28: VCM
B29: CFD DIV | D29: BMC BU | F29: BMC BU | H29: BMC BU

Sheet BMC Mail Data
A1: BMC BU S'parts | G1: Complete | H1: Shortage+ | K1: Surplus- | M1: Damage
A2: No | B2: Product Code | C2: Product Name | D2: Product Brand | E2: UOM | F2: P Price $ | G2: C/L Qty (13/1/2024) | H2: Actual Qty | K2: Ground Date | L2: M/E | M2: Dead Stock | N2: T/F | O2: Damage | P2: Different Qty | Q2: Remark
A3: 1 | B3: B073969 | C3: Hl Bezel Beading | D3: Matador | E3: Pcs | F3: 0.39 | G3: 29 | H3: 29 | I3: =VLOOKUP(B3:B2278,'[2]Qty by month'!$G$3:$N$527,8,0) -> #N/A | K3: 45310 | L3: M | N3: =G3=H3 -> TRUE | P3: =G3-H3 -> 0
A4: 2 | B4: B074170 | C4: Side Blinker S/H LH | D4: Matador | E4: Pcs | F4: 3.83 | G4: 1 | H4: 1 | I4: =VLOOKUP(B4:B2279,'[2]Qty by month'!$G$3:$N$527,8,0) -> #N/A | K4: 45309 | L4: M | N4: =G4=H4 -> TRUE | P4: =G4-H4 -> 0
A5: 3 | B5: 8771 | C5: OIL SEAL ( 18-24-4 ) | D5: Matador | E5: Pcs | F5: 0.14 | G5: =23-1 -> 22 | H5: 22 | I5: =VLOOKUP(B5:B2280,'[2]Qty by month'!$G$3:$N$527,8,0) -> #N/A | K5: 45309 | L5: E | N5: =G5=H5 -> TRUE | P5: =G5-H5 -> 0 | Q5: SPDO-BMC-UMG-HO-3W-2024-01-0063-2(16.1.24=1pc)
A6: 4 | B6: 20359 | C6: SEAL RING(Rear Suspension) | D6: Matador | E6: Pcs | F6: 0.23 | G6: =7-1 -> 6 | H6: 6 | I6: =VLOOKUP(B6:B2281,'[2]Qty by month'!$G$3:$N$527,8,0) -> #N/A | K6: 45310 | L6: E | N6: =G6=H6 -> TRUE | P6: =G6-H6 -> 0 | Q6: SPDO-BMC-UMG-HO-3W-2024-01-0063-2(16.1.24=1pc)
A7: 5 | B7: 74414 | C7: BUFFER FOR COUPLING SHOCK ABSORBER | D7: Matador | E7: Pcs | F7: 0.17 | G7: 26 | H7: 26 | I7: =VLOOKUP(B7:B2282,'[2]Qty by month'!$G$3:$N$527,8,0) -> #N/A | K7: 45310 | L7: M | N7: =G7=H7 -> TRUE | P7: =G7-H7 -> 0
A8: 6 | B8: 75708 | C8: SILENT BLOCK | D8: Matador | E8: Pcs | F8: 0.47 | G8: 10 | H8: 10 | I8: =VLOOKUP(B8:B2283,'[2]Qty by month'!$G$3:$N$527,8,0) -> #N/A | K8: 45309 | L8: E | N8: =G8=H8 -> TRUE | P8: =G8-H8 -> 0
A9: 7 | B9: 107718 | C9: ROLLER BUSH | D9: Matador | E9: Pcs | F9: 0.84 | G9: 134 | H9: =62*2+10 -> 134 | I9: =VLOOKUP(B9:B2284,'[2]Qty by month'!$G$3:$N$527,8,0) -> #N/A | K9: 45313 | L9: E | N9: =G9=H9 -> TRUE | P9: =G9-H9 -> 0
A10: 8 | B10: 109117 | C10: RING | D10: Matador | E10: Pcs | F10: 0.8 | G10: 16 | H10: 16 | I10: =VLOOKUP(B10:B2285,'[2]Qty by month'!$G$3:$N$527,8,0) -> #N/A | K10: 45309 | L10: E | N10: =G10=H10 -> TRUE | P10: =G10-H10 -> 0
A11: 9 | B11: 136434 | C11: OIL SEAL | D11: Matador | E11: Pcs | F11: 0.14 | G11: 5 | H11: 5 | I11: =VLOOKUP(B11:B2286,'[2]Qty by month'!$G$3:$N$527,8,0) -> #N/A | K11: 45309 | L11: E | N11: =G11=H11 -> TRUE | P11: =G11-H11 -> 0
A12: 10 | B12: 137235 | C12: "STEERING PIN ""APE 501-400""" | D12: Matador | E12: Pcs | F12: 0.74 | G12: 69 | H12: 69 | I12: =VLOOKUP(B12:B2287,'[2]Qty by month'!$G$3:$N$527,8,0) -> #N/A | K12: 45310 | L12: M | N12: =G12=H12 -> TRUE | P12: =G12-H12 -> 0
A13: 11 | B13: 183511 | C13: OIL SEAL | D13: Matador | E13: Pcs | F13: 0.14 | G13: 14 | H13: 14 | I13: =VLOOKUP(B13:B2288,'[2]Qty by month'!$G$3:$N$527,8,0) -> #N/A | K13: 45309 | L13: E | N13: =G13=H13 -> TRUE | P13: =G13-H13 -> 0
A14: 12 | B14: 196302 | C14: OIL SEAL | D14: Matador | E14: Pcs | F14: 0.22 | G14: 19 | H14: 19 | I14: =VLOOKUP(B14:B2289,'[2]Qty by month'!$G$3:$N$527,8,0) -> #N/A | K14: 45309 | L14: E | N14: =G14=H14 -> TRUE | P14: =G14-H14 -> 0
A15: 13 | B15: 567992 | C15: BRG RACE L/T (TH)(Front Suspension, Bottom) | D15: Matador | E15: Pcs | F15: 2.6 | G15: 5 | H15: 5 | I15: =VLOOKUP(B15:B2290,'[2]Qty by month'!$G$3:$N$527,8,0) -> #N/A | K15: 45310 | L15: M | N15: =G15=H15 -> TRUE | P15: =G15-H15 -> 0
A16: 14 | B16: 567993 | C16: BRG RACE L/B(TH)(Front Suspension, Bottom) | D16: Matador | E16: Pcs | F16: 1.28 | G16: 4 | H16: 4 | I16: =VLOOKUP(B16:B2291,'[2]Qty by month'!$G$3:$N$527,8,0) -> #N/A | K16: 45310 | L16: M | N16: =G16=H16 -> TRUE | P16: =G16-H16 -> 0
A17: 15 | B17: 568289 | C17: RUBBER BUMPER | D17: Matador | E17: Pcs | F17: 5.32 | G17: 7 | H17: 7 | I17: =VLOOKUP(B17:B2292,'[2]Qty by month'!$G$3:$N$527,8,0) -> #N/A | K17: 45310 | L17: M | N17: =G17=H17 -> TRUE | P17: =G17-H17 -> 0
A18: 16 | B18: 587617 | C18: ELASTIC JOINT CONNCETION HUB (WHL.SIDE) | D18: Matador | E18: Pcs | F18: 4.86 | G18: 2 | H18: 2 | I18: =VLOOKUP(B18:B2293,'[2]Qty by month'!$G$3:$N$527,8,0) -> #N/A | K18: 45309 | L18: M | N18: =G18=H18 -> TRUE | P18: =G18-H18 -> 0
A19: 17 | B19: 587806 | C19: CLUTCH CONTROL CABLE WITH TERMINAL (Clutch Inner) | D19: Matador | E19: Pcs | F19: 0.42 | G19: 13 | H19: 13 | I19: =VLOOKUP(B19:B2294,'[2]Qty by month'!$G$3:$N$527,8,0) -> #N/A | K19: 45309 | L19: M | N19: =G19=H19 -> TRUE | P19: =G19-H19 -> 0
A20: 18 | B20: 587812 | C20: TRANSMISSION CABLE FOR ODOMETER (Mileage Inner) | D20: Matador | E20: Pcs | F20: 0.6 | G20: 135 | H20: 135 | I20: =VLOOKUP(B20:B2295,'[2]Qty by month'!$G$3:$N$527,8,0) -> #N/A | K20: 45308 | L20: M | N20: =G20=H20 -> TRUE | P20: =G20-H20 -> 0
A21: 19 | B21: 587919 | C21: CABLE,GEAR CONTROL ASSLY NO.2(LIGHT GREY) ( Gear Assly) | D21: Matador | E21: Pcs | F21: 0.85 | G21: =15-1-2-1-1 -> 10 | H21: 10 | I21: =VLOOKUP(B21:B2296,'[2]Qty by month'!$G$3:$N$527,8,0) -> #N/A | K21: 45309 | L21: M | N21: =G21=H21 -> TRUE | P21: =G21-H21 -> 0 | Q21: SPDO-BMC-UMG-HO-3W-2024-01-0051,0052,0053,0054(15,16.1.24=1pc)
A22: 20 | B22: 604508 | C22: DECOMPRESSOR CONTROL CABLE INNER ( DC/Choke Inner) | D22: Matador | E22: Pcs | F22: 0.24 | G22: 2 | H22: 2 | I22: =VLOOKUP(B22:B2297,'[2]Qty by month'!$G$3:$N$527,8,0) -> #N/A | K22: 45309 | L22: M | N22: =G22=H22 -> TRUE | P22: =G22-H22 -> 0
A23: 21 | B23: 604535 | C23: FLEXIBLE COUPLING | D23: Matador | E23: Pcs | F23: 3.04 | G23: =7-1-1 -> 5 | H23: 5 | I23: =VLOOKUP(B23:B2298,'[2]Qty by month'!$G$3:$N$527,8,0) -> #N/A | K23: 45316 | L23: E | N23: =G23=H23 -> TRUE | P23: =G23-H23 -> 0 | Q23: SPDO-BMC-UMG-HO-3W-2024-01-0057,0060(16.1.24=1pc)
A24: 22 | B24: 604779 | C24: CLUTCH CONTROL TRANSMISSION ASSLY.(Clutch Assly) | D24: Matador | E24: Pcs | F24: 1.27 | G24: =1-1 -> 0 | H24: 0 | I24: =VLOOKUP(B24:B2299,'[2]Qty by month'!$G$3:$N$527,8,0) -> #N/A | K24: 45320 | L24: E | N24: =G24=H24 -> TRUE | P24: =G24-H24 -> 0 | Q24: SPDO-BMC-UMG-HO-3W-2024-01-0066(23.1.24=1pc)
A25: 23 | B25: 632428P | C25: FILTER ELEMENT ASSLY ( ENGINETECH AIR FI | D25: Matador | E25: Pcs | F25: 2.54 | G25: 21 | H25: 22 | I25: =VLOOKUP(B25:B2300,'[2]Qty by month'!$G$3:$N$527,8,0) -> #N/A | K25: 45308 | L25: M | N25: =G25=H25 -> FALSE | P25: =G25-H25 -> -1
A26: 24 | B26: 645124 | C26: SPEEDOCABLE - VE (Mileage Assly) | D26: Matador | E26: Pcs | F26: 1.77 | G26: =172-1 -> 171 | H26: =17+50+50+50+4 -> 171 | I26: =VLOOKUP(B26:B2301,'[2]Qty by month'!$G$3:$N$527,8,0) -> #N/A | K26: 45316 | L26: E | N26: =G26=H26 -> TRUE | P26: =G26-H26 -> 0 | Q26: SPDO-BMC-UMG-HO-3W-2024-01-0064(17.1.24=1pc)
A27: 25 | B27: 661282 | C27: NEEDLE ROLLER BEARING(Rear Suspension) | D27: Matador | E27: Pcs | F27: 1.08 | G27: =10-2-2-1 -> 5 | H27: 5 | I27: =VLOOKUP(B27:B2302,'[2]Qty by month'!$G$3:$N$527,8,0) -> #N/A | K27: 45308 | L27: E | N27: =G27=H27 -> TRUE | P27: =G27-H27 -> 0 | Q27: SPDO-BMC-UMG-HO-3W-2024-01-0053,0054,0061(15.1.24=2,2,1pc)
A28: 26 | B28: 925508 | C28: MAJOR KIT TMC (KBX 1008) | D28: Matador | E28: Pcs | F28: 7.55 | G28: 3 | H28: 3 | I28: =VLOOKUP(B28:B2303,'[2]Qty by month'!$G$3:$N$527,8,0) -> #N/A | K28: 45310 | L28: M | N28: =G28=H28 -> TRUE | P28: =G28-H28 -> 0
A29: 27 | B29: 925509 | C29: MINOR KIT TMC (KBX 1009) | D29: Matador | E29: Pcs | F29: 3.2 | G29: 4 | H29: 4 | I29: =VLOOKUP(B29:B2304,'[2]Qty by month'!$G$3:$N$527,8,0) -> #N/A | K29: 45310 | L29: M | N29: =G29=H29 -> TRUE | P29: =G29-H29 -> 0
A30: 28 | B30: 925573 | C30: MAJOR KIT WHL CYL. RR ( KBX 1109 )(FOR 6 | D30: Matador | E30: Pcs | F30: 2.44 | G30: =1-1 -> 0 | H30: 0 | I30: =VLOOKUP(B30:B2305,'[2]Qty by month'!$G$3:$N$527,8,0) -> #N/A | K30: 45320 | L30: E | N30: =G30=H30 -> TRUE | P30: =G30-H30 -> 0 | Q30: SPDO-BMC-UMG-HO-3W-2024-01-0066(23.1.24=1pc)
A31: 29 | B31: 925574 | C31: MINOR KIT WHL CYL. RR ( KBX 1110 )(FOR 6 | D31: Matador | E31: Pcs | F31: 0.61 | G31: 6 | H31: 6 | I31: =VLOOKUP(B31:B2306,'[2]Qty by month'!$G$3:$N$527,8,0) -> #N/A | K31: 45310 | L31: M | N31: =G31=H31 -> TRUE | P31: =G31-H31 -> 0
A32: 30 | B32: 940004 | C32: FRONT BRAKE SHOE SET | D32: Matador | E32: Pcs | F32: 3.45 | G32: 7 | H32: 9 | I32: =VLOOKUP(B32:B2307,'[2]Qty by month'!$G$3:$N$527,8,0) -> #N/A | K32: 45310 | L32: M | N32: =G32=H32 -> FALSE | P32: =G32-H32 -> -2
A33: 31 | B33: 120212012 | C33: (*) NEEDLE BUSH | D33: Matador | E33: Pcs | F33: 0.63 | G33: 2 | H33: 2 | I33: =VLOOKUP(B33:B2308,'[2]Qty by month'!$G$3:$N$527,8,0) -> #N/A | K33: 45309 | L33: E | N33: =G33=H33 -> TRUE | P33: =G33-H33 -> 0
A34: 32 | B34: 127141016 | C34: GASKET G.B. COVER | D34: Matador | E34: Pcs | F34: 0.41 | G34: 13 | H34: 13 | I34: =VLOOKUP(B34:B2309,'[2]Qty by month'!$G$3:$N$527,8,0) -> #N/A | K34: 45309 | L34: E | N34: =G34=H34 -> TRUE | P34: =G34-H34 -> 0
A35: 33 | B35: 127290013 | C35: PLUNGER SHAFT | D35: Matador | E35: Pcs | F35: 0.68 | G35: 13 | H35: 13 | I35: =VLOOKUP(B35:B2310,'[2]Qty by month'!$G$3:$N$527,8,0) -> #N/A | K35: 45310 | L35: E | N35: =G35=H35 -> TRUE | P35: =G35-H35 -> 0
A36: 34 | B36: 127640012 | C36: COMPLETE GEAR SHIFTER HSG ASSLY | D36: Matador | E36: Pcs | F36: 3.57 | G36: 1 | H36: 1 | I36: =VLOOKUP(B36:B2311,'[2]Qty by month'!$G$3:$N$527,8,0) -> #N/A | K36: 45310 | L36: E | N36: =G36=H36 -> TRUE | P36: =G36-H36 -> 0
A37: 35 | B37: 127691011P | C37: CLUTCH BOX | D37: Matador | E37: Pcs | F37: 1.69 | G37: 1 | H37: 1 | I37: =VLOOKUP(B37:B2312,'[2]Qty by month'!$G$3:$N$527,8,0) -> #N/A | K37: 45310 | L37: E | N37: =G37=H37 -> TRUE | P37: =G37-H37 -> 0
A38: 36 | B38: 127692015 | C38: DRIVING PLATE THK. 2.0 MM | D38: Matador | E38: Pcs | F38: 0.3 | G38: 412 | H38: =172+240 -> 412 | I38: =VLOOKUP(B38:B2313,'[2]Qty by month'!$G$3:$N$527,8,0) -> #N/A | K38: 45310 | L38: E | N38: =G38=H38 -> TRUE | P38: =G38-H38 -> 0
A39: 37 | B39: 127693019 | C39: PRESSURE PLATE OUTER (VE) | D39: Matador | E39: Pcs | F39: 0.31 | G39: 69 | H39: 69 | I39: =VLOOKUP(B39:B2314,'[2]Qty by month'!$G$3:$N$527,8,0) -> #N/A | K39: 45310 | L39: E | N39: =G39=H39 -> TRUE | P39: =G39-H39 -> 0
A40: 38 | B40: 127740018 | C40: CLUTCH SHAFT ASSLY (IMPROVED) | D40: Matador | E40: Pcs | F40: 3.84 | G40: 3 | H40: 3 | I40: =VLOOKUP(B40:B2315,'[2]Qty by month'!$G$3:$N$527,8,0) -> #N/A | K40: 45310 | L40: E | N40: =G40=H40 -> TRUE | P40: =G40-H40 -> 0
...

Sheet Surplus (2)
A1: EXTRA SPARE PART LIST
A2: DOCUMENT NUMBER: SPEX-MC-PT-2024-01-001 | I2: Date:31-Jan-2024
A3: No | B3: Product Code | C3: Product Name | D3: Product Brand | E3: UOM | F3: C/L Qty (13/1/2024) | G3: Actual Qty | H3: Different Qty | I3: Per Price $ | J3: Total Am $ | K3: Remark
A4: 1 | B4: 632428P | C4: FILTER ELEMENT ASSLY ( ENGINETECH AIR FI | D4: Matador | E4: Pcs | F4: 21 | G4: 22 | H4: =G4-F4 -> 1 | I4: 2.54 | J4: =I4*H4 -> 2.54
A5: 2 | B5: 940004 | C5: FRONT BRAKE SHOE SET | D5: Matador | E5: Pcs | F5: 7 | G5: 9 | H5: =G5-F5 -> 2 | I5: 3.45 | J5: =I5*H5 -> 6.9
A6: 3 | B6: 82948R | C6: OIL PUMP ASSY | D6: Matador | E6: Pcs | F6: 15 | G6: 16 | H6: =G6-F6 -> 1 | I6: 2.35 | J6: =I6*H6 -> 2.35
A7: 4 | B7: B1114302 | C7: INNER-GEAR CONTROL (GEAR Inner) | D7: Matador | E7: Pcs | F7: 5 | G7: 8 | H7: =G7-F7 -> 3 | I7: 0.52 | J7: =I7*H7 -> 1.56
A8: 5 | B8: CM167803 | C8: PILOT JET | D8: Matador | E8: Pcs | F8: 22 | G8: 23 | H8: =G8-F8 -> 1 | I8: 2.12 | J8: =I8*H8 -> 2.12
A9: 6 | B9: E260467001 | C9: JOINT.. | D9: Matador | E9: Pcs | F9: 23 | G9: 24 | H9: =G9-F9 -> 1 | I9: 0.07 | J9: =I9*H9 -> 0.07
A10: 7 | B10: E500575545 | C10: VALVE SPRING | D10: Matador | E10: Pcs | F10: 1 | G10: 2 | H10: =G10-F10 -> 1 | I10: 0.41 | J10: =I10*H10 -> 0.41
A11: 8 | B11: ED40165 | C11: DOME NUT | D11: Matador | E11: Pcs | F11: 5 | G11: 9 | H11: =G11-F11 -> 4 | I11: 0.25 | J11: =I11*H11 -> 1
A12: 9 | B12: E500460102 | C12: JOINT 0.3 MM | D12: Matador | E12: Pcs | F12: 44 | G12: 47 | H12: =G12-F12 -> 3 | I12: 0.25 | J12: =I12*H12 -> 0.75
A13: 10 | B13: B018533 | C13: CYLINDER HEAD COVER GASKET | D13: Matador | E13: Pcs | F13: 5 | G13: 6 | H13: =G13-F13 -> 1 | I13: 0.26 | J13: =I13*H13 -> 0.26
A14: 11 | B14: 680075 | C14: STATOR ASSY | D14: Matador | E14: Pcs | F14: 9 | G14: 11 | H14: =G14-F14 -> 2 | I14: 18.61 | J14: =I14*H14 -> 37.22
A15: 12 | B15: B073478R | C15: SWITCH (NEW)- LIGHTS (3WH)-GALACTIC | D15: Matador | E15: Pcs | F15: 14 | G15: 16 | H15: =G15-F15 -> 2 | I15: 0.73 | J15: =I15*H15 -> 1.46
A16: 13 | B16: KIT95033 | C16: Modi. Front Brake liners Kit (Paxx-200). | D16: Matador | E16: Pcs | F16: 49 | G16: 50 | H16: =G16-F16 -> 1 | I16: 5.31 | J16: =I16*H16 -> 5.31
A17: 14 | B17: 643684R | C17: OUTER REAR VIEW MIRROR RH ASSY. | D17: Matador | E17: Pcs | F17: 1 | G17: 2 | H17: =G17-F17 -> 1 | I17: 2.16 | J17: =I17*H17 -> 2.16
A18: 15 | B18: 940084 | C18: Wheel Cap | D18: Matador | E18: Pcs | F18: 298 | G18: 299 | H18: =G18-F18 -> 1 | I18: 3.3 | J18: =I18*H18 -> 3.3
A19: 16 | B19: 178808 | C19: SPRING | D19: Matador | E19: Pcs | F19: 8 | G19: 15 | H19: =G19-F19 -> 7 | I19: 0.25 | J19: =I19*H19 -> 1.75
A20: 17 | B20: ED43409 | C20: CAM FOLLOWER KIT | D20: Matador | E20: Pcs | F20: 2 | G20: 3 | H20: =G20-F20 -> 1 | I20: 4.64 | J20: =I20*H20 -> 4.64
A21: 18 | B21: ED41447 | C21: OIL PRESSURE SWITCH - PARALLEL THREAD | D21: Matador | E21: Pcs | F21: 3 | G21: 4 | H21: =G21-F21 -> 1 | I21: 1.71 | J21: =I21*H21 -> 1.71
A22: 19 | B22: B073715 | C22: CABIN LAMP | D22: Matador | E22: Pcs | F22: 103 | G22: 104 | H22: =G22-F22 -> 1 | I22: 1.49 | J22: =I22*H22 -> 1.49
A23: 20 | B23: 92069-1059 | C23: Bulb,12V,1.7W | D23: KAWASAKI | E23: Pcs | F23: 1 | G23: 5 | H23: =G23-F23 -> 4 | I23: 0.95 | J23: =I23*H23 -> 3.8
A24: 21 | B24: 52010-1054 | C24: Filter Oil | D24: KAWASAKI | E24: Pcs | F24: 4 | G24: 5 | H24: =G24-F24 -> 1 | I24: 13.58 | J24: =I24*H24 -> 13.58
A25: 22 | B25: 26006-1078 | C25: Fuse,Mint Blade,10A | D25: KAWASAKI | E25: Pcs | F25: 14 | G25: 15 | H25: =G25-F25 -> 1 | I25: 0.94 | J25: =I25*H25 -> 0.94
A26: 23 | B26: 92049-0786 | C26: SEAL-OIL | D26: KAWASAKI | E26: Pcs | F26: 3 | G26: 4 | H26: =G26-F26 -> 1 | I26: 0.16114286 | J26: =I26*H26 -> 0.16114286
A27: 24 | B27: 99994-0801 | C27: KIT-ACC,PANNIER (SOFT-LUGGAGE) ( Pcs= KG) | D27: KAWASAKI | E27: Pcs | F27: 1 | G27: 2 | H27: =G27-F27 -> 1 | I27: 132.82 | J27: =I27*H27 -> 132.82
A28: 25 | B28: 428H-126L | C28: Chain, Sprocket Set | D28: KAWASAKI | E28: Set | F28: 4 | G28: 6 | H28: =G28-F28 -> 2 | I28: 25 | J28: =I28*H28 -> 50
A29: 26 | B29: VN1B000789 | C29: Rear Rock | D29: Vespa | E29: Pcs | F29: 9 | G29: 10 | H29: =G29-F29 -> 1 | I29: 92.19 | J29: =I29*H29 -> 92.19
A30: 27 | B30: MBZ25-E0003(R) | C30: Headlight,RH | D30: Matador | E30: Pcs | F30: 1 | G30: 2 | H30: =G30-F30 -> 1 | I30: 13 | J30: =I30*H30 -> 13
A31: 28 | B31: MBZ25-E0007 | C31: Diode | D31: Matador | E31: Pcs | F31: 1 | G31: 2 | H31: =G31-F31 -> 1 | I31: 3 | J31: =I31*H31 -> 3
... A98: 95 | B98: 11057-0625 | C98: Bracket | D98: KAWASAKI | E98: Pcs | F98: 0 | G98: 1 | H98: =G98-F98 -> 1 | I98: 0.01 | J98: =I98*H98 -> 0.01
A99: 96 | B99: 55020-1825,PP-GF20 | D99: KAWASAKI | E99: Pcs | F99: 0 | G99: 3 | H99: =G99-F99 -> 3 | I99: 0.01 | J99: =I99*H99 -> 0.03
A100: 97 | B100: MSR20-G0010 | C100: Reverse Gear Shaft | D100: Star | E100: set | F100: 0 | G100: 1 | H100: =G100-F100 -> 1 | I100: 0.01 | J100: =I100*H100 -> 0.01
A101: 98 | B101: MSP-A0001(LH) | C101: Head Lamp | D101: Giant | E101: Pcs | F101: 0 | G101: 1 | H101: =G101-F101 -> 1 | I101: 0.01 | J101: =I101*H101 -> 0.01
A102: 99 | B102: MSP-A0001(RH) | C102: Head Lamp | D102: Giant | E102: Pcs | F102: 0 | G102: 1 | H102: =G102-F102 -> 1 | I102: 0.01 | J102: =I102*H102 -> 0.01
A103: 100 | B103: 17008-0000-000002 | C103: Tubing ASSY | D103: Damon | E103: pcs | F103: 0 | G103: 8 | H103: =G103-F103 -> 8 | I103: 0.14 | J103: =I103*H103 -> 1.12
A104: 101 | B104: 140/60-14 | C104: Tyre (RT250i) | D104: RT250i | E104: pcs | F104: 0 | G104: 1 | H104: =G104-F104 -> 1 | I104: 20.09 | J104: =I104*H104 -> 20.09
A105: 102 | B105: 120/70-15 | C105: Tyre (RT250i) | D105: RT250i | E105: pcs | F105: 0 | G105: 1 | H105: =G105-F105 -> 1 | I105: 90.22 | J105: =I105*H105 -> 90.22
A106: Total | F106: =SUM(F4:F105) -> 1267 | G106: =SUM(G4:G105) -> 1560 | H106: =SUM(H4:H105) -> 293 | I106: =SUM(I4:I105) -> 732.22114 | J106: =SUM(J4:J105) -> 1042.3011

Sheet Surplus (3)
A1: EXTRA SPARE PART LIST
A2: DOCUMENT NUMBER: SPEX-MC-PT-2024-01-001 | I2: Date:31-Jan-2024
A3: No | B3: Product Code | C3: Product Name | D3: Product Brand | E3: UOM | F3: C/L Qty (13/1/2024) | G3: Actual Qty | H3: Different Qty | I3: Per Price $ | J3: Total Am $ | K3: Remark
A4: 1 | B4: A0009-0022-L | C4: Jacket L | D4: KAWASAKI | E4: Pcs | F4: 1 | G4: 11 | H4: =G4-F4 -> 10 | I4: 187.63 | J4: =I4*H4 -> 1876.3
A5: 2 | B5: N1203 -Z922-LL | C5: Jacket | D5: KAWASAKI | E5: Pcs | F5: 4 | G5: 9 | H5: =G5-F5 -> 5 | I5: 187.63 | J5: =I5*H5 -> 938.15
A6: 3 | B6: N1203 -Z922-3L | C6: Jacket | D6: KAWASAKI | E6: Pcs | F6: 2 | G6: 4 | H6: =G6-F6 -> 2 | I6: 187.63 | J6: =I6*H6 -> 375.26
A7: 4 | B7: N1203 -Z922-M | C7: Jacket | D7: KAWASAKI | E7: Pcs | F7: 2 | G7: 10 | H7: =G7-F7 -> 8 | I7: 187.63 | J7: =I7*H7 -> 1501.04
A8: 5 | B8: Jacket-3XL | C8: Jacket-3XL | D8: KAWASAKI | E8: Pcs | F8: 0 | G8: 1 | H8: =G8-F8 -> 1 | I8: 187.63 | J8: =I8*H8 -> 187.63
A9: 6 | B9: Jacket-XXL | C9: Jacket-XXL | D9: KAWASAKI | E9: Pcs | F9: 0 | G9: 1 | H9: =G9-F9 -> 1 | I9: 187.63 | J9: =I9*H9 -> 187.63
A10: Total | F10: =SUM(F4:F9) -> 9 | G10: =SUM(G4:G9) -> 36 | H10: =SUM(H4:H9) -> 27 | I10: =SUM(I4:I9) -> 1125.78 | J10: =SUM(J4:J9) -> 5066.01

Sheet Surplus (4)
A1: EXTRA SPARE PART LIST
A2: DOCUMENT NUMBER: SPEX-MC-PT-2024-01-001 | I2: Date:31-Jan-2024
A3: No | B3: Product Code | C3: Product Name | D3: Product Brand | E3: UOM | F3: C/L Qty (13/1/2024) | G3: Actual Qty | H3: Qty | I3: Per Price $ | J3: Total Am $ | K3: Remark
A4: 1 | B4: 632428P | C4: FILTER ELEMENT ASSLY ( ENGINETECH AIR FI | D4: Matador | E4: Pcs | F4: 21 | G4: 22 | H4: =G4-F4 -> 1 | I4: 2.54 | J4: =I4*H4 -> 2.54 | K4: It is extra part
A5: 2 | B5: 940004 | C5: FRONT BRAKE SHOE SET | D5: Matador | E5: Pcs | F5: 7 | G5: 9 | H5: =G5-F5 -> 2 | I5: 3.45 | J5: =I5*H5 -> 6.9 | K5: It is extra part
A6: 3 | B6: 82948R | C6: OIL PUMP ASSY | D6: Matador | E6: Pcs | F6: 15 | G6: 16 | H6: =G6-F6 -> 1 | I6: 2.35 | J6: =I6*H6 -> 2.35 | K6: It is extra part
A7: 4 | B7: B1114302 | C7: INNER-GEAR CONTROL (GEAR Inner) | D7: Matador | E7: Pcs | F7: 5 | G7: 8 | H7: =G7-F7 -> 3 | I7: 0.52 | J7: =I7*H7 -> 1.56 | K7: It is received from Mandalay
A8: 5 | B8: CM167803 | C8: PILOT JET | D8: Matador | E8: Pcs | F8: 22 | G8: 23 | H8: =G8-F8 -> 1 | I8: 2.12 | J8: =I8*H8 -> 2.12 | K8: It is extra part
A9: 6 | B9: E260467001 | C9: JOINT.. | D9: Matador | E9: Pcs | F9: 23 | G9: 24 | H9: =G9-F9 -> 1 | I9: 0.07 | J9: =I9*H9 -> 0.07 | K9: It is received from Mandalay
A10: 7 | B10: E500575545 | C10: VALVE SPRING | D10: Matador | E10: Pcs | F10: 1 | G10: 2 | H10: =G10-F10 -> 1 | I10: 0.41 | J10: =I10*H10 -> 0.41 | K10: It is extra part
A11: 8 | B11: ED40165 | C11: DOME NUT | D11: Matador | E11: Pcs | F11: 5 | G11: 9 | H11: =G11-F11 -> 4 | I11: 0.25 | J11: =I11*H11 -> 1 | K11: Not received yet
A12: 9 | B12: E500460102 | C12: JOINT 0.3 MM | D12: Matador | E12: Pcs | F12: 44 | G12: 47 | H12: =G12-F12 -> 3 | I12: 0.25 | J12: =I12*H12 -> 0.75 | K12: It is received from Mandalay
A13: 10 | B13: B018533 | C13: CYLINDER HEAD COVER GASKET | D13: Matador | E13: Pcs | F13: 5 | G13: 6 | H13: =G13-F13 -> 1 | I13: 0.26 | J13: =I13*H13 -> 0.26 | K13: It is extra part and we don't know where use
A14: 11 | B14: 680075 | C14: STATOR ASSY | D14: Matador | E14: Pcs | F14: 9 | G14: 11 | H14: =G14-F14 -> 2 | I14: 18.61 | J14: =I14*H14 -> 37.22 | K14: It is extra part
A15: 12 | B15: B073478R | C15: SWITCH (NEW)- LIGHTS (3WH)-GALACTIC | D15: Matador | E15: Pcs | F15: 14 | G15: 16 | H15: =G15-F15 -> 2 | I15: 0.73 | J15: =I15*H15 -> 1.46 | K15: It is extra part and we check stock issue error
A16: 13 | B16: KIT95033 | C16: Modi. Front Brake liners Kit (Paxx-200). | D16: Matador | E16: Pcs | F16: 49 | G16: 50 | H16: =G16-F16 -> 1 | I16: 5.31 | J16: =I16*H16 -> 5.31 | K16: It is extra part and we check stock issue error
A17: 14 | B17: 643684R | C17: OUTER REAR VIEW MIRROR RH ASSY. | D17: Matador | E17: Pcs | F17: 1 | G17: 2 | H17: =G17-F17 -> 1 | I17: 2.16 | J17: =I17*H17 -> 2.16 | K17: It is extra part and we check stock issue, not issue service man
A18: 15 | B18: 940084 | C18: Wheel Cap | D18: Matador | E18: Pcs | F18: 298 | G18: 299 | H18: =G18-F18 -> 1 | I18: 3.3 | J18: =I18*H18 -> 3.3 | K18: It is extra part and we check damage box
A19: 16 | B19: 178808 | C19: SPRING | D19: Matador | E19: Pcs | F19: 8 | G19: 15 | H19: =G19-F19 -> 7 | I19: 0.25 | J19: =I19*H19 -> 1.75 | K19: It is extra part
A20: 17 | B20: ED43409 | C20: CAM FOLLOWER KIT | D20: Matador | E20: Pcs | F20: 2 | G20: 3 | H20: =G20-F20 -> 1 | I20: 4.64 | J20: =I20*H20 -> 4.64 | K20: It is extra part and we check damage box
A21: 18 | B21: ED41447 | C21: OIL PRESSURE SWITCH - PARALLEL THREAD | D21: Matador | E21: Pcs | F21: 3 | G21: 4 | H21: =G21-F21 -> 1 | I21: 1.71 | J21: =I21*H21 -> 1.71 | K21: It is received from Mandalay
A22: 19 | B22: B073715 | C22: CABIN LAMP | D22: Matador | E22: Pcs | F22: 103 | G22: 104 | H22: =G22-F22 -> 1 | I22: 1.49 | J22: =I22*H22 -> 1.49 | K22: It is received from Mandalay
A23: 20 | B23: 92069-1059 | C23: Bulb,12V,1.7W | D23: KAWASAKI | E23: Pcs | F23: 1 | G23: 5 | H23: =G23-F23 -> 4 | I23: 0.95 | J23: =I23*H23 -> 3.8 | K23: Not have excel file and we don't know where in use .Finally we checked and it same with KSR125
A24: 21 | B24: 52010-1054 | C24: Filter Oil | D24: KAWASAKI | E24: Pcs | F24: 4 | G24: 5 | H24: =G24-F24 -> 1 | I24: 13.58 | J24: =I24*H24 -> 13.58 | K24: Not have excel file and we don't know where in use .Finally we checked and it same with KSR125
A25: 22 | B25: 26006-1078 | C25: Fuse,Mint Blade,10A | D25: KAWASAKI | E25: Pcs | F25: 14 | G25: 15 | H25: =G25-F25 -> 1 | I25: 0.94 | J25: =I25*H25 -> 0.94 | K25: Not have excel file and we don't know where in use .Finally we checked and it same with KSR125
A26: 23 | B26: 92049-0786 | C26: SEAL-OIL | D26: KAWASAKI | E26: Pcs | F26: 3 | G26: 4 | H26: =G26-F26 -> 1 | I26: 0.16114286 | J26: =I26*H26 -> 0.16114286 | K26: Not have excel file and we don't know where in use .Finally we checked and it same with KSR125
A27: 24 | B27: 99994-0801 | C27: KIT-ACC,PANNIER (SOFT-LUGGAGE) ( Pcs= KG) | D27: KAWASAKI | E27: Pcs | F27: 1 | G27: 2 | H27: =G27-F27 -> 1 | I27: 132.82 | J27: =I27*H27 -> 132.82 | K27: Not have excel file and we don't know where in use .Finally we checked and it same with KSR125
A28: 25 | B28: A0009-0022-L | C28: Jacket L | D28: KAWASAKI | E28: Pcs | F28: 1 | G28: 11 | H28: =G28-F28 -> 10 | I28: 187.63 | J28: =I28*H28 -> 1876.3 | K28: Not have excel file and we don't know where in use .Finally we checked and it same with KSR125
A29: 26 | B29: N1203 -Z922-LL | C29: Jacket | D29: KAWASAKI | E29: Pcs | F29: 4 | G29: 9 | H29: =G29-F29 -> 5 | I29: 187.63 | J29: =I29*H29 -> 938.15 | K29: Not have excel file and we don't know where in use .Finally we checked and it same with KSR125
A30: 27 | B30: N1203 -Z922-3L | C30: Jacket | D30: KAWASAKI | E30: Pcs | F30: 2 | G30: 4 | H30: =G30-F30 -> 2 | I30: 187.63 | J30: =I30*H30 -> 375.26 | K30: Not have excel file and we don't know where in use .Finally we checked and it same with KSR125
A31: 28 | B31: N1203 -Z922-M | C31: Jacket | D31: KAWASAKI | E31: Pcs | F31: 2 | G31: 10 | H31: =G31-F31 -> 8 | I31: 187.63 | J31: =I31*H31 -> 1501.04 | K31: Not have excel file and we don't know where in use .Finally we checked and it same with KSR125
... A104: 101 | B104: 11057-0625 | C104: Bracket | D104: KAWASAKI | E104: Pcs | F104: 0 | G104: 1 | H104: =G104-F104 -> 1 | I104: 0.01 | J104: =I104*H104 -> 0.01 | K104: Not have excel file and we don't know where in use .Finally we checked and it same with KSR125
A105: 102 | B105: 55020-1825,PP-GF20 | D105: KAWASAKI | E105: Pcs | F105: 0 | G105: 3 | H105: =G105-F105 -> 3 | I105: 0.01 | J105: =I105*H105 -> 0.03 | K105: Not have excel file and we don't know where in use .Finally we checked and it same with KSR125
A106: 103 | B106: MSR20-G0010 | C106: Reverse Gear Shaft | D106: Star | E106: set | F106: 0 | G106: 1 | H106: =G106-F106 -> 1 | I106: 0.01 | J106: =I106*H106 -> 0.01 | K106: It is extra part and we check damage box
A107: 104 | B107: MSP-A0001(LH) | C107: Head Lamp | D107: Giant | E107: Pcs | F107: 0 | G107: 1 | H107: =G107-F107 -> 1 | I107: 0.01 | J107: =I107*H107 -> 0.01 | K107: It is extra part and we check damage box
A108: 105 | B108: MSP-A0001(RH) | C108: Head Lamp | D108: Giant | E108: Pcs | F108: 0 | G108: 1 | H108: =G108-F108 -> 1 | I108: 0.01 | J108: =I108*H108 -> 0.01 | K108: It is extra part and we check damage box
A109: 106 | B109: 17008-0000-000002 | C109: Tubing ASSY | D109: Damon | E109: pcs | F109: 0 | G109: 8 | H109: =G109-F109 -> 8 | I109: 0.14 | J109: =I109*H109 -> 1.12 | K109: It is extra part and we check damage box
A110: 107 | B110: 140/60-14 | C110: Tyre (RT250i) | D110: RT250i | E110: pcs | F110: 0 | G110: 1 | H110: =G110-F110 -> 1 | I110: 20.09 | J110: =I110*H110 -> 20.09 | K110: It is received from Mandalay
A111: 108 | B111: 120/70-15 | C111: Tyre (RT250i) | D111: RT250i | E111: pcs | F111: 0 | G111: 1 | H111: =G111-F111 -> 1 | I111: 90.22 | J111: =I111*H111 -> 90.22 | K111: It is received from Mandalay
A112: Total | F112: =SUM(F4:F111) -> 1276 | G112: =SUM(G4:G111) -> 1596 | H112: =SUM(H4:H111) -> 320 | I112: =SUM(I4:I111) -> 1858.0011 | J112: =SUM(J4:J111) -> 6108.3111
...

Sheet Surplus
A1: EXTRA SPARE PART LIST
A2: DOCUMENT NUMBER: SPEX-MC-PT-2024-01-001 | I2: Date:31-Jan-2024
A3: No | B3: Product Code | C3: Product Name | D3: Product Brand | E3: UOM | F3: C/L Qty (13/1/2024) | G3: Actual Qty | H3: Different Qty | I3: Per Price $ | J3: Total Am $ | K3: Remark
A4: 1 | B4: 632428P | C4: FILTER ELEMENT ASSLY ( ENGINETECH AIR FI | D4: Matador | E4: Pcs | F4: 21 | G4: 22 | H4: =G4-F4 -> 1 | I4: 2.54 | J4: =I4*H4 -> 2.54
A5: 2 | B5: 940004 | C5: FRONT BRAKE SHOE SET | D5: Matador | E5: Pcs | F5: 7 | G5: 9 | H5: =G5-F5 -> 2 | I5: 3.45 | J5: =I5*H5 -> 6.9
A6: 3 | B6: 82948R | C6: OIL PUMP ASSY | D6: Matador | E6: Pcs | F6: 15 | G6: 16 | H6: =G6-F6 -> 1 | I6: 2.35 | J6: =I6*H6 -> 2.35
A7: 4 | B7: B1114302 | C7: INNER-GEAR CONTROL (GEAR Inner) | D7: Matador | E7: Pcs | F7: 5 | G7: 8 | H7: =G7-F7 -> 3 | I7: 0.52 | J7: =I7*H7 -> 1.56
A8: 5 | B8: CM167803 | C8: PILOT JET | D8: Matador | E8: Pcs | F8: 22 | G8: 23 | H8: =G8-F8 -> 1 | I8: 2.12 | J8: =I8*H8 -> 2.12
A9: 6 | B9: E260467001 | C9: JOINT.. | D9: Matador | E9: Pcs | F9: 23 | G9: 24 | H9: =G9-F9 -> 1 | I9: 0.07 | J9: =I9*H9 -> 0.07
A10: 7 | B10: E500575545 | C10: VALVE SPRING | D10: Matador | E10: Pcs | F10: 1 | G10: 2 | H10: =G10-F10 -> 1 | I10: 0.41 | J10: =I10*H10 -> 0.41
A11: 8 | B11: ED40165 | C11: DOME NUT | D11: Matador | E11: Pcs | F11: 5 | G11: 9 | H11: =G11-F11 -> 4 | I11: 875 | J11: =I11*H11 -> 3500 | L11: GR-PRT-BMC-2024-02-00044
A12: 9 | B12: E500460102 | C12: JOINT 0.3 MM | D12: Matador | E12: Pcs | F12: 44 | G12: 47 | H12: =G12-F12 -> 3 | I12: 0.25 | J12: =I12*H12 -> 0.75
A13: 10 | B13: B018533 | C13: CYLINDER HEAD COVER GASKET | D13: Matador | E13: Pcs | F13: 5 | G13: 6 | H13: =G13-F13 -> 1 | I13: 0.26 | J13: =I13*H13 -> 0.26
A14: 11 | B14: 680075 | C14: STATOR ASSY | D14: Matador | E14: Pcs | F14: 9 | G14: 11 | H14: =G14-F14 -> 2 | I14: 18.61 | J14: =I14*H14 -> 37.22
A15: 12 | B15: B073478R | C15: SWITCH (NEW)- LIGHTS (3WH)-GALACTIC | D15: Matador | E15: Pcs | F15: 14 | G15: 16 | H15: =G15-F15 -> 2 | I15: 0.73 | J15: =I15*H15 -> 1.46
A16: 13 | B16: KIT95033 | C16: Modi. Front Brake liners Kit (Paxx-200). | D16: Matador | E16: Pcs | F16: 49 | G16: 50 | H16: =G16-F16 -> 1 | I16: 5.31 | J16: =I16*H16 -> 5.31
A17: 14 | B17: 643684R | C17: OUTER REAR VIEW MIRROR RH ASSY. | D17: Matador | E17: Pcs | F17: 1 | G17: 2 | H17: =G17-F17 -> 1 | I17: 2.16 | J17: =I17*H17 -> 2.16
A18: 15 | B18: 940084 | C18: Wheel Cap | D18: Matador | E18: Pcs | F18: 298 | G18: 299 | H18: =G18-F18 -> 1 | I18: 3.3 | J18: =I18*H18 -> 3.3
A19: 16 | B19: 178808 | C19: SPRING | D19: Matador | E19: Pcs | F19: 8 | G19: 15 | H19: =G19-F19 -> 7 | I19: 0.25 | J19: =I19*H19 -> 1.75
A20: 17 | B20: ED43409 | C20: CAM FOLLOWER KIT | D20: Matador | E20: Pcs | F20: 2 | G20: 3 | H20: =G20-F20 -> 1 | I20: 4.64 | J20: =I20*H20 -> 4.64
A21: 18 | B21: ED41447 | C21: OIL PRESSURE SWITCH - PARALLEL THREAD | D21: Matador | E21: Pcs | F21: 3 | G21: 4 | H21: =G21-F21 -> 1 | I21: 1.71 | J21: =I21*H21 -> 1.71
A22: 19 | B22: B073715 | C22: CABIN LAMP | D22: Matador | E22: Pcs | F22: 103 | G22: 104 | H22: =G22-F22 -> 1 | I22: 1.49 | J22: =I22*H22 -> 1.49
A23: 20 | B23: 92069-1059 | C23: Bulb,12V,1.7W | D23: KAWASAKI | E23: Pcs | F23: 1 | G23: 5 | H23: =G23-F23 -> 4 | I23: 0.95 | J23: =I23*H23 -> 3.8
A24: 21 | B24: 52010-1054 | C24: Filter Oil | D24: KAWASAKI | E24: Pcs | F24: 4 | G24: 5 | H24: =G24-F24 -> 1 | I24: 13.58 | J24: =I24*H24 -> 13.58 | L24: GR-PRT-BMC-2024-02-00045
A25: 22 | B25: 26006-1078 | C25: Fuse,Mint Blade,10A | D25: KAWASAKI | E25: Pcs | F25: 14 | G25: 15 | H25: =G25-F25 -> 1 | I25: 0.94 | J25: =I25*H25 -> 0.94
A26: 23 | B26: 92049-0786 | C26: SEAL-OIL | D26: KAWASAKI | E26: Pcs | F26: 3 | G26: 4 | H26: =G26-F26 -> 1 | I26: 0.16114286 | J26: =I26*H26 -> 0.16114286
A27: 24 | B27: 99994-0801 | C27: KIT-ACC,PANNIER (SOFT-LUGGAGE) ( Pcs= KG) | D27: KAWASAKI | E27: Pcs | F27: 1 | G27: 2 | H27: =G27-F27 -> 1 | I27: 132.82 | J27: =I27*H27 -> 132.82
A28: 25 | B28: A0009-0022-L | C28: Jacket L | D28: KAWASAKI | E28: Pcs | F28: 1 | G28: 11 | H28: =G28-F28 -> 10 | I28: 187.63 | J28: =I28*H28 -> 1876.3
A29: 26 | B29: N1203 -Z922-LL | C29: Jacket | D29: KAWASAKI | E29: Pcs | F29: 4 | G29: 9 | H29: =G29-F29 -> 5 | I29: 187.63 | J29: =I29*H29 -> 938.15
A30: 27 | B30: N1203 -Z922-3L | C30: Jacket | D30: KAWASAKI | E30: Pcs | F30: 2 | G30: 4 | H30: =G30-F30 -> 2 | I30: 187.63 | J30: =I30*H30 -> 375.26
A31: 28 | B31: N1203 -Z922-M | C31: Jacket | D31: KAWASAKI | E31: Pcs | F31: 2 | G31: 10 | H31: =G31-F31 -> 8 | I31: 187.63 | J31: =I31*H31 -> 1501.04
A32: 29 | B32: 428H-126L | C32: Chain, Sprocket Set | D32: KAWASAKI | E32: Set | F32: 4 | G32: 6 | H32: =G32-F32 -> 2 | I32: 25 | J32: =I32*H32 -> 50
A33: 30 | B33: VN1B000789 | C33: Rear Rock | D33: Vespa | E33: Pcs | F33: 9 | G33: 10 | H33: =G33-F33 -> 1 | I33: 92.19 | J33: =I33*H33 -> 92.19
A34: 31 | B34: MBZ25-E0003(R) | C34: Headlight,RH | D34: Matador | E34: Pcs | F34: 1 | G34: 2 | H34: =G34-F34 -> 1 | I34: 13 | J34: =I34*H34 -> 13
A35: 32 | B35: MBZ25-E0007 | C35: Diode | D35: Matador | E35: Pcs | F35: 1 | G35: 2 | H35: =G35-F35 -> 1 | I35: 3 | J35: =I35*H35 -> 3
A36: 33 | B36: MRL20-T0001 | C36: INNER TUBE 4.00-12 | D36: Matador | E36: Pcs | F36: 2 | G36: 4 | H36: =G36-F36 -> 2 | I36: 2.3 | J36: =I36*H36 -> 4.6
... A43: 40 | B43: MBZ25-EG0008 | C43: Valve Sets | D43: Matador | E43: Set | F43: 3 | G43: 4 | H43: =G43-F43 -> 1 | I43: 7.5 | J43: =I43*H43 -> 7.5
A44: 41 | B44: MGT100-E0003 | C44: Taillight same as B2-1 | D44: Matador | E44: Pcs | F44: 6 | G44: 8 | H44: =G44-F44 -> 2 | I44: 2.97 | J44: =I44*H44 -> 5.94 | L44: GR-PRT-BMC-2024-02-00046
A45: 42 | B45: MRL20-EG0009 | C45: POWER LOCK | D45: Matador | E45: Pcs | F45: 2 | G45: 3 | H45: =G45-F45 -> 1 | I45: 1.7 | J45: =I45*H45 -> 1.7
A46: 43 | B46: MRL20-E0013 | C46: THERMOSTAT | D46: Matador | E46: Pcs | F46: 6 | G46: 7 | H46: =G46-F46 -> 1 | I46: 3.4 | J46: =I46*H46 -> 3.4
...

Sheet Shortage
A1: No | B1: Product Code | C1: Product Name | D1: Product Brand | E1: UOM | F1: C/L Qty (13/1/2024) | G1: Actual Qty | H1: Different Qty | I1: Per Price $ | J1: Total Am $ | K1: Remark
A2: 1 | B2: 691970 | C2: Engine Oil 15W40, CI4 | D2: Volvoline | E2: Pcs | F2: 12 | G2: 8 | H2: =F2-G2 -> 4 | I2: 4.0633333 | J2: =I2*H2 -> 16.253333
A3: 2 | B3: 673638 | C3: EDGE SHIELD - | D3: Vespa | E3: Pcs | F3: 5 | G3: 4 | H3: =F3-G3 -> 1 | I3: 10.95 | J3: =I3*H3 -> 10.95
A4: 3 | B4: 602920M | C4: Footrest mat | D4: Vespa | E4: Pcs | F4: 9 | G4: 8 | H4: =F4-G4 -> 1 | I4: 13.65 | J4: =I4*H4 -> 13.65
A5: Total | F5: =SUM(F2:F4) -> 26 | G5: =SUM(G2:G4) -> 20 | H5: =SUM(H2:H4) -> 6 | I5: =SUM(I2:I4) -> 28.663333 | J5: =SUM(J2:J4) -> 40.853333

Sheet Damage
A1: No | B1: Product Code | C1: Product Name | D1: Product Brand | E1: UOM | F1: C/L Qty (13/1/2024) | G1: Actual Qty | H1: Damage Diff | I1: Per Price $ | J1: Total Am $ | K1: Remark
A2: 1 | B2: 128071012 | C2: GASKET ENGINE SIDE COVER | D2: Matador | E2: Pcs | F2: 17 | G2: 17 | H2: 1 | I2: 0.37 | J2: =I2*H2 -> 0.37
A3: 2 | B3: 129001014 | C3: GASKET (ENGINE PTO FACE) | D3: Matador | E3: Pcs | F3: 24 | G3: 24 | H3: 1 | I3: 0.1 | J3: =I3*H3 -> 0.1
A4: 3 | B4: 1A006104 | C4: CLUTCH COVER GASKET | D4: Matador | E4: Pcs | F4: 4 | G4: 4 | H4: 1 | I4: 0.61 | J4: =I4*H4 -> 0.61
A5: 4 | B5: 11013-0020 | C5: Element,air filter | D5: KAWASAKI | E5: Pcs | F5: 5 | G5: 5 | H5: 5 | I5: 28.114286 | J5: =I5*H5 -> 140.57143
A6: 5 | B6: 11013-0025 | C6: Element-Air-Filter | D6: KAWASAKI | E6: Pcs | F6: 7 | G6: 7 | H6: 7 | I6: 3 | J6: =I6*H6 -> 21
A7: 6 | B7: STK003-BL | C7: STK003-BL | D7: KAWASAKI | E7: Pcs | F7: 2 | G7: 2 | H7: 1 | I7: 2.5 | J7: =I7*H7 -> 2.5
A8: 7 | B8: B018070 | C8: AIR FILTER | D8: Vespa | E8: Pcs | F8: 1 | G8: 1 | H8: 1 | I8: 2.66 | J8: =I8*H8 -> 2.66
A9: 8 | B9: MSR20-F0015 | C9: Tarpaulin | D9: Matador | E9: Set | F9: 4 | G9: 4 | H9: 1 | I9: 70 | J9: =I9*H9 -> 70
A10: 9 | B10: MRL20-EG0009 | C10: POWER LOCK | D10: Matador | E10: Pcs | F10: 2 | G10: 3 | H10: 1 | I10: 1.7 | J10: =I10*H10 -> 1.7
A11: 10 | B11: MSR20-M0002 | C11: Air Filter Element | D11: Matador | E11: Pcs | F11: 8 | G11: 16 | H11: 8 | I11: 1.8 | J11: =I11*H11 -> 14.4
A12: 11 | B12: 17911-0000-050002 | C12: INJECTOR BRACKET | D12: UMG Motor | E12: Pcs | F12: 3 | G12: 3 | H12: 1 | I12: 4.02 | J12: =I12*H12 -> 4.02
A13: 12 | B13: 72020-I1F1-000003 | C13: RUBBER BUSH ASSEMBLY,RIGHT HANDLEBAR | D13: DAMON | E13: Pcs | F13: 7 | G13: 7 | H13: 1 | I13: 1.98 | J13: =I13*H13 -> 1.98
A14: 13 | B14: MRL20-M0002 | C14: AIR FILTER, INNER | D14: Matador | E14: Pcs | F14: 24 | G14: 48 | H14: 24 | I14: 1.2 | J14: =I14*H14 -> 28.8
A15: 14 | B15: MBZ25-M0002 | C15: Air Filter Assembly with Inner Air Filter | D15: Matador | E15: Pcs | F15: 40 | G15: 47 | H15: 7 | I15: 1.4 | J15: =I15*H15 -> 9.8
... A17: 16 | B17: 11395-GY6C-9000 | C17: GASKET R CRANKCASE COVER | D17: UMG Motor | E17: Pcs | F17: 1 | G17: 1 | H17: 1 | I17: 0.41 | J17: =I17*H17 -> 0.41
D18: Total | F18: =SUM(F2:F17) -> 299 | G18: =SUM(G2:G17) -> 362 | H18: =SUM(H2:H17) -> 83 | I18: =SUM(I2:I17) -> 122.86429 | J18: =SUM(J2:J17) -> 364.92143

Sheet Actual Photo
A1: BMC BU S'Part Actual Ground Stock Checking
B2: BU Yard
A41: BMC BU S'Part Actual Ground Stock Checking (Extra)
B42: BU Yard

Sheet Damage  List&Photo (2)
A1: BMC Damage List | H1: BMC Damages Photo
A2: No | B2: Product Code | C2: Product Name | D2: UOM | E2: Damage Qty (9/2/2024) | F2: Remark | I2: BU Yard
A3: 1 | B3: 128071012 | C3: GASKET ENGINE SIDE COVER | D3: Pcs | E3: 1
A4: 2 | B4: 129001014 | C4: GASKET (ENGINE PTO FACE) | D4: Pcs | E4: 1
A5: 3 | B5: 1A006104 | C5: CLUTCH COVER GASKET | D5: Pcs | E5: 1
A6: 4 | B6: 11013-0020 | C6: Element,air filter | D6: Pcs | E6: 5
A7: 5 | B7: 11013-0025 | C7: Element-Air-Filter | D7: Pcs | E7: 7
A8: 6 | B8: STK003-BL | C8: STK003-BL | D8: Pcs | E8: 1
A9: 7 | B9: B018070 | C9: AIR FILTER | D9: Pcs | E9: 1
A10: 8 | B10: MSR20-F0015 | C10: Tarpaulin | D10: Set | E10: 1
A11: 9 | B11: MRL20-EG0009 | C11: POWER LOCK | D11: Pcs | E11: 1
A12: 10 | B12: MSR20-M0002 | C12: Air Filter Element | D12: Pcs | E12: 8
A13: 11 | B13: 17911-0000-050002 | C13: INJECTOR BRACKET | D13: Pcs | E13: 1
A14: 12 | B14: 72020-I1F1-000003 | C14: RUBBER BUSH ASSEMBLY,RIGHT HANDLEBAR | D14: Pcs | E14: 1
A15: 13 | B15: MRL20-M0002 | C15: AIR FILTER, INNER | D15: Pcs | E15: 24
A16: 14 | B16: MBZ25-M0002 | C16: Air Filter Assembly with Inner Air Filter | D16: Pcs | E16: 7
... A18: 16 | B18: 11395-GY6C-9000 | C18: GASKET R CRANKCASE COVER | D18: Pcs | E18: 1
E19: =SUM(E3:E18) -> 83
A23: Aye Thandar Htwe | C23: Min Paing Phyo | E23: Zin Zin Mar & Khin Yadanar Htun | H23: F/A
A24: S'parts Head | C24: Service & S'parts Head | E24: F/A | H24: BMC BU
A25: BMC BU | C25: BMC BU | E25: BMC BU
H28: Win Thein Nwe(Mrs.)
H29: AGM
A30: Phyo Ko Ko | C30: Win Theingi Nwe(Mrs.) | E30: Chit San Ko(Mr.) | H30: BMC BU
A31: OM | C31: AGM | E31: GM
A32: BMC BU | C32: BMC BU | E32: BMC BU
B37: Zaw Min Myat(Mr.) | E37: Aye Min Htoo(Mr.)
B38: ACOO | E38: VCM

Sheet Marketing List&Photo
A1: BMC Marketing Tools | H1: BMC Marketing Tools Photo
A2: No | B2: Product Code | C2: Product Name | D2: UOM | E2: C/L Qty (9/1/2023) | F2: Remark | I2: BU Yard
A3: 1 | B3: 41502 | C3: Beanie Kawasaki Racing Black | D3: PCS | E3: 2
A4: 2 | B4: A0001-0142 | C4: ARMSLEEVES UV A/B UPF50+ | D4: Set | E4: 2
A5: 3 | B5: 31520-M/L | C5: T-Shirt Kawasaki Black Size M/L | D5: PCS | E5: 1
A6: 4 | B6: 31520-L/XL | C6: T-Shirt Kawasaki Black Size L/XL | D6: PCS | E6: 1
A7: 5 | B7: A0001-0128-L | C7: Kawasaki Polo Shirt White | D7: PCS | E7: 1
A8: 6 | B8: 31519-L/XL | C8: Polo Shirt Kawasaki Black | D8: PCS | E8: 1
A9: 7 | B9: N1203-Z027-M | C9: T-Shirt Kawasaki Blue Er6n | D9: PCS | E9: 1
A10: 8 | B10: 21525-L/XL | C10: T-Shirt SBK Replica Black(Male) | D10: PCS | E10: 1
A11: 9 | B11: A0001-0129-M | C11: Kawasaki Polo-Shirt | D11: PCS | E11: 1
A12: 10 | B12: 31520-XL/2XL | C12: T-Shirt Kawasaki Black Size XL/2XL | D12: PCS | E12: 1
A13: 11 | B13: A0001-0124 | C13: Kawasaki Mug | D13: PCS | E13: 5
A14: 12 | B14: 605879M001 | C14: Wheel shape bag Italy | D14: PCS | E14: 2
A15: 13 | B15: 605879M002 | C15: Wheel shape bag Union Jack | D15: PCS | E15: 2
... A23: 21 | B23: Kawasaki Hoodie | C23: Kawasaki Hoodie Black | D23: PCS | E23: 1
E24: =SUM(E3:E23) -> 45
A27: Thin Thin N'we | D27: Kyaw Myo Swe / Aung Phyo Hein
A28: Cor Inventory | D28: Cor Inventory | H28: F/A
A29: CFD DIV | D29: CFD DIV | H29: BMC BU
A33: Su Myat Noe Myint / Pyae Phyo Paing | E33: Phyo Ko KO | H33: Win Thein Nwe(Mrs.)
A34: Internal Audit | E34: OM | H34: AGM
A35: IA | E35: BMC BU | H35: BMC BU
