Workbook
Name List: #REF!
Name List: #REF!
Name List: #REF!
Name List: #REF!
Name List: #REF!
Name List: #REF!
Name valuevx: 42.314159

Sheet BMC Mail Data (2)
A1: BMC BU S'parts | H1: Complete | I1: Shortage+ | N1: Surplus- | P1: Damage
A2: No | C2: Product Code | D2: Product Name | E2: Product Brand | F2: UOM | G2: P Price $ | H2: C/L Qty (13/1/2024) | I2: Actual Qty | L2: Moto | M2: T/F | N2: Ground Date | O2: M/E | P2: Dead Stock | Q2: T/F | R2: Damage | S2: Different Qty | T2: Remark
A3: 1 | B3: =TRIM(C3) -> B073969 | C3: B073969 | D3: Hl Bezel Beading | E3: Matador | F3: Pcs | G3: 0.39 | H3: 29 | I3: 29 | J3: =VLOOKUP(B3,'[1]Jan''24 (3)'!$G$4:$T$2414,14,0) -> 11.31 | K3: =J3-I3 -> -17.69 | L3: =J3=I3 -> FALSE | M3: =I3=L3 -> FALSE | N3: 45310 | O3: M | Q3: =H3=I3 -> TRUE | S3: =H3-I3 -> 0
A4: 2 | B4: =TRIM(C4) -> B074170 | C4: B074170 | D4: Side Blinker S/H LH | E4: Matador | F4: Pcs | G4: 3.83 | H4: 1 | I4: 1 | J4: =VLOOKUP(B4,'[1]Jan''24 (3)'!$G$4:$T$2414,14,0) -> 3.83 | K4: =J4-I4 -> 2.83 | L4: =J4=I4 -> FALSE | M4: =I4=L4 -> FALSE | N4: 45309 | O4: M | Q4: =H4=I4 -> TRUE | S4: =H4-I4 -> 0
A5: 3 | B5: =TRIM(C5) -> 8771 | C5: 8771 | D5: OIL SEAL ( 18-24-4 ) | E5: Matador | F5: Pcs | G5: 0.14 | H5: =23-1 -> 22 | I5: 22 | J5: =VLOOKUP(B5,'[1]Jan''24 (3)'!$G$4:$T$2414,14,0) -> 3.08 | K5: =J5-I5 -> -18.92 | L5: =J5=I5 -> FALSE | M5: =I5=L5 -> FALSE | N5: 45309 | O5: E | Q5: =H5=I5 -> TRUE | S5: =H5-I5 -> 0 | T5: SPDO-BMC-UMG-HO-3W-2024-01-0063-2(16.1.24=1pc)
A6: 4 | B6: =TRIM(C6) -> 20359 | C6: 20359 | D6: SEAL RING(Rear Suspension) | E6: Matador | F6: Pcs | G6: 0.23 | H6: =7-1 -> 6 | I6: 6 | J6: =VLOOKUP(B6,'[1]Jan''24 (3)'!$G$4:$T$2414,14,0) -> 1.38 | K6: =J6-I6 -> -4.62 | L6: =J6=I6 -> FALSE | M6: =I6=L6 -> FALSE | N6: 45310 | O6: E | Q6: =H6=I6 -> TRUE | S6: =H6-I6 -> 0 | T6: SPDO-BMC-UMG-HO-3W-2024-01-0063-2(16.1.24=1pc)
A7: 5 | B7: =TRIM(C7) -> 74414 | C7: 74414 | D7: BUFFER FOR COUPLING SHOCK ABSORBER | E7: Matador | F7: Pcs | G7: 0.17 | H7: 26 | I7: 26 | J7: =VLOOKUP(B7,'[1]Jan''24 (3)'!$G$4:$T$2414,14,0) -> 4.42 | K7: =J7-I7 -> -21.58 | L7: =J7=I7 -> FALSE | M7: =I7=L7 -> FALSE | N7: 45310 | O7: M | Q7: =H7=I7 -> TRUE | S7: =H7-I7 -> 0
A8: 6 | B8: =TRIM(C8) -> 75708 | C8: 75708 | D8: SILENT BLOCK | E8: Matador | F8: Pcs | G8: 0.47 | H8: 10 | I8: 10 | J8: =VLOOKUP(B8,'[1]Jan''24 (3)'!$G$4:$T$2414,14,0) -> 4.7 | K8: =J8-I8 -> -5.3 | L8: =J8=I8 -> FALSE | M8: =I8=L8 -> FALSE | N8: 45309 | O8: E | Q8: =H8=I8 -> TRUE | S8: =H8-I8 -> 0
A9: 7 | B9: =TRIM(C9) -> 107718 | C9: 107718 | D9: ROLLER BUSH | E9: Matador | F9: Pcs | G9: 0.84 | H9: 134 | I9: =62*2+10 -> 134 | J9: =VLOOKUP(B9,'[1]Jan''24 (3)'!$G$4:$T$2414,14,0) -> 112.56 | K9: =J9-I9 -> -21.44 | L9: =J9=I9 -> FALSE | M9: =I9=L9 -> FALSE | N9: 45313 | O9: E | Q9: =H9=I9 -> TRUE | S9: =H9-I9 -> 0
A10: 8 | B10: =TRIM(C10) -> 109117 | C10: 109117 | D10: RING | E10: Matador | F10: Pcs | G10: 0.8 | H10: 16 | I10: 16 | J10: =VLOOKUP(B10,'[1]Jan''24 (3)'!$G$4:$T$2414,14,0) -> 12.8 | K10: =J10-I10 -> -3.2 | L10: =J10=I10 -> FALSE | M10: =I10=L10 -> FALSE | N10: 45309 | O10: E | Q10: =H10=I10 -> TRUE | S10: =H10-I10 -> 0
A11: 9 | B11: =TRIM(C11) -> 136434 | C11: 136434 | D11: OIL SEAL | E11: Matador | F11: Pcs | G11: 0.14 | H11: 5 | I11: 5 | J11: =VLOOKUP(B11,'[1]Jan''24 (3)'!$G$4:$T$2414,14,0) -> 0.7 | K11: =J11-I11 -> -4.3 | L11: =J11=I11 -> FALSE | M11: =I11=L11 -> FALSE | N11: 45309 | O11: E | Q11: =H11=I11 -> TRUE | S11: =H11-I11 -> 0
A12: 10 | B12: =TRIM(C12) -> 137235 | C12: 137235 | D12: "STEERING PIN ""APE 501-400""" | E12: Matador | F12: Pcs | G12: 0.74 | H12: 69 | I12: 69 | J12: =VLOOKUP(B12,'[1]Jan''24 (3)'!$G$4:$T$2414,14,0) -> 51.06 | K12: =J12-I12 -> -17.94 | L12: =J12=I12 -> FALSE | M12: =I12=L12 -> FALSE | N12: 45310 | O12: M | Q12: =H12=I12 -> TRUE | S12: =H12-I12 -> 0
A13: 11 | B13: =TRIM(C13) -> 183511 | C13: 183511 | D13: OIL SEAL | E13: Matador | F13: Pcs | G13: 0.14 | H13: 14 | I13: 14 | J13: =VLOOKUP(B13,'[1]Jan''24 (3)'!$G$4:$T$2414,14,0) -> 1.96 | K13: =J13-I13 -> -12.04 | L13: =J13=I13 -> FALSE | M13: =I13=L13 -> FALSE | N13: 45309 | O13: E | Q13: =H13=I13 -> TRUE | S13: =H13-I13 -> 0
A14: 12 | B14: =TRIM(C14) -> 196302 | C14: 196302 | D14: OIL SEAL | E14: Matador | F14: Pcs | G14: 0.22 | H14: 19 | I14: 19 | J14: =VLOOKUP(B14,'[1]Jan''24 (3)'!$G$4:$T$2414,14,0) -> 4.18 | K14: =J14-I14 -> -14.82 | L14: =J14=I14 -> FALSE | M14: =I14=L14 -> FALSE | N14: 45309 | O14: E | Q14: =H14=I14 -> TRUE | S14: =H14-I14 -> 0
A15: 13 | B15: =TRIM(C15) -> 567992 | C15: 567992 | D15: BRG RACE L/T (TH)(Front Suspension, Bottom) | E15: Matador | F15: Pcs | G15: 2.6 | H15: 5 | I15: 5 | J15: =VLOOKUP(B15,'[1]Jan''24 (3)'!$G$4:$T$2414,14,0) -> 13 | K15: =J15-I15 -> 8 | L15: =J15=I15 -> FALSE | M15: =I15=L15 -> FALSE | N15: 45310 | O15: M | Q15: =H15=I15 -> TRUE | S15: =H15-I15 -> 0
A16: 14 | B16: =TRIM(C16) -> 567993 | C16: 567993 | D16: BRG RACE L/B(TH)(Front Suspension, Bottom) | E16: Matador | F16: Pcs | G16: 1.28 | H16: 4 | I16: 4 | J16: =VLOOKUP(B16,'[1]Jan''24 (3)'!$G$4:$T$2414,14,0) -> 5.12 | K16: =J16-I16 -> 1.12 | L16: =J16=I16 -> FALSE | M16: =I16=L16 -> FALSE | N16: 45310 | O16: M | Q16: =H16=I16 -> TRUE | S16: =H16-I16 -> 0
A17: 15 | B17: =TRIM(C17) -> 568289 | C17: 568289 | D17: RUBBER BUMPER | E17: Matador | F17: Pcs | G17: 5.32 | H17: 7 | I17: 7 | J17: =VLOOKUP(B17,'[1]Jan''24 (3)'!$G$4:$T$2414,14,0) -> 37.24 | K17: =J17-I17 -> 30.24 | L17: =J17=I17 -> FALSE | M17: =I17=L17 -> FALSE | N17: 45310 | O17: M | Q17: =H17=I17 -> TRUE | S17: =H17-I17 -> 0
A18: 16 | B18: =TRIM(C18) -> 587617 | C18: 587617 | D18: ELASTIC JOINT CONNCETION HUB (WHL.SIDE) | E18: Matador | F18: Pcs | G18: 4.86 | H18: 2 | I18: 2 | J18: =VLOOKUP(B18,'[1]Jan''24 (3)'!$G$4:$T$2414,14,0) -> 9.72 | K18: =J18-I18 -> 7.72 | L18: =J18=I18 -> FALSE | M18: =I18=L18 -> FALSE | N18: 45309 | O18: M | Q18: =H18=I18 -> TRUE | S18: =H18-I18 -> 0
A19: 17 | B19: =TRIM(C19) -> 587806 | C19: 587806 | D19: CLUTCH CONTROL CABLE WITH TERMINAL (Clutch Inner) | E19: Matador | F19: Pcs | G19: 0.42 | H19: 13 | I19: 13 | J19: =VLOOKUP(B19,'[1]Jan''24 (3)'!$G$4:$T$2414,14,0) -> 5.46 | K19: =J19-I19 -> -7.54 | L19: =J19=I19 -> FALSE | M19: =I19=L19 -> FALSE | N19: 45309 | O19: M | Q19: =H19=I19 -> TRUE | S19: =H19-I19 -> 0
A20: 18 | B20: =TRIM(C20) -> 587812 | C20: 587812 | D20: TRANSMISSION CABLE FOR ODOMETER (Mileage Inner) | E20: Matador | F20: Pcs | G20: 0.6 | H20: 135 | I20: 135 | J20: =VLOOKUP(B20,'[1]Jan''24 (3)'!$G$4:$T$2414,14,0) -> 81 | K20: =J20-I20 -> -54 | L20: =J20=I20 -> FALSE | M20: =I20=L20 -> FALSE | N20: 45308 | O20: M | Q20: =H20=I20 -> TRUE | S20: =H20-I20 -> 0
A21: 19 | B21: =TRIM(C21) -> 587919 | C21: 587919 | D21: CABLE,GEAR CONTROL ASSLY NO.2(LIGHT GREY) ( Gear Assly) | E21: Matador | F21: Pcs | G21: 0.85 | H21: =15-1-2-1-1 -> 10 | I21: 10 | J21: =VLOOKUP(B21,'[1]Jan''24 (3)'!$G$4:$T$2414,14,0) -> 8.5 | K21: =J21-I21 -> -1.5 | L21: =J21=I21 -> FALSE | M21: =I21=L21 -> FALSE | N21: 45309 | O21: M | Q21: =H21=I21 -> TRUE | S21: =H21-I21 -> 0 | T21: SPDO-BMC-UMG-HO-3W-2024-01-0051,0052,0053,0054(15,16.1.24=1pc)
A22: 20 | B22: =TRIM(C22) -> 604508 | C22: 604508 | D22: DECOMPRESSOR CONTROL CABLE INNER ( DC/Choke Inner) | E22: Matador | F22: Pcs | G22: 0.24 | H22: 2 | I22: 2 | J22: =VLOOKUP(B22,'[1]Jan''24 (3)'!$G$4:$T$2414,14,0) -> 0.48 | K22: =J22-I22 -> -1.52 | L22: =J22=I22 -> FALSE | M22: =I22=L22 -> FALSE | N22: 45309 | O22: M | Q22: =H22=I22 -> TRUE | S22: =H22-I22 -> 0
A23: 21 | B23: =TRIM(C23) -> 604535 | C23: 604535 | D23: FLEXIBLE COUPLING | E23: Matador | F23: Pcs | G23: 3.04 | H23: =7-1-1 -> 5 | I23: 5 | J23: =VLOOKUP(B23,'[1]Jan''24 (3)'!$G$4:$T$2414,14,0) -> 15.2 | K23: =J23-I23 -> 10.2 | L23: =J23=I23 -> FALSE | M23: =I23=L23 -> FALSE | N23: 45316 | O23: E | Q23: =H23=I23 -> TRUE | S23: =H23-I23 -> 0 | T23: SPDO-BMC-UMG-HO-3W-2024-01-0057,0060(16.1.24=1pc)
A24: 22 | B24: =TRIM(C24) -> 604779 | C24: 604779 | D24: CLUTCH CONTROL TRANSMISSION ASSLY.(Clutch Assly) | E24: Matador | F24: Pcs | G24: 1.27 | H24: =1-1 -> 0 | I24: 0 | J24: =VLOOKUP(B24,'[1]Jan''24 (3)'!$G$4:$T$2414,14,0) -> 0 | K24: =J24-I24 -> 0 | L24: =J24=I24 -> TRUE | M24: =I24=L24 -> FALSE | N24: 45320 | O24: E | Q24: =H24=I24 -> TRUE | S24: =H24-I24 -> 0 | T24: SPDO-BMC-UMG-HO-3W-2024-01-0066(23.1.24=1pc)
A25: 23 | B25: =TRIM(C25) -> 632428P | C25: 632428P | D25: FILTER ELEMENT ASSLY ( ENGINETECH AIR FI | E25: Matador | F25: Pcs | G25: 2.54 | H25: 21 | I25: 22 | J25: =VLOOKUP(B25,'[1]Jan''24 (3)'!$G$4:$T$2414,14,0) -> 55.88 | K25: =J25-I25 -> 33.88 | L25: =J25=I25 -> FALSE | M25: =I25=L25 -> FALSE | N25: 45308 | O25: M | Q25: =H25=I25 -> FALSE | S25: =H25-I25 -> -1
A26: 24 | B26: =TRIM(C26) -> 645124 | C26: 645124 | D26: SPEEDOCABLE - VE (Mileage Assly) | E26: Matador | F26: Pcs | G26: 1.77 | H26: =172-1 -> 171 | I26: =17+50+50+50+4 -> 171 | J26: =VLOOKUP(B26,'[1]Jan''24 (3)'!$G$4:$T$2414,14,0) -> 302.67 | K26: =J26-I26 -> 131.67 | L26: =J26=I26 -> FALSE | M26: =I26=L26 -> FALSE | N26: 45316 | O26: E | Q26: =H26=I26 -> TRUE | S26: =H26-I26 -> 0 | T26: SPDO-BMC-UMG-HO-3W-2024-01-0064(17.1.24=1pc)
A27: 25 | B27: =TRIM(C27) -> 661282 | C27: 661282 | D27: NEEDLE ROLLER BEARING(Rear Suspension) | E27: Matador | F27: Pcs | G27: 1.08 | H27: =10-2-2-1 -> 5 | I27: 5 | J27: =VLOOKUP(B27,'[1]Jan''24 (3)'!$G$4:$T$2414,14,0) -> 5.4 | K27: =J27-I27 -> 0.4 | L27: =J27=I27 -> FALSE | M27: =I27=L27 -> FALSE | N27: 45308 | O27: E | Q27: =H27=I27 -> TRUE | S27: =H27-I27 -> 0 | T27: SPDO-BMC-UMG-HO-3W-2024-01-0053,0054,0061(15.1.24=2,2,1pc)
A28: 26 | B28: =TRIM(C28) -> 925508 | C28: 925508 | D28: MAJOR KIT TMC (KBX 1008) | E28: Matador | F28: Pcs | G28: 7.55 | H28: 3 | I28: 3 | J28: =VLOOKUP(B28,'[1]Jan''24 (3)'!$G$4:$T$2414,14,0) -> 22.65 | K28: =J28-I28 -> 19.65 | L28: =J28=I28 -> FALSE | M28: =I28=L28 -> FALSE | N28: 45310 | O28: M | Q28: =H28=I28 -> TRUE | S28: =H28-I28 -> 0
A29: 27 | B29: =TRIM(C29) -> 925509 | C29: 925509 | D29: MINOR KIT TMC (KBX 1009) | E29: Matador | F29: Pcs | G29: 3.2 | H29: 4 | I29: 4 | J29: =VLOOKUP(B29,'[1]Jan''24 (3)'!$G$4:$T$2414,14,0) -> 12.8 | K29: =J29-I29 -> 8.8 | L29: =J29=I29 -> FALSE | M29: =I29=L29 -> FALSE | N29: 45310 | O29: M | Q29: =H29=I29 -> TRUE | S29: =H29-I29 -> 0
A30: 28 | B30: =TRIM(C30) -> 925573 | C30: 925573 | D30: MAJOR KIT WHL CYL. RR ( KBX 1109 )(FOR 6 | E30: Matador | F30: Pcs | G30: 2.44 | H30: =1-1 -> 0 | I30: 0 | J30: =VLOOKUP(B30,'[1]Jan''24 (3)'!$G$4:$T$2414,14,0) -> 0 | K30: =J30-I30 -> 0 | L30: =J30=I30 -> TRUE | M30: =I30=L30 -> FALSE | N30: 45320 | O30: E | Q30: =H30=I30 -> TRUE | S30: =H30-I30 -> 0 | T30: SPDO-BMC-UMG-HO-3W-2024-01-0066(23.1.24=1pc)
A31: 29 | B31: =TRIM(C31) -> 925574 | C31: 925574 | D31: MINOR KIT WHL CYL. RR ( KBX 1110 )(FOR 6 | E31: Matador | F31: Pcs | G31: 0.61 | H31: 6 | I31: 6 | J31: =VLOOKUP(B31,'[1]Jan''24 (3)'!$G$4:$T$2414,14,0) -> 3.66 | K31: =J31-I31 -> -2.34 | L31: =J31=I31 -> FALSE | M31: =I31=L31 -> FALSE | N31: 45310 | O31: M | Q31: =H31=I31 -> TRUE | S31: =H31-I31 -> 0
A32: 30 | B32: =TRIM(C32) -> 940004 | C32: 940004 | D32: FRONT BRAKE SHOE SET | E32: Matador | F32: Pcs | G32: 3.45 | H32: 7 | I32: 9 | J32: =VLOOKUP(B32,'[1]Jan''24 (3)'!$G$4:$T$2414,14,0) -> 31.05 | K32: =J32-I32 -> 22.05 | L32: =J32=I32 -> FALSE | M32: =I32=L32 -> FALSE | N32: 45310 | O32: M | Q32: =H32=I32 -> FALSE | S32: =H32-I32 -> -2
A33: 31 | B33: =TRIM(C33) -> 120212012 | C33: 120212012 | D33: (*) NEEDLE BUSH | E33: Matador | F33: Pcs | G33: 0.63 | H33: 2 | I33: 2 | J33: =VLOOKUP(B33,'[1]Jan''24 (3)'!$G$4:$T$2414,14,0) -> 1.26 | K33: =J33-I33 -> -0.74 | L33: =J33=I33 -> FALSE | M33: =I33=L33 -> FALSE | N33: 45309 | O33: E | Q33: =H33=I33 -> TRUE | S33: =H33-I33 -> 0
A34: 32 | B34: =TRIM(C34) -> 127141016 | C34: 127141016 | D34: GASKET G.B. COVER | E34: Matador | F34: Pcs | G34: 0.41 | H34: 13 | I34: 13 | J34: =VLOOKUP(B34,'[1]Jan''24 (3)'!$G$4:$T$2414,14,0) -> 5.33 | K34: =J34-I34 -> -7.67 | L34: =J34=I34 -> FALSE | M34: =I34=L34 -> FALSE | N34: 45309 | O34: E | Q34: =H34=I34 -> TRUE | S34: =H34-I34 -> 0
A35: 33 | B35: =TRIM(C35) -> 127290013 | C35: 127290013 | D35: PLUNGER SHAFT | E35: Matador | F35: Pcs | G35: 0.68 | H35: 13 | I35: 13 | J35: =VLOOKUP(B35,'[1]Jan''24 (3)'!$G$4:$T$2414,14,0) -> 8.84 | K35: =J35-I35 -> -4.16 | L35: =J35=I35 -> FALSE | M35: =I35=L35 -> FALSE | N35: 45310 | O35: E | Q35: =H35=I35 -> TRUE | S35: =H35-I35 -> 0
A36: 34 | B36: =TRIM(C36) -> 127640012 | C36: 127640012 | D36: COMPLETE GEAR SHIFTER HSG ASSLY | E36: Matador | F36: Pcs | G36: 3.57 | H36: 1 | I36: 1 | J36: =VLOOKUP(B36,'[1]Jan''24 (3)'!$G$4:$T$2414,14,0) -> 3.57 | K36: =J36-I36 -> 2.57 | L36: =J36=I36 -> FALSE | M36: =I36=L36 -> FALSE | N36: 45310 | O36: E | Q36: =H36=I36 -> TRUE | S36: =H36-I36 -> 0
A37: 35 | B37: =TRIM(C37) -> 127691011P | C37: 127691011P | D37: CLUTCH BOX | E37: Matador | F37: Pcs | G37: 1.69 | H37: 1 | I37: 1 | J37: =VLOOKUP(B37,'[1]Jan''24 (3)'!$G$4:$T$2414,14,0) -> 1.69 | K37: =J37-I37 -> 0.69 | L37: =J37=I37 -> FALSE | M37: =I37=L37 -> FALSE | N37: 45310 | O37: E | Q37: =H37=I37 -> TRUE | S37: =H37-I37 -> 0
A38: 36 | B38: =TRIM(C38) -> 127692015 | C38: 127692015 | D38: DRIVING PLATE THK. 2.0 MM | E38: Matador | F38: Pcs | G38: 0.3 | H38: 412 | I38: =172+240 -> 412 | J38: =VLOOKUP(B38,'[1]Jan''24 (3)'!$G$4:$T$2414,14,0) -> 123.6 | K38: =J38-I38 -> -288.4 | L38: =J38=I38 -> FALSE | M38: =I38=L38 -> FALSE | N38: 45310 | O38: E | Q38: =H38=I38 -> TRUE | S38: =H38-I38 -> 0
A39: 37 | B39: =TRIM(C39) -> 127693019 | C39: 127693019 | D39: PRESSURE PLATE OUTER (VE) | E39: Matador | F39: Pcs | G39: 0.31 | H39: 69 | I39: 69 | J39: =VLOOKUP(B39,'[1]Jan''24 (3)'!$G$4:$T$2414,14,0) -> 21.39 | K39: =J39-I39 -> -47.61 | L39: =J39=I39 -> FALSE | M39: =I39=L39 -> FALSE | N39: 45310 | O39: E | Q39: =H39=I39 -> TRUE | S39: =H39-I39 -> 0
A40: 38 | B40: =TRIM(C40) -> 127740018 | C40: 127740018 | D40: CLUTCH SHAFT ASSLY (IMPROVED) | E40: Matador | F40: Pcs | G40: 3.84 | H40: 3 | I40: 3 | J40: =VLOOKUP(B40,'[1]Jan''24 (3)'!$G$4:$T$2414,14,0) -> 11.52 | K40: =J40-I40 -> 8.52 | L40: =J40=I40 -> FALSE | M40: =I40=L40 -> FALSE | N40: 45310 | O40: E | Q40: =H40=I40 -> TRUE | S40: =H40-I40 -> 0
A41: 39 | B41: =TRIM(C41) -> 127753015 | C41: 127753015 | D41: CLUTCH BOX | E41: Matador | F41: Pcs | G41: 1.91 | H41: 1 | I41: 1 | J41: =VLOOKUP(B41,'[1]Jan''24 (3)'!$G$4:$T$2414,14,0) -> 1.91 | K41: =J41-I41 -> 0.91 | L41: =J41=I41 -> FALSE | M41: =I41=L41 -> FALSE | N41: 45310 | O41: E | Q41: =H41=I41 -> TRUE | S41: =H41-I41 -> 0
A42: 40 | B42: =TRIM(C42) -> 127755013 | C42: 127755013 | D42: SPRING | E42: Matador | F42: Pcs | G42: 0.11 | H42: 40 | I42: 40 | J42: =VLOOKUP(B42,'[1]Jan''24 (3)'!$G$4:$T$2414,14,0) -> 4.4 | K42: =J42-I42 -> -35.6 | L42: =J42=I42 -> FALSE | M42: =I42=L42 -> FALSE | N42: 45310 | O42: E | Q42: =H42=I42 -> TRUE | S42: =H42-I42 -> 0
A43: 41 | B43: =TRIM(C43) -> 127757011 | C43: 127757011 | D43: CUP - CLUTCH SPRING | E43: Matador | F43: Pcs | G43: 0.12 | H43: 119 | I43: 119 | J43: =VLOOKUP(B43,'[1]Jan''24 (3)'!$G$4:$T$2414,14,0) -> 14.28 | K43: =J43-I43 -> -104.72 | L43: =J43=I43 -> FALSE | M43: =I43=L43 -> FALSE | N43: 45310 | O43: M | Q43: =H43=I43 -> TRUE | S43: =H43-I43 -> 0
A44: 42 | B44: =TRIM(C44) -> 128071012 | C44: 128071012 | D44: GASKET ENGINE SIDE COVER | E44: Matador | F44: Pcs | G44: 0.37 | H44: 17 | I44: =16+1 -> 17 | J44: =VLOOKUP(B44,'[1]Jan''24 (3)'!$G$4:$T$2414,14,0) -> 6.29 | K44: =J44-I44 -> -10.71 | L44: =J44=I44 -> FALSE | M44: =I44=L44 -> FALSE | N44: 45310 | O44: M | Q44: =H44=I44 -> TRUE | R44: 1 | S44: =H44-I44 -> 0 | T44: Damage-1
A45: 43 | B45: =TRIM(C45) -> 128081017 | C45: 128081017 | D45: GASKET-GEAR SHIFTER HSG. | E45: Matador | F45: Pcs | G45: 0.05 | H45: =1-1 -> 0 | I45: 0 | J45: =VLOOKUP(B45,'[1]Jan''24 (3)'!$G$4:$T$2414,14,0) -> 0 | K45: =J45-I45 -> 0 | L45: =J45=I45 -> TRUE | M45: =I45=L45 -> FALSE | N45: 45320 | O45: E | Q45: =H45=I45 -> TRUE | S45: =H45-I45 -> 0 | T45: SPDO-BMC-UMG-HO-3W-2024-01-0053(15.1.24=1pc)
A46: 44 | B46: =TRIM(C46) -> 129001014 | C46: 129001014 | D46: GASKET (ENGINE PTO FACE) | E46: Matador | F46: Pcs | G46: 0.1 | H46: 24 | I46: =22+2 -> 24 | J46: =VLOOKUP(B46,'[1]Jan''24 (3)'!$G$4:$T$2414,14,0) -> 2.4 | K46: =J46-I46 -> -21.6 | L46: =J46=I46 -> FALSE | M46: =I46=L46 -> FALSE | N46: 45310 | O46: M | Q46: =H46=I46 -> TRUE | R46: 1 | S46: =H46-I46 -> 0 | T46: Damage-1
A47: 45 | B47: =TRIM(C47) -> 523021018 | C47: 523021018 | D47: STEM GEAR OPERATING ( C ) | E47: Matador | F47: Pcs | G47: 0.89 | H47: 4 | I47: =3+1 -> 4 | J47: =VLOOKUP(B47,'[1]Jan''24 (3)'!$G$4:$T$2414,14,0) -> 3.56 | K47: =J47-I47 -> -0.44 | L47: =J47=I47 -> FALSE | M47: =I47=L47 -> FALSE | N47: 45310 | O47: E | Q47: =H47=I47 -> TRUE | S47: =H47-I47 -> 0
A48: 46 | B48: =TRIM(C48) -> 888472578 | C48: 888472578 | D48: OIL SEAL GEAR BOX | E48: Matador | F48: Pcs | G48: 0.14 | H48: 5 | I48: 5 | J48: =VLOOKUP(B48,'[1]Jan''24 (3)'!$G$4:$T$2414,14,0) -> 0.7 | K48: =J48-I48 -> -4.3 | L48: =J48=I48 -> FALSE | M48: =I48=L48 -> FALSE | N48: 45310 | O48: M | Q48: =H48=I48 -> TRUE | S48: =H48-I48 -> 0
A49: 47 | B49: =TRIM(C49) -> 888472671 | C49: 888472671 | D49: OIL SEAL (30X52X7) | E49: Matador | F49: Pcs | G49: 0.34 | H49: 4 | I49: 4 | J49: =VLOOKUP(B49,'[1]Jan''24 (3)'!$G$4:$T$2414,14,0) -> 1.36 | K49: =J49-I49 -> -2.64 | L49: =J49=I49 -> FALSE | M49: =I49=L49 -> FALSE | N49: 45308 | O49: E | Q49: =H49=I49 -> TRUE | S49: =H49-I49 -> 0
A50: 48 | B50: =TRIM(C50) -> 1A001457 | C50: 1A001457 | D50: PLUNGER SHAFT | E50: Matador | F50: Pcs | G50: 0.49 | H50: =7-1-1 -> 5 | I50: =2+3 -> 5 | J50: =VLOOKUP(B50,'[1]Jan''24 (3)'!$G$4:$T$2414,14,0) -> 2.45 | K50: =J50-I50 -> -2.55 | L50: =J50=I50 -> FALSE | M50: =I50=L50 -> FALSE | N50: 45320 | O50: M | Q50: =H50=I50 -> TRUE | S50: =H50-I50 -> 0 | T50: SPDO-BMC-UMG-HO-3W-2024-01-0063-2,0063-1(16.1.24=1pc)
A51: 49 | B51: =TRIM(C51) -> 30209R | C51: 30209R | D51: DEEP GROOVE BALL BEARING (CLUSTER GEAR) | E51: Matador | F51: Pcs | G51: 1.33 | H51: 12 | I51: 12 | J51: =VLOOKUP(B51,'[1]Jan''24 (3)'!$G$4:$T$2414,14,0) -> 15.96 | K51: =J51-I51 -> 3.96 | L51: =J51=I51 -> FALSE | M51: =I51=L51 -> FALSE | N51: 45310 | O51: M | Q51: =H51=I51 -> TRUE | S51: =H51-I51 -> 0
A52: 50 | B52: =TRIM(C52) -> 616738R | C52: 616738R | D52: FUEL FILTER- PETROL ENGINE | E52: Matador | F52: Pcs | G52: 1.88 | H52: 65 | I52: 65 | J52: =VLOOKUP(B52,'[1]Jan''24 (3)'!$G$4:$T$2414,14,0) -> 122.2 | K52: =J52-I52 -> 57.2 | L52: =J52=I52 -> FALSE | M52: =I52=L52 -> FALSE | N52: 45308 | O52: M | Q52: =H52=I52 -> TRUE | S52: =H52-I52 -> 0
A53: 51 | B53: =TRIM(C53) -> 82635R | C53: 82635R | D53: COMPLETE OIL FILTER | E53: Matador | F53: Pcs | G53: 1.2 | H53: =6-1 -> 5 | I53: =6-1 -> 5 | J53: =VLOOKUP(B53,'[1]Jan''24 (3)'!$G$4:$T$2414,14,0) -> 6 | K53: =J53-I53 -> 1 | L53: =J53=I53 -> FALSE | M53: =I53=L53 -> FALSE | N53: 45310 | O53: M | Q53: =H53=I53 -> TRUE | S53: =H53-I53 -> 0 | T53: SPIV/BMC/UMG-HO/N3W/2024/01/012(31.1.24 1Pcs)
A54: 52 | B54: =TRIM(C54) -> 82948R | C54: 82948R | D54: OIL PUMP ASSY | E54: Matador | F54: Pcs | G54: 2.35 | H54: 15 | I54: 16 | J54: =VLOOKUP(B54,'[1]Jan''24 (3)'!$G$4:$T$2414,14,0) -> 37.6 | K54: =J54-I54 -> 21.6 | L54: =J54=I54 -> FALSE | M54: =I54=L54 -> FALSE | N54: 45308 | O54: E | Q54: =H54=I54 -> FALSE | S54: =H54-I54 -> -1
A55: 53 | B55: =TRIM(C55) -> 83065R | C55: 83065R | D55: COMPLETE INTAKE OIL FILTER | E55: Matador | F55: Pcs | G55: 0.2 | H55: 6 | I55: =4+2 -> 6 | J55: =VLOOKUP(B55,'[1]Jan''24 (3)'!$G$4:$T$2414,14,0) -> 1.2 | K55: =J55-I55 -> -4.8 | L55: =J55=I55 -> FALSE | M55: =I55=L55 -> FALSE | N55: 45310 | O55: M | Q55: =H55=I55 -> TRUE | S55: =H55-I55 -> 0
A56: 54 | B56: =TRIM(C56) -> 880255211R | C56: 880255211R | D56: (*) BALL BEARING 25X52X15 | E56: Matador | F56: Pcs | G56: 1.59 | H56: 3 | I56: 3 | J56: =VLOOKUP(B56,'[1]Jan''24 (3)'!$G$4:$T$2414,14,0) -> 4.77 | K56: =J56-I56 -> 1.77 | L56: =J56=I56 -> FALSE | M56: =I56=L56 -> FALSE | N56: 45310 | O56: E | Q56: =H56=I56 -> TRUE | S56: =H56-I56 -> 0
A57: 55 | B57: =TRIM(C57) -> 880305509R | C57: 880305509R | D57: DEEP GROOVE BALL BEARING (PINION SHAFT) | E57: Matador | F57: Pcs | G57: 2.2 | H57: 7 | I57: 7 | J57: =VLOOKUP(B57,'[1]Jan''24 (3)'!$G$4:$T$2414,14,0) -> 15.4 | K57: =J57-I57 -> 8.4 | L57: =J57=I57 -> FALSE | M57: =I57=L57 -> FALSE | N57: 45310 | O57: E | Q57: =H57=I57 -> TRUE | S57: =H57-I57 -> 0
A58: 56 | B58: =TRIM(C58) -> B003325 | C58: B003325 | D58: MINOR KIT W/CYL. | E58: Matador | F58: Pcs | G58: 0.65 | H58: 14 | I58: 14 | J58: =VLOOKUP(B58,'[1]Jan''24 (3)'!$G$4:$T$2414,14,0) -> 9.1 | K58: =J58-I58 -> -4.9 | L58: =J58=I58 -> FALSE | M58: =I58=L58 -> FALSE | N58: 45310 | O58: M | Q58: =H58=I58 -> TRUE | S58: =H58-I58 -> 0
A59: 57 | B59: =TRIM(C59) -> B003330 | C59: B003330 | D59: REAR BRAKE SHOE KIT LH | E59: Matador | F59: Pcs | G59: 3.94 | H59: =23-1-1-1 -> 20 | I59: 20 | J59: =VLOOKUP(B59,'[1]Jan''24 (3)'!$G$4:$T$2414,14,0) -> 78.8 | K59: =J59-I59 -> 58.8 | L59: =J59=I59 -> FALSE | M59: =I59=L59 -> FALSE | N59: 45310 | O59: M | Q59: =H59=I59 -> TRUE | S59: =H59-I59 -> 0 | T59: SPDO-BMC-UMG-HO-3W-2024-01-0051,0057,0060(16.1.24=1pc)
A60: 58 | B60: =TRIM(C60) -> B003331 | C60: B003331 | D60: REAR BRAKE SHOE KIT RH | E60: Matador | F60: Pcs | G60: 3.94 | H60: =22-1-1 -> 20 | I60: =19+1 -> 20 | J60: =VLOOKUP(B60,'[1]Jan''24 (3)'!$G$4:$T$2414,14,0) -> 78.8 | K60: =J60-I60 -> 58.8 | L60: =J60=I60 -> FALSE | M60: =I60=L60 -> FALSE | N60: 45320 | O60: M | Q60: =H60=I60 -> TRUE | S60: =H60-I60 -> 0 | T60: SPDO-BMC-UMG-HO-3W-2024-01-0051,0057(16.1.24=1pc)
A61: 59 | B61: =TRIM(C61) -> B003784 | C61: B003784 | D61: LEADING SHOE COMP WITH PIN LH ANL 1643 | E61: Matador | F61: Pcs | G61: 2.12 | H61: =4-1-1-1 -> 1 | I61: 1 | J61: =VLOOKUP(B61,'[1]Jan''24 (3)'!$G$4:$T$2414,14,0) -> 2.12 | K61: =J61-I61 -> 1.12 | L61: =J61=I61 -> FALSE | M61: =I61=L61 -> FALSE | N61: 45310 | O61: M | Q61: =H61=I61 -> TRUE | S61: =H61-I61 -> 0 | T61: SPDO-BMC-UMG-HO-3W-2024-01-0064,0065,0055(16,17.1.24=1pc)
A62: 60 | B62: =TRIM(C62) -> B003924 | C62: B003924 | D62: CROSS (A/B) | E62: Matador | F62: Pcs | G62: 2.02 | H62: =13-1 -> 12 | I62: =12 -> 12 | J62: =VLOOKUP(B62,'[1]Jan''24 (3)'!$G$4:$T$2414,14,0) -> 24.24 | K62: =J62-I62 -> 12.24 | L62: =J62=I62 -> FALSE | M62: =I62=L62 -> FALSE | N62: 45310 | O62: E | Q62: =H62=I62 -> TRUE | S62: =H62-I62 -> 0 | T62: SPDO-BMC-UMG-HO-3W-2024-01-0055(16.1.24=1pc)
A63: 61 | B63: =TRIM(C63) -> B015872 | C63: B015872 | D63: CRANKSHAFT STUB UPPER HALF BEARING | E63: Matador | F63: Pcs | G63: 0.79 | H63: 3 | I63: =2+1 -> 3 | J63: =VLOOKUP(B63,'[1]Jan''24 (3)'!$G$4:$T$2414,14,0) -> 2.37 | K63: =J63-I63 -> -0.63 | L63: =J63=I63 -> FALSE | M63: =I63=L63 -> FALSE | N63: 45313 | O63: E | Q63: =H63=I63 -> TRUE | S63: =H63-I63 -> 0 | T63: Rusty-1
A64: 62 | B64: =TRIM(C64) -> B015873 | C64: B015873 | D64: CRANKSHAFT STUB LOWER HALF BEARING | E64: Matador | F64: Pcs | G64: 2.43 | H64: 1 | I64: 1 | J64: =VLOOKUP(B64,'[1]Jan''24 (3)'!$G$4:$T$2414,14,0) -> 2.43 | K64: =J64-I64 -> 1.43 | L64: =J64=I64 -> FALSE | M64: =I64=L64 -> FALSE | N64: 45308 | O64: E | Q64: =H64=I64 -> TRUE | S64: =H64-I64 -> 0 | T64: Rusty-1
A65: 63 | B65: =TRIM(C65) -> B016829 | C65: B016829 | D65: PISTON VALVE SPRING | E65: Matador | F65: Pcs | G65: 0.18 | H65: 10 | I65: 10 | J65: =VLOOKUP(B65,'[1]Jan''24 (3)'!$G$4:$T$2414,14,0) -> 1.8 | K65: =J65-I65 -> -8.2 | L65: =J65=I65 -> FALSE | M65: =I65=L65 -> FALSE | N65: 45308 | O65: E | Q65: =H65=I65 -> TRUE | S65: =H65-I65 -> 0
A66: 64 | B66: =TRIM(C66) -> B019342 | C66: B019342 | D66: CONIC NEEDLE | E66: Matador | F66: Pcs | G66: 1.07 | H66: 7 | I66: 7 | J66: =VLOOKUP(B66,'[1]Jan''24 (3)'!$G$4:$T$2414,14,0) -> 7.49 | K66: =J66-I66 -> 0.49 | L66: =J66=I66 -> FALSE | M66: =I66=L66 -> FALSE | N66: 45309 | O66: M | Q66: =H66=I66 -> TRUE | S66: =H66-I66 -> 0
A67: 65 | B67: =TRIM(C67) -> B019344 | C67: B019344 | D67: NEEDLE JET | E67: Matador | F67: Pcs | G67: 1 | H67: 23 | I67: 23 | J67: =VLOOKUP(B67,'[1]Jan''24 (3)'!$G$4:$T$2414,14,0) -> 23 | K67: =J67-I67 -> 0 | L67: =J67=I67 -> TRUE | M67: =I67=L67 -> FALSE | N67: 45308 | O67: E | Q67: =H67=I67 -> TRUE | S67: =H67-I67 -> 0
A68: 66 | B68: =TRIM(C68) -> B023916 | C68: B023916 | D68: INNER-GEAR CONTROL (GEAR Inner) | E68: Matador | F68: Pcs | G68: 0.52 | H68: 2 | I68: 2 | J68: =VLOOKUP(B68,'[1]Jan''24 (3)'!$G$4:$T$2414,14,0) -> 1.04 | K68: =J68-I68 -> -0.96 | L68: =J68=I68 -> FALSE | M68: =I68=L68 -> FALSE | N68: 45309 | O68: M | Q68: =H68=I68 -> TRUE | S68: =H68-I68 -> 0
A69: 67 | B69: =TRIM(C69) -> B1114302 | C69: B1114302 | D69: INNER-GEAR CONTROL (GEAR Inner) | E69: Matador | F69: Pcs | G69: 0.52 | H69: 5 | I69: =3+5 -> 8 | J69: =VLOOKUP(B69,'[1]Jan''24 (3)'!$G$4:$T$2414,14,0) -> 4.16 | K69: =J69-I69 -> -3.84 | L69: =J69=I69 -> FALSE | M69: =I69=L69 -> FALSE | N69: 45309 | O69: E | Q69: =H69=I69 -> FALSE | S69: =H69-I69 -> -3
A70: 68 | B70: =TRIM(C70) -> B024374 | C70: B024374 | D70: REAR AXLE COMPLETE | E70: Matador | F70: Pcs | G70: 11.17 | H70: 2 | I70: 2 | J70: =VLOOKUP(B70,'[1]Jan''24 (3)'!$G$4:$T$2414,14,0) -> 22.34 | K70: =J70-I70 -> 20.34 | L70: =J70=I70 -> FALSE | M70: =I70=L70 -> FALSE | N70: 45308 | O70: E | Q70: =H70=I70 -> TRUE | S70: =H70-I70 -> 0
A71: 69 | B71: =TRIM(C71) -> B073467R | C71: B073467R | D71: CLUTCH CONTROL TRANSMISSION ASSLY ( Clutch Assly) | E71: Matador | F71: Pcs | G71: 3.11 | H71: 1 | I71: 1 | J71: =VLOOKUP(B71,'[1]Jan''24 (3)'!$G$4:$T$2414,14,0) -> 3.11 | K71: =J71-I71 -> 2.11 | L71: =J71=I71 -> FALSE | M71: =I71=L71 -> FALSE | N71: 45318 | O71: M | Q71: =H71=I71 -> TRUE | S71: =H71-I71 -> 0
A72: 70 | B72: =TRIM(C72) -> B073690 | C72: B073690 | D72: SHOCK ABSORBER ASSLY FRONT | E72: Matador | F72: Pcs | G72: 12.25 | H72: 7 | I72: 7 | J72: =VLOOKUP(B72,'[1]Jan''24 (3)'!$G$4:$T$2414,14,0) -> 85.75 | K72: =J72-I72 -> 78.75 | L72: =J72=I72 -> FALSE | M72: =I72=L72 -> FALSE | N72: 45310 | O72: E | Q72: =H72=I72 -> TRUE | S72: =H72-I72 -> 0
A73: 71 | B73: =TRIM(C73) -> CM167706 | C73: CM167706 | D73: MAXIMUM JET | E73: Matador | F73: Pcs | G73: 0.54 | H73: 5 | I73: 5 | J73: =VLOOKUP(B73,'[1]Jan''24 (3)'!$G$4:$T$2414,14,0) -> 2.7 | K73: =J73-I73 -> -2.3 | L73: =J73=I73 -> FALSE | M73: =I73=L73 -> FALSE | N73: 45308 | O73: E | Q73: =H73=I73 -> TRUE | S73: =H73-I73 -> 0
A74: 72 | B74: =TRIM(C74) -> CM167803 | C74: CM167803 | D74: PILOT JET | E74: Matador | F74: Pcs | G74: 2.12 | H74: 22 | I74: 23 | J74: =VLOOKUP(B74,'[1]Jan''24 (3)'!$G$4:$T$2414,14,0) -> 48.76 | K74: =J74-I74 -> 25.76 | L74: =J74=I74 -> FALSE | M74: =I74=L74 -> FALSE | N74: 45308 | O74: E | Q74: =H74=I74 -> FALSE | S74: =H74-I74 -> -1
A75: 73 | B75: =TRIM(C75) -> CM167901 | C75: CM167901 | D75: DIFFUSER | E75: Matador | F75: Pcs | G75: 0.75 | H75: 5 | I75: 5 | J75: =VLOOKUP(B75,'[1]Jan''24 (3)'!$G$4:$T$2414,14,0) -> 3.75 | K75: =J75-I75 -> -1.25 | L75: =J75=I75 -> FALSE | M75: =I75=L75 -> FALSE | N75: 45308 | O75: E | Q75: =H75=I75 -> TRUE | S75: =H75-I75 -> 0
A76: 74 | B76: =TRIM(C76) -> E40020513 | C76: E40020513 | D76: BP KIT MOD BS-II | E76: Matador | F76: Pcs | G76: 25.18 | H76: 1 | I76: 1 | J76: =VLOOKUP(B76,'[1]Jan''24 (3)'!$G$4:$T$2414,14,0) -> 25.18 | K76: =J76-I76 -> 24.18 | L76: =J76=I76 -> FALSE | M76: =I76=L76 -> FALSE | N76: 45309 | O76: M | Q76: =H76=I76 -> TRUE | S76: =H76-I76 -> 0
A77: 75 | B77: =TRIM(C77) -> F002B10538 | C77: F002B10538 | D77: ELEMENT (Plunger) | E77: Matador | F77: Pcs | G77: 9.66 | H77: 4 | I77: 4 | J77: =VLOOKUP(B77,'[1]Jan''24 (3)'!$G$4:$T$2414,14,0) -> 38.64 | K77: =J77-I77 -> 34.64 | L77: =J77=I77 -> FALSE | M77: =I77=L77 -> FALSE | N77: 45308 | O77: E | Q77: =H77=I77 -> TRUE | S77: =H77-I77 -> 0
A78: 76 | B78: =TRIM(C78) -> F002C40521 | C78: F002C40521 | D78: NOZZLE | E78: Matador | F78: Pcs | G78: 19.44 | H78: 7 | I78: 7 | J78: =VLOOKUP(B78,'[1]Jan''24 (3)'!$G$4:$T$2414,14,0) -> 136.08 | K78: =J78-I78 -> 129.08 | L78: =J78=I78 -> FALSE | M78: =I78=L78 -> FALSE | N78: 45309 | O78: M | Q78: =H78=I78 -> TRUE | S78: =H78-I78 -> 0
A79: 77 | B79: =TRIM(C79) -> KIT1U000020 | C79: KIT1U000020 | D79: SET OF VALVES | E79: Matador | F79: Set | G79: 4.9 | H79: 12 | I79: 12 | J79: =VLOOKUP(B79,'[1]Jan''24 (3)'!$G$4:$T$2414,14,0) -> 58.8 | K79: =J79-I79 -> 46.8 | L79: =J79=I79 -> FALSE | M79: =I79=L79 -> FALSE | N79: 45308 | O79: E | Q79: =H79=I79 -> TRUE | S79: =H79-I79 -> 0
A80: 78 | B80: =TRIM(C80) -> KIT95002R | C80: KIT95002R | D80: GASKET SET PAXX 200 | E80: Matador | F80: Pcs | G80: 4.69 | H80: 47 | I80: 47 | J80: =VLOOKUP(B80,'[1]Jan''24 (3)'!$G$4:$T$2414,14,0) -> 220.43 | K80: =J80-I80 -> 173.43 | L80: =J80=I80 -> FALSE | M80: =I80=L80 -> FALSE | N80: 45309 | O80: M | Q80: =H80=I80 -> TRUE | S80: =H80-I80 -> 0
A81: 79 | B81: =TRIM(C81) -> KIT95003R | C81: KIT95003R | D81: O RING SET | E81: Matador | F81: Pcs | G81: 0.74 | H81: 28 | I81: 28 | J81: =VLOOKUP(B81,'[1]Jan''24 (3)'!$G$4:$T$2414,14,0) -> 20.72 | K81: =J81-I81 -> -7.28 | L81: =J81=I81 -> FALSE | M81: =I81=L81 -> FALSE | N81: 45308 | O81: E | Q81: =H81=I81 -> TRUE | S81: =H81-I81 -> 0
... A86: 84 | B86: =TRIM(C86) -> KIT95023R | C86: KIT95023R | D86: DRIVEN PLATE_PAX 200 | E86: Matador | F86: Pcs | G86: 3.08 | H86: 7 | I86: 7 | J86: =VLOOKUP(B86,'[1]Jan''24 (3)'!$G$4:$T$2414,14,0) -> 21.56 | K86: =J86-I86 -> 14.56 | L86: =J86=I86 -> FALSE | M86: =I86=L86 -> FALSE | N86: 45310 | O86: E | Q86: =H86=I86 -> TRUE | S86: =H86-I86 -> 0
A87: 85 | B87: =TRIM(C87) -> 660345 | C87: 660345 | D87: SHIFT CONTROL CABLE WITH TERMINAL (GEAR Inner) | E87: Matador | F87: Pcs | G87: 0.46 | H87: 5 | I87: 5 | J87: =VLOOKUP(B87,'[1]Jan''24 (3)'!$G$4:$T$2414,14,0) -> 2.3 | K87: =J87-I87 -> -2.7 | L87: =J87=I87 -> FALSE | M87: =I87=L87 -> FALSE | N87: 45309 | O87: M | Q87: =H87=I87 -> TRUE | S87: =H87-I87 -> 0
A88: 86 | B88: =TRIM(C88) -> 932279 | C88: 932279 | D88: Filter Element Assy for Ape Paxx | E88: Matador | F88: Pcs | G88: 3.49 | H88: =25-1 -> 24 | I88: =23+1 -> 24 | J88: =VLOOKUP(B88,'[1]Jan''24 (3)'!$G$4:$T$2414,14,0) -> 83.76 | K88: =J88-I88 -> 59.76 | L88: =J88=I88 -> FALSE | M88: =I88=L88 -> FALSE | N88: 45308 | O88: M | Q88: =H88=I88 -> TRUE | S88: =H88-I88 -> 0 | T88: SPDO-BMC-UMG-HO-3W-2024-01-0064(17.1.24=1pc)
A89: 87 | B89: =TRIM(C89) -> 127306018 | C89: 127306018 | D89: CROSS (ALT.CONST. 221569) ( C / D ) | E89: Matador | F89: Pcs | G89: 1.87 | H89: 7 | I89: 7 | J89: =VLOOKUP(B89,'[1]Jan''24 (3)'!$G$4:$T$2414,14,0) -> 13.09 | K89: =J89-I89 -> 6.09 | L89: =J89=I89 -> FALSE | M89: =I89=L89 -> FALSE | N89: 45310 | O89: E | Q89: =H89=I89 -> TRUE | S89: =H89-I89 -> 0
A90: 88 | B90: =TRIM(C90) -> 880255209 | C90: 880255209 | D90: BALL BRG 98205 | E90: Matador | F90: Pcs | G90: 1.62 | H90: 2 | I90: 2 | J90: =VLOOKUP(B90,'[1]Jan''24 (3)'!$G$4:$T$2414,14,0) -> 3.24 | K90: =J90-I90 -> 1.24 | L90: =J90=I90 -> FALSE | M90: =I90=L90 -> FALSE | N90: 45310 | O90: E | Q90: =H90=I90 -> TRUE | S90: =H90-I90 -> 0
A91: 89 | B91: =TRIM(C91) -> 569246R | C91: 569246R | D91: SHOCK ABSORBER FRONT | E91: Matador | F91: Pcs | G91: 6.17 | H91: 1 | I91: 1 | J91: =VLOOKUP(B91,'[1]Jan''24 (3)'!$G$4:$T$2414,14,0) -> 6.17 | K91: =J91-I91 -> 5.17 | L91: =J91=I91 -> FALSE | M91: =I91=L91 -> FALSE | N91: 45310 | O91: E | Q91: =H91=I91 -> TRUE | S91: =H91-I91 -> 0
A92: 90 | B92: =TRIM(C92) -> B003326 | C92: B003326 | D92: FRONT BRAKE SHOE KIT | E92: Matador | F92: Pcs | G92: 3.68 | H92: 1 | I92: 1 | J92: =VLOOKUP(B92,'[1]Jan''24 (3)'!$G$4:$T$2414,14,0) -> 3.68 | K92: =J92-I92 -> 2.68 | L92: =J92=I92 -> FALSE | M92: =I92=L92 -> FALSE | N92: 45310 | O92: E | Q92: =H92=I92 -> TRUE | S92: =H92-I92 -> 0
A93: 91 | B93: =TRIM(C93) -> B023912 | C93: B023912 | D93: CABLE GEAR CONTROL ASSLY BLACK (GEAR Assly) | E93: Matador | F93: Pcs | G93: 1.19 | H93: 5 | I93: 5 | J93: =VLOOKUP(B93,'[1]Jan''24 (3)'!$G$4:$T$2414,14,0) -> 5.95 | K93: =J93-I93 -> 0.95 | L93: =J93=I93 -> FALSE | M93: =I93=L93 -> FALSE | N93: 45309 | O93: M | Q93: =H93=I93 -> TRUE | S93: =H93-I93 -> 0
A94: 92 | B94: =TRIM(C94) -> F002H24593 | C94: F002H24593 | D94: DIESEL FILTER,Fuel | E94: Matador | F94: Pcs | G94: 1.18 | H94: =16-1 -> 15 | I94: =16-1 -> 15 | J94: =VLOOKUP(B94,'[1]Jan''24 (3)'!$G$4:$T$2414,14,0) -> 17.7 | K94: =J94-I94 -> 2.7 | L94: =J94=I94 -> FALSE | M94: =I94=L94 -> FALSE | N94: 45308 | O94: M | Q94: =H94=I94 -> TRUE | S94: =H94-I94 -> 0 | T94: SPIV/BMC/UMG-HO/N3W/2024/01/011(31.1.24 1Pcs)
A95: 93 | B95: =TRIM(C95) -> KIT940003R | C95: KIT940003R | D95: KIT – Steering Pin and Seal’ | E95: Matador | F95: Pcs | G95: 2.77 | H95: 29 | I95: 29 | J95: =VLOOKUP(B95,'[1]Jan''24 (3)'!$G$4:$T$2414,14,0) -> 80.33 | K95: =J95-I95 -> 51.33 | L95: =J95=I95 -> FALSE | M95: =I95=L95 -> FALSE | N95: 45309 | O95: E | Q95: =H95=I95 -> TRUE | S95: =H95-I95 -> 0
A96: 94 | B96: =TRIM(C96) -> KIT95004R | C96: KIT95004R | D96: Kit-Driving + Pressure Plate (New ) | E96: Matador | F96: Pcs | G96: 1.43 | H96: 5 | I96: 5 | J96: =VLOOKUP(B96,'[1]Jan''24 (3)'!$G$4:$T$2414,14,0) -> 7.15 | K96: =J96-I96 -> 2.15 | L96: =J96=I96 -> FALSE | M96: =I96=L96 -> FALSE | N96: 45308 | O96: E | Q96: =H96=I96 -> TRUE | S96: =H96-I96 -> 0
A97: 95 | B97: =TRIM(C97) -> 990001202 | C97: 990001202 | D97: Engine Gear Without Helical Teeth | E97: Matador | F97: Pcs | G97: 3.48 | H97: 1 | I97: 1 | J97: =VLOOKUP(B97,'[1]Jan''24 (3)'!$G$4:$T$2414,14,0) -> 3.48 | K97: =J97-I97 -> 2.48 | L97: =J97=I97 -> FALSE | M97: =I97=L97 -> FALSE | N97: 45310 | O97: E | Q97: =H97=I97 -> TRUE | S97: =H97-I97 -> 0 | T97: Rusty-1
A98: 96 | B98: =TRIM(C98) -> B001302 | C98: B001302 | D98: FRONT HUB ASSLY | E98: Matador | F98: Pcs | G98: 4.46 | H98: 6 | I98: 6 | J98: =VLOOKUP(B98,'[1]Jan''24 (3)'!$G$4:$T$2414,14,0) -> 26.76 | K98: =J98-I98 -> 20.76 | L98: =J98=I98 -> FALSE | M98: =I98=L98 -> FALSE | N98: 45309 | O98: M | Q98: =H98=I98 -> TRUE | S98: =H98-I98 -> 0
A99: 97 | B99: =TRIM(C99) -> SPB015863 | C99: SPB015863 | D99: CLUTCH COVER WITH P.I. APE PAX - SPD | E99: Matador | F99: Pcs | G99: 15.64 | H99: 3 | I99: 3 | J99: =VLOOKUP(B99,'[1]Jan''24 (3)'!$G$4:$T$2414,14,0) -> 46.92 | K99: =J99-I99 -> 43.92 | L99: =J99=I99 -> FALSE | M99: =I99=L99 -> FALSE | N99: 45310 | O99: E | Q99: =H99=I99 -> TRUE | S99: =H99-I99 -> 0
A100: 98 | B100: =TRIM(C100) -> B042566 | C100: B042566 | D100: CABLE ASSLY. CHOKE CONTROL (SINGLE), ( Black) (DC/Choke Assly) | E100: Matador | F100: Pcs | G100: 1.65 | H100: 7 | I100: 7 | J100: =VLOOKUP(B100,'[1]Jan''24 (3)'!$G$4:$T$2414,14,0) -> 11.55 | K100: =J100-I100 -> 4.55 | L100: =J100=I100 -> FALSE | M100: =I100=L100 -> FALSE | N100: 45309 | O100: M | Q100: =H100=I100 -> TRUE | S100: =H100-I100 -> 0
A101: 99 | B101: =TRIM(C101) -> B002344 | C101: B002344 | D101: REAR WHEEL HUB | E101: Matador | F101: Pcs | G101: 3.89 | H101: 2 | I101: 2 | J101: =VLOOKUP(B101,'[1]Jan''24 (3)'!$G$4:$T$2414,14,0) -> 7.78 | K101: =J101-I101 -> 5.78 | L101: =J101=I101 -> FALSE | M101: =I101=L101 -> FALSE | N101: 45309 | O101: M | Q101: =H101=I101 -> TRUE | S101: =H101-I101 -> 0
A102: 100 | B102: =TRIM(C102) -> 660141 | C102: 660141 | D102: CLUTCH CONTROL CABLE WITH TERMINAL (Clutch Inner) | E102: Matador | F102: Pcs | G102: 0.43 | H102: 35 | I102: =4+31 -> 35 | J102: =VLOOKUP(B102,'[1]Jan''24 (3)'!$G$4:$T$2414,14,0) -> 15.05 | K102: =J102-I102 -> -19.95 | L102: =J102=I102 -> FALSE | M102: =I102=L102 -> FALSE | N102: 45313 | O102: E | Q102: =H102=I102 -> TRUE | S102: =H102-I102 -> 0
A103: 101 | B103: =TRIM(C103) -> 660358 | C103: 660358 | D103: CABLE REVERSE GEAR WITH TERMINALS (REVERSE GEAR Inner) | E103: Matador | F103: Pcs | G103: 0.53 | H103: 5 | I103: 5 | J103: =VLOOKUP(B103,'[1]Jan''24 (3)'!$G$4:$T$2414,14,0) -> 2.65 | K103: =J103-I103 -> -2.35 | L103: =J103=I103 -> FALSE | M103: =I103=L103 -> FALSE | N103: 45322 | O103: E | Q103: =H103=I103 -> TRUE | S103: =H103-I103 -> 0
A104: 102 | B104: =TRIM(C104) -> 6A000068 | C104: 6A000068 | D104: CABLE REVERSE GEAR WITH TERMINALS (REVERSE GEAR Inner) | E104: Matador | F104: Pcs | G104: 0.53 | H104: 4 | I104: 4 | J104: =VLOOKUP(B104,'[1]Jan''24 (3)'!$G$4:$T$2414,14,0) -> 2.12 | K104: =J104-I104 -> -1.88 | L104: =J104=I104 -> FALSE | M104: =I104=L104 -> FALSE | N104: 45309 | O104: M | Q104: =H104=I104 -> TRUE | S104: =H104-I104 -> 0
...

Sheet Summary List
B1: BMC BU S'parts Ground Stock Taking Summary Report
B2: Physical Stock Taking Cut off date:17.1.24~31.1.24 and Transaction Cut off date:2.2.24.
B4: Final Summary List
B5: Sr. No. | C5: Product Brand | D5: Total C/L Qty (13.1.24) | E5: Total Actual Ground Item | F5: Total Actual Ground Qty | G5: Different Ground (Qty) | H5: Different Ground Surplus (Price $) | I5: Different Ground Shortage (Price $) | J5: Different Ground Damage (Price $) | K5: Remark
B6: 1 | C6: DAMON | D6: 6428 | E6: 183 | F6: 6459 | G6: =D6-F6 -> -31 | H6: 64.73 | I6: 0 | J6: 1.98 | K6: Surplus-31Pcs & Damage-1Pc.
B7: 2 | C7: DENSO | D7: 4 | E7: 1 | F7: 4 | G7: =D7-F7 -> 0 | H7: 0 | I7: 0 | J7: 0
B8: 3 | C8: Giant | D8: 0 | E8: 2 | F8: 2 | G8: =D8-F8 -> -2 | H8: 0.02 | I8: 0 | J8: 0 | K8: Surplus-2Pcs.
B9: 4 | C9: KAWASAKI | D9: 3848 | E9: 576 | F9: 3954 | G9: =D9-F9 -> -106 | H9: 5268 | J9: 164.07 | K9: Surplus-106Pcs & Damage-13Pcs.
B10: 5 | C10: Matador | D10: 14050 | E10: 925 | F10: 14202 | G10: =D10-F10 -> -152 | H10: 418.66 | I10: 0 | J10: 191.78 | K10: Surplus-152Pcs & Damage-66Pcs.
B11: 6 | C11: RT250i | D11: 192 | E11: 90 | F11: 195 | G11: =D11-F11 -> -3 | H11: 183.39 | I11: 0 | J11: 0 | K11: Surplus-3Pcs.
B12: 7 | C12: SELENA | D12: 324 | E12: 79 | F12: 330 | G12: =D12-F12 -> -6 | H12: 53.94 | I12: 0 | J12: 0 | K12: Surplus-6Pcs.
B13: 8 | C13: Star | D13: 0 | E13: 1 | F13: 1 | G13: =D13-F13 -> -1 | H13: 0 | I13: 0 | J13: 0
B14: 9 | C14: UMG Motor | D14: 1532 | E14: 142 | F14: 1550 | G14: =D14-F14 -> -18 | H14: 27.37 | I14: 0 | J14: 4.43 | K14: Surplus-18Pcs & Damage-2Pcs.
B15: 10 | C15: Vespa | D15: 1378 | E15: 276 | F15: 1377 | G15: =D15-F15 -> 1 | H15: 92.19 | I15: 24.6 | J15: 2.66 | K15: Surplus-1Pcs& Shortage-2 & Damage-1Pcs.
B16: 11 | C16: Volvoline | D16: 12 | E16: 1 | F16: 8 | G16: =D16-F16 -> 4 | H16: 0 | I16: 16.25 | J16: 0 | K16: Shortage-4Pcs.
B17: Total | D17: =SUM(D6:D16) -> 27768 | E17: =SUM(E6:E16) -> 2276 | F17: =SUM(F6:F16) -> 28082 | G17: =SUM(G6:G16) -> -314 | H17: =SUM(H6:H16) -> 6108.3 | I17: =SUM(I6:I16) -> 40.85 | J17: =SUM(J6:J16) -> 364.92
B21: Thin Thin N'we | D21: Kyaw Myo Swe & Aung Phyo Hein | F21: Aye Thandar Htwe | H21: Min Paing Phyo | J21: Zin Zin Mar & Khin Yadanar Htun
B22: Cor Inventory | D22: Cor Inventory | F22: S'parts Head | H22: Service & S'parts Head | J22: F/A
B23: CFD DIV | D23: CFD DIV | F23: BMC BU | H23: BMC BU | J23: BMC BU
B27: Zin Mar Thaung(Ms.) | D27: Chit San Ko(Mr.) | F27: Win Theingi Nwe(Mrs.) | H27: Phyo Ko Ko | J27: Zaw Min Myat(Mr.) | K27: Aye Min Htoo(Mr.)
B28: AGM | D28: GM | F28: AGM | H28: OM | J28: ACOO | K28: VCM
B29: CFD DIV | D29: BMC BU | F29: BMC BU | H29: BMC BU

Sheet BMC Mail Data
A1: BMC BU S'parts | G1: Complete | H1: Shortage+ | K1: Surplus- | M1: Damage
A2: No | B2: Product Code | C2: Product Name | D2: Product Brand | E2: UOM | F2: P Price $ | G2: C/L Qty (13/1/2024) | H2: Actual Qty | K2: Ground Date | L2: M/E | M2: Dead Stock | N2: T/F | O2: Damage | P2: Different Qty | Q2: Remark
A3: 1 | B3: B073969 | C3: Hl Bezel Beading | D3: Matador | E3: Pcs | F3: 0.39 | G3: 29 | H3: 29 | I3: =VLOOKUP(B3:B2278,'[2]Qty by month'!$G$3:$N$527,8,0) -> #N/A | K3: 45310 | L3: M | N3: =G3=H3 -> TRUE | P3: =G3-H3 -> 0
A4: 2 | B4: B074170 | C4: Side Blinker S/H LH | D4: Matador | E4: Pcs | F4: 3.83 | G4: 1 | H4: 1 | I4: =VLOOKUP(B4:B2279,'[2]Qty by month'!$G$3:$N$527,8,0) -> #N/A | K4: 45309 | L4: M | N4: =G4=H4 -> TRUE | P4: =G4-H4 -> 0
A5: 3 | B5: 8771 | C5: OIL SEAL ( 18-24-4 ) | D5: Matador | E5: Pcs | F5: 0.14 | G5: =23-1 -> 22 | H5: 22 | I5: =VLOOKUP(B5:B2280,'[2]Qty by month'!$G$3:$N$527,8,0) -> #N/A | K5: 45309 | L5: E | N5: =G5=H5 -> TRUE | P5: =G5-H5 -> 0 | Q5: SPDO-BMC-UMG-HO-3W-2024-01-0063-2(16.1.24=1pc)
A6: 4 | B6: 20359 | C6: SEAL RING(Rear Suspension) | D6: Matador | E6: Pcs | F6: 0.23 | G6: =7-1 -> 6 | H6: 6 | I6: =VLOOKUP(B6:B2281,'[2]Qty by month'!$G$3:$N$527,8,0) -> #N/A | K6: 45310 | L6: E | N6: =G6=H6 -> TRUE | P6: =G6-H6 -> 0 | Q6: SPDO-BMC-UMG-HO-3W-2024-01-0063-2(16.1.24=1pc)
A7: 5 | B7: 74414 | C7: BUFFER FOR COUPLING SHOCK ABSORBER | D7: Matador | E7: Pcs | F7: 0.17 | G7: 26 | H7: 26 | I7: =VLOOKUP(B7:B2282,'[2]Qty by month'!$G$3:$N$527,8,0) -> #N/A | K7: 45310 | L7: M | N7: =G7=H7 -> TRUE | P7: =G7-H7 -> 0
A8: 6 | B8: 75708 | C8: SILENT BLOCK | D8: Matador | E8: Pcs | F8: 0.47 | G8: 10 | H8: 10 | I8: =VLOOKUP(B8:B2283,'[2]Qty by month'!$G$3:$N$527,8,0) -> #N/A | K8: 45309 | L8: E | N8: =G8=H8 -> TRUE | P8: =G8-H8 -> 0
A9: 7 | B9: 107718 | C9: ROLLER BUSH | D9: Matador | E9: Pcs | F9: 0.84 | G9: 134 | H9: =62*2+10 -> 134 | I9: =VLOOKUP(B9:B2284,'[2]Qty by month'!$G$3:$N$527,8,0) -> #N/A | K9: 45313 | L9: E | N9: =G9=H9 -> TRUE | P9: =G9-H9 -> 0
A10: 8 | B10: 109117 | C10: RING | D10: Matador | E10: Pcs | F10: 0.8 | G10: 16 | H10: 16 | I10: =VLOOKUP(B10:B2285,'[2]Qty by month'!$G$3:$N$527,8,0) -> #N/A | K10: 45309 | L10: E | N10: =G10=H10 -> TRUE | P10: =G10-H10 -> 0
A11: 9 | B11: 136434 | C11: OIL SEAL | D11: Matador | E11: Pcs | F11: 0.14 | G11: 5 | H11: 5 | I11: =VLOOKUP(B11:B2286,'[2]Qty by month'!$G$3:$N$527,8,0) -> #N/A | K11: 45309 | L11: E | N11: =G11=H11 -> TRUE | P11: =G11-H11 -> 0
A12: 10 | B12: 137235 | C12: "STEERING PIN ""APE 501-400""" | D12: Matador | E12: Pcs | F12: 0.74 | G12: 69 | H12: 69 | I12: =VLOOKUP(B12:B2287,'[2]Qty by month'!$G$3:$N$527,8,0) -> #N/A | K12: 45310 | L12: M | N12: =G12=H12 -> TRUE | P12: =G12-H12 -> 0
A13: 11 | B13: 183511 | C13: OIL SEAL | D13: Matador | E13: Pcs | F13: 0.14 | G13: 14 | H13: 14 | I13: =VLOOKUP(B13:B2288,'[2]Qty by month'!$G$3:$N$527,8,0) -> #N/A | K13: 45309 | L13: E | N13: =G13=H13 -> TRUE | P13: =G13-H13 -> 0
A14: 12 | B14: 196302 | C14: OIL SEAL | D14: Matador | E14: Pcs | F14: 0.22 | G14: 19 | H14: 19 | I14: =VLOOKUP(B14:B2289,'[2]Qty by month'!$G$3:$N$527,8,0) -> #N/A | K14: 45309 | L14: E | N14: =G14=H14 -> TRUE | P14: =G14-H14 -> 0
A15: 13 | B15: 567992 | C15: BRG RACE L/T (TH)(Front Suspension, Bottom) | D15: Matador | E15: Pcs | F15: 2.6 | G15: 5 | H15: 5 | I15: =VLOOKUP(B15:B2290,'[2]Qty by month'!$G$3:$N$527,8,0) -> #N/A | K15: 45310 | L15: M | N15: =G15=H15 -> TRUE | P15: =G15-H15 -> 0
A16: 14 | B16: 567993 | C16: BRG RACE L/B(TH)(Front Suspension, Bottom) | D16: Matador | E16: Pcs | F16: 1.28 | G16: 4 | H16: 4 | I16: =VLOOKUP(B16:B2291,'[2]Qty by month'!$G$3:$N$527,8,0) -> #N/A | K16: 45310 | L16: M | N16: =G16=H16 -> TRUE | P16: =G16-H16 -> 0
A17: 15 | B17: 568289 | C17: RUBBER BUMPER | D17: Matador | E17: Pcs | F17: 5.32 | G17: 7 | H17: 7 | I17: =VLOOKUP(B17:B2292,'[2]Qty by month'!$G$3:$N$527,8,0) -> #N/A | K17: 45310 | L17: M | N17: =G17=H17 -> TRUE | P17: =G17-H17 -> 0
A18: 16 | B18: 587617 | C18: ELASTIC JOINT CONNCETION HUB (WHL.SIDE) | D18: Matador | E18: Pcs | F18: 4.86 | G18: 2 | H18: 2 | I18: =VLOOKUP(B18:B2293,'[2]Qty by month'!$G$3:$N$527,8,0) -> #N/A | K18: 45309 | L18: M | N18: =G18=H18 -> TRUE | P18: =G18-H18 -> 0
A19: 17 | B19: 587806 | C19: CLUTCH CONTROL CABLE WITH TERMINAL (Clutch Inner) | D19: Matador | E19: Pcs | F19: 0.42 | G19: 13 | H19: 13 | I19: =VLOOKUP(B19:B2294,'[2]Qty by month'!$G$3:$N$527,8,0) -> #N/A | K19: 45309 | L19: M | N19: =G19=H19 -> TRUE | P19: =G19-H19 -> 0
A20: 18 | B20: 587812 | C20: TRANSMISSION CABLE FOR ODOMETER (Mileage Inner) | D20: Matador | E20: Pcs | F20: 0.6 | G20: 135 | H20: 135 | I20: =VLOOKUP(B20:B2295,'[2]Qty by month'!$G$3:$N$527,8,0) -> #N/A | K20: 45308 | L20: M | N20: =G20=H20 -> TRUE | P20: =G20-H20 -> 0
A21: 19 | B21: 587919 | C21: CABLE,GEAR CONTROL ASSLY NO.2(LIGHT GREY) ( Gear Assly) | D21: Matador | E21: Pcs | F21: 0.85 | G21: =15-1-2-1-1 -> 10 | H21: 10 | I21: =VLOOKUP(B21:B2296,'[2]Qty by month'!$G$3:$N$527,8,0) -> #N/A | K21: 45309 | L21: M | N21: =G21=H21 -> TRUE | P21: =G21-H21 -> 0 | Q21: SPDO-BMC-UMG-HO-3W-2024-01-0051,0052,0053,0054(15,16.1.24=1pc)
A22: 20 | B22: 604508 | C22: DECOMPRESSOR CONTROL CABLE INNER ( DC/Choke Inner) | D22: Matador | E22: Pcs | F22: 0.24 | G22: 2 | H22: 2 | I22: =VLOOKUP(B22:B2297,'[2]Qty by month'!$G$3:$N$527,8,0) -> #N/A | K22: 45309 | L22: M | N22: =G22=H22 -> TRUE | P22: =G22-H22 -> 0
A23: 21 | B23: 604535 | C23: FLEXIBLE COUPLING | D23: Matador | E23: Pcs | F23: 3.04 | G23: =7-1-1 -> 5 | H23: 5 | I23: =VLOOKUP(B23:B2298,'[2]Qty by month'!$G$3:$N$527,8,0) -> #N/A | K23: 45316 | L23: E | N23: =G23=H23 -> TRUE | P23: =G23-H23 -> 0 | Q23: SPDO-BMC-UMG-HO-3W-2024-01-0057,0060(16.1.24=1pc)
A24: 22 | B24: 604779 | C24: CLUTCH CONTROL TRANSMISSION ASSLY.(Clutch Assly) | D24: Matador | E24: Pcs | F24: 1.27 | G24: =1-1 -> 0 | H24: 0 | I24: =VLOOKUP(B24:B2299,'[2]Qty by month'!$G$3:$N$527,8,0) -> #N/A | K24: 45320 | L24: E | N24: =G24=H24 -> TRUE | P24: =G24-H24 -> 0 | Q24: SPDO-BMC-UMG-HO-3W-2024-01-0066(23.1.24=1pc)
A25: 23 | B25: 632428P | C25: FILTER ELEMENT ASSLY ( ENGINETECH AIR FI | D25: Matador | E25: Pcs | F25: 2.54 | G25: 21 | H25: 22 | I25: =VLOOKUP(B25:B2300,'[2]Qty by month'!$G$3:$N$527,8,0) -> #N/A | K25: 45308 | L25: M | N25: =G25=H25 -> FALSE | P25: =G25-H25 -> -1
A26: 24 | B26: 645124 | C26: SPEEDOCABLE - VE (Mileage Assly) | D26: Matador | E26: Pcs | F26: 1.77 | G26: =172-1 -> 171 | H26: =17+50+50+50+4 -> 171 | I26: =VLOOKUP(B26:B2301,'[2]Qty by month'!$G$3:$N$527,8,0) -> #N/A | K26: 45316 | L26: E | N26: =G26=H26 -> TRUE | P26: =G26-H26 -> 0 | Q26: SPDO-BMC-UMG-HO-3W-2024-01-0064(17.1.24=1pc)
A27: 25 | B27: 661282 | C27: NEEDLE ROLLER BEARING(Rear Suspension) | D27: Matador | E27: Pcs | F27: 1.08 | G27: =10-2-2-1 -> 5 | H27: 5 | I27: =VLOOKUP(B27:B2302,'[2]Qty by month'!$G$3:$N$527,8,0) -> #N/A | K27: 45308 | L27: E | N27: =G27=H27 -> TRUE | P27: =G27-H27 -> 0 | Q27: SPDO-BMC-UMG-HO-3W-2024-01-0053,0054,0061(15.1.24=2,2,1pc)
A28: 26 | B28: 925508 | C28: MAJOR KIT TMC (KBX 1008) | D28: Matador | E28: Pcs | F28: 7.55 | G28: 3 | H28: 3 | I28: =VLOOKUP(B28:B2303,'[2]Qty by month'!$G$3:$N$527,8,0) -> #N/A | K28: 45310 | L28: M | N28: =G28=H28 -> TRUE | P28: =G28-H28 -> 0
A29: 27 | B29: 925509 | C29: MINOR KIT TMC (KBX 1009) | D29: Matador | E29: Pcs | F29: 3.2 | G29: 4 | H29: 4 | I29: =VLOOKUP(B29:B2304,'[2]Qty by month'!$G$3:$N$527,8,0) -> #N/A | K29: 45310 | L29: M | N29: =G29=H29 -> TRUE | P29: =G29-H29 -> 0
A30: 28 | B30: 925573 | C30: MAJOR KIT WHL CYL. RR ( KBX 1109 )(FOR 6 | D30: Matador | E30: Pcs | F30: 2.44 | G30: =1-1 -> 0 | H30: 0 | I30: =VLOOKUP(B30:B2305,'[2]Qty by month'!$G$3:$N$527,8,0) -> #N/A | K30: 45320 | L30: E | N30: =G30=H30 -> TRUE | P30: =G30-H30 -> 0 | Q30: SPDO-BMC-UMG-HO-3W-2024-01-0066(23.1.24=1pc)
A31: 29 | B31: 925574 | C31: MINOR KIT WHL CYL. RR ( KBX 1110 )(FOR 6 | D31: Matador | E31: Pcs | F31: 0.61 | G31: 6 | H31: 6 | I31: =VLOOKUP(B31:B2306,'[2]Qty by month'!$G$3:$N$527,8,0) -> #N/A | K31: 45310 | L31: M | N31: =G31=H31 -> TRUE | P31: =G31-H31 -> 0
A32: 30 | B32: 940004 | C32: FRONT BRAKE SHOE SET | D32: Matador | E32: Pcs | F32: 3.45 | G32: 7 | H32: 9 | I32: =VLOOKUP(B32:B2307,'[2]Qty by month'!$G$3:$N$527,8,0) -> #N/A | K32: 45310 | L32: M | N32: =G32=H32 -> FALSE | P32: =G32-H32 -> -2
A33: 31 | B33: 120212012 | C33: (*) NEEDLE BUSH | D33: Matador | E33: Pcs | F33: 0.63 | G33: 2 | H33: 2 | I33: =VLOOKUP(B33:B2308,'[2]Qty by month'!$G$3:$N$527,8,0) -> #N/A | K33: 45309 | L33: E | N33: =G33=H33 -> TRUE | P33: =G33-H33 -> 0
A34: 32 | B34: 127141016 | C34: GASKET G.B. COVER | D34: Matador | E34: Pcs | F34: 0.41 | G34: 13 | H34: 13 | I34: =VLOOKUP(B34:B2309,'[2]Qty by month'!$G$3:$N$527,8,0) -> #N/A | K34: 45309 | L34: E | N34: =G34=H34 -> TRUE | P34: =G34-H34 -> 0
A35: 33 | B35: 127290013 | C35: PLUNGER SHAFT | D35: Matador | E35: Pcs | F35: 0.68 | G35: 13 | H35: 13 | I35: =VLOOKUP(B35:B2310,'[2]Qty by month'!$G$3:$N$527,8,0) -> #N/A | K35: 45310 | L35: E | N35: =G35=H35 -> TRUE | P35: =G35-H35 -> 0
A36: 34 | B36: 127640012 | C36: COMPLETE GEAR SHIFTER HSG ASSLY | D36: Matador | E36: Pcs | F36: 3.57 | G36: 1 | H36: 1 | I36: =VLOOKUP(B36:B2311,'[2]Qty by month'!$G$3:$N$527,8,0) -> #N/A | K36: 45310 | L36: E | N36: =G36=H36 -> TRUE | P36: =G36-H36 -> 0
A37: 35 | B37: 127691011P | C37: CLUTCH BOX | D37: Matador | E37: Pcs | F37: 1.69 | G37: 1 | H37: 1 | I37: =VLOOKUP(B37:B2312,'[2]Qty by month'!$G$3:$N$527,8,0) -> #N/A | K37: 45310 | L37: E | N37: =G37=H37 -> TRUE | P37: =G37-H37 -> 0
A38: 36 | B38: 127692015 | C38: DRIVING PLATE THK. 2.0 MM | D38: Matador | E38: Pcs | F38: 0.3 | G38: 412 | H38: =172+240 -> 412 | I38: =VLOOKUP(B38:B2313,'[2]Qty by month'!$G$3:$N$527,8,0) -> #N/A | K38: 45310 | L38: E | N38: =G38=H38 -> TRUE | P38: =G38-H38 -> 0
A39: 37 | B39: 127693019 | C39: PRESSURE PLATE OUTER (VE) | D39: Matador | E39: Pcs | F39: 0.31 | G39: 69 | H39: 69 | I39: =VLOOKUP(B39:B2314,'[2]Qty by month'!$G$3:$N$527,8,0) -> #N/A | K39: 45310 | L39: E | N39: =G39=H39 -> TRUE | P39: =G39-H39 -> 0
A40: 38 | B40: 127740018 | C40: CLUTCH SHAFT ASSLY (IMPROVED) | D40: Matador | E40: Pcs | F40: 3.84 | G40: 3 | H40: 3 | I40: =VLOOKUP(B40:B2315,'[2]Qty by month'!$G$3:$N$527,8,0) -> #N/A | K40: 45310 | L40: E | N40: =G40=H40 -> TRUE | P40: =G40-H40 -> 0
A41: 39 | B41: 127753015 | C41: CLUTCH BOX | D41: Matador | E41: Pcs | F41: 1.91 | G41: 1 | H41: 1 | I41: =VLOOKUP(B41:B2316,'[2]Qty by month'!$G$3:$N$527,8,0) -> #N/A | K41: 45310 | L41: E | N41: =G41=H41 -> TRUE | P41: =G41-H41 -> 0
A42: 40 | B42: 127755013 | C42: SPRING | D42: Matador | E42: Pcs | F42: 0.11 | G42: 40 | H42: 40 | I42: =VLOOKUP(B42:B2317,'[2]Qty by month'!$G$3:$N$527,8,0) -> #N/A | K42: 45310 | L42: E | N42: =G42=H42 -> TRUE | P42: =G42-H42 -> 0
A43: 41 | B43: 127757011 | C43: CUP - CLUTCH SPRING | D43: Matador | E43: Pcs | F43: 0.12 | G43: 119 | H43: 119 | I43: =VLOOKUP(B43:B2318,'[2]Qty by month'!$G$3:$N$527,8,0) -> #N/A | K43: 45310 | L43: M | N43: =G43=H43 -> TRUE | P43: =G43-H43 -> 0
A44: 42 | B44: 128071012 | C44: GASKET ENGINE SIDE COVER | D44: Matador | E44: Pcs | F44: 0.37 | G44: 17 | H44: =16+1 -> 17 | I44: =VLOOKUP(B44:B2319,'[2]Qty by month'!$G$3:$N$527,8,0) -> #N/A | K44: 45310 | L44: M | N44: =G44=H44 -> TRUE | O44: 1 | P44: =G44-H44 -> 0 | Q44: Damage-1
A45: 43 | B45: 128081017 | C45: GASKET-GEAR SHIFTER HSG. | D45: Matador | E45: Pcs | F45: 0.05 | G45: =1-1 -> 0 | H45: 0 | I45: =VLOOKUP(B45:B2320,'[2]Qty by month'!$G$3:$N$527,8,0) -> #N/A | K45: 45320 | L45: E | N45: =G45=H45 -> TRUE | P45: =G45-H45 -> 0 | Q45: SPDO-BMC-UMG-HO-3W-2024-01-0053(15.1.24=1pc)
A46: 44 | B46: 129001014 | C46: GASKET (ENGINE PTO FACE) | D46: Matador | E46: Pcs | F46: 0.1 | G46: 24 | H46: =22+2 -> 24 | I46: =VLOOKUP(B46:B2321,'[2]Qty by month'!$G$3:$N$527,8,0) -> #N/A | K46: 45310 | L46: M | N46: =G46=H46 -> TRUE | O46: 1 | P46: =G46-H46 -> 0 | Q46: Damage-1
A47: 45 | B47: 523021018 | C47: STEM GEAR OPERATING ( C ) | D47: Matador | E47: Pcs | F47: 0.89 | G47: 4 | H47: =3+1 -> 4 | I47: =VLOOKUP(B47:B2322,'[2]Qty by month'!$G$3:$N$527,8,0) -> #N/A | K47: 45310 | L47: E | N47: =G47=H47 -> TRUE | P47: =G47-H47 -> 0
A48: 46 | B48: 888472578 | C48: OIL SEAL GEAR BOX | D48: Matador | E48: Pcs | F48: 0.14 | G48: 5 | H48: 5 | I48: =VLOOKUP(B48:B2323,'[2]Qty by month'!$G$3:$N$527,8,0) -> #N/A | K48: 45310 | L48: M | N48: =G48=H48 -> TRUE | P48: =G48-H48 -> 0
A49: 47 | B49: 888472671 | C49: OIL SEAL (30X52X7) | D49: Matador | E49: Pcs | F49: 0.34 | G49: 4 | H49: 4 | I49: =VLOOKUP(B49:B2324,'[2]Qty by month'!$G$3:$N$527,8,0) -> #N/A | K49: 45308 | L49: E | N49: =G49=H49 -> TRUE | P49: =G49-H49 -> 0
A50: 48 | B50: 1A001457 | C50: PLUNGER SHAFT | D50: Matador | E50: Pcs | F50: 0.49 | G50: =7-1-1 -> 5 | H50: =2+3 -> 5 | I50: =VLOOKUP(B50:B2325,'[2]Qty by month'!$G$3:$N$527,8,0) -> #N/A | K50: 45320 | L50: M | N50: =G50=H50 -> TRUE | P50: =G50-H50 -> 0 | Q50: SPDO-BMC-UMG-HO-3W-2024-01-0063-2,0063-1(16.1.24=1pc)
A51: 49 | B51: 30209R | C51: DEEP GROOVE BALL BEARING (CLUSTER GEAR) | D51: Matador | E51: Pcs | F51: 1.33 | G51: 12 | H51: 12 | I51: =VLOOKUP(B51:B2326,'[2]Qty by month'!$G$3:$N$527,8,0) -> #N/A | K51: 45310 | L51: M | N51: =G51=H51 -> TRUE | P51: =G51-H51 -> 0
A52: 50 | B52: 616738R | C52: FUEL FILTER- PETROL ENGINE | D52: Matador | E52: Pcs | F52: 1.88 | G52: 65 | H52: 65 | I52: =VLOOKUP(B52:B2327,'[2]Qty by month'!$G$3:$N$527,8,0) -> #N/A | K52: 45308 | L52: M | N52: =G52=H52 -> TRUE | P52: =G52-H52 -> 0
A53: 51 | B53: 82635R | C53: COMPLETE OIL FILTER | D53: Matador | E53: Pcs | F53: 1.2 | G53: =6-1 -> 5 | H53: =6-1 -> 5 | I53: =VLOOKUP(B53:B2328,'[2]Qty by month'!$G$3:$N$527,8,0) -> #N/A | K53: 45310 | L53: M | N53: =G53=H53 -> TRUE | P53: =G53-H53 -> 0 | Q53: SPIV/BMC/UMG-HO/N3W/2024/01/012(31.1.24 1Pcs)
A54: 52 | B54: 82948R | C54: OIL PUMP ASSY | D54: Matador | E54: Pcs | F54: 2.35 | G54: 15 | H54: 16 | I54: =VLOOKUP(B54:B2329,'[2]Qty by month'!$G$3:$N$527,8,0) -> #N/A | K54: 45308 | L54: E | N54: =G54=H54 -> FALSE | P54: =G54-H54 -> -1
A55: 53 | B55: 83065R | C55: COMPLETE INTAKE OIL FILTER | D55: Matador | E55: Pcs | F55: 0.2 | G55: 6 | H55: =4+2 -> 6 | I55: =VLOOKUP(B55:B2330,'[2]Qty by month'!$G$3:$N$527,8,0) -> #N/A | K55: 45310 | L55: M | N55: =G55=H55 -> TRUE | P55: =G55-H55 -> 0
A56: 54 | B56: 880255211R | C56: (*) BALL BEARING 25X52X15 | D56: Matador | E56: Pcs | F56: 1.59 | G56: 3 | H56: 3 | I56: =VLOOKUP(B56:B2331,'[2]Qty by month'!$G$3:$N$527,8,0) -> #N/A | K56: 45310 | L56: E | N56: =G56=H56 -> TRUE | P56: =G56-H56 -> 0
A57: 55 | B57: 880305509R | C57: DEEP GROOVE BALL BEARING (PINION SHAFT) | D57: Matador | E57: Pcs | F57: 2.2 | G57: 7 | H57: 7 | I57: =VLOOKUP(B57:B2332,'[2]Qty by month'!$G$3:$N$527,8,0) -> #N/A | K57: 45310 | L57: E | N57: =G57=H57 -> TRUE | P57: =G57-H57 -> 0
A58: 56 | B58: B003325 | C58: MINOR KIT W/CYL. | D58: Matador | E58: Pcs | F58: 0.65 | G58: 14 | H58: 14 | I58: =VLOOKUP(B58:B2333,'[2]Qty by month'!$G$3:$N$527,8,0) -> #N/A | K58: 45310 | L58: M | N58: =G58=H58 -> TRUE | P58: =G58-H58 -> 0
A59: 57 | B59: B003330 | C59: REAR BRAKE SHOE KIT LH | D59: Matador | E59: Pcs | F59: 3.94 | G59: =23-1-1-1 -> 20 | H59: 20 | I59: =VLOOKUP(B59:B2334,'[2]Qty by month'!$G$3:$N$527,8,0) -> #N/A | K59: 45310 | L59: M | N59: =G59=H59 -> TRUE | P59: =G59-H59 -> 0 | Q59: SPDO-BMC-UMG-HO-3W-2024-01-0051,0057,0060(16.1.24=1pc)
A60: 58 | B60: B003331 | C60: REAR BRAKE SHOE KIT RH | D60: Matador | E60: Pcs | F60: 3.94 | G60: =22-1-1 -> 20 | H60: =19+1 -> 20 | I60: =VLOOKUP(B60:B2335,'[2]Qty by month'!$G$3:$N$527,8,0) -> #N/A | K60: 45320 | L60: M | N60: =G60=H60 -> TRUE | P60: =G60-H60 -> 0 | Q60: SPDO-BMC-UMG-HO-3W-2024-01-0051,0057(16.1.24=1pc)
A61: 59 | B61: B003784 | C61: LEADING SHOE COMP WITH PIN LH ANL 1643 | D61: Matador | E61: Pcs | F61: 2.12 | G61: =4-1-1-1 -> 1 | H61: 1 | I61: =VLOOKUP(B61:B2336,'[2]Qty by month'!$G$3:$N$527,8,0) -> #N/A | K61: 45310 | L61: M | N61: =G61=H61 -> TRUE | P61: =G61-H61 -> 0 | Q61: SPDO-BMC-UMG-HO-3W-2024-01-0064,0065,0055(16,17.1.24=1pc)
A62: 60 | B62: B003924 | C62: CROSS (A/B) | D62: Matador | E62: Pcs | F62: 2.02 | G62: =13-1 -> 12 | H62: =12 -> 12 | I62: =VLOOKUP(B62:B2337,'[2]Qty by month'!$G$3:$N$527,8,0) -> #N/A | K62: 45310 | L62: E | N62: =G62=H62 -> TRUE | P62: =G62-H62 -> 0 | Q62: SPDO-BMC-UMG-HO-3W-2024-01-0055(16.1.24=1pc)
A63: 61 | B63: B015872 | C63: CRANKSHAFT STUB UPPER HALF BEARING | D63: Matador | E63: Pcs | F63: 0.79 | G63: 3 | H63: =2+1 -> 3 | I63: =VLOOKUP(B63:B2338,'[2]Qty by month'!$G$3:$N$527,8,0) -> #N/A | K63: 45313 | L63: E | N63: =G63=H63 -> TRUE | P63: =G63-H63 -> 0 | Q63: Rusty-1
A64: 62 | B64: B015873 | C64: CRANKSHAFT STUB LOWER HALF BEARING | D64: Matador | E64: Pcs | F64: 2.43 | G64: 1 | H64: 1 | I64: =VLOOKUP(B64:B2339,'[2]Qty by month'!$G$3:$N$527,8,0) -> #N/A | K64: 45308 | L64: E | N64: =G64=H64 -> TRUE | P64: =G64-H64 -> 0 | Q64: Rusty-1
A65: 63 | B65: B016829 | C65: PISTON VALVE SPRING | D65: Matador | E65: Pcs | F65: 0.18 | G65: 10 | H65: 10 | I65: =VLOOKUP(B65:B2340,'[2]Qty by month'!$G$3:$N$527,8,0) -> #N/A | K65: 45308 | L65: E | N65: =G65=H65 -> TRUE | P65: =G65-H65 -> 0
A66: 64 | B66: B019342 | C66: CONIC NEEDLE | D66: Matador | E66: Pcs | F66: 1.07 | G66: 7 | H66: 7 | I66: =VLOOKUP(B66:B2341,'[2]Qty by month'!$G$3:$N$527,8,0) -> #N/A | K66: 45309 | L66: M | N66: =G66=H66 -> TRUE | P66: =G66-H66 -> 0
A67: 65 | B67: B019344 | C67: NEEDLE JET | D67: Matador | E67: Pcs | F67: 1 | G67: 23 | H67: 23 | I67: =VLOOKUP(B67:B2342,'[2]Qty by month'!$G$3:$N$527,8,0) -> #N/A | K67: 45308 | L67: E | N67: =G67=H67 -> TRUE | P67: =G67-H67 -> 0
A68: 66 | B68: B023916 | C68: INNER-GEAR CONTROL (GEAR Inner) | D68: Matador | E68: Pcs | F68: 0.52 | G68: 2 | H68: 2 | I68: =VLOOKUP(B68:B2343,'[2]Qty by month'!$G$3:$N$527,8,0) -> #N/A | K68: 45309 | L68: M | N68: =G68=H68 -> TRUE | P68: =G68-H68 -> 0
A69: 67 | B69: B1114302 | C69: INNER-GEAR CONTROL (GEAR Inner) | D69: Matador | E69: Pcs | F69: 0.52 | G69: 5 | H69: =3+5 -> 8 | I69: =VLOOKUP(B69:B2344,'[2]Qty by month'!$G$3:$N$527,8,0) -> #N/A | K69: 45309 | L69: E | N69: =G69=H69 -> FALSE | P69: =G69-H69 -> -3
A70: 68 | B70: B024374 | C70: REAR AXLE COMPLETE | D70: Matador | E70: Pcs | F70: 11.17 | G70: 2 | H70: 2 | I70: =VLOOKUP(B70:B2345,'[2]Qty by month'!$G$3:$N$527,8,0) -> #N/A | K70: 45308 | L70: E | N70: =G70=H70 -> TRUE | P70: =G70-H70 -> 0
A71: 69 | B71: B073467R | C71: CLUTCH CONTROL TRANSMISSION ASSLY ( Clutch Assly) | D71: Matador | E71: Pcs | F71: 3.11 | G71: 1 | H71: 1 | I71: =VLOOKUP(B71:B2346,'[2]Qty by month'!$G$3:$N$527,8,0) -> #N/A | K71: 45318 | L71: M | N71: =G71=H71 -> TRUE | P71: =G71-H71 -> 0
A72: 70 | B72: B073690 | C72: SHOCK ABSORBER ASSLY FRONT | D72: Matador | E72: Pcs | F72: 12.25 | G72: 7 | H72: 7 | I72: =VLOOKUP(B72:B2347,'[2]Qty by month'!$G$3:$N$527,8,0) -> #N/A | K72: 45310 | L72: E | N72: =G72=H72 -> TRUE | P72: =G72-H72 -> 0
A73: 71 | B73: CM167706 | C73: MAXIMUM JET | D73: Matador | E73: Pcs | F73: 0.54 | G73: 5 | H73: 5 | I73: =VLOOKUP(B73:B2348,'[2]Qty by month'!$G$3:$N$527,8,0) -> #N/A | K73: 45308 | L73: E | N73: =G73=H73 -> TRUE | P73: =G73-H73 -> 0
A74: 72 | B74: CM167803 | C74: PILOT JET | D74: Matador | E74: Pcs | F74: 2.12 | G74: 22 | H74: 23 | I74: =VLOOKUP(B74:B2349,'[2]Qty by month'!$G$3:$N$527,8,0) -> #N/A | K74: 45308 | L74: E | N74: =G74=H74 -> FALSE | P74: =G74-H74 -> -1
A75: 73 | B75: CM167901 | C75: DIFFUSER | D75: Matador | E75: Pcs | F75: 0.75 | G75: 5 | H75: 5 | I75: =VLOOKUP(B75:B2350,'[2]Qty by month'!$G$3:$N$527,8,0) -> #N/A | K75: 45308 | L75: E | N75: =G75=H75 -> TRUE | P75: =G75-H75 -> 0
A76: 74 | B76: E40020513 | C76: BP KIT MOD BS-II | D76: Matador | E76: Pcs | F76: 25.18 | G76: 1 | H76: 1 | I76: =VLOOKUP(B76:B2351,'[2]Qty by month'!$G$3:$N$527,8,0) -> #N/A | K76: 45309 | L76: M | N76: =G76=H76 -> TRUE | P76: =G76-H76 -> 0
A77: 75 | B77: F002B10538 | C77: ELEMENT (Plunger) | D77: Matador | E77: Pcs | F77: 9.66 | G77: 4 | H77: 4 | I77: =VLOOKUP(B77:B2352,'[2]Qty by month'!$G$3:$N$527,8,0) -> #N/A | K77: 45308 | L77: E | N77: =G77=H77 -> TRUE | P77: =G77-H77 -> 0
A78: 76 | B78: F002C40521 | C78: NOZZLE | D78: Matador | E78: Pcs | F78: 19.44 | G78: 7 | H78: 7 | I78: =VLOOKUP(B78:B2353,'[2]Qty by month'!$G$3:$N$527,8,0) -> #N/A | K78: 45309 | L78: M | N78: =G78=H78 -> TRUE | P78: =G78-H78 -> 0
A79: 77 | B79: KIT1U000020 | C79: SET OF VALVES | D79: Matador | E79: Set | F79: 4.9 | G79: 12 | H79: 12 | I79: =VLOOKUP(B79:B2354,'[2]Qty by month'!$G$3:$N$527,8,0) -> #N/A | K79: 45308 | L79: E | N79: =G79=H79 -> TRUE | P79: =G79-H79 -> 0
A80: 78 | B80: KIT95002R | C80: GASKET SET PAXX 200 | D80: Matador | E80: Pcs | F80: 4.69 | G80: 47 | H80: 47 | I80: =VLOOKUP(B80:B2355,'[2]Qty by month'!$G$3:$N$527,8,0) -> #N/A | K80: 45309 | L80: M | N80: =G80=H80 -> TRUE | P80: =G80-H80 -> 0
A81: 79 | B81: KIT95003R | C81: O RING SET | D81: Matador | E81: Pcs | F81: 0.74 | G81: 28 | H81: 28 | I81: =VLOOKUP(B81:B2356,'[2]Qty by month'!$G$3:$N$527,8,0) -> #N/A | K81: 45308 | L81: E | N81: =G81=H81 -> TRUE | P81: =G81-H81 -> 0
... A86: 84 | B86: KIT95023R | C86: DRIVEN PLATE_PAX 200 | D86: Matador | E86: Pcs | F86: 3.08 | G86: 7 | H86: 7 | I86: =VLOOKUP(B86:B2361,'[2]Qty by month'!$G$3:$N$527,8,0) -> #N/A | K86: 45310 | L86: E | N86: =G86=H86 -> TRUE | P86: =G86-H86 -> 0
A87: 85 | B87: 660345 | C87: SHIFT CONTROL CABLE WITH TERMINAL (GEAR Inner) | D87: Matador | E87: Pcs | F87: 0.46 | G87: 5 | H87: 5 | I87: =VLOOKUP(B87:B2362,'[2]Qty by month'!$G$3:$N$527,8,0) -> #N/A | K87: 45309 | L87: M | N87: =G87=H87 -> TRUE | P87: =G87-H87 -> 0
A88: 86 | B88: 932279 | C88: Filter Element Assy for Ape Paxx | D88: Matador | E88: Pcs | F88: 3.49 | G88: =25-1 -> 24 | H88: =23+1 -> 24 | I88: =VLOOKUP(B88:B2363,'[2]Qty by month'!$G$3:$N$527,8,0) -> #N/A | K88: 45308 | L88: M | N88: =G88=H88 -> TRUE | P88: =G88-H88 -> 0 | Q88: SPDO-BMC-UMG-HO-3W-2024-01-0064(17.1.24=1pc)
A89: 87 | B89: 127306018 | C89: CROSS (ALT.CONST. 221569) ( C / D ) | D89: Matador | E89: Pcs | F89: 1.87 | G89: 7 | H89: 7 | I89: =VLOOKUP(B89:B2364,'[2]Qty by month'!$G$3:$N$527,8,0) -> #N/A | K89: 45310 | L89: E | N89: =G89=H89 -> TRUE | P89: =G89-H89 -> 0
A90: 88 | B90: 880255209 | C90: BALL BRG 98205 | D90: Matador | E90: Pcs | F90: 1.62 | G90: 2 | H90: 2 | I90: =VLOOKUP(B90:B2365,'[2]Qty by month'!$G$3:$N$527,8,0) -> #N/A | K90: 45310 | L90: E | N90: =G90=H90 -> TRUE | P90: =G90-H90 -> 0
A91: 89 | B91: 569246R | C91: SHOCK ABSORBER FRONT | D91: Matador | E91: Pcs | F91: 6.17 | G91: 1 | H91: 1 | I91: =VLOOKUP(B91:B2366,'[2]Qty by month'!$G$3:$N$527,8,0) -> #N/A | K91: 45310 | L91: E | N91: =G91=H91 -> TRUE | P91: =G91-H91 -> 0
A92: 90 | B92: B003326 | C92: FRONT BRAKE SHOE KIT | D92: Matador | E92: Pcs | F92: 3.68 | G92: 1 | H92: 1 | I92: =VLOOKUP(B92:B2367,'[2]Qty by month'!$G$3:$N$527,8,0) -> #N/A | K92: 45310 | L92: E | N92: =G92=H92 -> TRUE | P92: =G92-H92 -> 0
A93: 91 | B93: B023912 | C93: CABLE GEAR CONTROL ASSLY BLACK (GEAR Assly) | D93: Matador | E93: Pcs | F93: 1.19 | G93: 5 | H93: 5 | I93: =VLOOKUP(B93:B2368,'[2]Qty by month'!$G$3:$N$527,8,0) -> #N/A | K93: 45309 | L93: M | N93: =G93=H93 -> TRUE | P93: =G93-H93 -> 0
A94: 92 | B94: F002H24593 | C94: DIESEL FILTER,Fuel | D94: Matador | E94: Pcs | F94: 1.18 | G94: =16-1 -> 15 | H94: =16-1 -> 15 | I94: =VLOOKUP(B94:B2369,'[2]Qty by month'!$G$3:$N$527,8,0) -> #N/A | K94: 45308 | L94: M | N94: =G94=H94 -> TRUE | P94: =G94-H94 -> 0 | Q94: SPIV/BMC/UMG-HO/N3W/2024/01/011(31.1.24 1Pcs)
A95: 93 | B95: KIT940003R | C95: KIT – Steering Pin and Seal’ | D95: Matador | E95: Pcs | F95: 2.77 | G95: 29 | H95: 29 | I95: =VLOOKUP(B95:B2370,'[2]Qty by month'!$G$3:$N$527,8,0) -> #N/A | K95: 45309 | L95: E | N95: =G95=H95 -> TRUE | P95: =G95-H95 -> 0
A96: 94 | B96: KIT95004R | C96: Kit-Driving + Pressure Plate (New ) | D96: Matador | E96: Pcs | F96: 1.43 | G96: 5 | H96: 5 | I96: =VLOOKUP(B96:B2371,'[2]Qty by month'!$G$3:$N$527,8,0) -> #N/A | K96: 45308 | L96: E | N96: =G96=H96 -> TRUE | P96: =G96-H96 -> 0
A97: 95 | B97: 990001202 | C97: Engine Gear Without Helical Teeth | D97: Matador | E97: Pcs | F97: 3.48 | G97: 1 | H97: 1 | I97: =VLOOKUP(B97:B2372,'[2]Qty by month'!$G$3:$N$527,8,0) -> #N/A | K97: 45310 | L97: E | N97: =G97=H97 -> TRUE | P97: =G97-H97 -> 0 | Q97: Rusty-1
A98: 96 | B98: B001302 | C98: FRONT HUB ASSLY | D98: Matador | E98: Pcs | F98: 4.46 | G98: 6 | H98: 6 | I98: =VLOOKUP(B98:B2373,'[2]Qty by month'!$G$3:$N$527,8,0) -> #N/A | K98: 45309 | L98: M | N98: =G98=H98 -> TRUE | P98: =G98-H98 -> 0
A99: 97 | B99: SPB015863 | C99: CLUTCH COVER WITH P.I. APE PAX - SPD | D99: Matador | E99: Pcs | F99: 15.64 | G99: 3 | H99: 3 | I99: =VLOOKUP(B99:B2374,'[2]Qty by month'!$G$3:$N$527,8,0) -> #N/A | K99: 45310 | L99: E | N99: =G99=H99 -> TRUE | P99: =G99-H99 -> 0
A100: 98 | B100: B042566 | C100: CABLE ASSLY. CHOKE CONTROL (SINGLE), ( Black) (DC/Choke Assly) | D100: Matador | E100: Pcs | F100: 1.65 | G100: 7 | H100: 7 | I100: =VLOOKUP(B100:B2375,'[2]Qty by month'!$G$3:$N$527,8,0) -> #N/A | K100: 45309 | L100: M | N100: =G100=H100 -> TRUE | P100: =G100-H100 -> 0
A101: 99 | B101: B002344 | C101: REAR WHEEL HUB | D101: Matador | E101: Pcs | F101: 3.89 | G101: 2 | H101: 2 | I101: =VLOOKUP(B101:B2376,'[2]Qty by month'!$G$3:$N$527,8,0) -> #N/A | K101: 45309 | L101: M | N101: =G101=H101 -> TRUE | P101: =G101-H101 -> 0
A102: 100 | B102: 660141 | C102: CLUTCH CONTROL CABLE WITH TERMINAL (Clutch Inner) | D102: Matador | E102: Pcs | F102: 0.43 | G102: 35 | H102: =4+31 -> 35 | I102: =VLOOKUP(B102:B2377,'[2]Qty by month'!$G$3:$N$527,8,0) -> #N/A | K102: 45313 | L102: E | N102: =G102=H102 -> TRUE | P102: =G102-H102 -> 0
A103: 101 | B103: 660358 | C103: CABLE REVERSE GEAR WITH TERMINALS (REVERSE GEAR Inner) | D103: Matador | E103: Pcs | F103: 0.53 | G103: 5 | H103: 5 | I103: =VLOOKUP(B103:B2378,'[2]Qty by month'!$G$3:$N$527,8,0) -> #N/A | K103: 45322 | L103: E | N103: =G103=H103 -> TRUE | P103: =G103-H103 -> 0
A104: 102 | B104: 6A000068 | C104: CABLE REVERSE GEAR WITH TERMINALS (REVERSE GEAR Inner) | D104: Matador | E104: Pcs | F104: 0.53 | G104: 4 | H104: 4 | I104: =VLOOKUP(B104:B2379,'[2]Qty by month'!$G$3:$N$527,8,0) -> #N/A | K104: 45309 | L104: M | N104: =G104=H104 -> TRUE | P104: =G104-H104 -> 0
...

Sheet Surplus (2)
A1: EXTRA SPARE PART LIST
A2: DOCUMENT NUMBER: SPEX-MC-PT-2024-01-001 | I2: Date:31-Jan-2024
A3: No | B3: Product Code | C3: Product Name | D3: Product Brand | E3: UOM | F3: C/L Qty (13/1/2024) | G3: Actual Qty | H3: Different Qty | I3: Per Price $ | J3: Total Am $ | K3: Remark
A4: 1 | B4: 632428P | C4: FILTER ELEMENT ASSLY ( ENGINETECH AIR FI | D4: Matador | E4: Pcs | F4: 21 | G4: 22 | H4: =G4-F4 -> 1 | I4: 2.54 | J4: =I4*H4 -> 2.54
A5: 2 | B5: 940004 | C5: FRONT BRAKE SHOE SET | D5: Matador | E5: Pcs | F5: 7 | G5: 9 | H5: =G5-F5 -> 2 | I5: 3.45 | J5: =I5*H5 -> 6.9
A6: 3 | B6: 82948R | C6: OIL PUMP ASSY | D6: Matador | E6: Pcs | F6: 15 | G6: 16 | H6: =G6-F6 -> 1 | I6: 2.35 | J6: =I6*H6 -> 2.35
A7: 4 | B7: B1114302 | C7: INNER-GEAR CONTROL (GEAR Inner) | D7: Matador | E7: Pcs | F7: 5 | G7: 8 | H7: =G7-F7 -> 3 | I7: 0.52 | J7: =I7*H7 -> 1.56
A8: 5 | B8: CM167803 | C8: PILOT JET | D8: Matador | E8: Pcs | F8: 22 | G8: 23 | H8: =G8-F8 -> 1 | I8: 2.12 | J8: =I8*H8 -> 2.12
A9: 6 | B9: E260467001 | C9: JOINT.. | D9: Matador | E9: Pcs | F9: 23 | G9: 24 | H9: =G9-F9 -> 1 | I9: 0.07 | J9: =I9*H9 -> 0.07
A10: 7 | B10: E500575545 | C10: VALVE SPRING | D10: Matador | E10: Pcs | F10: 1 | G10: 2 | H10: =G10-F10 -> 1 | I10: 0.41 | J10: =I10*H10 -> 0.41
A11: 8 | B11: ED40165 | C11: DOME NUT | D11: Matador | E11: Pcs | F11: 5 | G11: 9 | H11: =G11-F11 -> 4 | I11: 0.25 | J11: =I11*H11 -> 1
A12: 9 | B12: E500460102 | C12: JOINT 0.3 MM | D12: Matador | E12: Pcs | F12: 44 | G12: 47 | H12: =G12-F12 -> 3 | I12: 0.25 | J12: =I12*H12 -> 0.75
A13: 10 | B13: B018533 | C13: CYLINDER HEAD COVER GASKET | D13: Matador | E13: Pcs | F13: 5 | G13: 6 | H13: =G13-F13 -> 1 | I13: 0.26 | J13: =I13*H13 -> 0.26
A14: 11 | B14: 680075 | C14: STATOR ASSY | D14: Matador | E14: Pcs | F14: 9 | G14: 11 | H14: =G14-F14 -> 2 | I14: 18.61 | J14: =I14*H14 -> 37.22
A15: 12 | B15: B073478R | C15: SWITCH (NEW)- LIGHTS (3WH)-GALACTIC | D15: Matador | E15: Pcs | F15: 14 | G15: 16 | H15: =G15-F15 -> 2 | I15: 0.73 | J15: =I15*H15 -> 1.46
A16: 13 | B16: KIT95033 | C16: Modi. Front Brake liners Kit (Paxx-200). | D16: Matador | E16: Pcs | F16: 49 | G16: 50 | H16: =G16-F16 -> 1 | I16: 5.31 | J16: =I16*H16 -> 5.31
A17: 14 | B17: 643684R | C17: OUTER REAR VIEW MIRROR RH ASSY. | D17: Matador | E17: Pcs | F17: 1 | G17: 2 | H17: =G17-F17 -> 1 | I17: 2.16 | J17: =I17*H17 -> 2.16
A18: 15 | B18: 940084 | C18: Wheel Cap | D18: Matador | E18: Pcs | F18: 298 | G18: 299 | H18: =G18-F18 -> 1 | I18: 3.3 | J18: =I18*H18 -> 3.3
A19: 16 | B19: 178808 | C19: SPRING | D19: Matador | E19: Pcs | F19: 8 | G19: 15 | H19: =G19-F19 -> 7 | I19: 0.25 | J19: =I19*H19 -> 1.75
A20: 17 | B20: ED43409 | C20: CAM FOLLOWER KIT | D20: Matador | E20: Pcs | F20: 2 | G20: 3 | H20: =G20-F20 -> 1 | I20: 4.64 | J20: =I20*H20 -> 4.64
A21: 18 | B21: ED41447 | C21: OIL PRESSURE SWITCH - PARALLEL THREAD | D21: Matador | E21: Pcs | F21: 3 | G21: 4 | H21: =G21-F21 -> 1 | I21: 1.71 | J21: =I21*H21 -> 1.71
A22: 19 | B22: B073715 | C22: CABIN LAMP | D22: Matador | E22: Pcs | F22: 103 | G22: 104 | H22: =G22-F22 -> 1 | I22: 1.49 | J22: =I22*H22 -> 1.49
A23: 20 | B23: 92069-1059 | C23: Bulb,12V,1.7W | D23: KAWASAKI | E23: Pcs | F23: 1 | G23: 5 | H23: =G23-F23 -> 4 | I23: 0.95 | J23: =I23*H23 -> 3.8
A24: 21 | B24: 52010-1054 | C24: Filter Oil | D24: KAWASAKI | E24: Pcs | F24: 4 | G24: 5 | H24: =G24-F24 -> 1 | I24: 13.58 | J24: =I24*H24 -> 13.58
A25: 22 | B25: 26006-1078 | C25: Fuse,Mint Blade,10A | D25: KAWASAKI | E25: Pcs | F25: 14 | G25: 15 | H25: =G25-F25 -> 1 | I25: 0.94 | J25: =I25*H25 -> 0.94
A26: 23 | B26: 92049-0786 | C26: SEAL-OIL | D26: KAWASAKI | E26: Pcs | F26: 3 | G26: 4 | H26: =G26-F26 -> 1 | I26: 0.16114286 | J26: =I26*H26 -> 0.16114286
A27: 24 | B27: 99994-0801 | C27: KIT-ACC,PANNIER (SOFT-LUGGAGE) ( Pcs= KG) | D27: KAWASAKI | E27: Pcs | F27: 1 | G27: 2 | H27: =G27-F27 -> 1 | I27: 132.82 | J27: =I27*H27 -> 132.82
A28: 25 | B28: 428H-126L | C28: Chain, Sprocket Set | D28: KAWASAKI | E28: Set | F28: 4 | G28: 6 | H28: =G28-F28 -> 2 | I28: 25 | J28: =I28*H28 -> 50
A29: 26 | B29: VN1B000789 | C29: Rear Rock | D29: Vespa | E29: Pcs | F29: 9 | G29: 10 | H29: =G29-F29 -> 1 | I29: 92.19 | J29: =I29*H29 -> 92.19
A30: 27 | B30: MBZ25-E0003(R) | C30: Headlight,RH | D30: Matador | E30: Pcs | F30: 1 | G30: 2 | H30: =G30-F30 -> 1 | I30: 13 | J30: =I30*H30 -> 13
A31: 28 | B31: MBZ25-E0007 | C31: Diode | D31: Matador | E31: Pcs | F31: 1 | G31: 2 | H31: =G31-F31 -> 1 | I31: 3 | J31: =I31*H31 -> 3
... A98: 95 | B98: 11057-0625 | C98: Bracket | D98: KAWASAKI | E98: Pcs | F98: 0 | G98: 1 | H98: =G98-F98 -> 1 | I98: 0.01 | J98: =I98*H98 -> 0.01
A99: 96 | B99: 55020-1825,PP-GF20 | D99: KAWASAKI | E99: Pcs | F99: 0 | G99: 3 | H99: =G99-F99 -> 3 | I99: 0.01 | J99: =I99*H99 -> 0.03
A100: 97 | B100: MSR20-G0010 | C100: Reverse Gear Shaft | D100: Star | E100: set | F100: 0 | G100: 1 | H100: =G100-F100 -> 1 | I100: 0.01 | J100: =I100*H100 -> 0.01
A101: 98 | B101: MSP-A0001(LH) | C101: Head Lamp | D101: Giant | E101: Pcs | F101: 0 | G101: 1 | H101: =G101-F101 -> 1 | I101: 0.01 | J101: =I101*H101 -> 0.01
A102: 99 | B102: MSP-A0001(RH) | C102: Head Lamp | D102: Giant | E102: Pcs | F102: 0 | G102: 1 | H102: =G102-F102 -> 1 | I102: 0.01 | J102: =I102*H102 -> 0.01
A103: 100 | B103: 17008-0000-000002 | C103: Tubing ASSY | D103: Damon | E103: pcs | F103: 0 | G103: 8 | H103: =G103-F103 -> 8 | I103: 0.14 | J103: =I103*H103 -> 1.12
A104: 101 | B104: 140/60-14 | C104: Tyre (RT250i) | D104: RT250i | E104: pcs | F104: 0 | G104: 1 | H104: =G104-F104 -> 1 | I104: 20.09 | J104: =I104*H104 -> 20.09
A105: 102 | B105: 120/70-15 | C105: Tyre (RT250i) | D105: RT250i | E105: pcs | F105: 0 | G105: 1 | H105: =G105-F105 -> 1 | I105: 90.22 | J105: =I105*H105 -> 90.22
A106: Total | F106: =SUM(F4:F105) -> 1267 | G106: =SUM(G4:G105) -> 1560 | H106: =SUM(H4:H105) -> 293 | I106: =SUM(I4:I105) -> 732.22114 | J106: =SUM(J4:J105) -> 1042.3011

Sheet Surplus (3)
A1: EXTRA SPARE PART LIST
A2: DOCUMENT NUMBER: SPEX-MC-PT-2024-01-001 | I2: Date:31-Jan-2024
A3: No | B3: Product Code | C3: Product Name | D3: Product Brand | E3: UOM | F3: C/L Qty (13/1/2024) | G3: Actual Qty | H3: Different Qty | I3: Per Price $ | J3: Total Am $ | K3: Remark
A4: 1 | B4: A0009-0022-L | C4: Jacket L | D4: KAWASAKI | E4: Pcs | F4: 1 | G4: 11 | H4: =G4-F4 -> 10 | I4: 187.63 | J4: =I4*H4 -> 1876.3
A5: 2 | B5: N1203 -Z922-LL | C5: Jacket | D5: KAWASAKI | E5: Pcs | F5: 4 | G5: 9 | H5: =G5-F5 -> 5 | I5: 187.63 | J5: =I5*H5 -> 938.15
A6: 3 | B6: N1203 -Z922-3L | C6: Jacket | D6: KAWASAKI | E6: Pcs | F6: 2 | G6: 4 | H6: =G6-F6 -> 2 | I6: 187.63 | J6: =I6*H6 -> 375.26
A7: 4 | B7: N1203 -Z922-M | C7: Jacket | D7: KAWASAKI | E7: Pcs | F7: 2 | G7: 10 | H7: =G7-F7 -> 8 | I7: 187.63 | J7: =I7*H7 -> 1501.04
A8: 5 | B8: Jacket-3XL | C8: Jacket-3XL | D8: KAWASAKI | E8: Pcs | F8: 0 | G8: 1 | H8: =G8-F8 -> 1 | I8: 187.63 | J8: =I8*H8 -> 187.63
A9: 6 | B9: Jacket-XXL | C9: Jacket-XXL | D9: KAWASAKI | E9: Pcs | F9: 0 | G9: 1 | H9: =G9-F9 -> 1 | I9: 187.63 | J9: =I9*H9 -> 187.63
A10: Total | F10: =SUM(F4:F9) -> 9 | G10: =SUM(G4:G9) -> 36 | H10: =SUM(H4:H9) -> 27 | I10: =SUM(I4:I9) -> 1125.78 | J10: =SUM(J4:J9) -> 5066.01

Sheet Surplus (4)
A1: EXTRA SPARE PART LIST
A2: DOCUMENT NUMBER: SPEX-MC-PT-2024-01-001 | I2: Date:31-Jan-2024
A3: No | B3: Product Code | C3: Product Name | D3: Product Brand | E3: UOM | F3: C/L Qty (13/1/2024) | G3: Actual Qty | H3: Qty | I3: Per Price $ | J3: Total Am $ | K3: Remark
A4: 1 | B4: 632428P | C4: FILTER ELEMENT ASSLY ( ENGINETECH AIR FI | D4: Matador | E4: Pcs | F4: 21 | G4: 22 | H4: =G4-F4 -> 1 | I4: 2.54 | J4: =I4*H4 -> 2.54 | K4: It is extra part
A5: 2 | B5: 940004 | C5: FRONT BRAKE SHOE SET | D5: Matador | E5: Pcs | F5: 7 | G5: 9 | H5: =G5-F5 -> 2 | I5: 3.45 | J5: =I5*H5 -> 6.9 | K5: It is extra part
A6: 3 | B6: 82948R | C6: OIL PUMP ASSY | D6: Matador | E6: Pcs | F6: 15 | G6: 16 | H6: =G6-F6 -> 1 | I6: 2.35 | J6: =I6*H6 -> 2.35 | K6: It is extra part
A7: 4 | B7: B1114302 | C7: INNER-GEAR CONTROL (GEAR Inner) | D7: Matador | E7: Pcs | F7: 5 | G7: 8 | H7: =G7-F7 -> 3 | I7: 0.52 | J7: =I7*H7 -> 1.56 | K7: It is received from Mandalay
A8: 5 | B8: CM167803 | C8: PILOT JET | D8: Matador | E8: Pcs | F8: 22 | G8: 23 | H8: =G8-F8 -> 1 | I8: 2.12 | J8: =I8*H8 -> 2.12 | K8: It is extra part
A9: 6 | B9: E260467001 | C9: JOINT.. | D9: Matador | E9: Pcs | F9: 23 | G9: 24 | H9: =G9-F9 -> 1 | I9: 0.07 | J9: =I9*H9 -> 0.07 | K9: It is received from Mandalay
A10: 7 | B10: E500575545 | C10: VALVE SPRING | D10: Matador | E10: Pcs | F10: 1 | G10: 2 | H10: =G10-F10 -> 1 | I10: 0.41 | J10: =I10*H10 -> 0.41 | K10: It is extra part
A11: 8 | B11: ED40165 | C11: DOME NUT | D11: Matador | E11: Pcs | F11: 5 | G11: 9 | H11: =G11-F11 -> 4 | I11: 0.25 | J11: =I11*H11 -> 1 | K11: Not received yet
A12: 9 | B12: E500460102 | C12: JOINT 0.3 MM | D12: Matador | E12: Pcs | F12: 44 | G12: 47 | H12: =G12-F12 -> 3 | I12: 0.25 | J12: =I12*H12 -> 0.75 | K12: It is received from Mandalay
A13: 10 | B13: B018533 | C13: CYLINDER HEAD COVER GASKET | D13: Matador | E13: Pcs | F13: 5 | G13: 6 | H13: =G13-F13 -> 1 | I13: 0.26 | J13: =I13*H13 -> 0.26 | K13: It is extra part and we don't know where use
A14: 11 | B14: 680075 | C14: STATOR ASSY | D14: Matador | E14: Pcs | F14: 9 | G14: 11 | H14: =G14-F14 -> 2 | I14: 18.61 | J14: =I14*H14 -> 37.22 | K14: It is extra part
A15: 12 | B15: B073478R | C15: SWITCH (NEW)- LIGHTS (3WH)-GALACTIC | D15: Matador | E15: Pcs | F15: 14 | G15: 16 | H15: =G15-F15 -> 2 | I15: 0.73 | J15: =I15*H15 -> 1.46 | K15: It is extra part and we check stock issue error
A16: 13 | B16: KIT95033 | C16: Modi. Front Brake liners Kit (Paxx-200). | D16: Matador | E16: Pcs | F16: 49 | G16: 50 | H16: =G16-F16 -> 1 | I16: 5.31 | J16: =I16*H16 -> 5.31 | K16: It is extra part and we check stock issue error
A17: 14 | B17: 643684R | C17: OUTER REAR VIEW MIRROR RH ASSY. | D17: Matador | E17: Pcs | F17: 1 | G17: 2 | H17: =G17-F17 -> 1 | I17: 2.16 | J17: =I17*H17 -> 2.16 | K17: It is extra part and we check stock issue, not issue service man
A18: 15 | B18: 940084 | C18: Wheel Cap | D18: Matador | E18: Pcs | F18: 298 | G18: 299 | H18: =G18-F18 -> 1 | I18: 3.3 | J18: =I18*H18 -> 3.3 | K18: It is extra part and we check damage box
A19: 16 | B19: 178808 | C19: SPRING | D19: Matador | E19: Pcs | F19: 8 | G19: 15 | H19: =G19-F19 -> 7 | I19: 0.25 | J19: =I19*H19 -> 1.75 | K19: It is extra part
A20: 17 | B20: ED43409 | C20: CAM FOLLOWER KIT | D20: Matador | E20: Pcs | F20: 2 | G20: 3 | H20: =G20-F20 -> 1 | I20: 4.64 | J20: =I20*H20 -> 4.64 | K20: It is extra part and we check damage box
A21: 18 | B21: ED41447 | C21: OIL PRESSURE SWITCH - PARALLEL THREAD | D21: Matador | E21: Pcs | F21: 3 | G21: 4 | H21: =G21-F21 -> 1 | I21: 1.71 | J21: =I21*H21 -> 1.71 | K21: It is received from Mandalay
A22: 19 | B22: B073715 | C22: CABIN LAMP | D22: Matador | E22: Pcs | F22: 103 | G22: 104 | H22: =G22-F22 -> 1 | I22: 1.49 | J22: =I22*H22 -> 1.49 | K22: It is received from Mandalay
A23: 20 | B23: 92069-1059 | C23: Bulb,12V,1.7W | D23: KAWASAKI | E23: Pcs | F23: 1 | G23: 5 | H23: =G23-F23 -> 4 | I23: 0.95 | J23: =I23*H23 -> 3.8 | K23: Not have excel file and we don't know where in use .Finally we checked and it same with KSR125
A24: 21 | B24: 52010-1054 | C24: Filter Oil | D24: KAWASAKI | E24: Pcs | F24: 4 | G24: 5 | H24: =G24-F24 -> 1 | I24: 13.58 | J24: =I24*H24 -> 13.58 | K24: Not have excel file and we don't know where in use .Finally we checked and it same with KSR125
A25: 22 | B25: 26006-1078 | C25: Fuse,Mint Blade,10A | D25: KAWASAKI | E25: Pcs | F25: 14 | G25: 15 | H25: =G25-F25 -> 1 | I25: 0.94 | J25: =I25*H25 -> 0.94 | K25: Not have excel file and we don't know where in use .Finally we checked and it same with KSR125
A26: 23 | B26: 92049-0786 | C26: SEAL-OIL | D26: KAWASAKI | E26: Pcs | F26: 3 | G26: 4 | H26: =G26-F26 -> 1 | I26: 0.16114286 | J26: =I26*H26 -> 0.16114286 | K26: Not have excel file and we don't know where in use .Finally we checked and it same with KSR125
A27: 24 | B27: 99994-0801 | C27: KIT-ACC,PANNIER (SOFT-LUGGAGE) ( Pcs= KG) | D27: KAWASAKI | E27: Pcs | F27: 1 | G27: 2 | H27: =G27-F27 -> 1 | I27: 132.82 | J27: =I27*H27 -> 132.82 | K27: Not have excel file and we don't know where in use .Finally we checked and it same with KSR125
A28: 25 | B28: A0009-0022-L | C28: Jacket L | D28: KAWASAKI | E28: Pcs | F28: 1 | G28: 11 | H28: =G28-F28 -> 10 | I28: 187.63 | J28: =I28*H28 -> 1876.3 | K28: Not have excel file and we don't know where in use .Finally we checked and it same with KSR125
A29: 26 | B29: N1203 -Z922-LL | C29: Jacket | D29: KAWASAKI | E29: Pcs | F29: 4 | G29: 9 | H29: =G29-F29 -> 5 | I29: 187.63 | J29: =I29*H29 -> 938.15 | K29: Not have excel file and we don't know where in use .Finally we checked and it same with KSR125
A30: 27 | B30: N1203 -Z922-3L | C30: Jacket | D30: KAWASAKI | E30: Pcs | F30: 2 | G30: 4 | H30: =G30-F30 -> 2 | I30: 187.63 | J30: =I30*H30 -> 375.26 | K30: Not have excel file and we don't know where in use .Finally we checked and it same with KSR125
A31: 28 | B31: N1203 -Z922-M | C31: Jacket | D31: KAWASAKI | E31: Pcs | F31: 2 | G31: 10 | H31: =G31-F31 -> 8 | I31: 187.63 | J31: =I31*H31 -> 1501.04 | K31: Not have excel file and we don't know where in use .Finally we checked and it same with KSR125
... A104: 101 | B104: 11057-0625 | C104: Bracket | D104: KAWASAKI | E104: Pcs | F104: 0 | G104: 1 | H104: =G104-F104 -> 1 | I104: 0.01 | J104: =I104*H104 -> 0.01 | K104: Not have excel file and we don't know where in use .Finally we checked and it same with KSR125
A105: 102 | B105: 55020-1825,PP-GF20 | D105: KAWASAKI | E105: Pcs | F105: 0 | G105: 3 | H105: =G105-F105 -> 3 | I105: 0.01 | J105: =I105*H105 -> 0.03 | K105: Not have excel file and we don't know where in use .Finally we checked and it same with KSR125
A106: 103 | B106: MSR20-G0010 | C106: Reverse Gear Shaft | D106: Star | E106: set | F106: 0 | G106: 1 | H106: =G106-F106 -> 1 | I106: 0.01 | J106: =I106*H106 -> 0.01 | K106: It is extra part and we check damage box
A107: 104 | B107: MSP-A0001(LH) | C107: Head Lamp | D107: Giant | E107: Pcs | F107: 0 | G107: 1 | H107: =G107-F107 -> 1 | I107: 0.01 | J107: =I107*H107 -> 0.01 | K107: It is extra part and we check damage box
A108: 105 | B108: MSP-A0001(RH) | C108: Head Lamp | D108: Giant | E108: Pcs | F108: 0 | G108: 1 | H108: =G108-F108 -> 1 | I108: 0.01 | J108: =I108*H108 -> 0.01 | K108: It is extra part and we check damage box
A109: 106 | B109: 17008-0000-000002 | C109: Tubing ASSY | D109: Damon | E109: pcs | F109: 0 | G109: 8 | H109: =G109-F109 -> 8 | I109: 0.14 | J109: =I109*H109 -> 1.12 | K109: It is extra part and we check damage box
A110: 107 | B110: 140/60-14 | C110: Tyre (RT250i) | D110: RT250i | E110: pcs | F110: 0 | G110: 1 | H110: =G110-F110 -> 1 | I110: 20.09 | J110: =I110*H110 -> 20.09 | K110: It is received from Mandalay
A111: 108 | B111: 120/70-15 | C111: Tyre (RT250i) | D111: RT250i | E111: pcs | F111: 0 | G111: 1 | H111: =G111-F111 -> 1 | I111: 90.22 | J111: =I111*H111 -> 90.22 | K111: It is received from Mandalay
A112: Total | F112: =SUM(F4:F111) -> 1276 | G112: =SUM(G4:G111) -> 1596 | H112: =SUM(H4:H111) -> 320 | I112: =SUM(I4:I111) -> 1858.0011 | J112: =SUM(J4:J111) -> 6108.3111
B115: Aye Thandar Htwe | C115: Min Paing Phyo | D115: Zin Zin Mar & Khin Yadanar Htun | H115: Phyo Ko Ko | K115: Win Theingi Nwe(Mrs.) Chit San Ko(Mr.)
B116: S'parts Head | C116: Service & S'parts Head | D116: F/A | H116: OM | K116: AGM GM | M116: Chit San Ko(Mr.)
B117: BMC BU | C117: BMC BU | D117: BMC BU | H117: BMC BU | K117: BMC BU BMC BU | M117: GM
M118: BMC BU

Sheet Surplus
A1: EXTRA SPARE PART LIST
A2: DOCUMENT NUMBER: SPEX-MC-PT-2024-01-001 | I2: Date:31-Jan-2024
A3: No | B3: Product Code | C3: Product Name | D3: Product Brand | E3: UOM | F3: C/L Qty (13/1/2024) | G3: Actual Qty | H3: Different Qty | I3: Per Price $ | J3: Total Am $ | K3: Remark
A4: 1 | B4: 632428P | C4: FILTER ELEMENT ASSLY ( ENGINETECH AIR FI | D4: Matador | E4: Pcs | F4: 21 | G4: 22 | H4: =G4-F4 -> 1 | I4: 2.54 | J4: =I4*H4 -> 2.54
A5: 2 | B5: 940004 | C5: FRONT BRAKE SHOE SET | D5: Matador | E5: Pcs | F5: 7 | G5: 9 | H5: =G5-F5 -> 2 | I5: 3.45 | J5: =I5*H5 -> 6.9
A6: 3 | B6: 82948R | C6: OIL PUMP ASSY | D6: Matador | E6: Pcs | F6: 15 | G6: 16 | H6: =G6-F6 -> 1 | I6: 2.35 | J6: =I6*H6 -> 2.35
A7: 4 | B7: B1114302 | C7: INNER-GEAR CONTROL (GEAR Inner) | D7: Matador | E7: Pcs | F7: 5 | G7: 8 | H7: =G7-F7 -> 3 | I7: 0.52 | J7: =I7*H7 -> 1.56
A8: 5 | B8: CM167803 | C8: PILOT JET | D8: Matador | E8: Pcs | F8: 22 | G8: 23 | H8: =G8-F8 -> 1 | I8: 2.12 | J8: =I8*H8 -> 2.12
A9: 6 | B9: E260467001 | C9: JOINT.. | D9: Matador | E9: Pcs | F9: 23 | G9: 24 | H9: =G9-F9 -> 1 | I9: 0.07 | J9: =I9*H9 -> 0.07
A10: 7 | B10: E500575545 | C10: VALVE SPRING | D10: Matador | E10: Pcs | F10: 1 | G10: 2 | H10: =G10-F10 -> 1 | I10: 0.41 | J10: =I10*H10 -> 0.41
A11: 8 | B11: ED40165 | C11: DOME NUT | D11: Matador | E11: Pcs | F11: 5 | G11: 9 | H11: =G11-F11 -> 4 | I11: 875 | J11: =I11*H11 -> 3500 | L11: GR-PRT-BMC-2024-02-00044
A12: 9 | B12: E500460102 | C12: JOINT 0.3 MM | D12: Matador | E12: Pcs | F12: 44 | G12: 47 | H12: =G12-F12 -> 3 | I12: 0.25 | J12: =I12*H12 -> 0.75
A13: 10 | B13: B018533 | C13: CYLINDER HEAD COVER GASKET | D13: Matador | E13: Pcs | F13: 5 | G13: 6 | H13: =G13-F13 -> 1 | I13: 0.26 | J13: =I13*H13 -> 0.26
A14: 11 | B14: 680075 | C14: STATOR ASSY | D14: Matador | E14: Pcs | F14: 9 | G14: 11 | H14: =G14-F14 -> 2 | I14: 18.61 | J14: =I14*H14 -> 37.22
A15: 12 | B15: B073478R | C15: SWITCH (NEW)- LIGHTS (3WH)-GALACTIC | D15: Matador | E15: Pcs | F15: 14 | G15: 16 | H15: =G15-F15 -> 2 | I15: 0.73 | J15: =I15*H15 -> 1.46
A16: 13 | B16: KIT95033 | C16: Modi. Front Brake liners Kit (Paxx-200). | D16: Matador | E16: Pcs | F16: 49 | G16: 50 | H16: =G16-F16 -> 1 | I16: 5.31 | J16: =I16*H16 -> 5.31
A17: 14 | B17: 643684R | C17: OUTER REAR VIEW MIRROR RH ASSY. | D17: Matador | E17: Pcs | F17: 1 | G17: 2 | H17: =G17-F17 -> 1 | I17: 2.16 | J17: =I17*H17 -> 2.16
A18: 15 | B18: 940084 | C18: Wheel Cap | D18: Matador | E18: Pcs | F18: 298 | G18: 299 | H18: =G18-F18 -> 1 | I18: 3.3 | J18: =I18*H18 -> 3.3
A19: 16 | B19: 178808 | C19: SPRING | D19: Matador | E19: Pcs | F19: 8 | G19: 15 | H19: =G19-F19 -> 7 | I19: 0.25 | J19: =I19*H19 -> 1.75
A20: 17 | B20: ED43409 | C20: CAM FOLLOWER KIT | D20: Matador | E20: Pcs | F20: 2 | G20: 3 | H20: =G20-F20 -> 1 | I20: 4.64 | J20: =I20*H20 -> 4.64
A21: 18 | B21: ED41447 | C21: OIL PRESSURE SWITCH - PARALLEL THREAD | D21: Matador | E21: Pcs | F21: 3 | G21: 4 | H21: =G21-F21 -> 1 | I21: 1.71 | J21: =I21*H21 -> 1.71
A22: 19 | B22: B073715 | C22: CABIN LAMP | D22: Matador | E22: Pcs | F22: 103 | G22: 104 | H22: =G22-F22 -> 1 | I22: 1.49 | J22: =I22*H22 -> 1.49
A23: 20 | B23: 92069-1059 | C23: Bulb,12V,1.7W | D23: KAWASAKI | E23: Pcs | F23: 1 | G23: 5 | H23: =G23-F23 -> 4 | I23: 0.95 | J23: =I23*H23 -> 3.8
A24: 21 | B24: 52010-1054 | C24: Filter Oil | D24: KAWASAKI | E24: Pcs | F24: 4 | G24: 5 | H24: =G24-F24 -> 1 | I24: 13.58 | J24: =I24*H24 -> 13.58 | L24: GR-PRT-BMC-2024-02-00045
A25: 22 | B25: 26006-1078 | C25: Fuse,Mint Blade,10A | D25: KAWASAKI | E25: Pcs | F25: 14 | G25: 15 | H25: =G25-F25 -> 1 | I25: 0.94 | J25: =I25*H25 -> 0.94
A26: 23 | B26: 92049-0786 | C26: SEAL-OIL | D26: KAWASAKI | E26: Pcs | F26: 3 | G26: 4 | H26: =G26-F26 -> 1 | I26: 0.16114286 | J26: =I26*H26 -> 0.16114286
A27: 24 | B27: 99994-0801 | C27: KIT-ACC,PANNIER (SOFT-LUGGAGE) ( Pcs= KG) | D27: KAWASAKI | E27: Pcs | F27: 1 | G27: 2 | H27: =G27-F27 -> 1 | I27: 132.82 | J27: =I27*H27 -> 132.82
A28: 25 | B28: A0009-0022-L | C28: Jacket L | D28: KAWASAKI | E28: Pcs | F28: 1 | G28: 11 | H28: =G28-F28 -> 10 | I28: 187.63 | J28: =I28*H28 -> 1876.3
A29: 26 | B29: N1203 -Z922-LL | C29: Jacket | D29: KAWASAKI | E29: Pcs | F29: 4 | G29: 9 | H29: =G29-F29 -> 5 | I29: 187.63 | J29: =I29*H29 -> 938.15
A30: 27 | B30: N1203 -Z922-3L | C30: Jacket | D30: KAWASAKI | E30: Pcs | F30: 2 | G30: 4 | H30: =G30-F30 -> 2 | I30: 187.63 | J30: =I30*H30 -> 375.26
A31: 28 | B31: N1203 -Z922-M | C31: Jacket | D31: KAWASAKI | E31: Pcs | F31: 2 | G31: 10 | H31: =G31-F31 -> 8 | I31: 187.63 | J31: =I31*H31 -> 1501.04
A32: 29 | B32: 428H-126L | C32: Chain, Sprocket Set | D32: KAWASAKI | E32: Set | F32: 4 | G32: 6 | H32: =G32-F32 -> 2 | I32: 25 | J32: =I32*H32 -> 50
A33: 30 | B33: VN1B000789 | C33: Rear Rock | D33: Vespa | E33: Pcs | F33: 9 | G33: 10 | H33: =G33-F33 -> 1 | I33: 92.19 | J33: =I33*H33 -> 92.19
A34: 31 | B34: MBZ25-E0003(R) | C34: Headlight,RH | D34: Matador | E34: Pcs | F34: 1 | G34: 2 | H34: =G34-F34 -> 1 | I34: 13 | J34: =I34*H34 -> 13
A35: 32 | B35: MBZ25-E0007 | C35: Diode | D35: Matador | E35: Pcs | F35: 1 | G35: 2 | H35: =G35-F35 -> 1 | I35: 3 | J35: =I35*H35 -> 3
A36: 33 | B36: MRL20-T0001 | C36: INNER TUBE 4.00-12 | D36: Matador | E36: Pcs | F36: 2 | G36: 4 | H36: =G36-F36 -> 2 | I36: 2.3 | J36: =I36*H36 -> 4.6
... A43: 40 | B43: MBZ25-EG0008 | C43: Valve Sets | D43: Matador | E43: Set | F43: 3 | G43: 4 | H43: =G43-F43 -> 1 | I43: 7.5 | J43: =I43*H43 -> 7.5
A44: 41 | B44: MGT100-E0003 | C44: Taillight same as B2-1 | D44: Matador | E44: Pcs | F44: 6 | G44: 8 | H44: =G44-F44 -> 2 | I44: 2.97 | J44: =I44*H44 -> 5.94 | L44: GR-PRT-BMC-2024-02-00046
A45: 42 | B45: MRL20-EG0009 | C45: POWER LOCK | D45: Matador | E45: Pcs | F45: 2 | G45: 3 | H45: =G45-F45 -> 1 | I45: 1.7 | J45: =I45*H45 -> 1.7
A46: 43 | B46: MRL20-E0013 | C46: THERMOSTAT | D46: Matador | E46: Pcs | F46: 6 | G46: 7 | H46: =G46-F46 -> 1 | I46: 3.4 | J46: =I46*H46 -> 3.4
A47: 44 | B47: MSR20-C0002 | C47: Throttle Cable | D47: Matador | E47: Pcs | F47: 4 | G47: 5 | H47: =G47-F47 -> 1 | I47: 0.5 | J47: =I47*H47 -> 0.5
A48: 45 | B48: MSR20-E0003 | C48: Relay | D48: Matador | E48: Pcs | F48: 5 | G48: 6 | H48: =G48-F48 -> 1 | I48: 1.1 | J48: =I48*H48 -> 1.1
A49: 46 | B49: MSR20-M0002 | C49: Air Filter Element | D49: Matador | E49: Pcs | F49: 8 | G49: 16 | H49: =G49-F49 -> 8 | I49: 1.8 | J49: =I49*H49 -> 14.4
A50: 47 | B50: MSR20-E00010(RH) | C50: Rearview Mirror( RH) | D50: Matador | E50: Pcs | F50: 7 | G50: 8 | H50: =G50-F50 -> 1 | I50: 3.55 | J50: =I50*H50 -> 3.55
A51: 48 | B51: MBZ25-S0002 | C51: Rear Brake Shoe | D51: Matador | E51: Set | F51: 11 | G51: 14 | H51: =G51-F51 -> 3 | I51: 3.5 | J51: =I51*H51 -> 10.5
A52: 49 | B52: MRL20-S0004 | C52: BRAKE SHOE | D52: Matador | E52: Set | F52: 9 | G52: 13 | H52: =G52-F52 -> 4 | I52: 2.1 | J52: =I52*H52 -> 8.4
A53: 50 | B53: MRL20-O0002 | C53: Brake oil Bottle Clip | D53: Matador | E53: Pcs | F53: 9 | G53: 10 | H53: =G53-F53 -> 1 | I53: 0.3 | J53: =I53*H53 -> 0.3
A54: 51 | B54: MRL20-EG0004 | C54: WATER TANK | D54: Matador | E54: Pcs | F54: 12 | G54: 13 | H54: =G54-F54 -> 1 | I54: 3 | J54: =I54*H54 -> 3
A55: 52 | B55: MSR20-T0002 | C55: Hub trim cover | D55: Matador | E55: Pcs | F55: 13 | G55: 14 | H55: =G55-F55 -> 1 | I55: 3.5 | J55: =I55*H55 -> 3.5
A56: 53 | B56: 72400AWW1A516300LQ | C56: THROTTLE CABLE | D56: UMG Motor | E56: Pcs | F56: 9 | G56: 14 | H56: =G56-F56 -> 5 | I56: 3.65 | J56: =I56*H56 -> 18.25
... A104: 101 | B104: 11057-0625 | C104: Bracket | D104: KAWASAKI | E104: Pcs | F104: 0 | G104: 1 | H104: =G104-F104 -> 1 | I104: 0.01 | J104: =I104*H104 -> 0.01
A105: 102 | B105: 55020-1825,PP-GF20 | D105: KAWASAKI | E105: Pcs | F105: 0 | G105: 3 | H105: =G105-F105 -> 3 | I105: 0.01 | J105: =I105*H105 -> 0.03
A106: 103 | B106: MSR20-G0010 | C106: Reverse Gear Shaft | D106: Star | E106: set | F106: 0 | G106: 1 | H106: =G106-F106 -> 1 | I106: 0.01 | J106: =I106*H106 -> 0.01
A107: 104 | B107: MSP-A0001(LH) | C107: Head Lamp | D107: Giant | E107: Pcs | F107: 0 | G107: 1 | H107: =G107-F107 -> 1 | I107: 0.01 | J107: =I107*H107 -> 0.01
A108: 105 | B108: MSP-A0001(RH) | C108: Head Lamp | D108: Giant | E108: Pcs | F108: 0 | G108: 1 | H108: =G108-F108 -> 1 | I108: 0.01 | J108: =I108*H108 -> 0.01
A109: 106 | B109: 17008-0000-000002 | C109: Tubing ASSY | D109: Damon | E109: pcs | F109: 0 | G109: 8 | H109: =G109-F109 -> 8 | I109: 0.14 | J109: =I109*H109 -> 1.12
A110: 107 | B110: 140/60-14 | C110: Tyre (RT250i) | D110: RT250i | E110: pcs | F110: 0 | G110: 1 | H110: =G110-F110 -> 1 | I110: 20.09 | J110: =I110*H110 -> 20.09
A111: 108 | B111: 120/70-15 | C111: Tyre (RT250i) | D111: RT250i | E111: pcs | F111: 0 | G111: 1 | H111: =G111-F111 -> 1 | I111: 90.22 | J111: =I111*H111 -> 90.22
A112: Total | F112: =SUM(F4:F111) -> 1276 | G112: =SUM(G4:G111) -> 1596 | H112: =SUM(H4:H111) -> 320 | I112: =SUM(I4:I111) -> 2732.7511 | J112: =SUM(J4:J111) -> 9607.3111
B115: Aye Thandar Htwe | C115: Min Paing Phyo | D115: Zin Zin Mar & Khin Yadanar Htun | H115: Phyo Ko Ko
B116: S'parts Head | C116: Service & S'parts Head | D116: F/A | H116: OM
B117: BMC BU | C117: BMC BU | D117: BMC BU | H117: BMC BU
B123: Win Theingi Nwe(Mrs.) | D123: Chit San Ko(Mr.)
B124: AGM | D124: GM
B125: BMC BU | D125: BMC BU

Sheet Shortage
A1: No | B1: Product Code | C1: Product Name | D1: Product Brand | E1: UOM | F1: C/L Qty (13/1/2024) | G1: Actual Qty | H1: Different Qty | I1: Per Price $ | J1: Total Am $ | K1: Remark
A2: 1 | B2: 691970 | C2: Engine Oil 15W40, CI4 | D2: Volvoline | E2: Pcs | F2: 12 | G2: 8 | H2: =F2-G2 -> 4 | I2: 4.0633333 | J2: =I2*H2 -> 16.253333
A3: 2 | B3: 673638 | C3: EDGE SHIELD - | D3: Vespa | E3: Pcs | F3: 5 | G3: 4 | H3: =F3-G3 -> 1 | I3: 10.95 | J3: =I3*H3 -> 10.95
A4: 3 | B4: 602920M | C4: Footrest mat | D4: Vespa | E4: Pcs | F4: 9 | G4: 8 | H4: =F4-G4 -> 1 | I4: 13.65 | J4: =I4*H4 -> 13.65
A5: Total | F5: =SUM(F2:F4) -> 26 | G5: =SUM(G2:G4) -> 20 | H5: =SUM(H2:H4) -> 6 | I5: =SUM(I2:I4) -> 28.663333 | J5: =SUM(J2:J4) -> 40.853333

Sheet Damage
A1: No | B1: Product Code | C1: Product Name | D1: Product Brand | E1: UOM | F1: C/L Qty (13/1/2024) | G1: Actual Qty | H1: Damage Diff | I1: Per Price $ | J1: Total Am $ | K1: Remark
A2: 1 | B2: 128071012 | C2: GASKET ENGINE SIDE COVER | D2: Matador | E2: Pcs | F2: 17 | G2: 17 | H2: 1 | I2: 0.37 | J2: =I2*H2 -> 0.37
A3: 2 | B3: 129001014 | C3: GASKET (ENGINE PTO FACE) | D3: Matador | E3: Pcs | F3: 24 | G3: 24 | H3: 1 | I3: 0.1 | J3: =I3*H3 -> 0.1
A4: 3 | B4: 1A006104 | C4: CLUTCH COVER GASKET | D4: Matador | E4: Pcs | F4: 4 | G4: 4 | H4: 1 | I4: 0.61 | J4: =I4*H4 -> 0.61
A5: 4 | B5: 11013-0020 | C5: Element,air filter | D5: KAWASAKI | E5: Pcs | F5: 5 | G5: 5 | H5: 5 | I5: 28.114286 | J5: =I5*H5 -> 140.57143
A6: 5 | B6: 11013-0025 | C6: Element-Air-Filter | D6: KAWASAKI | E6: Pcs | F6: 7 | G6: 7 | H6: 7 | I6: 3 | J6: =I6*H6 -> 21
A7: 6 | B7: STK003-BL | C7: STK003-BL | D7: KAWASAKI | E7: Pcs | F7: 2 | G7: 2 | H7: 1 | I7: 2.5 | J7: =I7*H7 -> 2.5
A8: 7 | B8: B018070 | C8: AIR FILTER | D8: Vespa | E8: Pcs | F8: 1 | G8: 1 | H8: 1 | I8: 2.66 | J8: =I8*H8 -> 2.66
A9: 8 | B9: MSR20-F0015 | C9: Tarpaulin | D9: Matador | E9: Set | F9: 4 | G9: 4 | H9: 1 | I9: 70 | J9: =I9*H9 -> 70
A10: 9 | B10: MRL20-EG0009 | C10: POWER LOCK | D10: Matador | E10: Pcs | F10: 2 | G10: 3 | H10: 1 | I10: 1.7 | J10: =I10*H10 -> 1.7
A11: 10 | B11: MSR20-M0002 | C11: Air Filter Element | D11: Matador | E11: Pcs | F11: 8 | G11: 16 | H11: 8 | I11: 1.8 | J11: =I11*H11 -> 14.4
A12: 11 | B12: 17911-0000-050002 | C12: INJECTOR BRACKET | D12: UMG Motor | E12: Pcs | F12: 3 | G12: 3 | H12: 1 | I12: 4.02 | J12: =I12*H12 -> 4.02
A13: 12 | B13: 72020-I1F1-000003 | C13: RUBBER BUSH ASSEMBLY,RIGHT HANDLEBAR | D13: DAMON | E13: Pcs | F13: 7 | G13: 7 | H13: 1 | I13: 1.98 | J13: =I13*H13 -> 1.98
A14: 13 | B14: MRL20-M0002 | C14: AIR FILTER, INNER | D14: Matador | E14: Pcs | F14: 24 | G14: 48 | H14: 24 | I14: 1.2 | J14: =I14*H14 -> 28.8
A15: 14 | B15: MBZ25-M0002 | C15: Air Filter Assembly with Inner Air Filter | D15: Matador | E15: Pcs | F15: 40 | G15: 47 | H15: 7 | I15: 1.4 | J15: =I15*H15 -> 9.8
... A17: 16 | B17: 11395-GY6C-9000 | C17: GASKET R CRANKCASE COVER | D17: UMG Motor | E17: Pcs | F17: 1 | G17: 1 | H17: 1 | I17: 0.41 | J17: =I17*H17 -> 0.41
D18: Total | F18: =SUM(F2:F17) -> 299 | G18: =SUM(G2:G17) -> 362 | H18: =SUM(H2:H17) -> 83 | I18: =SUM(I2:I17) -> 122.86429 | J18: =SUM(J2:J17) -> 364.92143

Sheet Actual Photo
A1: BMC BU S'Part Actual Ground Stock Checking
B2: BU Yard
A41: BMC BU S'Part Actual Ground Stock Checking (Extra)
B42: BU Yard

Sheet Damage  List&Photo (2)
A1: BMC Damage List | H1: BMC Damages Photo
A2: No | B2: Product Code | C2: Product Name | D2: UOM | E2: Damage Qty (9/2/2024) | F2: Remark | I2: BU Yard
A3: 1 | B3: 128071012 | C3: GASKET ENGINE SIDE COVER | D3: Pcs | E3: 1
A4: 2 | B4: 129001014 | C4: GASKET (ENGINE PTO FACE) | D4: Pcs | E4: 1
A5: 3 | B5: 1A006104 | C5: CLUTCH COVER GASKET | D5: Pcs | E5: 1
A6: 4 | B6: 11013-0020 | C6: Element,air filter | D6: Pcs | E6: 5
A7: 5 | B7: 11013-0025 | C7: Element-Air-Filter | D7: Pcs | E7: 7
A8: 6 | B8: STK003-BL | C8: STK003-BL | D8: Pcs | E8: 1
A9: 7 | B9: B018070 | C9: AIR FILTER | D9: Pcs | E9: 1
A10: 8 | B10: MSR20-F0015 | C10: Tarpaulin | D10: Set | E10: 1
A11: 9 | B11: MRL20-EG0009 | C11: POWER LOCK | D11: Pcs | E11: 1
A12: 10 | B12: MSR20-M0002 | C12: Air Filter Element | D12: Pcs | E12: 8
A13: 11 | B13: 17911-0000-050002 | C13: INJECTOR BRACKET | D13: Pcs | E13: 1
A14: 12 | B14: 72020-I1F1-000003 | C14: RUBBER BUSH ASSEMBLY,RIGHT HANDLEBAR | D14: Pcs | E14: 1
A15: 13 | B15: MRL20-M0002 | C15: AIR FILTER, INNER | D15: Pcs | E15: 24
A16: 14 | B16: MBZ25-M0002 | C16: Air Filter Assembly with Inner Air Filter | D16: Pcs | E16: 7
... A18: 16 | B18: 11395-GY6C-9000 | C18: GASKET R CRANKCASE COVER | D18: Pcs | E18: 1
E19: =SUM(E3:E18) -> 83
A23: Aye Thandar Htwe | C23: Min Paing Phyo | E23: Zin Zin Mar & Khin Yadanar Htun | H23: F/A
A24: S'parts Head | C24: Service & S'parts Head | E24: F/A | H24: BMC BU
A25: BMC BU | C25: BMC BU | E25: BMC BU
H28: Win Thein Nwe(Mrs.)
H29: AGM
A30: Phyo Ko Ko | C30: Win Theingi Nwe(Mrs.) | E30: Chit San Ko(Mr.) | H30: BMC BU
A31: OM | C31: AGM | E31: GM
A32: BMC BU | C32: BMC BU | E32: BMC BU
B37: Zaw Min Myat(Mr.) | E37: Aye Min Htoo(Mr.)
B38: ACOO | E38: VCM

Sheet Marketing List&Photo
A1: BMC Marketing Tools | H1: BMC Marketing Tools Photo
A2: No | B2: Product Code | C2: Product Name | D2: UOM | E2: C/L Qty (9/1/2023) | F2: Remark | I2: BU Yard
A3: 1 | B3: 41502 | C3: Beanie Kawasaki Racing Black | D3: PCS | E3: 2
A4: 2 | B4: A0001-0142 | C4: ARMSLEEVES UV A/B UPF50+ | D4: Set | E4: 2
A5: 3 | B5: 31520-M/L | C5: T-Shirt Kawasaki Black Size M/L | D5: PCS | E5: 1
A6: 4 | B6: 31520-L/XL | C6: T-Shirt Kawasaki Black Size L/XL | D6: PCS | E6: 1
A7: 5 | B7: A0001-0128-L | C7: Kawasaki Polo Shirt White | D7: PCS | E7: 1
A8: 6 | B8: 31519-L/XL | C8: Polo Shirt Kawasaki Black | D8: PCS | E8: 1
A9: 7 | B9: N1203-Z027-M | C9: T-Shirt Kawasaki Blue Er6n | D9: PCS | E9: 1
A10: 8 | B10: 21525-L/XL | C10: T-Shirt SBK Replica Black(Male) | D10: PCS | E10: 1
A11: 9 | B11: A0001-0129-M | C11: Kawasaki Polo-Shirt | D11: PCS | E11: 1
A12: 10 | B12: 31520-XL/2XL | C12: T-Shirt Kawasaki Black Size XL/2XL | D12: PCS | E12: 1
A13: 11 | B13: A0001-0124 | C13: Kawasaki Mug | D13: PCS | E13: 5
A14: 12 | B14: 605879M001 | C14: Wheel shape bag Italy | D14: PCS | E14: 2
A15: 13 | B15: 605879M002 | C15: Wheel shape bag Union Jack | D15: PCS | E15: 2
... A23: 21 | B23: Kawasaki Hoodie | C23: Kawasaki Hoodie Black | D23: PCS | E23: 1
E24: =SUM(E3:E23) -> 45
A27: Thin Thin N'we | D27: Kyaw Myo Swe / Aung Phyo Hein
A28: Cor Inventory | D28: Cor Inventory | H28: F/A
A29: CFD DIV | D29: CFD DIV | H29: BMC BU
A33: Su Myat Noe Myint / Pyae Phyo Paing | E33: Phyo Ko KO | H33: Win Thein Nwe(Mrs.)
A34: Internal Audit | E34: OM | H34: AGM
A35: IA | E35: BMC BU | H35: BMC BU
