Workbook

Sheet IRRWADDY FISHERIES
F2: =TODAY() -> 45419 | G2: -1
D4: Summary | F4: USD
A5: Customer Statement | C5: စာခ်ဴပ္ပါအေရာင္းတန္ဘိုး | D5: Contacted Amt | F5: 67925
A6: Customer | B6: IRRWADDY FISHERIES DEVELOPMENT CO.,LTD | C6: ရက္လြန္ဒဏ္ေၾကး | D6: Fine to Date | F6: =E36 -> 36000.25
A7: Contact Person | C7: စုစုေပါင္းရရန္ွရွိ | D7: Total AR | F7: =SUM(F5:F6) -> 103925.25
A8: Sale Man | B8: Mar Mar Khaing | C8: လက္ရွိေပးသြင္းျပီးေငြ | D8: Payment to Date | F8: =F36 -> 54340
A9: Contract No: | C9: စုစုေပါင္းေပးရန္တာ၀န္ | D9: Total Payable | F9: =+F7-F8 -> 49585.25
A10: Interest Rate | C10: အျမန္ဆံုးေပးသြင္းရမည့္ေငြ | D10: Overdue | F10: =F5-F8 -> 13585 | G10: (Pls pay immediately)
C11: အျမန္ဆံုးေပးသြင္းရမည့္ေငြ | D11: Fine | F11: =F6 -> 36000.25 | G11: (Pls pay immediately)
B12: WW-UNT-SI-20050006 | C12: ထပ္မံေပးရန္က်န္ရွိေငြ | D12: Future Due
B13: VP-700/2003085/630KVA
A15: Date | B15: Particular | C15: Installment Plan | D15: Due | E15: Fine | F15: Paid | G15: Bal:
A17: 43960 | B17: 1st lot of 1 Unit Total Sales Amt (USD 67,925 /-@ 1U) | D17: 67925 | G17: =D17 -> 67925
B18: 20% Upon Contract (USD 13,585) | C18: 13585 | G18: =G17+D18-F18+E18 -> 67925
A19: 44011 | B19: WW-RV-20060271 | F19: 13585 | G19: =G18+D19-F19+E19 -> 54340
A20: 44144 | B20: 6 month after delivery | C20: 13585 | G20: =G19+D20-F20+E20 -> 54340
B21: 5% fine for 1 year & 2 Month | E21: =C20*5%*14 -> 9509.5 | G21: =G20+D21-F21+E21 -> 63849.5
A22: 44519 | B22: WW-RV-21110145 | F22: 10000 | G22: =G21+D22-F22+E22 -> 53849.5
A23: 44533 | B23: WW-RV-21120162 | F23: 3585 | G23: =G22+D23-F23+E23 -> 50264.5
A24: 44325 | B24: 12 month after delivery | C24: 13585 | G24: =G23+D24-F24+E24 -> 50264.5
B25: 5% fine for 1YEAR & 3 month | E25: =C24*5%*15 -> 10188.75 | G25: =G24+D25-F25+E25 -> 60453.25
A26: 44793 | B26: HQT-RV-2022-07-0561(TTL MMK 357,577,250/-)/WW-RV-22080221/2220 Rate | F26: 12511.37 | G26: =G25+D26-F26+E26 -> 47941.88
A27: 44791 | B27: HQT-RV-2022-08-0631(TTL MMK 39,223,000/-)/WW-RV-22080222/2850 Rate | F27: =C24-F26 -> 1073.63 | G27: =G26+D27-F27+E27 -> 46868.25
A28: 44509 | B28: 18 month after delivery | C28: 13585 | G28: =G27+D28-F28+E28 -> 46868.25
B29: 5% fine for 9 month | E29: =C28*5%*9 -> 6113.25 | G29: =G28+D29-F29+E29 -> 52981.5
A30: 44791 | B30: HQT-RV-2022-08-0631(TTL MMK 39,223,000/-)/WW-RV-22080222/2850 Rate | F30: =13762.46-F27 -> 12688.83 | G30: =G29+D30-F30+E30 -> 40292.67
A31: 44806 | B31: HQT-RV-2022-09-0072 (PG TTL 27,851,250)/WW-RV-22090166/3800 RATE | F31: 896.17 | G31: =G30+D31-F31+E31 -> 39396.5
A32: 44690 | B32: 24 month after delivery | C32: 13585 | G32: =G31+D32-F32+E32 -> 39396.5 | H32: =DATEDIF(A32,TODAY(),"Y")& "Year" &DATEDIF(A32, TODAY(),"YM") & "Month" & DATEDIF(A32,TODAY(),"MD") & "Days" -> 1Year11Month28Days
B33: 5% fine for 1 year & 3 Month | E33: =C32*5%*(12*1+3) -> 10188.75 | G33: =G32+D33-F33+E33 -> 49585.25
G34: =G33+D34-F34+E34 -> 49585.25
G35: =G34+D35-F35+E35 -> 49585.25
C36: =SUM(C17:C35) -> 67925 | D36: =SUM(D17:D35) -> 67925 | E36: =SUM(E17:E35) -> 36000.25 | F36: =SUM(F17:F35) -> 54340 | G36: =D36-F36+E36 -> 49585.25
A39: Prepare By | B39: Check By

Sheet IRRAWADDY FISHERIES3 (2)
D1: Summary | F1: USD
A2: Customer Statement | C2: စာခ်ဴပ္ပါအေရာင္းတန္ဘိုး | D2: Contacted Amt | F2: 67925
A3: Customer | B3: IRRAWADDY FISHERIES DEVELOPMENT CO.,LTD | C3: ရက္လြန္ဒဏ္ေၾကး | D3: Fine to Date | F3: =E31 -> 23953.445
A4: Contact Person | B4: Khin Htay Lin,Daw | C4: စုစုေပါင္းရရန္ွရွိ | D4: Total AR | F4: =SUM(F2:F3) -> 91878.445
A5: Sale Man | B5: Min Zin | C5: လက္ရွိေပးသြင္းျပီးေငြ | D5: Payment to Date | F5: =F31 -> 60774.11
A6: Contract No: | C6: စုစုေပါင္းေပးရန္တာ၀န္ | D6: Total Payable | F6: =+F4-F5 -> 31104.335
A7: Fine | B7: 0.05 | C7: အျမန္ဆံုးေပးသြင္းရမည့္ေငြ | D7: Overdue | F7: =F2-F5 -> 7150.89
A8: CIF | C8: အျမန္ဆံုးေပးသြင္းရမည့္ေငြ | D8: Fine | F8: =E31 -> 23953.445
B9: WW-UNT-SI-20020029 | C9: ထပ္မံေပးရန္က်န္ရွိေငြ | D9: Future Due
A10: Model | B10: VP-700/1804013/630KVA
A11: Date | B11: Particular | C11: Installment Plan | D11: Due | E11: Fine | F11: Paid | G11: Bal:
A13: 43881 | B13: 1st lot of 1 Unit Total Sales Amt (USD-67,925-@ 1U) | D13: 67925 | G13: =D13 -> 67925
G14: =G13+D14-F14+E14 -> 67925
B15: 20 % upon contract(USD 13,585) | C15: 13585 | G15: =G14+D15-F15+E15 -> 67925
A16: 2020-02-25 | B16: WW-RV-20020161 | F16: 13585 | G16: =G15+D16-F16+E16 -> 54340
A17: 44063 | B17: 6 Month after delivery | C17: 13585 | G17: =G16+D17-F17+E17 -> 54340
A18: 44081 | B18: WW-RV-20090048 | F18: 1829 | G18: =G17+D18-F18+E18 -> 52511
A19: 2020-10-19 | B19: WW-RV-20100076 | F19: 11757 | G19: =G18+D19-F19+E19 -> 40754
A20: 44247 | B20: 12 Month after delivery | C20: 13585 | G20: =G19+D20-F20+E20 -> 40754
B21: 5% fine for 1 year & 1 month | E21: =C20*5%*13 -> 8830.25 | G21: =G20+D21-F21+E21 -> 49584.25
A22: 44659 | B22: HQT-RV-2022-04-0327/RATE 1850/-WW-RV-22040181 | F22: 13585 | G22: =G21+D22-F22+E22 -> 35999.25
A23: 44428 | B23: 18 Month after delivery | C23: 13585 | G23: =G22+D23-F23+E23 -> 35999.25
B24: 5% fine for 9 month | E24: =C23*5%*9 -> 6113.25 | G24: =G23+D24-F24+E24 -> 42112.5
A25: 44692 | B25: HQT-RV-2022-05-0349/WW-RV-22050221/1850 Rate | F25: 13585 | G25: =G24+D25-F25+E25 -> 28527.5
A26: 44612 | B26: 24 Month after delivery | C26: 13585 | G26: =G25+D26-F26+E26 -> 28527.5
B27: 5% fine for 8 month | E27: =C26*5%*8 -> 5434 | G27: =G26+D27-F27+E27 -> 33961.5
A28: 44806 | B28: HQT-RV-2022-09-0072 (PG TTL 27,851,250)/WW-RV-22090167/3800 RATE | F28: 6433.11 | G28: =G27+D28-F28+E28 -> 27528.39 | H28: =DATEDIF(A28,TODAY(),"Y")& "Year" &DATEDIF(A28, TODAY(),"YM") & "Month" & DATEDIF(A28,TODAY(),"MD") & "Days" -> 1Year8Month5Days
B29: 5% fine for 10 month | E29: =(C26-F28)*5%*10 -> 3575.945 | G29: =G28+D29-F29+E29 -> 31104.335
G30: =G28+D30-F30+E30 -> 27528.39
C31: =SUM(C13:C30) -> 67925 | D31: =SUM(D13:D30) -> 67925 | E31: =SUM(E13:E30) -> 23953.445 | F31: =SUM(F13:F30) -> 60774.11 | G31: =D31-F31+E31 -> 31104.335

Sheet GLOBAL EARTH AGRO
F2: =TODAY() -> 45419 | G2: -1 | H2: 44264
D4: Summary | F4: USD
A5: Customer Statement | C5: စာခ်ဴပ္ပါအေရာင္းတန္ဘိုး | D5: Contacted Amt | F5: 35000
A6: Customer | B6: GLOBAL EARTH AGRO & AQUA INDUSTRY PUBLIC CO.,LTD | C6: ရက္လြန္ဒဏ္ေၾကး | D6: Fine to Date | F6: =E56 -> 11126.15
A7: Contact Person | C7: စုစုေပါင္းရရန္ွရွိ | D7: Total AR | F7: =SUM(F5:F6) -> 46126.15
A8: Sale Man | B8: Mar Mar Khaing | C8: လက္ရွိေပးသြင္းျပီးေငြ | D8: Payment to Date | F8: =F56 -> 35000
A9: Contract No: | C9: စုစုေပါင္းေပးရန္တာ၀န္ | D9: Total Payable | F9: =+F7-F8 -> 11126.15
A10: Interest Rate | C10: အျမန္ဆံုးေပးသြင္းရမည့္ေငြ | D10: Overdue | F10: =F5-F8 -> 0 | G10: (Pls pay immediately)
C11: အျမန္ဆံုးေပးသြင္းရမည့္ေငြ | D11: Fine | F11: =E56 -> 11126.15 | G11: (Pls pay immediately)
B12: WW-UNT-SI-20030041 | C12: ထပ္မံေပးရန္က်န္ရွိေငြ | D12: Future Due
B13: MC-350TS/19100510/313 Kva
A15: Date | B15: Particular | C15: Installment Plan | D15: Due | E15: Fine | F15: Paid | G15: Bal:
A17: 43915 | B17: 1st lot of 1 Unit Total Sales Amt (USD 35,000.00 /-@ 1U) | C17: 10500 | D17: 35000 | G17: =D17 -> 35000
A18: 2020-05-05 | B18: WW-RV-20050022 | F18: 10500 | G18: =G17+D18-F18+E18 -> 24500
A19: 43946 | B19: 1 month after delivery | C19: 2042 | G19: =G18+D19-F19+E19 -> 24500
A20: 44011 | B20: WW-RV-20060284 | F20: 2042 | G20: =G19+D20-F20+E20 -> 22458
A21: 43976 | B21: 2 month after delivery | C21: 2042 | G21: =G20+D21-F21+E21 -> 22458
A22: 44081 | B22: WW-RV-20090043 | F22: 2042 | G22: =G21+D22-F22+E22 -> 20416
A23: 44007 | B23: 3 month after delivery | C23: 2042 | G23: =G22+D23-F23+E23 -> 20416
A24: 44081 | B24: WW-RV-20090043 | F24: 2042 | G24: =G23+D24-F24+E24 -> 18374
A25: 44037 | B25: 4 month after delivery | C25: 2042 | G25: =G24+D25-F25+E25 -> 18374
A26: 44081 | B26: WW-RV-20090043 | F26: 2042 | G26: =G25+D26-F26+E26 -> 16332
A27: 44068 | B27: 5 month after delivery | C27: 2042 | G27: =G26+D27-F27+E27 -> 16332
B28: 5% fine for 1 year | E28: =C27*5%*12 -> 1225.2 | G28: =G27+D28-F28+E28 -> 17557.2
A29: 44462 | B29: WW-RV-21090186 | F29: 2042 | G29: =G28+D29-F29+E29 -> 15515.2
A30: 44099 | B30: 6 month after delivery | C30: 2042 | G30: =G29+D30-F30+E30 -> 15515.2
B31: 5% fine for 11 month | E31: =C30*5%*11 -> 1123.1 | G31: =G30+D31-F31+E31 -> 16638.3
A32: 44462 | B32: WW-RV-21090186 | F32: 2042 | G32: =G31+D32-F32+E32 -> 14596.3
A33: 44129 | B33: 7 month after delivery | C33: 2042 | G33: =G32+D33-F33+E33 -> 14596.3
B34: 5% fine for 1 year & 3 month | E34: =C33*5%*16 -> 1633.6 | G34: =G33+D34-F34+E34 -> 16229.9
A35: 44533 | B35: WW-RV-21120160 | F35: 2042 | G35: =G34+D35-F35+E35 -> 14187.9
G36: =G35+D36-F36+E36 -> 14187.9
A37: 44160 | B37: 8 month after delivery | C37: 2042 | G37: =G36+D37-F37+E37 -> 14187.9
B38: 5% fine for 1 year & 3 month | E38: =C37*5%*15 -> 1531.5 | G38: =G37+D38-F38+E38 -> 15719.4
A39: 44621 | B39: WW-RV-22030140 | F39: 2042 | G39: =G38+D39-F39+E39 -> 13677.4
A40: 44190 | B40: 9 month after delivery | C40: 2041 | G40: =G39+D40-F40+E40 -> 13677.4
B41: 5% fine for 1 year & 2 month | E41: =C40*5%*14 -> 1428.7 | G41: =G40+D41-F41+E41 -> 15106.1
A42: 44621 | B42: WW-RV-22030140 | F42: 2041 | G42: =G41+D42-F42+E42 -> 13065.1
A43: 44221 | B43: 10 month after delivery | C43: 2041 | G43: =G42+D43-F43+E43 -> 13065.1
B44: 5% fine for 1 year & 2 month | E44: =C43*5%*14 -> 1428.7 | G44: =G43+D44-F44+E44 -> 14493.8
...

Sheet GLOBAL EARTH AGRO (2)
F2: =TODAY() -> 45419 | G2: -1 | H2: 44264
D4: Summary | F4: USD
A5: Customer Statement | C5: စာခ်ဴပ္ပါအေရာင္းတန္ဘိုး | D5: Contacted Amt | F5: 25000
A6: Customer | B6: GLOBAL EARTH AGRO & AQUA INDUSTRY PUBLIC CO.,LTD | C6: ရက္လြန္ဒဏ္ေၾကး | D6: Fine to Date | F6: =E55 -> 6706.8
A7: Contact Person | C7: စုစုေပါင္းရရန္ွရွိ | D7: Total AR | F7: =SUM(F5:F6) -> 31706.8
A8: Sale Man | B8: Mar Mar Khaing | C8: လက္ရွိေပးသြင္းျပီးေငြ | D8: Payment to Date | F8: =F55 -> 25000
A9: Contract No: | C9: စုစုေပါင္းေပးရန္တာ၀န္ | D9: Total Payable | F9: =+F7-F8 -> 6706.8
A10: Interest Rate | C10: အျမန္ဆံုးေပးသြင္းရမည့္ေငြ | D10: Overdue | F10: =F5-F8 -> 0 | G10: (Pls pay immediately)
C11: အျမန္ဆံုးေပးသြင္းရမည့္ေငြ | D11: Fine | F11: =F6 -> 6706.8 | G11: (Pls pay immediately)
B12: WW-UNT-SI-20040013 | C12: ထပ္မံေပးရန္က်န္ရွိေငြ | D12: Future Due
B13: MC-275BS/1911055/250Kva
A15: Date | B15: Particular | C15: Installment Plan | D15: Due | E15: Fine | F15: Paid | G15: Bal:
A17: 43928 | B17: 1st lot of 1 Unit Total Sales Amt (USD 25,000 /-@ 1U) | D17: 25000 | G17: =D17 -> 25000
B18: 30% down payment ( USD 7,500 ) after delivery ( 20.4.2020 ) | C18: 7500 | G18: =G17+D18-F18+E18 -> 25000
A19: 2020-05-05 | B19: WW-RV-20050023 | F19: 7500 | G19: =G18+D19-F19+E19 -> 17500
A20: 43958 | B20: 1 month after delivery | C20: 1459 | G20: =G19+D20-F20+E20 -> 17500
A21: 44011 | B21: WW-RV-20060286 | F21: 1459 | G21: =G20+D21-F21+E21 -> 16041
A22: 43989 | B22: 2 month after delivery | C22: 1459 | G22: =G21+D22-F22+E22 -> 16041
A23: 44081 | B23: WW-RV-20090044 | F23: 1459 | G23: =G22+D23-F23+E23 -> 14582
A24: 44019 | B24: 3 month after delivery | C24: 1459 | G24: =G23+D24-F24+E24 -> 14582
A25: 44081 | B25: WW-RV-20090044 | F25: 1459 | G25: =G24+D25-F25+E25 -> 13123
A26: 44050 | B26: 4 month after delivery | C26: 1459 | G26: =G25+D26-F26+E26 -> 13123
A27: 44081 | B27: WW-RV-20090044 | F27: 1459 | G27: =G26+D27-F27+E27 -> 11664
A28: 44081 | B28: 5 month after delivery | C28: 1458 | G28: =G27+D28-F28+E28 -> 11664
A29: 44123 | B29: WW-RV-20100073 | F29: 1458 | G29: =G28+D29-F29+E29 -> 10206
A30: 44111 | B30: 6 month after delivery | C30: 1458 | G30: =G29+D30-F30+E30 -> 10206
B31: 5% fine for 1 year & 1 month | E31: =C30*5%*13 -> 947.7 | G31: =G30+D31-F31+E31 -> 11153.7
A32: 44462 | B32: WW-RV-21090191 | F32: 1458 | G32: =G31+D32-F32+E32 -> 9695.7
A33: 44142 | B33: 7 month after delivery | C33: 1458 | G33: =G32+D33-F33+E33 -> 9695.7
B34: 5% fine for 1year | E34: =C33*5%*12 -> 874.8 | G34: =G33+D34-F34+E34 -> 10570.5
A35: 44462 | B35: WW-RV-21090191 | F35: 1458 | G35: =G34+D35-F35+E35 -> 9112.5
A36: 44172 | B36: 8 month after delivery | C36: 1458 | G36: =G35+D36-F36+E36 -> 9112.5
B37: 5% fine for 1 year & 2 month | E37: =C36*5%*14 -> 1020.6 | G37: =G36+D37-F37+E37 -> 10133.1
A38: 44621 | B38: WW-RV-22030139 | F38: 1458 | G38: =G37+D38-F38+E38 -> 8675.1
A39: 44203 | B39: 9 month after delivery | C39: 1458 | G39: =G38+D39-F39+E39 -> 8675.1
B40: 5% fine for 1 year & 1 month | E40: =C39*5%*13 -> 947.7 | G40: =G39+D40-F40+E40 -> 9622.8
A41: 44621 | B41: WW-RV-22030139 | F41: 1458 | G41: =G40+D41-F41+E41 -> 8164.8
A42: 44234 | B42: 10 month after delivery | C42: 1458 | G42: =G41+D42-F42+E42 -> 8164.8
B43: 5% fine for 1 year & 2 month | E43: =C42*5%*14 -> 1020.6 | G43: =G42+D43-F43+E43 -> 9185.4
A44: 44659 | B44: HQT-RV-2022-04-0327, RATE 1850/-WW-RV-22040179 | F44: 1458 | G44: =G43+D44-F44+E44 -> 7727.4
...

Sheet GLOBAL EARTH AGRO (3)
F2: =TODAY() -> 45419 | G2: -1
D4: Summary | F4: USD
A5: Customer Statement | C5: စာခ်ဴပ္ပါအေရာင္းတန္ဘိုး | D5: Contacted Amt | F5: 25000
A6: Customer | B6: GLOBAL EARTH AGRO & AQUA INDUSTRY PUBLIC CO.,LTD | C6: ရက္လြန္ဒဏ္ေၾကး | D6: Fine to Date | F6: =E56 -> 7581.6
A7: Contact Person | C7: စုစုေပါင္းရရန္ွရွိ | D7: Total AR | F7: =SUM(F5:F6) -> 32581.6
A8: Sale Man | B8: Mar Mar Khaing | C8: လက္ရွိေပးသြင္းျပီးေငြ | D8: Payment to Date | F8: =F56 -> 25000
A9: Contract No: | C9: စုစုေပါင္းေပးရန္တာ၀န္ | D9: Total Payable | F9: =+F7-F8 -> 7581.6
A10: Interest Rate | C10: အျမန္ဆံုးေပးသြင္းရမည့္ေငြ | D10: Overdue | F10: =F5-F8 -> 0 | G10: (Pls pay immediately)
C11: အျမန္ဆံုးေပးသြင္းရမည့္ေငြ | D11: Fine | F11: =F6 -> 7581.6 | G11: (Pls pay immediately)
B12: WW-UNT-SI-20040022 | C12: ထပ္မံေပးရန္က်န္ရွိေငြ | D12: Future Due
B13: MC-275BS/1911056/250Kva
G14: 0
A15: Date | B15: Particular | C15: Installment Plan | D15: Due | E15: Fine | F15: Paid | G15: Bal:
A17: 43948 | B17: 1st lot of 1 Unit Total Sales Amt (USD 25,000 /-@ 1U) | D17: 25000 | G17: =D17 -> 25000
B18: 30% down payment ( USD 7,500 ) after delivery within in this week. | C18: 7500 | G18: =G17+D18-F18+E18 -> 25000
A19: 2020-05-05 | B19: WW-RV-20050024 | F19: 7500 | G19: =G18+D19-F19+E19 -> 17500
A20: 43978 | B20: 1 month after delivery | C20: 1459 | G20: =G19+D20-F20+E20 -> 17500
A21: 44011 | B21: WW-RV-20060285 | F21: 1459 | G21: =G20+D21-F21+E21 -> 16041
A22: 44009 | B22: 2 month after delivery | C22: 1459 | G22: =G21+D22-F22+E22 -> 16041
A23: 44081 | B23: WW-RV-20090045 | F23: 1459 | G23: =G22+D23-F23+E23 -> 14582
A24: 44039 | B24: 3 month after delivery | C24: 1459 | G24: =G23+D24-F24+E24 -> 14582
A25: 44081 | B25: WW-RV-20090045 | F25: 1459 | G25: =G24+D25-F25+E25 -> 13123
A26: 44070 | B26: 4 month after delivery | C26: 1459 | G26: =G25+D26-F26+E26 -> 13123
A27: 44081 | B27: WW-RV-20090047 | F27: 1459 | G27: =G26+D27-F27+E27 -> 11664
A28: 44101 | B28: 5 month after delivery | C28: 1458 | G28: =G27+D28-F28+E28 -> 11664
B29: 5% fine for 1 year & 2 month | E29: =C28*5%*14 -> 1020.6 | G29: =G28+D29-F29+E29 -> 12684.6
A30: 44462 | B30: WW-RV-21090187 | F30: 1458 | G30: =G29+D30-F30+E30 -> 11226.6
A31: 44131 | B31: 6 month after delivery | C31: 1458 | G31: =G30+D31-F31+E31 -> 11226.6
B32: 5% fine for 1 year & 1 month | E32: =C31*5%*13 -> 947.7 | G32: =G31+D32-F32+E32 -> 12174.3
A33: 44462 | B33: WW-RV-21090187 | F33: 1458 | G33: =G32+D33-F33+E33 -> 10716.3
A34: 44162 | B34: 7 month after delivery | C34: 1458 | G34: =G33+D34-F34+E34 -> 10716.3
B35: 5% fine for 1 year & 2 month | E35: =C34*5%*14 -> 1020.6 | G35: =G34+D35-F35+E35 -> 11736.9
A36: 44533 | B36: WW-RV-21120161 | F36: 1458 | G36: =G35+D36-F36+E36 -> 10278.9
A37: 44192 | B37: 8 month after delivery | C37: 1458 | G37: =G36+D37-F37+E37 -> 10278.9
B38: 5% fine for 1 year & 2 month | E38: =C37*5%*14 -> 1020.6 | G38: =G37+D38-F38+E38 -> 11299.5
A39: 44621 | B39: WW-RV-22030141 | F39: 1458 | G39: =G38+D39-F39+E39 -> 9841.5
A40: 44223 | B40: 9 month after delivery | C40: 1458 | G40: =G39+D40-F40+E40 -> 9841.5
B41: 5% fine for 1 year & 1 month | E41: =C40*5%*13 -> 947.7 | G41: =G40+D41-F41+E41 -> 10789.2
A42: 44621 | B42: WW-RV-22030141 | F42: 1458 | G42: =G41+D42-F42+E42 -> 9331.2
A43: 44254 | B43: 10 month after delivery | C43: 1458 | G43: =G42+D43-F43+E43 -> 9331.2
...

Sheet IRRAWADDY FISHERIES5
D1: Summary | F1: USD
A2: Customer Statement | C2: စာခ်ဴပ္ပါအေရာင္းတန္ဘိုး | D2: Contacted Amt | F2: 67925
A3: Customer | B3: IRRAWADDY FISHERIES DEVELOPMENT CO.,LTD | C3: ရက္လြန္ဒဏ္ေၾကး | D3: Fine to Date | F3: =E30 -> 9509.5
A4: Contact Person | B4: Khin Htay Lin,Daw | C4: စုစုေပါင္းရရန္ွရွိ | D4: Total AR | F4: =SUM(F2:F3) -> 77434.5
A5: Sale Man | B5: Min Zin | C5: လက္ရွိေပးသြင္းျပီးေငြ | D5: Payment to Date | F5: =F30 -> 67925
A6: Contract No: | B6: HS 858 / 2018 | C6: စုစုေပါင္းေပးရန္တာ၀န္ | D6: Total Payable | F6: =+F4-F5 -> 9509.5
A7: Interest Rate | B7: 0.05 | C7: အျမန္ဆံုးေပးသြင္းရမည့္ေငြ | D7: Overdue | F7: =F2-F5 -> 0 | G7: (Pls pay immediately)
A8: CIF | C8: အျမန္ဆံုးေပးသြင္းရမည့္ေငြ | D8: Fine | F8: =E30 -> 9509.5 | G8: (Pls pay immediately)
B9: WW-UNT-SI-18120090 | C9: ထပ္မံေပးရန္က်န္ရွိေငြ | D9: Future Due
A10: Model | B10: VP-700/1804017/630KVA
A13: Date | B13: Particular | C13: Installment Plan | D13: Due | E13: Fine | F13: Paid | G13: Bal:
A15: 43458 | B15: 1st lot of 1 Unit Total Sales Amt (USD-67925-@ 1U) | D15: 67925 | G15: =D15 -> 67925
G16: =G15+D16-F16 -> 67925
B17: 20% Upon Contract | C17: 13585 | G17: =G16+D17-F17+E17 -> 67925
A18: 43460 | B18: WW-RV-18120187 | F18: 13585 | G18: =G17+D18-F18+E18 -> 54340
A19: 43640 | B19: 6 Month after delivery | C19: 13585 | G19: =G18+D19-F19+E19 -> 54340
A20: 43664 | B20: WW-RV-19070151 | F20: 13585 | G20: =G19+D20-F20+E20 -> 40755
A21: 43823 | B21: 12 Month after delivery | C21: 13585 | G21: =G20+D21-F21+E21 -> 40755
A22: 2020-02-24 | B22: WW-RV-20020155 | F22: 13585 | G22: =G21+D22-F22+E22 -> 27170
G23: =G22+D23-F23+E23 -> 27170
A24: 44006 | B24: 18 Month after delivery | C24: 13585 | G24: =G23+D24-F24+E24 -> 27170
A25: 44081 | B25: WW-RV-20090049 | F25: 13585 | G25: =G24+D25-F25+E25 -> 13585
A26: 44189 | B26: 24 Month after delivery | C26: 13585 | G26: =G25+D26-F26+E26 -> 13585
B27: 5% fine for 1year & 2 month | E27: =C26*5%*14 -> 9509.5 | G27: =G26+D27-F27+E27 -> 23094.5
A28: 44621 | B28: HQT-RV-2022-03-0167/WW-RV-22030143 | F28: 13585 | G28: =G27+D28-F28+E28 -> 9509.5
G29: =G28+D29-F29+E29 -> 9509.5
C30: =SUM(C15:C29) -> 67925 | D30: =SUM(D15:D29) -> 67925 | E30: =SUM(E15:E29) -> 9509.5 | F30: =SUM(F15:F29) -> 67925 | G30: =D30-F30+E30 -> 9509.5
A33: Prepare By | D33: Checked By | G33: Customer
A36: Lwin Lwin Aung | D36: Thet Hnin Aye | G36: IRRAWADDY FISHERIES DEVELOPMENT
A37: Finance AR Staff | D37: Finance And Account DH

Sheet Sheet1
C2: Irrwaddy/Global Earth Discount List
C3: Inv Date | D3: Inv No. | E3: AR Amt | F3: Fine Amt
C4: ='IRRWADDY FISHERIES'!A17 -> 43960 | D4: ='IRRWADDY FISHERIES'!B12 -> WW-UNT-SI-20050006 | E4: ='IRRWADDY FISHERIES'!F10 -> 13585 | F4: ='IRRWADDY FISHERIES'!F11 -> 36000.25
C5: ='IRRAWADDY FISHERIES3 (2)'!A13 -> 43881 | D5: ='IRRAWADDY FISHERIES3 (2)'!B9 -> WW-UNT-SI-20020029 | E5: ='IRRAWADDY FISHERIES3 (2)'!F7 -> 7150.89 | F5: ='IRRAWADDY FISHERIES3 (2)'!F8 -> 23953.445
C6: ='GLOBAL EARTH AGRO'!A17 -> 43915 | D6: ='GLOBAL EARTH AGRO'!B12 -> WW-UNT-SI-20030041 | F6: ='GLOBAL EARTH AGRO'!F11 -> 11126.15
C7: ='GLOBAL EARTH AGRO (2)'!A17 -> 43928 | D7: ='GLOBAL EARTH AGRO (2)'!B12 -> WW-UNT-SI-20040013 | F7: ='GLOBAL EARTH AGRO (2)'!F11 -> 6706.8
C8: ='GLOBAL EARTH AGRO (3)'!A17 -> 43948 | D8: ='GLOBAL EARTH AGRO (3)'!B12 -> WW-UNT-SI-20040022 | F8: ='GLOBAL EARTH AGRO (3)'!F11 -> 7581.6
C9: ='IRRAWADDY FISHERIES5'!A15 -> 43458 | D9: ='IRRAWADDY FISHERIES5'!B9 -> WW-UNT-SI-18120090 | F9: ='IRRAWADDY FISHERIES5'!F8 -> 9509.5
C10: ='IRRAWADDY FISHERIES6'!A18 -> 43460 | D10: ='IRRAWADDY FISHERIES6'!B12 -> WW-UNT-SI-18120095 | F10: ='IRRAWADDY FISHERIES6'!F11 -> 9509.5
C11: ='IRRAWADDY FISHERIES DEVELOPMENT'!A18 -> 43518 | D11: ='IRRAWADDY FISHERIES DEVELOPMENT'!B12 -> WW-UNT-SI-19020058 | F11: ='IRRAWADDY FISHERIES DEVELOPMENT'!F11 -> 8830.25
C12: ='IRRAWADDY FISHERIES3'!A14 -> 43561 | D12: ='IRRAWADDY FISHERIES3'!B9 -> WW-UNT-SI-19040024 | F12: ='IRRAWADDY FISHERIES3'!F8 -> 8680
C13: ='IRRAWADDY FISHERIES4'!A17 -> 43561 | D13: ='IRRAWADDY FISHERIES4'!B11 -> WW-UNT-SI-19040027 | F13: ='IRRAWADDY FISHERIES4'!F10 -> 16981.25
C14: Total | E14: =SUM(E4:E13) -> 20735.89 | F14: =SUM(F4:F13) -> 138878.74
E15: =E14+F14 -> 159614.64

Sheet IRRAWADDY FISHERIES6
F2: =TODAY() -> 45419 | G2: -1
D4: Summary | F4: USD
A5: Customer Statement | C5: စာခ်ဴပ္ပါအေရာင္းတန္ဘိုး | D5: Contacted Amt | F5: 67925
A6: Customer | B6: IRRAWADDY FISHERIES DEVELOPMENT CO.,LTD | C6: ရက္လြန္ဒဏ္ေၾကး | D6: Fine to Date | F6: =E33 -> 9509.5
A7: Contact Person | B7: Khin Htay Lin,Daw | C7: စုစုေပါင္းရရန္ွရွိ | D7: Total AR | F7: =SUM(F5:F6) -> 77434.5
A8: Sale Man | B8: Min Zin | C8: လက္ရွိေပးသြင္းျပီးေငြ | D8: Payment to Date | F8: =F33 -> 67925
A9: Contract No: | B9: HS 866 / 2018 | C9: စုစုေပါင္းေပးရန္တာ၀န္ | D9: Total Payable | F9: =+F7-F8 -> 9509.5
A10: Interest Rate | B10: 0.05 | C10: အျမန္ဆံုးေပးသြင္းရမည့္ေငြ | D10: Overdue | F10: =F5-F8 -> 0 | G10: (Pls pay immediately)
A11: CIF | C11: အျမန္ဆံုးေပးသြင္းရမည့္ေငြ | D11: Fine | F11: =E33 -> 9509.5 | G11: (Pls pay immediately)
B12: WW-UNT-SI-18120095 | C12: ထပ္မံေပးရန္က်န္ရွိေငြ | D12: Future Due
A13: Model | B13: VP-700/1804018/630KVA
A16: Date | B16: Particular | C16: Installment Plan | D16: Due | E16: Fine | F16: Paid | G16: Bal:
A18: 43460 | B18: 1st lot of 1 Unit Total Sales Amt (USD-67925-@ 1U) | D18: 67925 | G18: =D18 -> 67925
G19: =G18+D19-F19 -> 67925
B20: 20% Upon Contract | C20: 13585 | G20: =G19+D20-F20+E20 -> 67925
A21: 43461 | B21: WW-RV-18120188 | F21: 13585 | G21: =G20+D21-F21+E21 -> 54340
A22: 43642 | B22: 6 Month after delivery | C22: 13585 | G22: =G21+D22-F22+E22 -> 54340
A23: 43664 | B23: WW-RV-19070153 | F23: 13585 | G23: =G22+D23-F23+E23 -> 40755
A24: 43825 | B24: 12 Month after delivery | C24: 13585 | G24: =G23+D24-F24+E24 -> 40755
A25: 2020-02-24 | B25: WW-RV-20020156 | F25: 13585 | G25: =G24+D25-F25+E25 -> 27170
G26: =G25+D26-F26+E26 -> 27170
A27: 44008 | B27: 18 Month after delivery | C27: 13585 | G27: =G26+D27-F27+E27 -> 27170
A28: 44081 | B28: WW-RV-20090051 | F28: 13585 | G28: =G27+D28-F28+E28 -> 13585
A29: 44191 | B29: 24 Month after delivery | C29: 13585 | G29: =G28+D29-F29+E29 -> 13585
B30: 5% fine for 1year & 2 month | E30: =C29*5%*14 -> 9509.5 | G30: =G29+D30-F30+E30 -> 23094.5
A31: 44621 | B31: HQT-RV-2022-03-0167/WW-RV-22030142 | F31: 13585 | G31: =G30+D31-F31+E31 -> 9509.5
G32: =G31+D32-F32+E32 -> 9509.5
C33: =SUM(C18:C32) -> 67925 | D33: =SUM(D18:D32) -> 67925 | E33: =SUM(E18:E32) -> 9509.5 | F33: =SUM(F18:F32) -> 67925 | G33: =D33-F33+E33 -> 9509.5
A36: Prepare By | D36: Checked By | G36: Customer
A39: Lwin Lwin Aung | D39: Thet Hnin Aye | G39: IRRAWADDY FISHERIES DEVELOPMENT
A40: Finance AR Staff | D40: Finance And Account DH

Sheet IRRAWADDY FISHERIES DEVELOPMENT
F2: =TODAY() -> 45419 | G2: -1
D4: Summary | F4: USD
A5: Customer Statement | C5: စာခ်ဴပ္ပါအေရာင္းတန္ဘိုး | D5: Contacted Amt | F5: 67925
A6: Customer | B6: IRRAWADDY FISHERIES DEVELOPMENT CO.,LTD | C6: ရက္လြန္ဒဏ္ေၾကး | D6: Fine to Date | F6: =E33 -> 8830.25
A7: Contact Person | B7: Khin Htay Lin,Daw | C7: စုစုေပါင္းရရန္ွရွိ | D7: Total AR | F7: =SUM(F5:F6) -> 76755.25
A8: Sale Man | B8: Min Zin | C8: လက္ရွိေပးသြင္းျပီးေငြ | D8: Payment to Date | F8: =F33 -> 67925
A9: Contract No: | B9: HS 146/2019 | C9: စုစုေပါင္းေပးရန္တာ၀န္ | D9: Total Payable | F9: =+F7-F8 -> 8830.25
A10: Interest Rate | B10: 0.05 | C10: အျမန္ဆံုးေပးသြင္းရမည့္ေငြ | D10: Overdue | F10: =F5-F8 -> 0 | G10: (Pls pay immediately)
A11: CIF | C11: အျမန္ဆံုးေပးသြင္းရမည့္ေငြ | D11: Fine | F11: =F6 -> 8830.25 | G11: (Pls pay immediately)
B12: WW-UNT-SI-19020058 | C12: ထပ္မံေပးရန္က်န္ရွိေငြ | D12: Future Due
A13: Model | B13: VP-700/1804014/630KVA
A16: Date | B16: Particular | C16: Installment Plan | D16: Due | E16: Fine | F16: Paid | G16: Bal:
A18: 43518 | B18: 1st lot of 1 Unit Total Sales Amt (USD-67925-@ 1U) | D18: 67925 | G18: =D18 -> 67925
G19: =G18+D19-F19 -> 67925
B20: 20% Upon Contract | C20: 13585 | G20: =G19+D20-F20+E20 -> 67925
A21: 43518 | B21: WW-RV-19020193 | F21: 13585 | G21: =G20+D21-F21+E21 -> 54340
A22: 43699 | B22: 6 Month after delivery | C22: 13585 | G22: =G21+D22-F22+E22 -> 54340
A23: 43728 | B23: WW-RV-19090265 | F23: 13585 | G23: =G22+D23-F23+E23 -> 40755
A24: 43883 | B24: 12 Month after delivery | C24: 13585 | G24: =G23+D24-F24+E24 -> 40755
A25: 2020-02-25 | B25: WW-RV-20020160 | F25: 6224.61 | G25: =G24+D25-F25+E25 -> 34530.39
A26: 43885 | B26: WW-RV-20020157 | F26: 7360.39 | G26: =G25+D26-F26+E26 -> 27170
A27: 44065 | B27: 18 Month after delivery | C27: 13585 | G27: =G26+D27-F27+E27 -> 27170
A28: 44123 | B28: WW-RV-20100075 | F28: 13585 | G28: =G27+D28-F28+E28 -> 13585
A29: 44249 | B29: 24 Month after delivery | C29: 13585 | G29: =G28+D29-F29+E29 -> 13585
B30: 5% fine for 1 year & 1 month | E30: =C29*5%*13 -> 8830.25 | G30: =G29+D30-F30+E30 -> 22415.25
A31: 44659 | B31: HQT-RV-2022-04-0327/WW-RV-22040181 | F31: 13585 | G31: =G30+D31-F31+E31 -> 8830.25
G32: =G31+D32-F32+E32 -> 8830.25
C33: =SUM(C18:C32) -> 67925 | D33: =SUM(D18:D32) -> 67925 | E33: =SUM(E18:E32) -> 8830.25 | F33: =SUM(F18:F32) -> 67925 | G33: =D33-F33+E33 -> 8830.25
A37: Prepare By | D37: Checked By | G37: Customer
A40: Lwin Lwin Aung | D40: Thet Hnin Aye | G40: IRRAWADDY FISHERIES DEVELOPMENT

Sheet IRRAWADDY FISHERIES3
D1: Summary | F1: USD
A2: Customer Statement | C2: စာခ်ဴပ္ပါအေရာင္းတန္ဘိုး | D2: Contacted Amt | F2: 28000
A3: Customer | B3: IRRAWADDY FISHERIES DEVELOPMENT CO.,LTD | C3: ရက္လြန္ဒဏ္ေၾကး | D3: Fine to Date | F3: =E30 -> 8680
A4: Contact Person | B4: Khin Htay Lin,Daw | C4: စုစုေပါင္းရရန္ွရွိ | D4: Total AR | F4: =SUM(F2:F3) -> 36680
A5: Sale Man | B5: Min Zin | C5: လက္ရွိေပးသြင္းျပီးေငြ | D5: Payment to Date | F5: =F30 -> 28000
A6: Contract No: | B6: HS 299 / 2019 | C6: စုစုေပါင္းေပးရန္တာ၀န္ | D6: Total Payable | F6: =+F4-F5 -> 8680
A7: Fine | B7: 0.05 | C7: အျမန္ဆံုးေပးသြင္းရမည့္ေငြ | D7: Overdue | F7: =F2-F5 -> 0
A8: CIF | C8: အျမန္ဆံုးေပးသြင္းရမည့္ေငြ | D8: Fine | F8: =E30 -> 8680
B9: WW-UNT-SI-19040024 | C9: ထပ္မံေပးရန္က်န္ရွိေငြ | D9: Future Due
A10: Model | B10: MC-220BS/ 1801079 /200KVA
A11: Address | B11: NO.(130), 3RD FLOOR, YUZANA CENTER, SHWE GONE DINE ROAD, BAHAN TOWNSHIP, YANGON DIVISION Tel: 09-790136213
A12: Date | B12: Particular | C12: Installment Plan | D12: Due | E12: Fine | F12: Paid | G12: Bal:
A14: 43561 | B14: 1st lot of 1 Unit Total Sales Amt (USD- 28,000.00 -@ 1U) | D14: 28000 | G14: =D14 -> 28000
G15: =G14+D15-F15+E15 -> 28000
B16: 20% Upon Contract | C16: 5600 | G16: =G15+D16-F16+E16 -> 28000
A17: 43563 | B17: WW-RV-19040047 | F17: 5600 | G17: =G16+D17-F17+E17 -> 22400
A18: 43744 | B18: 6 Month after delivery | C18: 5600 | G18: =G17+D18-F18+E18 -> 22400
G19: =G18+D19-F19+E19 -> 22400
A20: 43791 | B20: WW-RV-19110191 | F20: 5600 | G20: =G19+D20-F20+E20 -> 16800
A21: 43927 | B21: 12 Month after delivery | C21: 5600 | G21: =G20+D21-F21+E21 -> 16800
A22: 44004 | B22: WW-RV-20060269 | F22: 5600 | G22: =G21+D22-F22+E22 -> 11200
A23: 44110 | B23: 18 Month after delivery | C23: 5600 | G23: =G22+D23-F23+E23 -> 11200
B24: 5% FINE FOR 1 year & 6 months | E24: =C23*5%*18 -> 5040 | G24: =G23+D24-F24+E24 -> 16240
A25: 44462 | B25: WW-RV-21090189 | F25: 5600 | G25: =G24+D25-F25+E25 -> 10640
A26: 44292 | B26: 24 Month after delivery | C26: 5600 | G26: =G25+D26-F26+E26 -> 10640
B27: 5% fine for 1 year & 1 Month | E27: =C26*5%*13 -> 3640 | G27: =G26+D27-F27+E27 -> 14280
A28: 44692 | B28: HQT-RV-2022-05-0349/WW-RV-22050222/1850 Rate | F28: 5600 | G28: =G27+D28-F28+E28 -> 8680 | H28: =DATEDIF(A28,TODAY(),"Y")& "Year" &DATEDIF(A28, TODAY(),"YM") & "Month" & DATEDIF(A28,TODAY(),"MD") & "Days" -> 1Year11Month26Days
B29: 5% fine for 10 month | E29: =(C26-F28)*5%*10 -> 0 | G29: =G28+D29-F29+E29 -> 8680
C30: =SUM(C14:C29) -> 28000 | D30: =SUM(D14:D29) -> 28000 | E30: =SUM(E14:E29) -> 8680 | F30: =SUM(F14:F29) -> 28000 | G30: =D30-F30+E30 -> 8680

Sheet IRRAWADDY FISHERIES4
D3: Summary | F3: USD
A4: Customer Statement | C4: စာခ်ဴပ္ပါအေရာင္းတန္ဘိုး | D4: Contacted Amt | F4: 67925
A5: Customer | B5: IRRAWADDY FISHERIES DEVELOPMENT CO.,LTD | C5: ရက္လြန္ဒဏ္ေၾကး | D5: Fine to Date | F5: =E32 -> 16981.25
A6: Contact Person | B6: Khin Htay Lin,Daw | C6: စုစုေပါင္းရရန္ွရွိ | D6: Total AR | F6: =SUM(F4:F5) -> 84906.25
A7: Sale Man | B7: Min Zin | C7: လက္ရွိေပးသြင္းျပီးေငြ | D7: Payment to Date | F7: =F32 -> 67925
A8: Contract No: | B8: HS 298 / 2019 | C8: စုစုေပါင္းေပးရန္တာ၀န္ | D8: Total Payable | F8: =+F6-F7 -> 16981.25
A9: Fine | B9: 0.05 | C9: အျမန္ဆံုးေပးသြင္းရမည့္ေငြ | D9: Overdue | F9: =F4-F7 -> 0
A10: CIF | B10: Yes | C10: အျမန္ဆံုးေပးသြင္းရမည့္ေငြ | D10: Fine | F10: =E32 -> 16981.25
B11: WW-UNT-SI-19040027 | C11: ထပ္မံေပးရန္က်န္ရွိေငြ | D11: Future Due
A12: Model | B12: VP-700/ 1804012 /630KVA
A14: Address | B14: NO.(130), 3RD FLOOR, YUZANA CENTER, SHWE GONE DINE ROAD, BAHAN TOWNSHIP, YANGON DIVISION Tel: 09-790136213
A15: Date | B15: Particular | C15: Installment Plan | D15: Due | E15: Fine | F15: Paid | G15: Bal:
A17: 43561 | B17: 1st lot of 1 Unit Total Sales Amt (USD 67,925.00 -@ 1U) | D17: 67925 | G17: =D17 -> 67925
G18: =G17+D18-F18+E18 -> 67925
B19: 20% Upon Contract | C19: 13585 | G19: =G18+D19-F19+E19 -> 67925
A20: 43563 | B20: WW-RV-19040049 | F20: 13585 | G20: =G19+D20-F20+E20 -> 54340
A21: 43744 | B21: 6 Month after delivery | C21: 13585 | G21: =G20+D21-F21+E21 -> 54340
A22: 43791 | B22: WW-RV-19110192 | F22: 13585 | G22: =G21+D22-F22+E22 -> 40755
A23: 43927 | B23: 12 Month after delivery | C23: 13585 | G23: =G22+D23-F23+E23 -> 40755
A24: 44004 | B24: WW-RV-20060270 | F24: 13585 | G24: =G23+D24-F24+E24 -> 27170
A25: 44110 | B25: 18 Month after delivery | C25: 13585 | G25: =G24+D25-F25+E25 -> 27170
B26: 5% FINE FOR 1 year | E26: =C25*5%*12 -> 8151 | G26: =G25+D26-F26+E26 -> 35321
A27: 44462 | B27: WW-RV-21090188 | F27: 13585 | G27: =G26+D27-F27+E27 -> 21736
A28: 44292 | B28: 24 Month after delivery | C28: 13585 | G28: =G27+D28-F28+E28 -> 21736 | H28: =DATEDIF(A28,TODAY(),"Y")& "Year" &DATEDIF(A28, TODAY(),"YM") & "Month" & DATEDIF(A28,TODAY(),"MD") & "Days" -> 3Year1Month1Days
B29: 5% fine for 1 year & 1 Month | E29: =C25*5%*13 -> 8830.25 | G29: =G28+D29-F29+E29 -> 30566.25
A30: 44692 | B30: HQT-RV-2022-05-0349/WW-RV-22050223/1850 Rate | F30: 13585 | G30: =G29+D30-F30+E30 -> 16981.25 | H30: =DATEDIF(A30,TODAY(),"Y")& "Year" &DATEDIF(A30, TODAY(),"YM") & "Month" & DATEDIF(A30,TODAY(),"MD") & "Days" -> 1Year11Month26Days
G31: =G30+D31-F31+E31 -> 16981.25
C32: =SUM(C17:C31) -> 67925 | D32: =SUM(D17:D31) -> 67925 | E32: =SUM(E17:E31) -> 16981.25 | F32: =SUM(F17:F31) -> 67925 | G32: =D32-F32+E32 -> 16981.25
