Workbook

Sheet Working
A2: Matador Order Demand to Power Up
A3: No | B3: Brand | C3: Segment | D3: Description | E3: Pack Size | I3: Part No | J3: Unit Code | K3: Closing Balance Qty 11-11-2023 and All Branch Clasing of 11-11-23 | L3: At the Port (Qty) | M3: On The Way (Qty) | N3: Waiting Shipment (Qty) | O3: Ko Aung Ko Latt (All Branch) | P3: Ko Pyae Phyo Oo | Q3: Ko Thaw Zin | R3: Aug'19 | S3: Sep'19 | T3: Oct'19 | U3: Nov'19 | V3: Dec'19 | W3: Jan'2020 | X3: Feb'2020 | Y3: Mar'2020 | Z3: Apr'2020 | AA3: May'20 | AB3: Jun'20 | AC3: Jul'20 | AD3: Aug'20 | AE3: Sep'20 | AF3: Oct'20 | AG3: Nov'20 | AH3: Dec'20 | AI3: Jan'21 | AJ3: Feb'21 | AK3: Mar'21 | AL3: Apr'21 | AM3: May'21 | AN3: Jun'21 | AO3: Jul'21 | AP3: Aug'21 | AQ3: Sep'21 | AR3: Oct'21 | AS3: Nov'21 | AT3: Dec'21 | AU3: Jan'22 | AV3: Feb'22 | AW3: Mar'22 | AX3: Apr'22 | AY3: May'22 | AZ3: Jun'22 | BA3: Jul'22 | BB3: Aug'22 | BC3: Sep'22 | BD3: Oct'22 | BE3: Nov'22 | BF3: Dec'22 | BG3: Jan'23 | BH3: Feb'23 | BI3: Mar'23 | BJ3: Apr'23 | BK3: May'23 | BL3: Jun'23 | BM3: Jul'23 | BN3: Aug'23 | BO3: Sep'23 | BP3: Oct'23 | BQ3: 3 month Sale Q'ty | BR3: Stock Condition | BS3: Est order Q'ty | BT3: Final Order Q'ty | BU3: Inventory Moving
BV4: PO 058 | BW4: PO 059
A5: 1 | B5: Matador | C5: Cycle Oil | D5: 4T 20W-50 SG (Competitive Grade) | E5: 24 | F5: x | G5: 1 | H5: L | I5: adv 1001 | J5: Bottle | K5: 161 | O5: =250*24 -> 6000 | Q5: =60*24 -> 1440 | R5: 575 | S5: 418 | T5: 261 | U5: 1412 | V5: 2701 | W5: 2295 | X5: 490 | Y5: 342 | Z5: 289 | AA5: 880 | AB5: 1181 | AC5: 1243 | AD5: 1357 | AE5: 2070 | AF5: 1360 | AG5: 2430 | AH5: 1179 | AI5: 1447 | AJ5: 1052 | AK5: 1142 | AL5: 905 | AM5: 1674 | AN5: 864 | AO5: 398 | AP5: 657 | AQ5: 1589 | AR5: 894 | AS5: 1531 | AT5: 1985 | AU5: 1226 | AV5: 1236 | AW5: 2285 | AX5: 614 | AY5: 1215 | AZ5: 1353 | BA5: 1356 | BB5: 1169 | BC5: 648 | BD5: 1468 | BE5: 677 | BF5: 1096 | BG5: 877 | BH5: 946 | BI5: 198 | BJ5: 101 | BK5: 828 | BL5: 2400 | BM5: 2159 | BN5: 1290 | BO5: 241 | BP5: 170 | BQ5: =BN5+BO5+BP5 -> 1701 | BR5: =(K5+M5+N5+L5)-(O5+P5+Q5+BQ5) -> -8980 | BS5: =BR5-(BQ5*4) -> -15784 | BT5: =400*24 -> 9600 | BU5: FM | BV5: 9600
A6: 2 | B6: Matador | C6: Cycle Oil | D6: 4T 20W-50 SG | E6: 12 | F6: x | G6: 1.5 | H6: L | J6: Bottle | K6: 0 | R6: 0 | S6: 0 | T6: 0 | U6: 0 | V6: 0 | W6: 0 | X6: 0 | Y6: 0 | Z6: 0 | AA6: 0 | AB6: 0 | AC6: 0 | AD6: 0 | AE6: 0 | AF6: 0 | AG6: 0 | AH6: 0 | AI6: 0 | AJ6: 0 | AK6: 0 | AL6: 0 | AM6: 0 | AN6: 0 | AO6: 0 | AP6: 0 | AQ6: 0 | AR6: 0 | AS6: 0 | AT6: 0 | AU6: 0 | AV6: 0 | AW6: 0 | AX6: 0 | AY6: 0 | AZ6: 0 | BA6: 0 | BB6: 0 | BC6: 0 | BD6: 0 | BE6: 0 | BF6: 0 | BG6: 0 | BH6: 0 | BI6: 0 | BJ6: 0 | BK6: 0 | BL6: 0 | BM6: 0 | BN6: 0 | BO6: 0 | BP6: 0 | BQ6: =BN6+BO6+BP6 -> 0 | BR6: =(K6+M6+N6+L6)-(O6+P6+Q6+BQ6) -> 0 | BS6: =BR6-(BQ6*3) -> 0 | BT6: 0
A7: 3 | B7: Matador | C7: Cycle Oil | D7: 4T Scooter Engine Oil 10W30 Semi SL JASO MB(12*0.8L) | E7: 12 | F7: x | G7: 0.8 | H7: L | I7: adv 1216 | J7: Bottle | K7: 181 | N7: =120*12 -> 1440 | R7: 0 | S7: 0 | T7: 0 | U7: 0 | V7: 0 | W7: 0 | X7: 0 | Y7: 0 | Z7: 0 | AA7: 0 | AB7: 0 | AC7: 0 | AD7: 0 | AE7: 0 | AF7: 0 | AG7: 0 | AH7: 0 | AI7: 0 | AJ7: 0 | AK7: 0 | AL7: 12 | AM7: 0 | AN7: 1 | AO7: 0 | AP7: 0 | AQ7: 83 | AR7: 116 | AS7: 229 | AT7: 55 | AU7: 0 | AV7: 1 | AW7: 82 | AX7: 13 | AY7: 0 | AZ7: 0 | BA7: 276 | BB7: 722 | BC7: 648 | BD7: 228 | BE7: 229 | BF7: 455 | BG7: 356 | BH7: 564 | BI7: 430 | BJ7: 324 | BK7: 456 | BL7: 769 | BM7: 864 | BN7: 605 | BO7: 1485 | BP7: 618 | BQ7: =BN7+BO7+BP7 -> 2708 | BR7: =(K7+M7+N7+L7)-(O7+P7+Q7+BQ7) -> -1087 | BS7: =BR7-(BQ7*3) -> -9211 | BT7: =12*600 -> 7200 | BU7: FM
A8: 4 | B8: Matador | C8: Cycle Oil | D8: SCOOTER GEAR OIL 80W90 GL5 | E8: 48 | F8: x | G8: 0.12 | H8: L | I8: adv 1217 | J8: Bottle | K8: 1532 | R8: 0 | S8: 0 | T8: 0 | U8: 0 | V8: 0 | W8: 0 | X8: 0 | Y8: 0 | Z8: 0 | AA8: 0 | AB8: 0 | AC8: 0 | AD8: 0 | AE8: 0 | AF8: 0 | AG8: 0 | AH8: 0 | AI8: 0 | AJ8: 0 | AK8: 0 | AL8: 0 | AM8: 0 | AN8: 0 | AO8: 0 | AP8: 0 | AQ8: 0 | AR8: 0 | AS8: 0 | AT8: 0 | AU8: 0 | AV8: 0 | AW8: 0 | AX8: 0 | AY8: 0 | AZ8: 0 | BA8: 216 | BB8: 566 | BC8: 600 | BD8: 220 | BE8: 186 | BF8: 328 | BG8: 359 | BH8: 414 | BI8: 460 | BJ8: 672 | BK8: 569 | BL8: 613 | BM8: 1026 | BN8: 432 | BO8: 1137 | BP8: 702 | BQ8: =BN8+BO8+BP8 -> 2271 | BR8: =(K8+M8+N8+L8)-(O8+P8+Q8+BQ8) -> -739 | BS8: =BR8-(BQ8*3) -> -7552 | BT8: =208*48 -> 9984 | BU8: FM
A9: 5 | B9: Matador | C9: Car Oil | D9: Premium 10W-40 Semi Mas Additive 4L | E9: 4 | F9: x | G9: 4 | H9: L | I9: adv 1002 | J9: Bottle | K9: 2821 | N9: =600*4 -> 2400 | O9: 800 | Q9: 400 | R9: 54 | S9: 34 | T9: 41 | U9: 16 | V9: 188 | W9: 144 | X9: 70 | Y9: 85 | Z9: 52 | AA9: 63 | AB9: 60 | AC9: 35 | AD9: 27 | AE9: 64 | AF9: 20 | AG9: 114 | AH9: 75 | AI9: 46 | AJ9: 64 | AK9: 99 | AL9: 48 | AM9: 14 | AN9: 16 | AO9: 12 | AP9: 32 | AQ9: 88 | AR9: 240 | AS9: 107 | AT9: 206 | AU9: 358 | AV9: 231 | AW9: 323 | AX9: 73 | AY9: 76 | AZ9: 16 | BA9: 718 | BB9: 324 | BC9: 145 | BD9: 25 | BE9: 706 | BF9: 436 | BG9: 565 | BH9: 382 | BI9: 365 | BJ9: 433 | BK9: 604 | BL9: 1144 | BM9: 531 | BN9: 405 | BO9: 585 | BP9: 418 | BQ9: =BN9+BO9+BP9 -> 1408 | BR9: =(K9+M9+N9+L9)-(O9+P9+Q9+BQ9) -> 2613 | BS9: =BR9-(BQ9*4) -> -3019 | BT9: =750*4 -> 3000 | BU9: FM
A10: 6 | B10: Matador | C10: Car Oil | D10: Premium 10W-40 Semi Mas Additive 1L | E10: 24 | F10: x | G10: 1 | H10: L | I10: adv 1003 | J10: Bottle | K10: 739 | N10: =30*24 -> 720 | O10: =30*24 -> 720 | R10: 22 | S10: 22 | T10: 22 | U10: 0 | V10: 18 | W10: 27 | X10: 24 | Y10: 24 | Z10: 0 | AA10: 0 | AB10: 35 | AC10: 11 | AD10: 7 | AE10: 0 | AF10: 23 | AG10: 5 | AH10: 7 | AI10: 12 | AJ10: 0 | AK10: 0 | AL10: 8 | AM10: 80 | AN10: 2 | AO10: 12 | AP10: 35 | AQ10: 1 | AR10: 176 | AS10: 53 | AT10: 64 | AU10: 76 | AV10: 40 | AW10: 353 | AX10: 7 | AY10: 38 | AZ10: 8 | BA10: 417 | BB10: 84 | BC10: 48 | BD10: 88 | BE10: 132 | BF10: 6 | BG10: 72 | BH10: 24 | BI10: 61 | BJ10: 147 | BK10: 728 | BL10: 350 | BM10: 213 | BN10: 115 | BO10: 576 | BP10: 135 | BQ10: =BN10+BO10+BP10 -> 826 | BR10: =(K10+M10+N10+L10)-(O10+P10+Q10+BQ10) -> -87 | BS10: =BR10-(BQ10*4) -> -3391 | BT10: =100*24 -> 2400 | BU10: FM
A11: 7 | B11: Matador | C11: Car Oil | D11: Premium 15W40, CI-4/SL Mas Additive | E11: 24 | F11: x | G11: 1 | H11: L | I11: adv 1013 | J11: Bottle | K11: 368 | O11: =10*24 -> 240 | Q11: =10*24 -> 240 | R11: 0 | S11: 0 | T11: 0 | U11: 0 | V11: 0 | W11: 48 | X11: 12 | Y11: 31 | Z11: 50 | AA11: 130 | AB11: 7 | AC11: 29 | AD11: 41 | AE11: 0 | AF11: 10 | AG11: 4 | AH11: 1 | AI11: 14 | AJ11: 24 | AK11: 10 | AL11: 0 | AM11: 256 | AN11: 49 | AO11: 10 | AP11: 42 | AQ11: 32 | AR11: 16 | AS11: 45 | AT11: 25 | AU11: 65 | AV11: 2 | AW11: 42 | AX11: 247 | AY11: 26 | AZ11: 105 | BA11: 43 | BB11: 70 | BC11: 10 | BD11: 18 | BE11: 80 | BF11: 32 | BG11: 49 | BH11: 44 | BI11: 48 | BJ11: 0 | BK11: 99 | BL11: 70 | BM11: 127 | BN11: 85 | BO11: 17 | BP11: 15 | BQ11: =BN11+BO11+BP11 -> 117 | BR11: =(K11+M11+N11+L11)-(O11+P11+Q11+BQ11) -> -229 | BS11: =BR11-(BQ11*3) -> -580 | BT11: =50*24 -> 1200 | BU11: FM | BV11: 1200
A12: 8 | B12: Matador | C12: Car Oil | D12: Premium 15W40, CI-4/SL Mas Additive | E12: 4 | F12: x | G12: 5 | H12: L | I12: adv 1004 | J12: Bottle | K12: 217 | N12: =150*4 -> 600 | O12: =50*4 -> 200 | Q12: =30*4 -> 120 | R12: 32 | S12: 44 | T12: 26 | U12: 16 | V12: 123 | W12: 106 | X12: 63 | Y12: 69 | Z12: 21 | AA12: 96 | AB12: 34 | AC12: 61 | AD12: 52 | AE12: 35 | AF12: 21 | AG12: 26 | AH12: 7 | AI12: 24 | AJ12: 29 | AK12: 10 | AL12: 34 | AM12: 74 | AN12: 55 | AO12: 49 | AP12: 27 | AQ12: 52 | AR12: 48 | AS12: 58 | AT12: 99 | AU12: 106 | AV12: 76 | AW12: 147 | AX12: 162 | AY12: 144 | AZ12: 133 | BA12: 191 | BB12: 127 | BC12: 40 | BD12: 40 | BE12: 17 | BF12: 22 | BG12: 8 | BH12: 24 | BI12: 10 | BJ12: 0 | BK12: 49 | BL12: 78 | BM12: 150 | BN12: 240 | BO12: 127 | BP12: 147 | BQ12: =BN12+BO12+BP12 -> 514 | BR12: =(K12+M12+N12+L12)-(O12+P12+Q12+BQ12) -> -17 | BS12: =BR12-(BQ12*4) -> -2073 | BT12: =150*4 -> 600 | BU12: FM | BV12: 600
A13: 9 | B13: Matador | C13: Car Oil | D13: Premium 20W50, CI-4/SL Mas Additive | E13: 24 | F13: x | G13: 1 | H13: L | I13: adv 1014 | J13: Bottle | K13: 96 | O13: =10*24 -> 240 | R13: 0 | S13: 0 | T13: 0 | U13: 0 | V13: 0 | W13: 0 | X13: 0 | Y13: 0 | Z13: 0 | AA13: 0 | AB13: 0 | AC13: 0 | AD13: 0 | AE13: 0 | AF13: 0 | AG13: 0 | AH13: 0 | AI13: 0 | AJ13: 0 | AK13: 0 | AL13: 0 | AM13: 0 | AN13: 0 | AO13: 0 | AP13: 0 | AQ13: 0 | AR13: 0 | AS13: 0 | AT13: 0 | AU13: 0 | AV13: 0 | AW13: 0 | AX13: 0 | AY13: 0 | AZ13: 0 | BA13: 0 | BB13: 24 | BC13: 48 | BD13: 0 | BE13: 0 | BF13: 72 | BG13: 0 | BH13: 0 | BI13: 0 | BJ13: 0 | BK13: 0 | BL13: 0 | BM13: 0 | BN13: 0 | BO13: 0 | BP13: 0 | BQ13: =BN13+BO13+BP13 -> 0 | BR13: =(K13+M13+N13+L13)-(O13+P13+Q13+BQ13) -> -144 | BS13: =BR13-(BQ13*3) -> -144 | BT13: 0 | BU13: SM
A14: 10 | B14: Matador | C14: Car Oil | D14: Premium 20W50, CI-4/SL Mas Additive | E14: 4 | F14: x | G14: 5 | H14: L | I14: adv 1005 | J14: Bottle | K14: 18 | R14: 8 | S14: 0 | T14: 0 | U14: 0 | V14: 4 | W14: 4 | X14: 2 | Y14: 6 | Z14: 0 | AA14: 0 | AB14: 8 | AC14: 1 | AD14: 5 | AE14: 2 | AF14: 4 | AG14: 6 | AH14: 1 | AI14: 2 | AJ14: 1 | AK14: 0 | AL14: 4 | AM14: 2 | AN14: 0 | AO14: 0 | AP14: 0 | AQ14: 8 | AR14: 0 | AS14: 1 | AT14: 3 | AU14: 4 | AV14: 6 | AW14: 19 | AX14: 4 | AY14: 139 | AZ14: 83 | BA14: 0 | BB14: 0 | BC14: 0 | BD14: 24 | BE14: 0 | BF14: 0 | BG14: 6 | BH14: 0 | BI14: 0 | BJ14: 16 | BK14: 5 | BL14: 0 | BM14: 0 | BN14: 0 | BO14: 0 | BP14: 13 | BQ14: =BN14+BO14+BP14 -> 13 | BR14: =(K14+M14+N14+L14)-(O14+P14+Q14+BQ14) -> 5 | BS14: =BR14-(BQ14*3) -> -34 | BT14: 0 | BU14: SM
A15: 11 | B15: Matador | C15: Car Oil | D15: Maxlife Dex/Merc AFT 3/1 GA | F15: x | G15: 4 | H15: L | J15: Bottle | K15: 0 | R15: 0 | S15: 0 | T15: 0 | U15: 0 | V15: 0 | W15: 0 | X15: 0 | Y15: 0 | Z15: 0 | AA15: 0 | AB15: 0 | AC15: 0 | AD15: 0 | AE15: 0 | AF15: 0 | AG15: 0 | AH15: 0 | AI15: 0 | AJ15: 0 | AK15: 0 | AL15: 0 | AM15: 0 | AN15: 0 | AO15: 0 | AP15: 0 | AQ15: 0 | AR15: 0 | AS15: 0 | AT15: 0 | AU15: 0 | AV15: 0 | AW15: 0 | AX15: 0 | AY15: 0 | AZ15: 0 | BA15: 0 | BB15: 0 | BC15: 0 | BD15: 0 | BE15: 0 | BF15: 0 | BG15: 0 | BH15: 0 | BI15: 0 | BJ15: 0 | BK15: 0 | BL15: 0 | BM15: 0 | BN15: 0 | BO15: 0 | BP15: 0 | BQ15: =BN15+BO15+BP15 -> 0 | BR15: =(K15+M15+N15+L15)-(O15+P15+Q15+BQ15) -> 0 | BS15: =BR15-(BQ15*3) -> 0 | BT15: 0
A16: 12 | B16: Matador | C16: Car Oil | D16: Prumium 5W-40 Fully Mas Additive 4L | E16: 4 | F16: x | G16: 4 | H16: L | I16: adv 1006 | J16: Bottle | K16: 90 | R16: 0 | S16: 0 | T16: 0 | U16: 0 | V16: 1 | W16: 0 | X16: 0 | Y16: 0 | Z16: 0 | AA16: 0 | AB16: 0 | AC16: 0 | AD16: 0 | AE16: 0 | AF16: 0 | AG16: 0 | AH16: 0 | AI16: 0 | AJ16: 0 | AK16: 0 | AL16: 0 | AM16: 0 | AN16: 0 | AO16: 0 | AP16: 0 | AQ16: 0 | AR16: 14 | AS16: 0 | AT16: 0 | AU16: 3 | AV16: 10 | AW16: 16 | AX16: 45 | AY16: 27 | AZ16: 29 | BA16: 16 | BB16: 4 | BC16: 4 | BD16: 0 | BE16: 1 | BF16: 0 | BG16: 0 | BH16: 0 | BI16: 0 | BJ16: 0 | BK16: 0 | BL16: 4 | BM16: 4 | BN16: 0 | BO16: 13 | BP16: 24 | BQ16: =BN16+BO16+BP16 -> 37 | BR16: =(K16+M16+N16+L16)-(O16+P16+Q16+BQ16) -> 53 | BS16: =BR16-(BQ16*3) -> -58 | BT16: 0 | BU16: SM
A17: 13 | B17: Matador | C17: Car Oil | D17: Prumium 5W-40 Fully Mas Additive 1L | E17: 24 | F17: x | G17: 1 | H17: L | I17: adv 1015 | J17: Bottle | K17: 168 | R17: 0 | S17: 0 | T17: 0 | U17: 0 | V17: 0 | W17: 0 | X17: 0 | Y17: 0 | Z17: 0 | AA17: 0 | AB17: 0 | AC17: 0 | AD17: 0 | AE17: 0 | AF17: 0 | AG17: 0 | AH17: 0 | AI17: 0 | AJ17: 0 | AK17: 0 | AL17: 0 | AM17: 0 | AN17: 0 | AO17: 0 | AP17: 0 | AQ17: 0 | AR17: 22 | AS17: 1 | AT17: 0 | AU17: 0 | AV17: 3 | AW17: 10 | AX17: 2 | AY17: 73 | AZ17: 94 | BA17: 35 | BB17: 6 | BC17: 26 | BD17: 16 | BE17: 1 | BF17: 3 | BG17: 0 | BH17: 0 | BI17: 0 | BJ17: 12 | BK17: 0 | BL17: 5 | BM17: 3 | BN17: 0 | BO17: 0 | BP17: 0 | BQ17: =BN17+BO17+BP17 -> 0 | BR17: =(K17+M17+N17+L17)-(O17+P17+Q17+BQ17) -> 168 | BS17: =BR17-(BQ17*3) -> 168 | BT17: 0 | BU17: SM
A18: 14 | B18: Matador | C18: Car Oil | D18: Prumium 5W-30 Fully Mas Additive 4L | E18: 4 | F18: x | G18: 4 | H18: L | I18: adv 1007 | J18: Bottle | K18: 135 | R18: 0 | S18: 0 | T18: 0 | U18: 4 | V18: 0 | W18: 0 | X18: 0 | Y18: 0 | Z18: 0 | AA18: 4 | AB18: 2 | AC18: 0 | AD18: 0 | AE18: 0 | AF18: 2 | AG18: 0 | AH18: 0 | AI18: 0 | AJ18: 0 | AK18: 0 | AL18: 0 | AM18: 0 | AN18: 4 | AO18: 0 | AP18: 0 | AQ18: 1 | AR18: 14 | AS18: 1 | AT18: 3 | AU18: 8 | AV18: 15 | AW18: 13 | AX18: 12 | AY18: 32 | AZ18: 25 | BA18: 8 | BB18: 2 | BC18: 2 | BD18: 1 | BE18: 0 | BF18: 0 | BG18: 0 | BH18: 0 | BI18: 3 | BJ18: 0 | BK18: 16 | BL18: 18 | BM18: 3 | BN18: 0 | BO18: 4 | BP18: 14 | BQ18: =BN18+BO18+BP18 -> 18 | BR18: =(K18+M18+N18+L18)-(O18+P18+Q18+BQ18) -> 117 | BS18: =BR18-(BQ18*3) -> 63 | BT18: 0 | BU18: SM
A19: 15 | B19: Matador | C19: Car Oil | D19: Prumium 5W-30 Fully Mas Additive 1L | E19: 24 | F19: x | G19: 1 | H19: L | I19: adv 1016 | J19: Bottle | K19: 74 | R19: 0 | S19: 0 | T19: 0 | U19: 0 | V19: 0 | W19: 0 | X19: 0 | Y19: 0 | Z19: 0 | AA19: 0 | AB19: 0 | AC19: 0 | AD19: 0 | AE19: 0 | AF19: 0 | AG19: 0 | AH19: 0 | AI19: 0 | AJ19: 0 | AK19: 0 | AL19: 0 | AM19: 0 | AN19: 0 | AO19: 0 | AP19: 0 | AQ19: 0 | AR19: 22 | AS19: 0 | AT19: 0 | AU19: 6 | AV19: 0 | AW19: 6 | AX19: 12 | AY19: 27 | AZ19: 202 | BA19: 19 | BB19: 8 | BC19: 2 | BD19: 42 | BE19: 12 | BF19: 0 | BG19: 0 | BH19: 0 | BI19: 0 | BJ19: 15 | BK19: 0 | BL19: 9 | BM19: 0 | BN19: 0 | BO19: 0 | BP19: 0 | BQ19: =BN19+BO19+BP19 -> 0 | BR19: =(K19+M19+N19+L19)-(O19+P19+Q19+BQ19) -> 74 | BS19: =BR19-(BQ19*3) -> 74 | BT19: 0 | BU19: SM
A20: 16 | B20: Matador | C20: Gear Oil | D20: GL4 80W90 1L | E20: 24 | F20: x | G20: 1 | H20: L | I20: adv 1008 | J20: Bottle | K20: 2 | O20: =30*24 -> 720 | R20: 2 | S20: 90 | T20: 338 | U20: 5 | V20: 0 | W20: 30 | X20: 19 | Y20: 83 | Z20: 74 | AA20: 96 | AB20: 80 | AC20: 74 | AD20: 40 | AE20: 93 | AF20: 47 | AG20: 56 | AH20: 56 | AI20: 16 | AJ20: 51 | AK20: 7 | AL20: 27 | AM20: 21 | AN20: 26 | AO20: 0 | AP20: 0 | AQ20: 31 | AR20: 14 | AS20: 50 | AT20: 51 | AU20: 58 | AV20: 37 | AW20: 40 | AX20: 10 | AY20: 14 | AZ20: 1 | BA20: 1 | BB20: 0 | BC20: 0 | BD20: 5 | BE20: 0 | BF20: 0 | BG20: 0 | BH20: 0 | BI20: 19 | BJ20: 12 | BK20: 1 | BL20: 20 | BM20: 0 | BN20: 0 | BO20: 0 | BP20: 0 | BQ20: =BN20+BO20+BP20 -> 0 | BR20: =(K20+M20+N20+L20)-(O20+P20+Q20+BQ20) -> -718 | BS20: =BR20-(BQ20*4) -> -718 | BT20: 0 | BU20: SM
A21: 17 | B21: Matador | C21: Grease | D21: Chessis Grease 1.5Kg | E21: 12 | F21: x | G21: 1.5 | H21: L | J21: Bottle | K21: 0 | R21: 0 | S21: 0 | T21: 0 | U21: 0 | V21: 0 | W21: 0 | X21: 0 | Y21: 0 | Z21: 0 | AA21: 0 | AB21: 0 | AC21: 0 | AD21: 0 | AE21: 0 | AF21: 0 | AG21: 0 | AH21: 0 | AI21: 0 | AJ21: 0 | AK21: 0 | AL21: 0 | AM21: 0 | AN21: 0 | AO21: 0 | AP21: 0 | AQ21: 0 | AR21: 0 | AS21: 0 | AT21: 0 | AU21: 0 | AV21: 0 | AW21: 0 | AX21: 0 | AY21: 0 | AZ21: 0 | BA21: 0 | BB21: 0 | BC21: 0 | BD21: 0 | BE21: 0 | BF21: 0 | BG21: 0 | BH21: 0 | BI21: 0 | BJ21: 0 | BK21: 0 | BL21: 0 | BM21: 0 | BN21: 0 | BO21: 0 | BP21: 0 | BQ21: =BN21+BO21+BP21 -> 0 | BR21: =(K21+M21+N21+L21)-(O21+P21+Q21+BQ21) -> 0 | BS21: =BR21-(BQ21*3) -> 0 | BT21: 0
A22: 18 | B22: Matador | C22: Grease | D22: Chessis Grease 0.5Kg | E22: 24 | F22: x | G22: 0.5 | H22: L | I22: adv 1017 | J22: Bottle | K22: 298 | R22: 0 | S22: 0 | T22: 0 | U22: 0 | V22: 0 | W22: 66 | X22: 41 | Y22: 0 | Z22: 26 | AA22: 39 | AB22: 36 | AC22: 0 | AD22: 48 | AE22: 0 | AF22: 0 | AG22: 2 | AH22: 72 | AI22: 25 | AJ22: 0 | AK22: 0 | AL22: 0 | AM22: 24 | AN22: 0 | AO22: 1 | AP22: 0 | AQ22: 0 | AR22: 36 | AS22: 0 | AT22: 5 | AU22: 0 | AV22: 0 | AW22: 0 | AX22: 0 | AY22: 0 | AZ22: 0 | BA22: 10 | BB22: 0 | BC22: 5 | BD22: 33 | BE22: 25 | BF22: 1 | BG22: 0 | BH22: 24 | BI22: 1 | BJ22: 48 | BK22: 24 | BL22: 24 | BM22: 1 | BN22: 48 | BO22: 144 | BP22: 48 | BQ22: =BN22+BO22+BP22 -> 240 | BR22: =(K22+M22+N22+L22)-(O22+P22+Q22+BQ22) -> 58 | BS22: =BR22-(BQ22*3) -> -662 | BT22: 0 | BU22: SM
A23: 19 | B23: Matador | C23: Grease | D23: Heavy Duty Grease 1.5Kg | F23: x | G23: 1.5 | H23: L | J23: Bottle | K23: 0 | R23: 0 | S23: 0 | T23: 0 | U23: 0 | V23: 0 | W23: 0 | X23: 0 | Y23: 0 | Z23: 0 | AA23: 0 | AB23: 0 | AC23: 0 | AD23: 0 | AE23: 0 | AF23: 0 | AG23: 0 | AH23: 0 | AI23: 0 | AJ23: 0 | AK23: 0 | AL23: 0 | AM23: 0 | AN23: 0 | AO23: 0 | AP23: 0 | AQ23: 0 | AR23: 0 | AS23: 0 | AT23: 0 | AU23: 0 | AV23: 0 | AW23: 0 | AX23: 0 | AY23: 0 | AZ23: 0 | BA23: 0 | BB23: 0 | BC23: 0 | BD23: 0 | BE23: 0 | BF23: 0 | BG23: 0 | BH23: 0 | BI23: 0 | BJ23: 0 | BK23: 0 | BL23: 0 | BM23: 0 | BN23: 0 | BO23: 0 | BP23: 0 | BQ23: =BN23+BO23+BP23 -> 0 | BR23: =(K23+M23+N23+L23)-(O23+P23+Q23+BQ23) -> 0 | BS23: =BR23-(BQ23*3) -> 0 | BT23: 0
A24: 20 | B24: Matador | C24: Grease | D24: Heavy Duty Grease 0.5Kg | F24: x | G24: 0.5 | H24: L | J24: Bottle | K24: 0 | R24: 0 | S24: 0 | T24: 0 | U24: 0 | V24: 0 | W24: 0 | X24: 0 | Y24: 0 | Z24: 0 | AA24: 0 | AB24: 0 | AC24: 0 | AD24: 0 | AE24: 0 | AF24: 0 | AG24: 0 | AH24: 0 | AI24: 0 | AJ24: 0 | AK24: 0 | AL24: 0 | AM24: 0 | AN24: 0 | AO24: 0 | AP24: 0 | AQ24: 0 | AR24: 0 | AS24: 0 | AT24: 0 | AU24: 0 | AV24: 0 | AW24: 0 | AX24: 0 | AY24: 0 | AZ24: 0 | BA24: 0 | BB24: 0 | BC24: 0 | BD24: 0 | BE24: 0 | BF24: 0 | BG24: 0 | BH24: 0 | BI24: 0 | BJ24: 0 | BK24: 0 | BL24: 0 | BM24: 0 | BN24: 0 | BO24: 0 | BP24: 0 | BQ24: =BN24+BO24+BP24 -> 0 | BR24: =(K24+M24+N24+L24)-(O24+P24+Q24+BQ24) -> 0 | BS24: =BR24-(BQ24*3) -> 0 | BT24: 0
A25: 21 | B25: Matador | C25: Brake Oil | D25: DOT 3 400g | E25: 30 | F25: x | G25: 0.4 | H25: L | I25: adv 1200-MAC | J25: Bottle | K25: 4195 | N25: =50*30 -> 1500 | O25: =6*30 -> 180 | R25: 0 | S25: 0 | T25: 0 | U25: 0 | V25: 0 | W25: 0 | X25: 0 | Y25: 0 | Z25: 0 | AA25: 0 | AB25: 0 | AC25: 0 | AD25: 0 | AE25: 14 | AF25: 28 | AG25: 0 | AH25: 36 | AI25: 4 | AJ25: 0 | AK25: 2 | AL25: 0 | AM25: 0 | AN25: 1 | AO25: 0 | AP25: 2 | AQ25: 12 | AR25: 0 | AS25: 24 | AT25: 0 | AU25: 0 | AV25: 0 | AW25: 0 | AX25: 0 | AY25: 0 | AZ25: 54 | BA25: 220 | BB25: 162 | BC25: 143 | BD25: 0 | BE25: 0 | BF25: 0 | BG25: 1 | BH25: 432 | BI25: 159 | BJ25: 310 | BK25: 195 | BL25: 238 | BM25: 108 | BN25: 200 | BO25: 272 | BP25: 500 | BQ25: =BN25+BO25+BP25 -> 972 | BR25: =(K25+M25+N25+L25)-(O25+P25+Q25+BQ25) -> 4543 | BS25: =BR25-(BQ25*4) -> 655 | BT25: =50*30 -> 1500 | BU25: FM
A26: 22 | B26: Matador | C26: Brake Oil | D26: DOT 4 400g | E26: 30 | F26: x | G26: 0.4 | H26: L | I26: adv 1201-MAC | J26: Bottle | K26: 1102 | N26: =30*30 -> 900 | O26: =6*30 -> 180 | R26: 0 | S26: 0 | T26: 0 | U26: 0 | V26: 0 | W26: 0 | X26: 0 | Y26: 0 | Z26: 0 | AA26: 0 | AB26: 0 | AC26: 0 | AD26: 0 | AE26: 12 | AF26: 24 | AG26: 11 | AH26: 0 | AI26: 11 | AJ26: 0 | AK26: 2 | AL26: 2 | AM26: 2 | AN26: 58 | AO26: 0 | AP26: 0 | AQ26: 0 | AR26: 0 | AS26: 36 | AT26: 1 | AU26: 0 | AV26: 0 | AW26: 1 | AX26: 1 | AY26: 0 | AZ26: 60 | BA26: 150 | BB26: 45 | BC26: 11 | BD26: 0 | BE26: 0 | BF26: 0 | BG26: 2 | BH26: 167 | BI26: 195 | BJ26: 193 | BK26: 407 | BL26: 194 | BM26: 93 | BN26: 163 | BO26: 421 | BP26: 657 | BQ26: =BN26+BO26+BP26 -> 1241 | BR26: =(K26+M26+N26+L26)-(O26+P26+Q26+BQ26) -> 581 | BS26: =BR26-(BQ26*4) -> -4383 | BT26: =60*30 -> 1800 | BU26: FM
A27: 23 | B27: Matador | C27: Flushing Oil | D27: Engine Flush 236ml | E27: 24 | F27: x | G27: 0.236 | H27: L | J27: Bottle | K27: 0 | R27: 0 | S27: 0 | T27: 0 | U27: 0 | V27: 0 | W27: 0 | X27: 0 | Y27: 0 | Z27: 0 | AA27: 0 | AB27: 0 | AC27: 0 | AD27: 0 | AE27: 0 | AF27: 0 | AG27: 0 | AH27: 0 | AI27: 0 | AJ27: 0 | AK27: 0 | AL27: 0 | AM27: 0 | AN27: 0 | AO27: 0 | AP27: 0 | AQ27: 0 | AR27: 0 | AS27: 0 | AT27: 0 | AU27: 0 | AV27: 0 | AW27: 0 | AX27: 0 | AY27: 0 | AZ27: 0 | BA27: 0 | BB27: 0 | BC27: 0 | BD27: 0 | BE27: 0 | BF27: 0 | BG27: 0 | BH27: 0 | BI27: 0 | BJ27: 0 | BK27: 0 | BL27: 0 | BM27: 0 | BN27: 0 | BO27: 0 | BP27: 0 | BQ27: =BN27+BO27+BP27 -> 0 | BR27: =(K27+M27+N27+L27)-(O27+P27+Q27+BQ27) -> 0 | BS27: =BR27-(BQ27*3) -> 0 | BT27: 0
A28: 24 | B28: Matador | C28: Heavy Duty | D28: SAE 40 200L | F28: x | G28: 200 | H28: L | J28: Drum | K28: 0 | R28: 0 | S28: 0 | T28: 0 | U28: 0 | V28: 0 | W28: 0 | X28: 0 | Y28: 0 | Z28: 0 | AA28: 0 | AB28: 0 | AC28: 0 | AD28: 0 | AE28: 0 | AF28: 0 | AG28: 0 | AH28: 0 | AI28: 0 | AJ28: 0 | AK28: 0 | AL28: 0 | AM28: 0 | AN28: 0 | AO28: 0 | AP28: 0 | AQ28: 0 | AR28: 0 | AS28: 0 | AT28: 0 | AU28: 0 | AV28: 0 | AW28: 0 | AX28: 0 | AY28: 0 | AZ28: 0 | BA28: 0 | BB28: 0 | BC28: 0 | BD28: 0 | BE28: 0 | BF28: 0 | BG28: 0 | BH28: 0 | BI28: 0 | BJ28: 0 | BK28: 0 | BL28: 0 | BM28: 0 | BN28: 0 | BO28: 0 | BP28: 0 | BQ28: =BN28+BO28+BP28 -> 0 | BR28: =(K28+M28+N28+L28)-(O28+P28+Q28+BQ28) -> 0 | BS28: =BR28-(BQ28*3) -> 0 | BT28: 0
A29: 25 | B29: Matador | C29: Heavy Duty | D29: SAE 50 200L | F29: x | G29: 200 | H29: L | J29: Drum | K29: 0 | R29: 0 | S29: 0 | T29: 0 | U29: 0 | V29: 0 | W29: 0 | X29: 0 | Y29: 0 | Z29: 0 | AA29: 0 | AB29: 0 | AC29: 0 | AD29: 0 | AE29: 0 | AF29: 0 | AG29: 0 | AH29: 0 | AI29: 0 | AJ29: 0 | AK29: 0 | AL29: 0 | AM29: 0 | AN29: 0 | AO29: 0 | AP29: 0 | AQ29: 0 | AR29: 0 | AS29: 0 | AT29: 0 | AU29: 0 | AV29: 0 | AW29: 0 | AX29: 0 | AY29: 0 | AZ29: 0 | BA29: 0 | BB29: 0 | BC29: 0 | BD29: 0 | BE29: 0 | BF29: 0 | BG29: 0 | BH29: 0 | BI29: 0 | BJ29: 0 | BK29: 0 | BL29: 0 | BM29: 0 | BN29: 0 | BO29: 0 | BP29: 0 | BQ29: =BN29+BO29+BP29 -> 0 | BR29: =(K29+M29+N29+L29)-(O29+P29+Q29+BQ29) -> 0 | BS29: =BR29-(BQ29*3) -> 0 | BT29: 0
A30: 26 | B30: Matador | C30: Grease | D30: Chessis Grease 15Kg | E30: 1 | F30: x | G30: 15 | H30: L | I30: adv 1009 | J30: Can | K30: 17 | O30: 15 | R30: 7 | S30: 4 | T30: 4 | U30: 3 | V30: 1 | W30: 0 | X30: 1 | Y30: 0 | Z30: 0 | AA30: 1 | AB30: 5 | AC30: 0 | AD30: 0 | AE30: 5 | AF30: 1 | AG30: 6 | AH30: 0 | AI30: 0 | AJ30: 1 | AK30: 1 | AL30: 0 | AM30: 2 | AN30: 1 | AO30: 0 | AP30: 0 | AQ30: 0 | AR30: 0 | AS30: 0 | AT30: 0 | AU30: 0 | AV30: 0 | AW30: 0 | AX30: 1 | AY30: 0 | AZ30: 0 | BA30: 0 | BB30: 2 | BC30: 0 | BD30: 1 | BE30: 0 | BF30: 0 | BG30: 0 | BH30: 0 | BI30: 0 | BJ30: 0 | BK30: 1 | BL30: 0 | BM30: 1 | BN30: 1 | BO30: 1 | BP30: 2 | BQ30: =BN30+BO30+BP30 -> 4 | BR30: =(K30+M30+N30+L30)-(O30+P30+Q30+BQ30) -> -2 | BS30: =BR30-(BQ30*3) -> -14 | BT30: 0 | BU30: SM
A31: 27 | B31: Matador | C31: Grease | D31: Heavy Duty Grease 15Kg | E31: 1 | F31: x | G31: 15 | H31: L | I31: adv 1010 | J31: Can | K31: 10 | O31: 20 | R31: 8 | S31: 4 | T31: 6 | U31: 0 | V31: 1 | W31: 0 | X31: 0 | Y31: 5 | Z31: 5 | AA31: 20 | AB31: 16 | AC31: 13 | AD31: 8 | AE31: 0 | AF31: 0 | AG31: 0 | AH31: 7 | AI31: 1 | AJ31: 2 | AK31: 1 | AL31: 13 | AM31: 1 | AN31: 4 | AO31: 1 | AP31: 4 | AQ31: 14 | AR31: 0 | AS31: 2 | AT31: 5 | AU31: 4 | AV31: 1 | AW31: 1 | AX31: 2 | AY31: 1 | AZ31: 3 | BA31: 0 | BB31: 0 | BC31: 0 | BD31: 2 | BE31: 1 | BF31: 0 | BG31: 0 | BH31: 0 | BI31: 2 | BJ31: 10 | BK31: 1 | BL31: 5 | BM31: 5 | BN31: 7 | BO31: 0 | BP31: 0 | BQ31: =BN31+BO31+BP31 -> 7 | BR31: =(K31+M31+N31+L31)-(O31+P31+Q31+BQ31) -> -17 | BS31: =BR31-(BQ31*3) -> -38 | BT31: 0 | BU31: SM
A32: 28 | B32: Matador | C32: Heavy Duty | D32: PREMIUM, SAE 15W40, CI-4/SL | F32: x | G32: 200 | H32: L | J32: Drum | K32: 0 | R32: 0 | S32: 0 | T32: 0 | U32: 0 | V32: 0 | W32: 0 | X32: 0 | Y32: 0 | Z32: 0 | AA32: 0 | AB32: 0 | AC32: 0 | AD32: 0 | AE32: 0 | AF32: 0 | AG32: 0 | AH32: 0 | AI32: 0 | AJ32: 0 | AK32: 0 | AL32: 0 | AM32: 0 | AN32: 0 | AO32: 0 | AP32: 0 | AQ32: 0 | AR32: 0 | AS32: 0 | AT32: 0 | AU32: 0 | AV32: 0 | AW32: 0 | AX32: 0 | AY32: 0 | AZ32: 0 | BA32: 0 | BB32: 0 | BC32: 0 | BD32: 0 | BE32: 0 | BF32: 0 | BG32: 0 | BH32: 0 | BI32: 0 | BJ32: 0 | BK32: 0 | BL32: 0 | BM32: 0 | BN32: 0 | BO32: 0 | BP32: 0 | BQ32: =BN32+BO32+BP32 -> 0 | BR32: =(K32+M32+N32+L32)-(O32+P32+Q32+BQ32) -> 0 | BS32: =BR32-(BQ32*3) -> 0 | BT32: 0
A33: 29 | B33: Matador | C33: Heavy Duty | D33: TURBO, SAE 15W40, CF-4/SG | F33: x | G33: 200 | H33: L | J33: Drum | K33: 0 | R33: 0 | S33: 0 | T33: 0 | U33: 0 | V33: 0 | W33: 0 | X33: 0 | Y33: 0 | Z33: 0 | AA33: 0 | AB33: 0 | AC33: 0 | AD33: 0 | AE33: 0 | AF33: 0 | AG33: 0 | AH33: 0 | AI33: 0 | AJ33: 0 | AK33: 0 | AL33: 0 | AM33: 0 | AN33: 0 | AO33: 0 | AP33: 0 | AQ33: 0 | AR33: 0 | AS33: 0 | AT33: 0 | AU33: 0 | AV33: 0 | AW33: 0 | AX33: 0 | AY33: 0 | AZ33: 0 | BA33: 0 | BB33: 0 | BC33: 0 | BD33: 0 | BE33: 0 | BF33: 0 | BG33: 0 | BH33: 0 | BI33: 0 | BJ33: 0 | BK33: 0 | BL33: 0 | BM33: 0 | BN33: 0 | BO33: 0 | BP33: 0 | BQ33: =BN33+BO33+BP33 -> 0 | BR33: =(K33+M33+N33+L33)-(O33+P33+Q33+BQ33) -> 0 | BS33: =BR33-(BQ33*3) -> 0 | BT33: 0
A34: 30 | B34: Matador | C34: Heavy Duty | D34: Hydraulic Oil 68 | E34: 1 | F34: x | G34: 200 | H34: L | I34: adv 1220 | J34: Drum | K34: 29 | O34: 40 | P34: 40 | R34: 0 | S34: 0 | T34: 0 | U34: 0 | V34: 0 | W34: 0 | X34: 0 | Y34: 0 | Z34: 0 | AA34: 0 | AB34: 0 | AC34: 0 | AD34: 0 | AE34: 0 | AF34: 0 | AG34: 0 | AH34: 0 | AI34: 0 | AJ34: 0 | AK34: 0 | AL34: 0 | AM34: 0 | AN34: 0 | AO34: 0 | AP34: 0 | AQ34: 0 | AR34: 0 | AS34: 0 | AT34: 0 | AU34: 0 | AV34: 0 | AW34: 0 | AX34: 0 | AY34: 0 | AZ34: 0 | BA34: 0 | BB34: 0 | BC34: 0 | BD34: 0 | BE34: 0 | BF34: 0 | BG34: 0 | BH34: 0 | BI34: 1 | BJ34: 3 | BK34: 30 | BL34: 5 | BM34: 1 | BN34: 0 | BO34: 2 | BP34: 10 | BQ34: =BN34+BO34+BP34 -> 12 | BR34: =(K34+M34+N34+L34)-(O34+P34+Q34+BQ34) -> -63 | BS34: =BR34-(BQ34*3) -> -99 | BT34: 0 | BU34: FM
A35: 31 | B35: Matador | C35: Heavy Duty | D35: Hydraulic Oil 46 | F35: x | G35: 200 | H35: L | J35: Drum | K35: 0 | R35: 0 | S35: 0 | T35: 0 | U35: 0 | V35: 0 | W35: 0 | X35: 0 | Y35: 0 | Z35: 0 | AA35: 0 | AB35: 0 | AC35: 0 | AD35: 0 | AE35: 0 | AF35: 0 | AG35: 0 | AH35: 0 | AI35: 0 | AJ35: 0 | AK35: 0 | AL35: 0 | AM35: 0 | AN35: 0 | AO35: 0 | AP35: 0 | AQ35: 0 | AR35: 0 | AS35: 0 | AT35: 0 | AU35: 0 | AV35: 0 | AW35: 0 | AX35: 0 | AY35: 0 | AZ35: 0 | BA35: 0 | BB35: 0 | BC35: 0 | BD35: 0 | BE35: 0 | BF35: 0 | BG35: 0 | BH35: 0 | BI35: 0 | BJ35: 0 | BK35: 0 | BL35: 0 | BM35: 0 | BN35: 0 | BO35: 0 | BP35: 0 | BQ35: =BN35+BO35+BP35 -> 0 | BR35: =(K35+M35+N35+L35)-(O35+P35+Q35+BQ35) -> 0 | BS35: =BR35-(BQ35*3) -> 0 | BT35: 0
A36: 32 | B36: Matador | C36: Heavy Duty | D36: Premium 15W40, CI-4/SL Mas Additive | E36: 1 | F36: x | G36: 18 | H36: L | I36: adv 1018 | J36: Can | K36: 7 | P36: 100 | R36: 0 | S36: 0 | T36: 0 | U36: 0 | V36: 2 | W36: 1 | X36: 1 | Y36: 3 | Z36: 3 | AA36: 2 | AB36: 5 | AC36: 4 | AD36: 3 | AE36: 3 | AF36: 1 | AG36: 5 | AH36: 1 | AI36: 12 | AJ36: 0 | AK36: 0 | AL36: 0 | AM36: 0 | AN36: 0 | AO36: 0 | AP36: 0 | AQ36: 2 | AR36: 1 | AS36: 2 | AT36: 3 | AU36: 7 | AV36: 15 | AW36: 16 | AX36: 35 | AY36: 24 | AZ36: 19 | BA36: 10 | BB36: 19 | BC36: 4 | BD36: 3 | BE36: 6 | BF36: 3 | BG36: 31 | BH36: 37 | BI36: 60 | BJ36: 59 | BK36: 41 | BL36: 12 | BM36: 0 | BN36: 5 | BO36: 2 | BP36: 3 | BQ36: =BN36+BO36+BP36 -> 10 | BR36: =(K36+M36+N36+L36)-(O36+P36+Q36+BQ36) -> -103 | BS36: =BR36-(BQ36*3) -> -133 | BT36: 0 | BU36: FM
A37: 33 | B37: Matador | C37: Heavy Duty | D37: Premium 20W50, CI-4/SL Mas Additive | E37: 1 | F37: x | G37: 18 | H37: L | I37: adv 1019 | J37: Can | K37: 0 | R37: 0 | S37: 0 | T37: 0 | U37: 0 | V37: 0 | W37: 0 | X37: 0 | Y37: 0 | Z37: 0 | AA37: 0 | AB37: 0 | AC37: 0 | AD37: 0 | AE37: 0 | AF37: 0 | AG37: 0 | AH37: 0 | AI37: 0 | AJ37: 0 | AK37: 0 | AL37: 0 | AM37: 0 | AN37: 0 | AO37: 0 | AP37: 0 | AQ37: 0 | AR37: 0 | AS37: 0 | AT37: 0 | AU37: 0 | AV37: 0 | AW37: 0 | AX37: 0 | AY37: 0 | AZ37: 0 | BA37: 5 | BB37: 0 | BC37: 16 | BD37: 2 | BE37: 25 | BF37: 0 | BG37: 0 | BH37: 0 | BI37: 0 | BJ37: 0 | BK37: 0 | BL37: 2 | BM37: 0 | BN37: 0 | BO37: 0 | BP37: 0 | BQ37: =BN37+BO37+BP37 -> 0 | BR37: =(K37+M37+N37+L37)-(O37+P37+Q37+BQ37) -> 0 | BS37: =BR37-(BQ37*3) -> 0 | BT37: 0 | BU37: SM
A38: 34 | B38: Matador | C38: Hydraulic | D38: Hydraulic Oil 46 | E38: 1 | F38: x | G38: 18 | H38: L | I38: adv 1223 | J38: Can | K38: 47 | N38: =50 -> 50 | R38: 0 | S38: 0 | T38: 0 | U38: 0 | V38: 0 | W38: 0 | X38: 0 | Y38: 0 | Z38: 0 | AA38: 0 | AB38: 0 | AC38: 0 | AD38: 0 | AE38: 0 | AF38: 0 | AG38: 0 | AH38: 0 | AI38: 0 | AJ38: 0 | AK38: 0 | AL38: 0 | AM38: 0 | AN38: 0 | AO38: 0 | AP38: 0 | AQ38: 0 | AR38: 0 | AS38: 0 | AT38: 0 | AU38: 0 | AV38: 0 | AW38: 0 | AX38: 0 | AY38: 0 | AZ38: 10 | BA38: 23 | BB38: 0 | BC38: 8 | BD38: 15 | BE38: 19 | BF38: 8 | BG38: 4 | BH38: 11 | BI38: 10 | BJ38: 13 | BK38: 5 | BL38: 28 | BM38: 3 | BN38: 12 | BO38: 5 | BP38: 27 | BQ38: =BN38+BO38+BP38 -> 44 | BR38: =(K38+M38+N38+L38)-(O38+P38+Q38+BQ38) -> 53 | BS38: =BR38-(BQ38*3) -> -79 | BT38: 80 | BU38: MF
A39: 35 | B39: Matador | C39: Hydraulic | D39: Hydraulic Oil 68 | E39: 1 | F39: x | G39: 18 | H39: L | I39: adv 1221 | J39: Can | K39: 61 | N39: =80 -> 80 | R39: 0 | S39: 0 | T39: 0 | U39: 0 | V39: 0 | W39: 0 | X39: 0 | Y39: 0 | Z39: 0 | AA39: 0 | AB39: 0 | AC39: 0 | AD39: 0 | AE39: 0 | AF39: 0 | AG39: 0 | AH39: 0 | AI39: 0 | AJ39: 0 | AK39: 0 | AL39: 0 | AM39: 0 | AN39: 0 | AO39: 0 | AP39: 0 | AQ39: 0 | AR39: 0 | AS39: 0 | AT39: 0 | AU39: 0 | AV39: 0 | AW39: 0 | AX39: 0 | AY39: 0 | AZ39: 8 | BA39: 7 | BB39: 7 | BC39: 6 | BD39: 9 | BE39: 10 | BF39: 13 | BG39: 7 | BH39: 19 | BI39: 26 | BJ39: 8 | BK39: 2 | BL39: 4 | BM39: 1 | BN39: 8 | BO39: 5 | BP39: 12 | BQ39: =BN39+BO39+BP39 -> 25 | BR39: =(K39+M39+N39+L39)-(O39+P39+Q39+BQ39) -> 116 | BS39: =BR39-(BQ39*3) -> 41 | BT39: 80 | BU39: FM
A40: 36 | B40: Matador | C40: Heavy Duty | D40: Premium 15W40, CI-4/SL Mas Additive | E40: 1 | F40: x | G40: 25 | H40: L | I40: adv 1020 | J40: Can | K40: 21 | R40: 0 | S40: 0 | T40: 0 | U40: 0 | V40: 0 | W40: 26 | X40: 5 | Y40: 16 | Z40: 1 | AA40: 0 | AB40: 0 | AC40: 0 | AD40: 0 | AE40: 0 | AF40: 0 | AG40: 4 | AH40: 2 | AI40: 14 | AJ40: 10 | AK40: 13 | AL40: 25 | AM40: 2 | AN40: 2 | AO40: 0 | AP40: 2 | AQ40: 51 | AR40: 5 | AS40: 6 | AT40: 1 | AU40: 29 | AV40: 2 | AW40: 28 | AX40: 27 | AY40: 96 | AZ40: 52 | BA40: 53 | BB40: 66 | BC40: 1 | BD40: 3 | BE40: 5 | BF40: 3 | BG40: 13 | BH40: 40 | BI40: 56 | BJ40: 28 | BK40: 48 | BL40: 9 | BM40: 6 | BN40: 15 | BO40: 3 | BP40: 10 | BQ40: =BN40+BO40+BP40 -> 28 | BR40: =(K40+M40+N40+L40)-(O40+P40+Q40+BQ40) -> -7 | BS40: =BR40-(BQ40*4) -> -119 | BT40: 0 | BU40: FM
A41: 37 | B41: Matador | C41: Heavy Duty | D41: Premium 20W50, CI-4/SL Mas Additive | E41: 1 | F41: x | G41: 25 | H41: L | I41: adv 1021 | J41: Can | K41: 3 | R41: 0 | S41: 0 | T41: 0 | U41: 0 | V41: 0 | W41: 3 | X41: 4 | Y41: 3 | Z41: 0 | AA41: 0 | AB41: 1 | AC41: 2 | AD41: 1 | AE41: 0 | AF41: 0 | AG41: 0 | AH41: 1 | AI41: 1 | AJ41: 1 | AK41: 0 | AL41: 0 | AM41: 0 | AN41: 0 | AO41: 1 | AP41: 0 | AQ41: 0 | AR41: 2 | AS41: 1 | AT41: 1 | AU41: 2 | AV41: 0 | AW41: 2 | AX41: 0 | AY41: 0 | AZ41: 0 | BA41: 0 | BB41: 10 | BC41: 0 | BD41: 0 | BE41: 7 | BF41: 2 | BG41: 0 | BH41: 0 | BI41: 0 | BJ41: 0 | BK41: 0 | BL41: 0 | BM41: 0 | BN41: 0 | BO41: 0 | BP41: 0 | BQ41: =BN41+BO41+BP41 -> 0 | BR41: =(K41+M41+N41+L41)-(O41+P41+Q41+BQ41) -> 3 | BS41: =BR41-(BQ41*3) -> 3 | BT41: 0 | BU41: SM
A42: 38 | B42: Matador | C42: Cycle Oil | D42: 4T Scooter Engine Oil 10W40 Semi SL JASO MB(12*0.8L) | E42: 12 | F42: x | G42: 0.8 | H42: L | I42: adv 1215 | J42: Bottle | K42: 108 | N42: =120*12 -> 1440 | O42: =30*24 -> 720 | R42: 0 | S42: 0 | T42: 0 | U42: 0 | V42: 0 | W42: 0 | X42: 0 | Y42: 0 | Z42: 0 | AA42: 0 | AB42: 0 | AC42: 0 | AD42: 0 | AE42: 0 | AF42: 0 | AG42: 0 | AH42: 0 | AI42: 24 | AJ42: 0 | AK42: 0 | AL42: 0 | AM42: 0 | AN42: 0 | AO42: 0 | AP42: 0 | AQ42: 12 | AR42: 13 | AS42: 72 | AT42: 72 | AU42: 12 | AV42: 30 | AW42: 114 | AX42: 36 | AY42: 48 | AZ42: 108 | BA42: 68 | BB42: 36 | BC42: 1 | BD42: 64 | BE42: 30 | BF42: 114 | BG42: 264 | BH42: 293 | BI42: 218 | BJ42: 469 | BK42: 291 | BL42: 249 | BM42: 181 | BN42: 62 | BO42: 223 | BP42: 125 | BQ42: =BN42+BO42+BP42 -> 410 | BR42: =(K42+M42+N42+L42)-(O42+P42+Q42+BQ42) -> 418 | BS42: =BR42-(BQ42*3) -> -812 | BT42: =120*12 -> 1440 | BU42: MM
A43: 39 | B43: Matador | C43: Car Oil | D43: Premium 10W30 SEMI MAS (4L) | E43: 4 | F43: x | G43: 4 | H43: L | I43: adv 1190 | J43: Bottle | K43: 3222 | N43: =300*4 -> 1200 | O43: =(30*4)+(50*4) -> 320 | Q43: =40*4 -> 160 | R43: 0 | S43: 0 | T43: 0 | U43: 0 | V43: 0 | W43: 0 | X43: 0 | Y43: 0 | Z43: 0 | AA43: 0 | AB43: 0 | AC43: 0 | AD43: 0 | AE43: 0 | AF43: 5 | AG43: 4 | AH43: 13 | AI43: 6 | AJ43: 12 | AK43: 36 | AL43: 10 | AM43: 124 | AN43: 25 | AO43: 44 | AP43: 34 | AQ43: 102 | AR43: 30 | AS43: 21 | AT43: 6 | AU43: 147 | AV43: 130 | AW43: 306 | AX43: 122 | AY43: 233 | AZ43: 119 | BA43: 134 | BB43: 93 | BC43: 49 | BD43: 40 | BE43: 117 | BF43: 43 | BG43: 94 | BH43: 101 | BI43: 50 | BJ43: 135 | BK43: 153 | BL43: 160 | BM43: 99 | BN43: 193 | BO43: 263 | BP43: 217 | BQ43: =BN43+BO43+BP43 -> 673 | BR43: =(K43+M43+N43+L43)-(O43+P43+Q43+BQ43) -> 3269 | BS43: =BR43-(BQ43*4) -> 577 | BT43: =300*4 -> 1200 | BU43: FM
A44: 40 | B44: Matador | C44: Car Oil | D44: Premium 10W30 SEMI MAS (1L) | E44: 24 | F44: x | G44: 1 | H44: L | I44: adv 1191 | J44: Bottle | K44: 1088 | O44: =10*24 -> 240 | Q44: =10*24 -> 240 | R44: 0 | S44: 0 | T44: 0 | U44: 0 | V44: 0 | W44: 0 | X44: 0 | Y44: 0 | Z44: 0 | AA44: 0 | AB44: 0 | AC44: 0 | AD44: 0 | AE44: 0 | AF44: 0 | AG44: 0 | AH44: 0 | AI44: 0 | AJ44: 0 | AK44: 0 | AL44: 0 | AM44: 96 | AN44: 0 | AO44: 12 | AP44: 24 | AQ44: 1 | AR44: 36 | AS44: 52 | AT44: 1 | AU44: 36 | AV44: 12 | AW44: 92 | AX44: 2 | AY44: 4 | AZ44: 17 | BA44: 75 | BB44: 24 | BC44: 2 | BD44: 72 | BE44: 0 | BF44: 24 | BG44: 48 | BH44: 32 | BI44: 32 | BJ44: 77 | BK44: 69 | BL44: 61 | BM44: 13 | BN44: 7 | BO44: 24 | BP44: 13 | BQ44: =BN44+BO44+BP44 -> 44 | BR44: =(K44+M44+N44+L44)-(O44+P44+Q44+BQ44) -> 564 | BS44: =BR44-(BQ44*3) -> 432 | BT44: 0 | BU44: MM
A45: 41 | B45: Matador | C45: Car Oil | D45: 15W40 CI-4 MAS 7L | E45: 4 | F45: x | G45: 7 | H45: L | I45: adv 1192 | J45: Bottle | K45: 74 | N45: =250*4 -> 1000 | O45: =(40*2)+(100*2) -> 280 | R45: 0 | S45: 0 | T45: 0 | U45: 0 | V45: 0 | W45: 0 | X45: 0 | Y45: 0 | Z45: 0 | AA45: 0 | AB45: 0 | AC45: 0 | AD45: 0 | AE45: 4 | AF45: 27 | AG45: 24 | AH45: 21 | AI45: 8 | AJ45: 10 | AK45: 37 | AL45: 11 | AM45: 112 | AN45: 2 | AO45: 6 | AP45: 4 | AQ45: 38 | AR45: 102 | AS45: 18 | AT45: 7 | AU45: 132 | AV45: 111 | AW45: 249 | AX45: 43 | AY45: 54 | AZ45: 205 | BA45: 206 | BB45: 154 | BC45: 193 | BD45: 25 | BE45: 160 | BF45: 114 | BG45: 299 | BH45: 45 | BI45: 31 | BJ45: 63 | BK45: 482 | BL45: 237 | BM45: 232 | BN45: 77 | BO45: 47 | BP45: 34 | BQ45: =BN45+BO45+BP45 -> 158 | BR45: =(K45+M45+N45+L45)-(O45+P45+Q45+BQ45) -> 636 | BS45: =BR45-(BQ45*3) -> 162 | BT45: =250*4 -> 1000 | BU45: FM | BW45: 2000
A46: 42 | B46: Matador | C46: Car Oil | D46: Power Steering Fluid | E46: 24 | F46: x | G46: 1 | H46: L | I46: adv 1203 | J46: Bottle | K46: 254 | N46: =30*24 -> 720 | O46: =20*24 -> 480 | Q46: =10*24 -> 240 | R46: 0 | S46: 0 | T46: 0 | U46: 0 | V46: 0 | W46: 0 | X46: 0 | Y46: 0 | Z46: 0 | AA46: 0 | AB46: 0 | AC46: 0 | AD46: 0 | AE46: 0 | AF46: 0 | AG46: 0 | AH46: 12 | AI46: 0 | AJ46: 0 | AK46: 0 | AL46: 0 | AM46: 0 | AN46: 24 | AO46: 0 | AP46: 5 | AQ46: 48 | AR46: 48 | AS46: 0 | AT46: 49 | AU46: 0 | AV46: 12 | AW46: 12 | AX46: 2 | AY46: 24 | AZ46: 220 | BA46: 161 | BB46: 24 | BC46: 10 | BD46: 22 | BE46: 44 | BF46: 2 | BG46: 0 | BH46: 199 | BI46: 94 | BJ46: 168 | BK46: 264 | BL46: 221 | BM46: 177 | BN46: 315 | BO46: 237 | BP46: 394 | BQ46: =BN46+BO46+BP46 -> 946 | BR46: =(K46+M46+N46+L46)-(O46+P46+Q46+BQ46) -> -692 | BS46: =BR46-(BQ46*3) -> -3530 | BT46: =50*24 -> 1200 | BU46: MM | BV46: 1200
A47: 43 | B47: Matador | C47: Grease | D47: Lithium Grease EP 3 | E47: 1 | F47: x | G47: 15 | H47: KG | J47: Can | K47: 0 | R47: 0 | S47: 0 | T47: 0 | U47: 0 | V47: 0 | W47: 0 | X47: 0 | Y47: 0 | Z47: 0 | AA47: 0 | AB47: 0 | AC47: 0 | AD47: 0 | AE47: 0 | AF47: 0 | AG47: 0 | AH47: 0 | AI47: 0 | AJ47: 0 | AK47: 0 | AL47: 0 | AM47: 0 | AN47: 0 | AO47: 0 | AP47: 0 | AQ47: 0 | AR47: 0 | AS47: 0 | AT47: 0 | AU47: 0 | AV47: 0 | AW47: 0 | AX47: 0 | AY47: 0 | AZ47: 0 | BA47: 0 | BB47: 0 | BC47: 0 | BD47: 0 | BE47: 0 | BF47: 0 | BG47: 0 | BH47: 0 | BI47: 0 | BJ47: 0 | BK47: 0 | BL47: 0 | BM47: 0 | BN47: 0 | BO47: 0 | BP47: 0 | BQ47: =BN47+BO47+BP47 -> 0 | BR47: =(K47+M47+N47+L47)-(O47+P47+Q47+BQ47) -> 0 | BS47: =BR47-(BQ47*3) -> 0 | BT47: 0
A48: 44 | B48: Matador | C48: Car Oil | D48: 20W50 SG 4L | E48: 4 | F48: x | G48: 4 | H48: L | I48: adv 1195 | J48: Bottle | K48: 84 | N48: =150*4 -> 600 | O48: =20*4 -> 80 | U48: 0 | V48: 0 | W48: 0 | X48: 0 | Y48: 0 | Z48: 0 | AA48: 0 | AB48: 0 | AC48: 0 | AD48: 0 | AE48: 0 | AF48: 0 | AG48: 0 | AH48: 0 | AI48: 0 | AJ48: 0 | AK48: 0 | AL48: 0 | AM48: 0 | AN48: 4 | AO48: 0 | AP48: 4 | AQ48: 16 | AR48: 20 | AS48: 4 | AT48: 16 | AU48: 8 | AV48: 8 | AW48: 4 | AX48: 0 | AY48: 0 | AZ48: 0 | BA48: 0 | BB48: 0 | BC48: 0 | BD48: 0 | BE48: 0 | BF48: 0 | BG48: 0 | BH48: 0 | BI48: 0 | BJ48: 0 | BK48: 0 | BL48: 0 | BM48: 0 | BN48: 152 | BO48: 100 | BP48: 44 | BQ48: =BN48+BO48+BP48 -> 296 | BR48: =(K48+M48+N48+L48)-(O48+P48+Q48+BQ48) -> 308 | BS48: =BR48-(BQ48*3) -> -580 | BT48: =4*150 -> 600 | BU48: MM
A49: 45 | B49: Matador | C49: Car Oil | D49: 20W50 SG 1L | E49: 24 | F49: x | G49: 1 | H49: L | I49: adv 1196 | J49: Bottle | K49: 0 | N49: =10*24 -> 240 | O49: =3*24 -> 72 | U49: 0 | V49: 0 | W49: 0 | X49: 0 | Y49: 0 | Z49: 0 | AA49: 0 | AB49: 0 | AC49: 0 | AD49: 0 | AE49: 0 | AF49: 12 | AG49: 0 | AH49: 0 | AI49: 0 | AJ49: 0 | AK49: 0 | AL49: 0 | AM49: 0 | AN49: 12 | AO49: 0 | AP49: 0 | AQ49: 24 | AR49: 12 | AS49: 0 | AT49: 0 | AU49: 0 | AV49: 0 | AW49: 0 | AX49: 0 | AY49: 0 | AZ49: 0 | BA49: 0 | BB49: 0 | BC49: 0 | BD49: 0 | BE49: 0 | BF49: 0 | BG49: 0 | BH49: 0 | BI49: 0 | BJ49: 0 | BK49: 12 | BL49: 0 | BM49: 0 | BN49: 240 | BO49: 0 | BP49: 0 | BQ49: =BN49+BO49+BP49 -> 240 | BR49: =(K49+M49+N49+L49)-(O49+P49+Q49+BQ49) -> -72 | BS49: =BR49-(BQ49*3) -> -792 | BT49: =24*15 -> 360 | BU49: MM
A50: 46 | B50: Matador | C50: Grease | D50: Grease EP 0 | E50: 1 | F50: x | G50: 180 | H50: KG | J50: Drum | K50: 0 | W50: 0 | X50: 0 | Y50: 0 | Z50: 0 | AA50: 0 | AB50: 0 | AC50: 0 | AD50: 0 | AE50: 0 | AF50: 0 | AG50: 0 | AH50: 0 | AI50: 0 | AJ50: 0 | AK50: 0 | AL50: 0 | AM50: 0 | AN50: 0 | AO50: 0 | AP50: 0 | AQ50: 0 | AR50: 0 | AS50: 0 | AT50: 0 | AU50: 0 | AV50: 0 | AW50: 0 | AX50: 0 | AY50: 0 | AZ50: 0 | BA50: 0 | BB50: 0 | BC50: 0 | BD50: 0 | BE50: 0 | BF50: 0 | BG50: 0 | BH50: 0 | BI50: 0 | BJ50: 0 | BK50: 0 | BL50: 0 | BM50: 0 | BN50: 0 | BO50: 0 | BP50: 0 | BQ50: =BN50+BO50+BP50 -> 0 | BR50: =(K50+M50+N50+L50)-(O50+P50+Q50+BQ50) -> 0 | BS50: =BR50-(BQ50*3) -> 0 | BT50: 0
A51: 47 | B51: Matador | C51: Gear Oil | D51: CVT 6L | E51: 4 | F51: x | G51: 6 | H51: L | I51: adv 1197 | J51: Bottle | K51: 34 | O51: =20*4 -> 80 | W51: 0 | X51: 0 | Y51: 0 | Z51: 0 | AA51: 0 | AB51: 0 | AC51: 0 | AD51: 0 | AE51: 0 | AF51: 0 | AG51: 0 | AH51: 0 | AI51: 0 | AJ51: 0 | AK51: 0 | AL51: 0 | AM51: 0 | AN51: 8 | AO51: 0 | AP51: 0 | AQ51: 8 | AR51: 32 | AS51: 0 | AT51: 0 | AU51: 8 | AV51: 1 | AW51: 5 | AX51: 0 | AY51: 5 | AZ51: 70 | BA51: 73 | BB51: 29 | BC51: 31 | BD51: 52 | BE51: 14 | BF51: 28 | BG51: 24 | BH51: 8 | BI51: 2 | BJ51: 40 | BK51: 2 | BL51: 2 | BM51: 2 | BN51: 0 | BO51: 0 | BP51: 0 | BQ51: =BN51+BO51+BP51 -> 0 | BR51: =(K51+M51+N51+L51)-(O51+P51+Q51+BQ51) -> -46 | BS51: =BR51-(BQ51*3) -> -46 | BT51: 0 | BU51: FM
A52: 48 | B52: Matador | C52: Gear Oil | D52: CVT 1L | E52: 24 | F52: x | G52: 1 | H52: L | I52: adv 1227 | J52: Bottle | K52: 77 | O52: =8*24 -> 192 | Q52: =2*24 -> 48 | W52: 0 | X52: 0 | Y52: 0 | Z52: 0 | AA52: 0 | AB52: 0 | AC52: 0 | AD52: 0 | AE52: 0 | AF52: 0 | AG52: 0 | AH52: 0 | AI52: 0 | AJ52: 0 | AK52: 0 | AL52: 0 | AM52: 0 | AN52: 0 | AO52: 0 | AP52: 0 | AQ52: 0 | AR52: 0 | AS52: 0 | AT52: 0 | AU52: 0 | AV52: 0 | AW52: 0 | AX52: 0 | AY52: 0 | AZ52: 0 | BA52: 0 | BB52: 0 | BC52: 0 | BD52: 0 | BE52: 0 | BF52: 0 | BG52: 0 | BH52: 0 | BI52: 0 | BJ52: 0 | BK52: 0 | BL52: 0 | BM52: 0 | BN52: 62 | BO52: 9 | BP52: 86 | BQ52: =BN52+BO52+BP52 -> 157 | BR52: =(K52+M52+N52+L52)-(O52+P52+Q52+BQ52) -> -320 | BS52: =BR52-(BQ52*3) -> -791 | BT52: =20*24 -> 480 | BU52: MM
A53: 49 | B53: Matador | C53: Car Oil | D53: SAE 10W30 CI4 (6L) | E53: 4 | F53: x | G53: 6 | H53: L | I53: adv 1198 | J53: Bottle | K53: 408 | N53: =100*4 -> 400 | O53: =20*4 -> 80 | W53: 0 | X53: 0 | Y53: 0 | Z53: 0 | AA53: 0 | AB53: 0 | AC53: 0 | AD53: 0 | AE53: 0 | AF53: 0 | AG53: 0 | AH53: 0 | AI53: 0 | AJ53: 0 | AK53: 0 | AL53: 0 | AM53: 0 | AN53: 4 | AO53: 4 | AP53: 0 | AQ53: 4 | AR53: 24 | AS53: 13 | AT53: 0 | AU53: 1 | AV53: 1 | AW53: 11 | AX53: 1 | AY53: 4 | AZ53: 22 | BA53: 70 | BB53: 34 | BC53: 17 | BD53: 25 | BE53: 18 | BF53: 7 | BG53: 4 | BH53: 12 | BI53: 0 | BJ53: 0 | BK53: 51 | BL53: 43 | BM53: 8 | BN53: 43 | BO53: 70 | BP53: 65 | BQ53: =BN53+BO53+BP53 -> 178 | BR53: =(K53+M53+N53+L53)-(O53+P53+Q53+BQ53) -> 550 | BS53: =BR53-(BQ53*3) -> 16 | BT53: =50*4 -> 200 | BU53: MM
A54: 50 | B54: Matador | C54: Car Oil | D54: SAE 10W30 CI4 (1L) | E54: 24 | F54: x | G54: 1 | H54: L | I54: adv 1199 | J54: Bottle | K54: 970 | N54: =15*24 -> 360 | O54: 80 | W54: 0 | X54: 0 | Y54: 0 | Z54: 0 | AA54: 0 | AB54: 0 | AC54: 0 | AD54: 0 | AE54: 0 | AF54: 0 | AG54: 0 | AH54: 0 | AI54: 0 | AJ54: 0 | AK54: 0 | AL54: 0 | AM54: 0 | AN54: 0 | AO54: 0 | AP54: 0 | AQ54: 6 | AR54: 22 | AS54: 0 | AT54: 0 | AU54: 0 | AV54: 0 | AW54: 0 | AX54: 1 | AY54: 0 | AZ54: 22 | BA54: 12 | BB54: 24 | BC54: 0 | BD54: 24 | BE54: 24 | BF54: 32 | BG54: 0 | BH54: 51 | BI54: 0 | BJ54: 0 | BK54: 18 | BL54: 75 | BM54: 3 | BN54: 24 | BO54: 34 | BP54: 44 | BQ54: =BN54+BO54+BP54 -> 102 | BR54: =(K54+M54+N54+L54)-(O54+P54+Q54+BQ54) -> 1148 | BS54: =BR54-(BQ54*3) -> 842 | BT54: 0 | BU54: MM
A55: 51 | B55: Matador | C55: Grease | D55: Lithium Grease EP 3 NIGL3 | E55: 1 | F55: x | G55: 18 | H55: KG | I55: adv 1204 | J55: Can | K55: 21 | P55: 50 | T55: 0 | U55: 0 | V55: 0 | W55: 0 | X55: 0 | Y55: 0 | Z55: 0 | AA55: 0 | AB55: 0 | AC55: 0 | AD55: 0 | AE55: 0 | AF55: 0 | AG55: 0 | AH55: 0 | AI55: 0 | AJ55: 0 | AK55: 0 | AL55: 0 | AM55: 0 | AN55: 10 | AO55: 0 | AP55: 7 | AQ55: 12 | AR55: 1 | AS55: 1 | AT55: 5 | AU55: 14 | AV55: 0 | AW55: 0 | AX55: 0 | AY55: 0 | AZ55: 4 | BA55: 4 | BB55: 22 | BC55: 21 | BD55: 10 | BE55: 0 | BF55: 5 | BG55: 2 | BH55: 4 | BI55: 1 | BJ55: 2 | BK55: 0 | BL55: 0 | BM55: 0 | BN55: 2 | BO55: 1 | BP55: 10 | BQ55: =BN55+BO55+BP55 -> 13 | BR55: =(K55+M55+N55+L55)-(O55+P55+Q55+BQ55) -> -42 | BS55: =BR55-(BQ55*3) -> -81 | BT55: 0 | BU55: MM
A56: 52 | B56: Matador | C56: Grease | D56: Lithium Grease EP 3 NIGL3 | E56: 1 | F56: x | G56: 180 | H56: KG | I56: adv 1193 | J56: Drum | K56: 0 | P56: 5 | T56: 0 | U56: 0 | V56: 0 | W56: 0 | X56: 0 | Y56: 0 | Z56: 0 | AA56: 0 | AB56: 0 | AC56: 0 | AD56: 0 | AE56: 0 | AF56: 0 | AG56: 0 | AH56: 0 | AI56: 0 | AJ56: 0 | AK56: 0 | AL56: 2 | AM56: 0 | AN56: 0 | AO56: 0 | AP56: 0 | AQ56: 0 | AR56: 0 | AS56: 0 | AT56: 1 | AU56: 0 | AV56: 2 | AW56: 0 | AX56: 0 | AY56: 0 | AZ56: 1 | BA56: 0 | BB56: 3 | BC56: 1 | BD56: 0 | BE56: 0 | BF56: 0.66666667 | BG56: 0.66666667 | BH56: 0 | BI56: 0 | BJ56: 0 | BK56: 0 | BL56: 0 | BM56: 0 | BN56: 0 | BO56: 0 | BP56: 0 | BQ56: =BN56+BO56+BP56 -> 0 | BR56: =(K56+M56+N56+L56)-(O56+P56+Q56+BQ56) -> -5 | BS56: =BR56-(BQ56*3) -> -5 | BT56: 0 | BU56: MM
A57: 53 | B57: Matador | C57: Grease | D57: Lithium Grease EP 2 NIGI3 | E57: 1 | F57: x | G57: 18 | H57: KG | I57: adv 1194 | J57: Can | K57: 0 | P57: 15 | T57: 0 | U57: 0 | V57: 0 | W57: 0 | X57: 0 | Y57: 0 | Z57: 0 | AA57: 0 | AB57: 0 | AC57: 0 | AD57: 0 | AE57: 0 | AF57: 0 | AG57: 0 | AH57: 0 | AI57: 0 | AJ57: 0 | AK57: 0 | AL57: 0 | AM57: 0 | AN57: 1 | AO57: 0 | AP57: 0 | AQ57: 0 | AR57: 0 | AS57: 0 | AT57: 5 | AU57: 4 | AV57: 1 | AW57: 3 | AX57: 0 | AY57: 0 | AZ57: 0 | BA57: 0 | BB57: 0 | BC57: 0 | BD57: 0 | BE57: 0 | BF57: 0 | BG57: 0 | BH57: 0 | BI57: 0 | BJ57: 0 | BK57: 0 | BL57: 0 | BM57: 0 | BN57: 0 | BO57: 0 | BP57: 0 | BQ57: =BN57+BO57+BP57 -> 0 | BR57: =(K57+M57+N57+L57)-(O57+P57+Q57+BQ57) -> -15 | BS57: =BR57-(BQ57*3) -> -15 | BT57: 0 | BU57: MM
A58: 54 | B58: Matador | C58: Grease | D58: Lithium Grease EP 3 NIGL3 | E58: 12 | F58: x | G58: 1.5 | H58: KG | I58: adv 1202 | J58: Bottle | K58: 61 | Q58: 240 | V58: 0 | W58: 0 | X58: 0 | Y58: 0 | Z58: 0 | AA58: 0 | AB58: 0 | AC58: 0 | AD58: 0 | AE58: 0 | AF58: 0 | AG58: 0 | AH58: 9 | AI58: 3 | AJ58: 24 | AK58: 5 | AL58: 0 | AM58: 1 | AN58: 0 | AO58: 0 | AP58: 0 | AQ58: 0 | AR58: 0 | AS58: 0 | AT58: 0 | AU58: 12 | AV58: 2 | AW58: 16 | AX58: 1 | AY58: 17 | AZ58: 6 | BA58: 3 | BB58: 3 | BC58: 4 | BD58: 1 | BE58: 1 | BF58: 13 | BG58: 1 | BH58: 5 | BI58: 0 | BJ58: 0 | BK58: 0 | BL58: 12 | BM58: 0 | BN58: 18 | BO58: 6 | BP58: 12 | BQ58: =BN58+BO58+BP58 -> 36 | BR58: =(K58+M58+N58+L58)-(O58+P58+Q58+BQ58) -> -215 | BS58: =BR58-(BQ58*3) -> -323 | BT58: 0 | BU58: MM
A59: 55 | B59: Matador | C59: Gear Oil | D59: GEAR OIL 80W90 GL5 | E59: 1 | F59: x | G59: 200 | H59: L | I59: adv 1218 | J59: Drum | K59: 10 | AU59: 0 | AV59: 0 | AW59: 0 | AX59: 0 | AY59: 0 | AZ59: 0 | BA59: 1 | BB59: 0 | BC59: 0 | BD59: 0 | BE59: 2 | BF59: 2 | BG59: 0 | BH59: 0 | BI59: 0 | BJ59: 0 | BK59: 0 | BL59: 4 | BM59: 0 | BN59: 0 | BO59: 0 | BP59: 1 | BQ59: =BN59+BO59+BP59 -> 1 | BR59: =(K59+M59+N59+L59)-(O59+P59+Q59+BQ59) -> 9 | BS59: =BR59-(BQ59*3) -> 6 | BT59: 8 | BU59: MM
A60: 56 | B60: Matador | C60: Gear Oil | D60: GEAR OIL 80W90 GL5 | E60: 1 | F60: x | G60: 18 | H60: L | I60: adv 1219 | J60: Pail | K60: 8.9444444 | N60: =60 -> 60 | AU60: 0 | AV60: 0 | AW60: 0 | AX60: 0 | AY60: 0 | AZ60: 0 | BA60: 6 | BB60: 8 | BC60: 14 | BD60: 7 | BE60: 5 | BF60: 3 | BG60: 26.055556 | BH60: 9 | BI60: 3 | BJ60: 11 | BK60: 2 | BL60: 1 | BM60: 0 | BN60: 27 | BO60: 14 | BP60: 14 | BQ60: =BN60+BO60+BP60 -> 55 | BR60: =(K60+M60+N60+L60)-(O60+P60+Q60+BQ60) -> 13.944444 | BS60: =BR60-(BQ60*3) -> -151.05556 | BT60: 100 | BU60: MM
A61: 57 | B61: Matador | C61: Gear Oil | D61: Premium 15W-40 CI4/SL Mas Additive 200L | E61: 1 | F61: x | G61: 200 | H61: L | I61: adv 1225 | J61: Bottle | K61: 113 | AX61: 0 | AY61: 0 | AZ61: 39 | BA61: 8 | BB61: 48 | BC61: 17 | BD61: 16 | BE61: 9 | BF61: 4 | BG61: 3 | BH61: 0 | BI61: 4 | BJ61: 1 | BK61: 3 | BL61: 4 | BM61: 1 | BN61: 1 | BO61: 0 | BP61: 1 | BQ61: =BN61+BO61+BP61 -> 2 | BR61: =(K61+M61+N61+L61)-(O61+P61+Q61+BQ61) -> 111 | BS61: =BR61-(BQ61*3) -> 105 | BT61: 0 | BU61: FM
A62: 58 | B62: Matador | C62: Gear Oil | D62: CVT 4L | E62: 4 | F62: x | G62: 4 | H62: L | I62: adv 1226 | J62: Bottle | K62: 288 | N62: =100*4 -> 400 | O62: =50*4 -> 200 | Q62: =50*4 -> 200 | AX62: 0 | AY62: 0 | AZ62: 0 | BA62: 0 | BB62: 0 | BC62: 0 | BD62: 0 | BE62: 0 | BF62: 0 | BG62: 0 | BH62: 54 | BI62: 56 | BJ62: 40 | BK62: 41 | BL62: 72 | BM62: 28 | BN62: 49 | BO62: 68 | BP62: 72 | BQ62: =BN62+BO62+BP62 -> 189 | BR62: =(K62+M62+N62+L62)-(O62+P62+Q62+BQ62) -> 99 | BS62: =BR62-(BQ62*3) -> -468 | BT62: =100*4 -> 400 | BU62: FM
A63: 59 | B63: Matador | C63: Crown Oil | D63: Crown Oil SAE 140, GL4 | E63: 1 | F63: x | G63: 200 | H63: L | I63: Crown Oil SAE 140, GL4 | J63: Drum | K63: 0 | O63: 7 | BC63: 0 | BD63: 0 | BE63: 0 | BF63: 0 | BG63: 0 | BH63: 0 | BI63: 0 | BJ63: 0 | BK63: 0 | BL63: 0 | BM63: 0 | BN63: 0 | BO63: 0 | BP63: 0 | BQ63: =BN63+BO63+BP63 -> 0 | BR63: =(K63+M63+N63+L63)-(O63+P63+Q63+BQ63) -> -7 | BS63: =BR63-(BQ63*3) -> -7 | BT63: 0
A64: 60 | B64: Matador | C64: Gear Oil | D64: Gear Oil 80W90 GL5 (1L) | E64: 24 | F64: x | G64: 1 | H64: L | I64: adv 1230 | J64: Bottle | K64: 0 | N64: =20*24 -> 480 | O64: =10*24 -> 240 | Q64: =10*24 -> 240 | BC64: 0 | BD64: 0 | BE64: 0 | BF64: 0 | BG64: 0 | BH64: 0 | BI64: 0 | BJ64: 0 | BK64: 0 | BL64: 0 | BM64: 0 | BN64: 0 | BO64: 0 | BP64: 0 | BQ64: =BN64+BO64+BP64 -> 0 | BR64: =(K64+M64+N64+L64)-(O64+P64+Q64+BQ64) -> 0 | BS64: =BR64-(BQ64*3) -> 0 | BT64: 0 | BU64: MM
A65: 61 | B65: Matador | C65: Gear Oil | D65: GEAR OIL 85W140 GL5 | E65: 1 | F65: x | G65: 200 | H65: L | I65: adv 1231 | J65: Drum | K65: 7 | BF65: 0 | BG65: 0 | BH65: 0 | BI65: 0 | BJ65: 0 | BK65: 0 | BL65: 0 | BM65: 1 | BN65: 0 | BO65: 0 | BP65: 0 | BQ65: =BN65+BO65+BP65 -> 0 | BR65: =(K65+M65+N65+L65)-(O65+P65+Q65+BQ65) -> 7 | BS65: =BR65-(BQ65*3) -> 7 | BT65: 0 | BU65: New Product
A66: 62 | B66: Matador | C66: Gear Oil | D66: GEAR OIL 85W140 GL5 | E66: 1 | F66: x | G66: 18 | H66: L | I66: adv 1032 | J66: Pail | K66: 35 | BF66: 0 | BG66: 0 | BH66: 0 | BI66: 0 | BJ66: 0 | BK66: 2 | BL66: 0 | BM66: 5 | BN66: 3 | BO66: 5 | BP66: 2 | BQ66: =BN66+BO66+BP66 -> 10 | BR66: =(K66+M66+N66+L66)-(O66+P66+Q66+BQ66) -> 25 | BS66: =BR66-(BQ66*3) -> -5 | BT66: =50 -> 50 | BU66: New Product
A67: Total Liters | BT67: =SUM(BT5:BT57) -> 43924

Sheet Sheet2
A1: FS 19624 | B1: 0 | D1: 3831236 | E1: 0 | F1: 0 | G1: 3831236 | H1: 0 | I1: FS 19624 | J1: 0 | K1: 3831236 | L1: 0 | M1: 0 | N1: 0 | O1: 0 | P1: 0 | Q1: 0
A2: FH 23600 | B2: 2 | D2: 21212204 | E2: 0 | F2: 0 | G2: 21212204 | H2: 0 | I2: FH 23600 | J2: 0 | K2: 21212204 | L2: 0 | M2: 0 | N2: 0 | O2: 0 | P2: 0 | Q2: 0
A3: AF 1934M | B3: 3 | D3: 21192875 | E3: 0 | F3: 0 | G3: 21192875 | H3: 0 | I3: AF 1934M | J3: 0 | K3: 21192875 | L3: 0 | M3: 0 | N3: 0 | O3: 0 | P3: 0 | Q3: 0
A4: AF 25413 | B4: 2 | D4: 477556 | E4: 0 | F4: 0 | G4: 477556 | H4: 0 | I4: AF 25413 | J4: 0 | K4: 477556 | L4: 0 | M4: 0 | N4: 0 | O4: 0 | P4: 0 | Q4: 0
A5: AF 25526 | B5: 0 | D5: 20998367 | E5: 0 | F5: 0 | G5: 20998367 | H5: 0 | I5: AF 25526 | J5: 0 | K5: 20998367 | L5: 0 | M5: 0 | N5: 0 | O5: 0 | P5: 0 | Q5: 0
A6: AF 820M | B6: 0 | D6: 21707133 | E6: 0 | F6: 0 | G6: 21707133 | H6: 0 | I6: AF 820M | J6: 0 | K6: 21707133 | L6: 0 | M6: 0 | N6: 0 | O6: 0 | P6: 0 | Q6: 0
A7: FF 185 | B7: 2 | D7: 21707132 | E7: 0 | F7: 0 | G7: 21707132 | H7: 0 | I7: FF 185 | J7: 0 | K7: 21707132 | L7: 0 | M7: 0 | N7: 0 | O7: 0 | P7: 0 | Q7: 0
A8: FS 19730 | B8: 6 | D8: 8193841 | E8: 0 | F8: 0 | G8: 8193841 | H8: 0 | I8: FS 19730 | J8: 0 | K8: 8193841 | L8: 0 | M8: 0 | N8: 0 | O8: 0 | P8: 0 | Q8: 0
A9: LF 678 | B9: 4 | D9: 8159975 | E9: 0 | F9: 0 | G9: 8159975 | H9: 0 | I9: LF 678 | J9: 4 | K9: 8159975 | L9: 0 | M9: 0 | N9: 0 | O9: 0 | P9: 0 | Q9: 0
A10: LF 701 | B10: 0 | D10: LF 3654 | E10: 0 | F10: 0 | G10: LF 3654 | H10: 0 | I10: LF 701 | J10: 1 | K10: LF 3654 | L10: 0 | M10: 0 | N10: 0 | O10: 0 | P10: 0 | Q10: 0
A11: P 821575(N) | B11: 0 | D11: FS 19573 | E11: 0 | F11: 0 | G11: FS 19573 | H11: 0 | I11: P 821575(N) | J11: 0 | K11: FS 19573 | L11: 0 | M11: 0 | N11: 0 | O11: 0 | P11: 0 | Q11: 0
A12: WF 2071 | B12: 11 | D12: FF 5135 | E12: 0 | F12: 0 | G12: FF 5135 | H12: 0 | I12: WF 2071 | J12: 0 | K12: FF 5135 | L12: 0 | M12: 0 | N12: 0 | O12: 0 | P12: 0 | Q12: 0
A13: WF 2073 | B13: 2 | D13: FS 19624 | E13: 0 | F13: 0 | G13: FS 19624 | H13: 0 | I13: WF 2073 | J13: 0 | K13: FS 19624 | L13: 0 | M13: 0 | N13: 0 | O13: 0 | P13: 0 | Q13: 0
A14: WF 2075 | B14: 6 | D14: LF 670 | E14: 0 | F14: 0 | G14: LF 670 | H14: 0 | I14: WF 2075 | J14: 0 | K14: LF 670 | L14: 0 | M14: 0 | N14: 0 | O14: 0 | P14: 0 | Q14: 0
A15: WF 2076 | B15: 6 | D15: FH 23600 | E15: 0 | F15: 0 | G15: FH 23600 | H15: 0 | I15: WF 2076 | J15: 0 | K15: FH 23600 | L15: 0 | M15: 0 | N15: 0 | O15: 0 | P15: 0 | Q15: 2
A16: WF 2126 | B16: 5 | D16: FF 4036 | E16: 0 | F16: 0 | G16: FF 4036 | H16: 0 | I16: WF 2126 | J16: 0 | K16: FF 4036 | L16: 0 | M16: 0 | N16: 0 | O16: 0 | P16: 0 | Q16: 0
A17: LF 3379 | B17: 0 | D17: LF 3356 | E17: 0 | F17: 0 | G17: LF 3356 | H17: 0 | I17: LF 3379 | J17: 0 | K17: LF 3356 | L17: 0 | M17: 0 | N17: 0 | O17: 0 | P17: 0 | Q17: 0
A18: 26560163 | B18: 0 | D18: LF 3642 | E18: 0 | F18: 0 | G18: LF 3642 | H18: 0 | I18: 691782 | J18: 0 | K18: LF 3642 | L18: 0 | M18: 0 | N18: 0 | O18: 0 | P18: 0 | Q18: 0
A19: 691782 | B19: 1.1 | D19: LF 3376 | E19: 0 | F19: 0 | G19: LF 3376 | H19: 0 | I19: 692250 | J19: 1.4 | K19: LF 3376 | L19: 0 | M19: 0 | N19: 0 | O19: 0 | P19: 0 | Q19: 0
A20: 692250 | B20: 5 | D20: 212013S | E20: 0 | F20: 0 | G20: 212013S | H20: 0 | I20: 692332 | J20: 83.05 | K20: 212013S | L20: 0 | M20: 0 | N20: 0 | O20: 0 | P20: 0 | Q20: 0
A21: 692332 | B21: 46.18 | D21: 256535 | E21: 0 | F21: 0 | G21: 256535 | H21: 0 | I21: 692334 | J21: 34 | K21: 256535 | L21: 0 | M21: 0 | N21: 0 | O21: 0 | P21: 0 | Q21: 0
A22: 692334 | B22: 10 | D22: 3A111-19130 | E22: 0 | F22: 0 | G22: 3A111-19130 | H22: 0 | I22: 692178 | J22: 0 | K22: 3A111-19130 | L22: 0 | M22: 0 | N22: 0 | O22: 0 | P22: 0 | Q22: 0
A23: 692178 | B23: 0 | D23: AA 2955 | E23: 0 | F23: 0 | G23: AA 2955 | H23: 0 | I23: 692027 | J23: 23 | K23: AA 2955 | L23: 0 | M23: 0 | N23: 0 | O23: 0 | P23: 0 | Q23: 0
A24: 692027 | B24: 37.78 | D24: AA 2956 | E24: 0 | F24: 0 | G24: AA 2956 | H24: 0 | I24: 692026 | J24: 3.48 | K24: AA 2956 | L24: 0 | M24: 0 | N24: 0 | O24: 0 | P24: 0 | Q24: 0
A25: 692026 | B25: 7 | D25: AF 1658K | E25: 0 | F25: 0 | G25: AF 1658K | H25: 0 | I25: 692079 | J25: 34 | K25: AF 1658K | L25: 0 | M25: 0 | N25: 0 | O25: 0 | P25: 0 | Q25: 0
A26: 692079 | B26: 51 | D26: AF 1791 | E26: 0 | F26: 0 | G26: AF 1791 | H26: 0 | I26: 692077 | J26: 3.88 | K26: AF 1791 | L26: 0 | M26: 0 | N26: 0 | O26: 0 | P26: 0 | Q26: 0
A27: 692077 | B27: 8 | D27: AF 1811 | E27: 0 | F27: 0 | G27: AF 1811 | H27: 0 | I27: 692030 | J27: 0 | K27: AF 1811 | L27: 0 | M27: 0 | N27: 0 | O27: 0 | P27: 0 | Q27: 0
A28: 692030 | B28: 1.28 | D28: AF 1828 | E28: 0 | F28: 0 | G28: AF 1828 | H28: 0 | I28: 686033 | J28: 18 | K28: AF 1828 | L28: 0 | M28: 0 | N28: 0 | O28: 0 | P28: 0 | Q28: 0
A29: 686033 | B29: 75 | D29: AF 1840 | E29: 0 | F29: 0 | G29: AF 1840 | H29: 0 | I29: 686032 | J29: 17 | K29: AF 1840 | L29: 0 | M29: 0 | N29: 0 | O29: 0 | P29: 0 | Q29: 0
A30: 686032 | B30: 400 | D30: AF 1841 | E30: 0 | F30: 0 | G30: AF 1841 | H30: 0 | I30: 690814 | J30: 0 | K30: AF 1841 | L30: 0 | M30: 0 | N30: 0 | O30: 0 | P30: 0 | Q30: 0
A31: 690814 | B31: 0 | D31: AF 1862 | E31: 0 | F31: 0 | G31: AF 1862 | H31: 0 | I31: 691848 | J31: 11 | K31: AF 1862 | L31: 0 | M31: 0 | N31: 0 | O31: 0 | P31: 0 | Q31: 0
A32: 691848 | B32: 1 | D32: AF 1863 | E32: 0 | F32: 0 | G32: AF 1863 | H32: 0 | I32: 691911 | J32: 0 | K32: AF 1863 | L32: 0 | M32: 0 | N32: 0 | O32: 0 | P32: 0 | Q32: 0
A33: 691911 | B33: 10 | D33: AF 1894 | E33: 0 | F33: 0 | G33: AF 1894 | H33: 0 | I33: 691781 | J33: 0 | K33: AF 1894 | L33: 0 | M33: 0 | N33: 0 | O33: 0 | P33: 0 | Q33: 0
A34: 691781 | B34: 19 | D34: AF 1902M | E34: 0 | F34: 0 | G34: AF 1902M | H34: 0 | I34: VOE15067197 | J34: 30 | K34: AF 1902M | L34: 0 | M34: 0 | N34: 0 | O34: 0 | P34: 0 | Q34: 0
A35: VOE15067197 | B35: 242.05 | D35: AF 1903M | E35: 0 | F35: 0 | G35: AF 1903M | H35: 0 | I35: VOE15067404 | J35: 11 | K35: AF 1903M | L35: 0 | M35: 0 | N35: 0 | O35: 0 | P35: 0 | Q35: 0
A36: VOE15067404 | B36: 34 | D36: AF 1913 | E36: 0 | F36: 0 | G36: AF 1913 | H36: 0 | I36: VOE15058186 | J36: 21 | K36: AF 1913 | L36: 0 | M36: 0 | N36: 0 | O36: 0 | P36: 0 | Q36: 0
A37: VOE15058186 | B37: 0 | D37: AF 1934M | E37: 0 | F37: 0 | G37: AF 1934M | H37: 0 | I37: VOE15058191 | J37: 17 | K37: AF 1934M | L37: 0 | M37: 0 | N37: 0 | O37: 0 | P37: 0 | Q37: 3
A38: VOE15058191 | B38: 66.98077 | D38: AF 1935M | E38: 0 | F38: 0 | G38: AF 1935M | H38: 0 | I38: VOE15067098 | J38: 6 | K38: AF 1935M | L38: 0 | M38: 0 | N38: 0 | O38: 0 | P38: 0 | Q38: 0
A39: VOE15067098 | B39: 92 | D39: AF 25064 | E39: 0 | F39: 0 | G39: AF 25064 | H39: 0 | I39: VOE15067157 | J39: 1 | K39: AF 25064 | L39: 0 | M39: 0 | N39: 0 | O39: 0 | P39: 0 | Q39: 0
A40: VOE15067157 | B40: 1 | D40: AF 25088 | E40: 0 | F40: 0 | G40: AF 25088 | H40: 0 | I40: VOE15058290 | J40: 18 | K40: AF 25088 | L40: 0 | M40: 0 | N40: 0 | O40: 0 | P40: 0 | Q40: 0
A41: VOE15058290 | B41: 1.8 | D41: AF 25125M | E41: 0 | F41: 0 | G41: AF 25125M | H41: 0 | I41: VOE15058299 | J41: 0 | K41: AF 25125M | L41: 0 | M41: 0 | N41: 0 | O41: 0 | P41: 0 | Q41: 0
A42: VOE15058299 | B42: 0 | D42: AF 25126M | E42: 0 | F42: 0 | G42: AF 25126M | H42: 0 | I42: VOE15067515 | J42: 41 | K42: AF 25126M | L42: 0 | M42: 0 | N42: 0 | O42: 0 | P42: 0 | Q42: 0
A43: VOE15067515 | B43: 23.025 | D43: AF 25267 | E43: 0 | F43: 0 | G43: AF 25267 | H43: 0 | I43: VOE15067522 | J43: 82 | K43: AF 25267 | L43: 0 | M43: 0 | N43: 0 | O43: 0 | P43: 0 | Q43: 0
A44: VOE15067522 | B44: 29.8 | D44: AF 25278 | E44: 0 | F44: 0 | G44: AF 25278 | H44: 0 | I44: VOE15067640 | J44: 17 | K44: AF 25278 | L44: 0 | M44: 0 | N44: 0 | O44: 0 | P44: 0 | Q44: 0
A45: VOE15067640 | B45: 16 | D45: AF 25291 | E45: 0 | F45: 0 | G45: AF 25291 | H45: 0 | I45: VOE15161234 | J45: 16 | K45: AF 25291 | L45: 0 | M45: 0 | N45: 0 | O45: 0 | P45: 0 | Q45: 0
A46: VOE15161234 | B46: 1.7777778 | D46: AF 25384 | E46: 0 | F46: 0 | G46: AF 25384 | H46: 0 | I46: 692070 | J46: 0 | K46: AF 25384 | L46: 0 | M46: 0 | N46: 0 | O46: 0 | P46: 0 | Q46: 0
A47: 692070 | B47: 1 | D47: AF 25412 | E47: 0 | F47: 0 | G47: AF 25412 | H47: 0 | I47: 692053 | J47: 209 | K47: AF 25412 | L47: 0 | M47: 0 | N47: 0 | O47: 0 | P47: 0 | Q47: 0
A48: 692053 | B48: 495.03889 | D48: AF 25413 | E48: 0 | F48: 0 | G48: AF 25413 | H48: 0 | I48: 692052 | J48: 93 | K48: AF 25413 | L48: 0 | M48: 0 | N48: 0 | O48: 0 | P48: 0 | Q48: 2
A49: 692052 | B49: 95 | D49: AF 25414 | E49: 0 | F49: 0 | G49: AF 25414 | H49: 0 | I49: 692172 | J49: 0 | K49: AF 25414 | L49: 0 | M49: 0 | N49: 0 | O49: 0 | P49: 0 | Q49: 0
A50: 692172 | B50: 0 | D50: AF 25438 | E50: 0 | F50: 0 | G50: AF 25438 | H50: 0 | I50: 692090 | J50: 0 | K50: AF 25438 | L50: 0 | M50: 0 | N50: 0 | O50: 0 | P50: 0 | Q50: 0
A51: 692090 | B51: 0 | D51: AF 25484 | E51: 0 | F51: 0 | G51: AF 25484 | H51: 0 | I51: 692335 | J51: 104 | K51: AF 25484 | L51: 0 | M51: 0 | N51: 0 | O51: 0 | P51: 0 | Q51: 0
A52: 692335 | B52: 107 | D52: AF 25492 | E52: 0 | F52: 0 | G52: AF 25492 | H52: 0 | I52: VOE15067629 | J52: 0 | K52: AF 25492 | L52: 0 | M52: 0 | N52: 0 | O52: 0 | P52: 0 | Q52: 0
A53: VOE15067629 | B53: 0 | D53: AF 25526 | E53: 0 | F53: 0 | G53: AF 25526 | H53: 0 | I53: VOE15143928 | J53: 0 | K53: AF 25526 | L53: 0 | M53: 0 | N53: 0 | O53: 0 | P53: 0 | Q53: 0
A54: VOE15143928 | B54: 6 | D54: AF 25539 | E54: 0 | F54: 0 | G54: AF 25539 | H54: 0 | I54: VOE15198387 | J54: 0 | K54: AF 25539 | L54: 0 | M54: 0 | N54: 0 | O54: 0 | P54: 0 | Q54: 0
A55: VOE15198387 | B55: 7 | D55: AF 25553 | E55: 0 | F55: 0 | G55: AF 25553 | H55: 0 | I55: 685850 | J55: 0 | K55: AF 25553 | L55: 0 | M55: 0 | N55: 0 | O55: 0 | P55: 0 | Q55: 0
A56: 685850 | B56: 3 | D56: AF 25555 | E56: 0 | F56: 0 | G56: AF 25555 | H56: 0 | I56: 692054 | J56: 270 | K56: AF 25555 | L56: 0 | M56: 0 | N56: 0 | O56: 0 | P56: 0 | Q56: 0
A57: 692054 | B57: 164 | D57: AF 25557 | E57: 0 | F57: 0 | G57: AF 25557 | H57: 0 | I57: 692082 | J57: 0 | K57: AF 25557 | L57: 0 | M57: 0 | N57: 0 | O57: 0 | P57: 0 | Q57: 0
A58: 692082 | B58: 0 | D58: AF 25589 | E58: 0 | F58: 0 | G58: AF 25589 | H58: 0 | I58: 724027 | J58: 0 | K58: AF 25589 | L58: 0 | M58: 0 | N58: 0 | O58: 0 | P58: 0 | Q58: 0
A59: 724027 | B59: 0 | D59: AF 25593 | E59: 0 | F59: 0 | G59: AF 25593 | H59: 0 | I59: 793317 | J59: 12 | K59: AF 25593 | L59: 0 | M59: 0 | N59: 0 | O59: 0 | P59: 0 | Q59: 0
A60: 793317 | B60: 25 | D60: AF 25618 | E60: 0 | F60: 0 | G60: AF 25618 | H60: 0 | I60: 692247 | J60: 1030 | K60: AF 25618 | L60: 0 | M60: 0 | N60: 0 | O60: 0 | P60: 0 | Q60: 0
A61: 692247 | B61: 3099 | D61: AF 25624 | E61: 0 | F61: 0 | G61: AF 25624 | H61: 0 | I61: 732728 | J61: 0 | K61: AF 25624 | L61: 0 | M61: 0 | N61: 0 | O61: 0 | P61: 0 | Q61: 0
A62: 732728 | B62: 6 | D62: AF 25708M | E62: 0 | F62: 0 | G62: AF 25708M | H62: 0 | I62: 692249 | J62: 1889 | K62: AF 25708M | L62: 0 | M62: 0 | N62: 0 | O62: 0 | P62: 0 | Q62: 0
A63: 692249 | B63: 6272 | D63: AF 25957 | E63: 0 | F63: 0 | G63: AF 25957 | H63: 0 | I63: 772588 | J63: 0 | K63: AF 25957 | L63: 0 | M63: 0 | N63: 0 | O63: 0 | P63: 0 | Q63: 0
A64: 772588 | B64: 0 | D64: AF 26207 | E64: 0 | F64: 0 | G64: AF 26207 | H64: 0 | I64: 724026 | J64: 11 | K64: AF 26207 | L64: 0 | M64: 0 | N64: 0 | O64: 0 | P64: 0 | Q64: 0
A65: 724026 | B65: 87 | D65: AF 26208 | E65: 0 | F65: 0 | G65: AF 26208 | H65: 0 | I65: 691970 | J65: 411 | K65: AF 26208 | L65: 0 | M65: 0 | N65: 0 | O65: 0 | P65: 0 | Q65: 0
A66: 691970 | B66: 281 | D66: AF 332 | E66: 0 | F66: 0 | G66: AF 332 | H66: 0 | I66: 691870 | J66: 0 | K66: AF 332 | L66: 0 | M66: 0 | N66: 0 | O66: 0 | P66: 0 | Q66: 0
A67: 691870 | B67: 313 | D67: AF 335M | E67: 0 | F67: 0 | G67: AF 335M | H67: 0 | I67: 692051 | J67: 0 | K67: AF 335M | L67: 0 | M67: 0 | N67: 0 | O67: 0 | P67: 0 | Q67: 0
... A79: 692099 | B79: 6 | D79: AF 4609 | E79: 0 | F79: 0 | G79: AF 4609 | H79: 0 | I79: 692333 | J79: 119 | K79: AF 4609 | L79: 0 | M79: 0 | N79: 0 | O79: 0 | P79: 0 | Q79: 0
A80: 692333 | B80: 14 | D80: AF 4701 | E80: 0 | F80: 0 | G80: AF 4701 | H80: 0 | I80: VOE15067446 | J80: 17 | K80: AF 4701 | L80: 0 | M80: 0 | N80: 0 | O80: 0 | P80: 0 | Q80: 0
A81: VOE15067446 | B81: 5 | D81: AF 4838 | E81: 0 | F81: 0 | G81: AF 4838 | H81: 0 | I81: 691849 | J81: 0 | K81: AF 4838 | L81: 0 | M81: 0 | N81: 0 | O81: 0 | P81: 0 | Q81: 0
A82: 691849 | B82: 1 | D82: AF 4840 | E82: 0 | F82: 0 | G82: AF 4840 | H82: 0 | I82: ZXEDRU1 | J82: 202 | K82: AF 4840 | L82: 0 | M82: 0 | N82: 0 | O82: 0 | P82: 0 | Q82: 0
A83: ZXEDRU1 | B83: 206 | D83: AF 4895 | E83: 0 | F83: 0 | G83: AF 4895 | H83: 0 | I83: 841092 | J83: 0 | K83: AF 4895 | L83: 0 | M83: 0 | N83: 0 | O83: 0 | P83: 0 | Q83: 0
A84: 841092 | B84: 8 | D84: AF 4896 | E84: 0 | F84: 0 | G84: AF 4896 | H84: 0 | I84: VOE17429515 | J84: 0 | K84: AF 4896 | L84: 0 | M84: 0 | N84: 0 | O84: 0 | P84: 0 | Q84: 0
A85: VOE17429515 | B85: 0 | D85: AF 4903 | E85: 0 | F85: 0 | G85: AF 4903 | H85: 0 | I85: 804723 | J85: 0 | K85: AF 4903 | L85: 0 | M85: 0 | N85: 0 | O85: 0 | P85: 0 | Q85: 0
A86: 804723 | B86: 0.13333333 | D86: AF 490M | E86: 0 | F86: 0 | G86: AF 490M | H86: 0 | I86: 795005 | J86: 19 | K86: AF 490M | L86: 0 | M86: 0 | N86: 0 | O86: 0 | P86: 0 | Q86: 0
A87: 795005 | B87: 2 | D87: AF 4939 | E87: 0 | F87: 0 | G87: AF 4939 | H87: 0 | I87: 841078 | J87: 6 | K87: AF 4939 | L87: 0 | M87: 0 | N87: 0 | O87: 0 | P87: 0 | Q87: 0
A88: 841078 | B88: 4 | D88: AF 4970 | E88: 0 | F88: 0 | G88: AF 4970 | H88: 0 | I88: 3140015-120 | J88: 0 | K88: AF 4970 | L88: 0 | M88: 0 | N88: 0 | O88: 0 | P88: 0 | Q88: 0
A89: 3140015-120 | B89: 19 | D89: AF 820M | E89: 0 | F89: 0 | G89: AF 820M | H89: 0 | I89: 844573 | J89: 2075 | K89: AF 820M | L89: 0 | M89: 0 | N89: 0 | O89: 0 | P89: 0 | Q89: 0
A90: 844573 | B90: 4186 | D90: AF 827 | E90: 0 | F90: 0 | G90: AF 827 | H90: 0 | I90: Turbine Oil ISO VG46 | J90: 0 | K90: AF 827 | L90: 0 | M90: 0 | N90: 0 | O90: 0 | P90: 0 | Q90: 0
A91: Turbine Oil ISO VG46 | B91: 2 | D91: AF 875M | E91: 0 | F91: 0 | G91: AF 875M | H91: 0 | I91: Hydraulic Oil ISO 46 | J91: 0 | K91: AF 875M | L91: 0 | M91: 0 | N91: 0 | O91: 0 | P91: 0 | Q91: 0
A92: Hydraulic Oil ISO 46 | B92: 2 | D92: AF 876 | E92: 0 | F92: 0 | G92: AF 876 | H92: 0 | I92: Engine Oil 15W40 CI-4 | J92: 0 | K92: AF 876 | L92: 0 | M92: 0 | N92: 0 | O92: 0 | P92: 0 | Q92: 0
A93: Engine Oil 15W40 CI-4 | B93: 4 | D93: AF 890 | E93: 0 | F93: 0 | G93: AF 890 | H93: 0 | I93: Gear Oil SAE 90 | J93: 0 | K93: AF 890 | L93: 0 | M93: 0 | N93: 0 | O93: 0 | P93: 0 | Q93: 0
A94: Gear Oil SAE 90 | B94: 3 | D94: AF 891 | E94: 0 | F94: 0 | G94: AF 891 | H94: 0 | I94: Grease EP-2 | J94: 0 | K94: AF 891 | L94: 0 | M94: 0 | N94: 0 | O94: 0 | P94: 0 | Q94: 0
A95: Grease EP-2 | B95: 2 | D95: AF 928M | E95: 0 | F95: 0 | G95: AF 928M | H95: 0 | I95: Gear Oil SAE 40 | J95: 0 | K95: AF 928M | L95: 0 | M95: 0 | N95: 0 | O95: 0 | P95: 0 | Q95: 0
A96: Gear Oil SAE 40 | B96: 1 | D96: AF 971 | E96: 0 | F96: 0 | G96: AF 971 | H96: 0 | I96: Turbine Oil VG 46 | J96: 0 | K96: AF 971 | L96: 0 | M96: 0 | N96: 0 | O96: 0 | P96: 0 | Q96: 0
A97: Turbine Oil VG 46 | B97: 1 | D97: AF 975M | E97: 0 | F97: 0 | G97: AF 975M | H97: 0 | I97: Gear Oil SAE 140 | J97: 0 | K97: AF 975M | L97: 0 | M97: 0 | N97: 0 | O97: 0 | P97: 0 | Q97: 0
A98: Gear Oil SAE 140 | B98: 1 | D98: AH 1135M | E98: 0 | F98: 0 | G98: AH 1135M | H98: 0 | I98: Turbine Oil VG 32 | J98: 0 | K98: AH 1135M | L98: 0 | M98: 0 | N98: 0 | O98: 0 | P98: 0 | Q98: 0
A99: Turbine Oil VG 32 | B99: 1 | D99: AH 1138 | E99: 0 | F99: 0 | G99: AH 1138 | H99: 0 | I99: Gear Oil SAE 50 | J99: 0 | K99: AH 1138 | L99: 0 | M99: 0 | N99: 0 | O99: 0 | P99: 0 | Q99: 0
A100: Gear Oil SAE 50 | B100: 1 | D100: AH 1183 | E100: 0 | F100: 0 | G100: AH 1183 | H100: 0 | I100: Turbine Oil ISO VG32 | J100: 0 | K100: AH 1183 | L100: 0 | M100: 0 | N100: 0 | O100: 0 | P100: 0 | Q100: 0
A101: Turbine Oil ISO VG32 | B101: 2 | D101: AH 1197 | E101: 0 | F101: 0 | G101: AH 1197 | H101: 0 | I101: SRA15036348 | J101: 0 | K101: AH 1197 | L101: 0 | M101: 0 | N101: 0 | O101: 0 | P101: 0 | Q101: 0
A102: SRA15036348 | B102: 89 | D102: FF 105 | E102: 0 | F102: 0 | G102: FF 105 | H102: 0 | I102: KTZ43.7, 380V/50Hz | J102: 0 | K102: FF 105 | L102: 0 | M102: 0 | N102: 0 | O102: 0 | P102: 0 | Q102: 0
... A108: 022748-18 | B108: 1 | D108: FF 234 | E108: 0 | F108: 0 | G108: FF 234 | H108: 0 | I108: 032 11117 | J108: 0 | K108: FF 234 | L108: 0 | M108: 0 | N108: 0 | O108: 0 | P108: 0 | Q108: 0
A109: 032 11117 | B109: 3 | D109: FF 246 | E109: 0 | F109: 0 | G109: FF 246 | H109: 0 | I109: 2200052 | J109: 0 | K109: FF 246 | L109: 0 | M109: 0 | N109: 0 | O109: 0 | P109: 0 | Q109: 0
A110: 2200052 | B110: 2 | D110: FF 42000 | E110: 0 | F110: 0 | G110: FF 42000 | H110: 0 | I110: 2200053 | J110: 0 | K110: FF 42000 | L110: 0 | M110: 0 | N110: 0 | O110: 0 | P110: 0 | Q110: 0
A111: 2200053 | B111: 1 | D111: FF 42003 | E111: 0 | F111: 0 | G111: FF 42003 | H111: 0 | I111: 2200055 | J111: 0 | K111: FF 42003 | L111: 0 | M111: 0 | N111: 0 | O111: 0 | P111: 0 | Q111: 0
A112: 2200055 | B112: 1 | D112: FF 5021 | E112: 0 | F112: 0 | G112: FF 5021 | H112: 0 | I112: 50 PUMA2.15S | J112: 0 | K112: FF 5021 | L112: 0 | M112: 0 | N112: 0 | O112: 0 | P112: 0 | Q112: 0
A113: 50 PUMA2.15S | B113: 14 | D113: FF 5029 | E113: 0 | F113: 0 | G113: FF 5029 | H113: 0 | I113: 801-02155223 | J113: 0 | K113: FF 5029 | L113: 0 | M113: 0 | N113: 0 | O113: 0 | P113: 0 | Q113: 0
A114: 801-02155223 | B114: 1 | D114: FF 5030 | E114: 0 | F114: 0 | G114: FF 5030 | H114: 0 | I114: 801-02155412-9 | J114: 0 | K114: FF 5030 | L114: 0 | M114: 0 | N114: 0 | O114: 0 | P114: 0 | Q114: 0
A115: 801-02155412-9 | B115: 3 | D115: FF 5036 | E115: 0 | F115: 0 | G115: FF 5036 | H115: 0 | I115: Coupling 2 | J115: 0 | K115: FF 5036 | L115: 0 | M115: 0 | N115: 0 | O115: 0 | P115: 0 | Q115: 0
A116: Coupling 2 | B116: 5 | D116: FF 5037 | E116: 0 | F116: 0 | G116: FF 5037 | H116: 0 | I116: Coupling 3 | J116: 0 | K116: FF 5037 | L116: 0 | M116: 0 | N116: 0 | O116: 0 | P116: 0 | Q116: 0
...

Sheet Sheet1
A1: FS 19624 | B1: =C1+D1 -> 0 | C1: 0 | D1: =VLOOKUP(A1,Sheet2!A:B,2,) -> 0 | E1: FS 19624 | F1: =G1+H1 -> 0 | G1: 0 | H1: 0
A2: FH 23600 | B2: =C2+D2 -> 2 | C2: 0 | D2: =VLOOKUP(A2,Sheet2!A:B,2,) -> 2 | E2: FH 23600 | F2: =G2+H2 -> 0 | G2: 0 | H2: 0
A3: AF 1934M | B3: =C3+D3 -> 3 | C3: 0 | D3: =VLOOKUP(A3,Sheet2!A:B,2,) -> 3 | E3: AF 1934M | F3: =G3+H3 -> 0 | G3: 0 | H3: 0
A4: AF 25413 | B4: =C4+D4 -> 2 | C4: 0 | D4: =VLOOKUP(A4,Sheet2!A:B,2,) -> 2 | E4: AF 25413 | F4: =G4+H4 -> 0 | G4: 0 | H4: 0
A5: AF 25526 | B5: =C5+D5 -> 0 | C5: 0 | D5: =VLOOKUP(A5,Sheet2!A:B,2,) -> 0 | E5: AF 25526 | F5: =G5+H5 -> 0 | G5: 0 | H5: 0
A6: AF 820M | B6: =C6+D6 -> 0 | C6: 0 | D6: =VLOOKUP(A6,Sheet2!A:B,2,) -> 0 | E6: AF 820M | F6: =G6+H6 -> 0 | G6: 0 | H6: 0
A7: FF 185 | B7: =C7+D7 -> 2 | C7: 0 | D7: =VLOOKUP(A7,Sheet2!A:B,2,) -> 2 | E7: FF 185 | F7: =G7+H7 -> 0 | G7: 0 | H7: 0
A8: FS 19730 | B8: =C8+D8 -> 6 | C8: 0 | D8: =VLOOKUP(A8,Sheet2!A:B,2,) -> 6 | E8: FS 19730 | F8: =G8+H8 -> 0 | G8: 0 | H8: 0
A9: LF 678 | B9: =C9+D9 -> 8 | C9: 4 | D9: =VLOOKUP(A9,Sheet2!A:B,2,) -> 4 | E9: LF 678 | F9: =G9+H9 -> 4 | G9: 0 | H9: 4
A10: LF 701 | B10: =C10+D10 -> 1 | C10: 1 | D10: =VLOOKUP(A10,Sheet2!A:B,2,) -> 0 | E10: LF 701 | F10: =G10+H10 -> 1 | G10: 0 | H10: 1
A11: P 821575(N) | B11: =C11+D11 -> 0 | C11: 0 | D11: =VLOOKUP(A11,Sheet2!A:B,2,) -> 0 | E11: P 821575(N) | F11: =G11+H11 -> 0 | G11: 0 | H11: 0
A12: WF 2071 | B12: =C12+D12 -> 11 | C12: 0 | D12: =VLOOKUP(A12,Sheet2!A:B,2,) -> 11 | E12: WF 2071 | F12: =G12+H12 -> 0 | G12: 0 | H12: 0
... A17: LF 3379 | B17: =C17+D17 -> 0 | C17: 0 | D17: =VLOOKUP(A17,Sheet2!A:B,2,) -> 0 | E17: LF 3379 | F17: =G17+H17 -> 0 | G17: 0 | H17: 0
A18: 691782 | B18: =C18+D18 -> 1.1 | C18: 0 | D18: =VLOOKUP(A18,Sheet2!A:B,2,) -> 1.1 | E18: 26560163 | F18: =G18+H18 -> 1 | G18: 0 | H18: 1
A19: 692250 | B19: =C19+D19 -> 6.67 | C19: 1.67 | D19: =VLOOKUP(A19,Sheet2!A:B,2,) -> 5 | E19: 691782 | F19: =G19+H19 -> 1.1 | G19: 1.1 | H19: 0
A20: 692332 | B20: =C20+D20 -> 78.23 | C20: 32.05 | D20: =VLOOKUP(A20,Sheet2!A:B,2,) -> 46.18 | E20: 692250 | F20: =G20+H20 -> 1.4 | G20: 0 | H20: 1.4
A21: 692334 | B21: =C21+D21 -> 65 | C21: 55 | D21: =VLOOKUP(A21,Sheet2!A:B,2,) -> 10 | E21: 692332 | F21: =G21+H21 -> 111.23 | G21: 28.18 | H21: 83.05
A22: 692178 | B22: =C22+D22 -> 0 | C22: 0 | D22: =VLOOKUP(A22,Sheet2!A:B,2,) -> 0 | E22: 692334 | F22: =G22+H22 -> 34 | G22: 0 | H22: 34
A23: 692027 | B23: =C23+D23 -> 82.78 | C23: 45 | D23: =VLOOKUP(A23,Sheet2!A:B,2,) -> 37.78 | E23: 692178 | F23: =G23+H23 -> 0 | G23: 0 | H23: 0
A24: 692026 | B24: =C24+D24 -> 10.58 | C24: 3.58 | D24: =VLOOKUP(A24,Sheet2!A:B,2,) -> 7 | E24: 692027 | F24: =G24+H24 -> 23.78 | G24: 0.78 | H24: 23
A25: 692079 | B25: =C25+D25 -> 84 | C25: 33 | D25: =VLOOKUP(A25,Sheet2!A:B,2,) -> 51 | E25: 692026 | F25: =G25+H25 -> 8.48 | G25: 5 | H25: 3.48
A26: 692077 | B26: =C26+D26 -> 10.88 | C26: 2.88 | D26: =VLOOKUP(A26,Sheet2!A:B,2,) -> 8 | E26: 692079 | F26: =G26+H26 -> 74 | G26: 40 | H26: 34
A27: 692030 | B27: =C27+D27 -> 4.28 | C27: 3 | D27: =VLOOKUP(A27,Sheet2!A:B,2,) -> 1.28 | E27: 692077 | F27: =G27+H27 -> 7.88 | G27: 4 | H27: 3.88
A28: 686033 | B28: =C28+D28 -> 98 | C28: 23 | D28: =VLOOKUP(A28,Sheet2!A:B,2,) -> 75 | E28: 692030 | F28: =G28+H28 -> 0.28 | G28: 0.28 | H28: 0
A29: 686032 | B29: =C29+D29 -> 406 | C29: 6 | D29: =VLOOKUP(A29,Sheet2!A:B,2,) -> 400 | E29: 686033 | F29: =G29+H29 -> 65 | G29: 47 | H29: 18
... A33: 691781 | B33: =C33+D33 -> 20 | C33: 1 | D33: =VLOOKUP(A33,Sheet2!A:B,2,) -> 19 | E33: 691911 | F33: =G33+H33 -> 0 | G33: 0 | H33: 0
A34: VOE15067197 | B34: =C34+D34 -> 494.05 | C34: 252 | D34: =VLOOKUP(A34,Sheet2!A:B,2,) -> 242.05 | E34: 691781 | F34: =G34+H34 -> 0 | G34: 0 | H34: 0
A35: VOE15067404 | B35: =C35+D35 -> 90 | C35: 56 | D35: =VLOOKUP(A35,Sheet2!A:B,2,) -> 34 | E35: VOE15067197 | F35: =G35+H35 -> 30.05 | G35: 0.05 | H35: 30
A36: VOE15058186 | B36: =C36+D36 -> 37 | C36: 37 | D36: =VLOOKUP(A36,Sheet2!A:B,2,) -> 0 | E36: VOE15067404 | F36: =G36+H36 -> 56 | G36: 45 | H36: 11
A37: VOE15058191 | B37: =C37+D37 -> 181.98077 | C37: 115 | D37: =VLOOKUP(A37,Sheet2!A:B,2,) -> 66.98077 | E37: VOE15058186 | F37: =G37+H37 -> 28 | G37: 7 | H37: 21
A38: VOE15067098 | B38: =C38+D38 -> 100 | C38: 8 | D38: =VLOOKUP(A38,Sheet2!A:B,2,) -> 92 | E38: VOE15058191 | F38: =G38+H38 -> 34.48077 | G38: 17.48077 | H38: 17
A39: VOE15067157 | B39: =C39+D39 -> 2 | C39: 1 | D39: =VLOOKUP(A39,Sheet2!A:B,2,) -> 1 | E39: VOE15067098 | F39: =G39+H39 -> 56 | G39: 50 | H39: 6
A40: VOE15058290 | B40: =C40+D40 -> 32.8 | C40: 31 | D40: =VLOOKUP(A40,Sheet2!A:B,2,) -> 1.8 | E40: VOE15067157 | F40: =G40+H40 -> 2 | G40: 1 | H40: 1
A41: VOE15058299 | B41: =C41+D41 -> 0 | C41: 0 | D41: =VLOOKUP(A41,Sheet2!A:B,2,) -> 0 | E41: VOE15058290 | F41: =G41+H41 -> 18.8 | G41: 0.8 | H41: 18
A42: VOE15067515 | B42: =C42+D42 -> 105.025 | C42: 82 | D42: =VLOOKUP(A42,Sheet2!A:B,2,) -> 23.025 | E42: VOE15058299 | F42: =G42+H42 -> 0 | G42: 0 | H42: 0
A43: VOE15067522 | B43: =C43+D43 -> 142.8 | C43: 113 | D43: =VLOOKUP(A43,Sheet2!A:B,2,) -> 29.8 | E43: VOE15067515 | F43: =G43+H43 -> 41.025 | G43: 0.025 | H43: 41
A44: VOE15067640 | B44: =C44+D44 -> 32 | C44: 16 | D44: =VLOOKUP(A44,Sheet2!A:B,2,) -> 16 | E44: VOE15067522 | F44: =G44+H44 -> 98.8 | G44: 16.8 | H44: 82
A45: VOE15161234 | B45: =C45+D45 -> 27.777778 | C45: 26 | D45: =VLOOKUP(A45,Sheet2!A:B,2,) -> 1.7777778 | E45: VOE15067640 | F45: =G45+H45 -> 31 | G45: 14 | H45: 17
A46: 692070 | B46: =C46+D46 -> 1 | C46: 0 | D46: =VLOOKUP(A46,Sheet2!A:B,2,) -> 1 | E46: VOE15161234 | F46: =G46+H46 -> 16.777778 | G46: 0.77777778 | H46: 16
A47: 692053 | B47: =C47+D47 -> 645.03889 | C47: 150 | D47: =VLOOKUP(A47,Sheet2!A:B,2,) -> 495.03889 | E47: 692070 | F47: =G47+H47 -> 1 | G47: 1 | H47: 0
A48: 692052 | B48: =C48+D48 -> 166 | C48: 71 | D48: =VLOOKUP(A48,Sheet2!A:B,2,) -> 95 | E48: 692053 | F48: =G48+H48 -> 476.03889 | G48: 267.03889 | H48: 209
A49: 692172 | B49: =C49+D49 -> 0 | C49: 0 | D49: =VLOOKUP(A49,Sheet2!A:B,2,) -> 0 | E49: 692052 | F49: =G49+H49 -> 94 | G49: 1 | H49: 93
A50: 692090 | B50: =C50+D50 -> 0 | C50: 0 | D50: =VLOOKUP(A50,Sheet2!A:B,2,) -> 0 | E50: 692172 | F50: =G50+H50 -> 0 | G50: 0 | H50: 0
A51: 692335 | B51: =C51+D51 -> 179 | C51: 72 | D51: =VLOOKUP(A51,Sheet2!A:B,2,) -> 107 | E51: 692090 | F51: =G51+H51 -> 0 | G51: 0 | H51: 0
A52: VOE15067629 | B52: =C52+D52 -> 0 | C52: 0 | D52: =VLOOKUP(A52,Sheet2!A:B,2,) -> 0 | E52: 692335 | F52: =G52+H52 -> 116 | G52: 12 | H52: 104
A53: VOE15143928 | B53: =C53+D53 -> 6 | C53: 0 | D53: =VLOOKUP(A53,Sheet2!A:B,2,) -> 6 | E53: VOE15067629 | F53: =G53+H53 -> 0 | G53: 0 | H53: 0
A54: VOE15198387 | B54: =C54+D54 -> 7 | C54: 0 | D54: =VLOOKUP(A54,Sheet2!A:B,2,) -> 7 | E54: VOE15143928 | F54: =G54+H54 -> 58 | G54: 58 | H54: 0
A55: 685850 | B55: =C55+D55 -> 3 | C55: 0 | D55: =VLOOKUP(A55,Sheet2!A:B,2,) -> 3 | E55: VOE15198387 | F55: =G55+H55 -> 0 | G55: 0 | H55: 0
A56: 692054 | B56: =C56+D56 -> 277 | C56: 113 | D56: =VLOOKUP(A56,Sheet2!A:B,2,) -> 164 | E56: 685850 | F56: =G56+H56 -> 0 | G56: 0 | H56: 0
A57: 692082 | B57: =C57+D57 -> 0 | C57: 0 | D57: =VLOOKUP(A57,Sheet2!A:B,2,) -> 0 | E57: 692054 | F57: =G57+H57 -> 290 | G57: 20 | H57: 270
A58: 724027 | B58: =C58+D58 -> 0 | C58: 0 | D58: =VLOOKUP(A58,Sheet2!A:B,2,) -> 0 | E58: 692082 | F58: =G58+H58 -> 0 | G58: 0 | H58: 0
A59: 793317 | B59: =C59+D59 -> 34 | C59: 9 | D59: =VLOOKUP(A59,Sheet2!A:B,2,) -> 25 | E59: 724027 | F59: =G59+H59 -> 0 | G59: 0 | H59: 0
A60: 692247 | B60: =C60+D60 -> 5990 | C60: 2891 | D60: =VLOOKUP(A60,Sheet2!A:B,2,) -> 3099 | E60: 793317 | F60: =G60+H60 -> 12 | G60: 0 | H60: 12
A61: 732728 | B61: =C61+D61 -> 6 | C61: 0 | D61: =VLOOKUP(A61,Sheet2!A:B,2,) -> 6 | E61: 692247 | F61: =G61+H61 -> 1052 | G61: 22 | H61: 1030
A62: 692249 | B62: =C62+D62 -> 9298 | C62: 3026 | D62: =VLOOKUP(A62,Sheet2!A:B,2,) -> 6272 | E62: 732728 | F62: =G62+H62 -> 0 | G62: 0 | H62: 0
A63: 772588 | B63: =C63+D63 -> 0 | C63: 0 | D63: =VLOOKUP(A63,Sheet2!A:B,2,) -> 0 | E63: 692249 | F63: =G63+H63 -> 1890 | G63: 1 | H63: 1889
A64: 724026 | B64: =C64+D64 -> 89 | C64: 2 | D64: =VLOOKUP(A64,Sheet2!A:B,2,) -> 87 | E64: 772588 | F64: =G64+H64 -> 0 | G64: 0 | H64: 0
A65: 691970 | B65: =C65+D65 -> 608 | C65: 327 | D65: =VLOOKUP(A65,Sheet2!A:B,2,) -> 281 | E65: 724026 | F65: =G65+H65 -> 11 | G65: 0 | H65: 11
A66: 691870 | B66: =C66+D66 -> 313 | C66: 0 | D66: =VLOOKUP(A66,Sheet2!A:B,2,) -> 313 | E66: 691970 | F66: =G66+H66 -> 411 | G66: 0 | H66: 411
A67: 692051 | B67: =C67+D67 -> 251 | C67: 0 | D67: =VLOOKUP(A67,Sheet2!A:B,2,) -> 251 | E67: 691870 | F67: =G67+H67 -> 301 | G67: 301 | H67: 0
... A79: 692333 | B79: =C79+D79 -> 127 | C79: 113 | D79: =VLOOKUP(A79,Sheet2!A:B,2,) -> 14 | E79: 692099 | F79: =G79+H79 -> 6 | G79: 6 | H79: 0
A80: VOE15067446 | B80: =C80+D80 -> 41 | C80: 36 | D80: =VLOOKUP(A80,Sheet2!A:B,2,) -> 5 | E80: 692333 | F80: =G80+H80 -> 119 | G80: 0 | H80: 119
A81: 691849 | B81: =C81+D81 -> 1 | C81: 0 | D81: =VLOOKUP(A81,Sheet2!A:B,2,) -> 1 | E81: VOE15067446 | F81: =G81+H81 -> 27 | G81: 10 | H81: 17
A82: ZXEDRU1 | B82: =C82+D82 -> 440 | C82: 234 | D82: =VLOOKUP(A82,Sheet2!A:B,2,) -> 206 | E82: 691849 | F82: =G82+H82 -> 1 | G82: 1 | H82: 0
A83: 841092 | B83: =C83+D83 -> 8 | C83: 0 | D83: =VLOOKUP(A83,Sheet2!A:B,2,) -> 8 | E83: ZXEDRU1 | F83: =G83+H83 -> 299 | G83: 97 | H83: 202
A84: VOE17429515 | B84: =C84+D84 -> 0 | C84: 0 | D84: =VLOOKUP(A84,Sheet2!A:B,2,) -> 0 | E84: 841092 | F84: =G84+H84 -> 0 | G84: 0 | H84: 0
A85: 804723 | B85: =C85+D85 -> 0.13333333 | C85: 0 | D85: =VLOOKUP(A85,Sheet2!A:B,2,) -> 0.13333333 | E85: VOE17429515 | F85: =G85+H85 -> 0 | G85: 0 | H85: 0
A86: 795005 | B86: =C86+D86 -> 45 | C86: 43 | D86: =VLOOKUP(A86,Sheet2!A:B,2,) -> 2 | E86: 804723 | F86: =G86+H86 -> -7.5772721e-15 | G86: -7.5772721e-15 | H86: 0
A87: 841078 | B87: =C87+D87 -> 52 | C87: 48 | D87: =VLOOKUP(A87,Sheet2!A:B,2,) -> 4 | E87: 795005 | F87: =G87+H87 -> 20 | G87: 1 | H87: 19
A88: 3140015-120 | B88: =C88+D88 -> 21 | C88: 2 | D88: =VLOOKUP(A88,Sheet2!A:B,2,) -> 19 | E88: 841078 | F88: =G88+H88 -> 6 | G88: 0 | H88: 6
A89: 844573 | B89: =C89+D89 -> 7634 | C89: 3448 | D89: =VLOOKUP(A89,Sheet2!A:B,2,) -> 4186 | E89: 3140015-120 | F89: =G89+H89 -> 17 | G89: 17 | H89: 0
A90: Turbine Oil ISO VG46 | B90: =C90+D90 -> 2 | C90: 0 | D90: =VLOOKUP(A90,Sheet2!A:B,2,) -> 2 | E90: 844573 | F90: =G90+H90 -> 2075 | G90: 0 | H90: 2075
A91: Hydraulic Oil ISO 46 | B91: =C91+D91 -> 2 | C91: 0 | D91: =VLOOKUP(A91,Sheet2!A:B,2,) -> 2 | E91: Turbine Oil ISO VG46 | F91: =G91+H91 -> 0 | G91: 0 | H91: 0
A92: Engine Oil 15W40 CI-4 | B92: =C92+D92 -> 4 | C92: 0 | D92: =VLOOKUP(A92,Sheet2!A:B,2,) -> 4 | E92: Hydraulic Oil ISO 46 | F92: =G92+H92 -> 0 | G92: 0 | H92: 0
A93: Gear Oil SAE 90 | B93: =C93+D93 -> 3 | C93: 0 | D93: =VLOOKUP(A93,Sheet2!A:B,2,) -> 3 | E93: Engine Oil 15W40 CI-4 | F93: =G93+H93 -> 0 | G93: 0 | H93: 0
A94: Grease EP-2 | B94: =C94+D94 -> 2 | C94: 0 | D94: =VLOOKUP(A94,Sheet2!A:B,2,) -> 2 | E94: Gear Oil SAE 90 | F94: =G94+H94 -> 0 | G94: 0 | H94: 0
A95: Gear Oil SAE 40 | B95: =C95+D95 -> 1 | C95: 0 | D95: =VLOOKUP(A95,Sheet2!A:B,2,) -> 1 | E95: Grease EP-2 | F95: =G95+H95 -> 0 | G95: 0 | H95: 0
A96: Turbine Oil VG 46 | B96: =C96+D96 -> 1 | C96: 0 | D96: =VLOOKUP(A96,Sheet2!A:B,2,) -> 1 | E96: Gear Oil SAE 40 | F96: =G96+H96 -> 0 | G96: 0 | H96: 0
A97: Gear Oil SAE 140 | B97: =C97+D97 -> 1 | C97: 0 | D97: =VLOOKUP(A97,Sheet2!A:B,2,) -> 1 | E97: Turbine Oil VG 46 | F97: =G97+H97 -> 0 | G97: 0 | H97: 0
A98: Turbine Oil VG 32 | B98: =C98+D98 -> 1 | C98: 0 | D98: =VLOOKUP(A98,Sheet2!A:B,2,) -> 1 | E98: Gear Oil SAE 140 | F98: =G98+H98 -> 0 | G98: 0 | H98: 0
A99: Gear Oil SAE 50 | B99: =C99+D99 -> 1 | C99: 0 | D99: =VLOOKUP(A99,Sheet2!A:B,2,) -> 1 | E99: Turbine Oil VG 32 | F99: =G99+H99 -> 0 | G99: 0 | H99: 0
A100: Turbine Oil ISO VG32 | B100: =C100+D100 -> 2 | C100: 0 | D100: =VLOOKUP(A100,Sheet2!A:B,2,) -> 2 | E100: Gear Oil SAE 50 | F100: =G100+H100 -> 0 | G100: 0 | H100: 0
A101: SRA15036348 | B101: =C101+D101 -> 89 | C101: 0 | D101: =VLOOKUP(A101,Sheet2!A:B,2,) -> 89 | E101: Turbine Oil ISO VG32 | F101: =G101+H101 -> 0 | G101: 0 | H101: 0
A102: KTZ43.7, 380V/50Hz | B102: =C102+D102 -> 2 | C102: 0 | D102: =VLOOKUP(A102,Sheet2!A:B,2,) -> 2 | E102: SRA15036348 | F102: =G102+H102 -> 89 | G102: 89 | H102: 0
... A108: 032 11117 | B108: =C108+D108 -> 3 | C108: 0 | D108: =VLOOKUP(A108,Sheet2!A:B,2,) -> 3 | E108: 022748-18 | F108: =G108+H108 -> 1 | G108: 1 | H108: 0
A109: 2200052 | B109: =C109+D109 -> 2 | C109: 0 | D109: =VLOOKUP(A109,Sheet2!A:B,2,) -> 2 | E109: 032 11117 | F109: =G109+H109 -> 3 | G109: 3 | H109: 0
A110: 2200053 | B110: =C110+D110 -> 1 | C110: 0 | D110: =VLOOKUP(A110,Sheet2!A:B,2,) -> 1 | E110: 2200052 | F110: =G110+H110 -> 2 | G110: 2 | H110: 0
A111: 2200055 | B111: =C111+D111 -> 1 | C111: 0 | D111: =VLOOKUP(A111,Sheet2!A:B,2,) -> 1 | E111: 2200053 | F111: =G111+H111 -> 1 | G111: 1 | H111: 0
A112: 50 PUMA2.15S | B112: =C112+D112 -> 14 | C112: 0 | D112: =VLOOKUP(A112,Sheet2!A:B,2,) -> 14 | E112: 2200055 | F112: =G112+H112 -> 1 | G112: 1 | H112: 0
A113: 801-02155223 | B113: =C113+D113 -> 1 | C113: 0 | D113: =VLOOKUP(A113,Sheet2!A:B,2,) -> 1 | E113: 50 PUMA2.15S | F113: =G113+H113 -> 12 | G113: 12 | H113: 0
A114: 801-02155412-9 | B114: =C114+D114 -> 3 | C114: 0 | D114: =VLOOKUP(A114,Sheet2!A:B,2,) -> 3 | E114: 801-02155223 | F114: =G114+H114 -> 1 | G114: 1 | H114: 0
A115: Coupling 2 | B115: =C115+D115 -> 5 | C115: 0 | D115: =VLOOKUP(A115,Sheet2!A:B,2,) -> 5 | E115: 801-02155412-9 | F115: =G115+H115 -> 3 | G115: 3 | H115: 0
A116: Coupling 3 | B116: =C116+D116 -> 5 | C116: 0 | D116: =VLOOKUP(A116,Sheet2!A:B,2,) -> 5 | E116: Coupling 2 | F116: =G116+H116 -> 5 | G116: 5 | H116: 0
A117: LSC1.4S, 220/50Hz | B117: =C117+D117 -> 3 | C117: 2 | D117: =VLOOKUP(A117,Sheet2!A:B,2,) -> 1 | E117: Coupling 3 | F117: =G117+H117 -> 5 | G117: 5 | H117: 0
A118: LSP1.4S, 220/50Hz | B118: =C118+D118 -> 0 | C118: 0 | D118: =VLOOKUP(A118,Sheet2!A:B,2,) -> 0 | E118: LSC1.4S, 220/50Hz | F118: =G118+H118 -> 3 | G118: 1 | H118: 2
A119: TE5-80H | B119: =C119+D119 -> 0 | C119: 0 | D119: =VLOOKUP(A119,Sheet2!A:B,2,) -> 0 | E119: LSP1.4S, 220/50Hz | F119: =G119+H119 -> 0 | G119: 0 | H119: 0
A120: TE5-50H | B120: =C120+D120 -> 0 | C120: 0 | D120: =VLOOKUP(A120,Sheet2!A:B,2,) -> 0 | E120: TE5-80H | F120: =G120+H120 -> 0 | G120: 0 | H120: 0
A121: LH 311 (coupling 3 inch) | B121: =C121+D121 -> 9 | C121: 0 | D121: =VLOOKUP(A121,Sheet2!A:B,2,) -> 9 | E121: TE5-50H | F121: =G121+H121 -> 0 | G121: 0 | H121: 0
A122: HS2.75S, 220V/50Hz | B122: =C122+D122 -> 14 | C122: 0 | D122: =VLOOKUP(A122,Sheet2!A:B,2,) -> 14 | E122: LH 311 (coupling 3 inch) | F122: =G122+H122 -> 9 | G122: 9 | H122: 0
A123: HS2.4S, 220V/50Hz | B123: =C123+D123 -> 9 | C123: 2 | D123: =VLOOKUP(A123,Sheet2!A:B,2,) -> 7 | E123: HS2.75S, 220V/50Hz | F123: =G123+H123 -> 14 | G123: 14 | H123: 0
...

Sheet INQ (3)
A4: PO No. | B4: Brand | C4: Segment | D4: Description | E4: Pack Size | I4: Part No | J4: Unit Code | K4: Final Order Bottle | L4: Order Liter Q'ty | M4: Remark
A6: PO 058 | B6: Matador | C6: Cycle Oil | D6: 4T 20W-50 SG (Competitive Grade) | E6: 24 | F6: x | G6: 1 | H6: L | I6: adv 1001 | J6: Bottle | K6: =400*24 -> 9600 | L6: =K6*G6 -> 9600
B7: Matador | C7: Car Oil | D7: Premium 15W40, CI-4/SL Mas Additive | E7: 4 | F7: x | G7: 5 | H7: L | I7: adv 1004 | J7: Bottle | K7: =150*4 -> 600 | L7: =K7*G7 -> 3000
B8: Matador | C8: Car Oil | D8: Premium 15W40, CI-4/SL Mas Additive | E8: 24 | F8: x | G8: 1 | H8: L | I8: adv 1013 | J8: Bottle | K8: 1200 | L8: =K8*G8 -> 1200
B9: Matador | C9: Car Oil | D9: Power Steering Fluid | E9: 24 | F9: x | G9: 1 | H9: L | I9: adv 1203 | J9: Bottle | K9: 1200 | L9: =K9*G9 -> 1200
J10: Total Liters | L10: =SUM(L6:L9) -> 15000
A12: PO No. | B12: Brand | C12: Segment | D12: Description | E12: Pack Size | I12: Part No | J12: Unit Code | K12: Final Order Bottle | L12: Order Liter Q'ty | M12: Remark
A14: PO 059 | B14: Matador | C14: Car Oil | D14: 15W40 CI-4 MAS 7L | E14: 4 | F14: x | G14: 7 | H14: L | I14: adv 1192 | J14: Bottle | K14: =500*4 -> 2000 | L14: =K14*G14 -> 14000
J15: Total Liters | L15: =SUM(L14:L14) -> 14000
