Workbook

Sheet Working
A2: Matador Order Demand to Power Up
A3: No | B3: Brand | C3: Segment | D3: Description | E3: Pack Size | I3: Part No | J3: Unit Code | K3: Closing Balance Qty 11-11-2023 and All Branch Clasing of 11-11-23 | L3: At the Port (Qty) | M3: On The Way (Qty) | N3: Waiting Shipment (Qty) | O3: Ko Aung Ko Latt (All Branch) | P3: Ko Pyae Phyo Oo | Q3: Ko Thaw Zin | R3: Aug'19 | S3: Sep'19 | T3: Oct'19 | U3: Nov'19 | V3: Dec'19 | W3: Jan'2020 | X3: Feb'2020 | Y3: Mar'2020 | Z3: Apr'2020 | AA3: May'20 | AB3: Jun'20 | AC3: Jul'20 | AD3: Aug'20 | AE3: Sep'20 | AF3: Oct'20 | AG3: Nov'20 | AH3: Dec'20 | AI3: Jan'21 | AJ3: Feb'21 | AK3: Mar'21 | AL3: Apr'21 | AM3: May'21 | AN3: Jun'21 | AO3: Jul'21 | AP3: Aug'21 | AQ3: Sep'21 | AR3: Oct'21 | AS3: Nov'21 | AT3: Dec'21 | AU3: Jan'22 | AV3: Feb'22 | AW3: Mar'22 | AX3: Apr'22 | AY3: May'22 | AZ3: Jun'22 | BA3: Jul'22 | BB3: Aug'22 | BC3: Sep'22 | BD3: Oct'22 | BE3: Nov'22 | BF3: Dec'22 | BG3: Jan'23 | BH3: Feb'23 | BI3: Mar'23 | BJ3: Apr'23 | BK3: May'23 | BL3: Jun'23 | BM3: Jul'23 | BN3: Aug'23 | BO3: Sep'23 | BP3: Oct'23 | BQ3: 3 month Sale Q'ty | BR3: Stock Condition | BS3: Est order Q'ty | BT3: Final Order Q'ty | BU3: Inventory Moving
BV4: PO 058 | BW4: PO 059
A5: 1 | B5: Matador | C5: Cycle Oil | D5: 4T 20W-50 SG (Competitive Grade) | E5: 24 | F5: x | G5: 1 | H5: L | I5: adv 1001 | J5: Bottle | K5: 161 | O5: =250*24 -> 6000 | Q5: =60*24 -> 1440 | R5: 575 | S5: 418 | T5: 261 | U5: 1412 | V5: 2701 | W5: 2295 | X5: 490 | Y5: 342 | Z5: 289 | AA5: 880 | AB5: 1181 | AC5: 1243 | AD5: 1357 | AE5: 2070 | AF5: 1360 | AG5: 2430 | AH5: 1179 | AI5: 1447 | AJ5: 1052 | AK5: 1142 | AL5: 905 | AM5: 1674 | AN5: 864 | AO5: 398 | AP5: 657 | AQ5: 1589 | AR5: 894 | AS5: 1531 | AT5: 1985 | AU5: 1226 | AV5: 1236 | AW5: 2285 | AX5: 614 | AY5: 1215 | AZ5: 1353 | BA5: 1356 | BB5: 1169 | BC5: 648 | BD5: 1468 | BE5: 677 | BF5: 1096 | BG5: 877 | BH5: 946 | BI5: 198 | BJ5: 101 | BK5: 828 | BL5: 2400 | BM5: 2159 | BN5: 1290 | BO5: 241 | BP5: 170 | BQ5: =BN5+BO5+BP5 -> 1701 | BR5: =(K5+M5+N5+L5)-(O5+P5+Q5+BQ5) -> -8980 | BS5: =BR5-(BQ5*4) -> -15784 | BT5: =400*24 -> 9600 | BU5: FM | BV5: 9600
A6: 2 | B6: Matador | C6: Cycle Oil | D6: 4T 20W-50 SG | E6: 12 | F6: x | G6: 1.5 | H6: L | J6: Bottle | K6: 0 | R6: 0 | S6: 0 | T6: 0 | U6: 0 | V6: 0 | W6: 0 | X6: 0 | Y6: 0 | Z6: 0 | AA6: 0 | AB6: 0 | AC6: 0 | AD6: 0 | AE6: 0 | AF6: 0 | AG6: 0 | AH6: 0 | AI6: 0 | AJ6: 0 | AK6: 0 | AL6: 0 | AM6: 0 | AN6: 0 | AO6: 0 | AP6: 0 | AQ6: 0 | AR6: 0 | AS6: 0 | AT6: 0 | AU6: 0 | AV6: 0 | AW6: 0 | AX6: 0 | AY6: 0 | AZ6: 0 | BA6: 0 | BB6: 0 | BC6: 0 | BD6: 0 | BE6: 0 | BF6: 0 | BG6: 0 | BH6: 0 | BI6: 0 | BJ6: 0 | BK6: 0 | BL6: 0 | BM6: 0 | BN6: 0 | BO6: 0 | BP6: 0 | BQ6: =BN6+BO6+BP6 -> 0 | BR6: =(K6+M6+N6+L6)-(O6+P6+Q6+BQ6) -> 0 | BS6: =BR6-(BQ6*3) -> 0 | BT6: 0
A7: 3 | B7: Matador | C7: Cycle Oil | D7: 4T Scooter Engine Oil 10W30 Semi SL JASO MB(12*0.8L) | E7: 12 | F7: x | G7: 0.8 | H7: L | I7: adv 1216 | J7: Bottle | K7: 181 | N7: =120*12 -> 1440 | R7: 0 | S7: 0 | T7: 0 | U7: 0 | V7: 0 | W7: 0 | X7: 0 | Y7: 0 | Z7: 0 | AA7: 0 | AB7: 0 | AC7: 0 | AD7: 0 | AE7: 0 | AF7: 0 | AG7: 0 | AH7: 0 | AI7: 0 | AJ7: 0 | AK7: 0 | AL7: 12 | AM7: 0 | AN7: 1 | AO7: 0 | AP7: 0 | AQ7: 83 | AR7: 116 | AS7: 229 | AT7: 55 | AU7: 0 | AV7: 1 | AW7: 82 | AX7: 13 | AY7: 0 | AZ7: 0 | BA7: 276 | BB7: 722 | BC7: 648 | BD7: 228 | BE7: 229 | BF7: 455 | BG7: 356 | BH7: 564 | BI7: 430 | BJ7: 324 | BK7: 456 | BL7: 769 | BM7: 864 | BN7: 605 | BO7: 1485 | BP7: 618 | BQ7: =BN7+BO7+BP7 -> 2708 | BR7: =(K7+M7+N7+L7)-(O7+P7+Q7+BQ7) -> -1087 | BS7: =BR7-(BQ7*3) -> -9211 | BT7: =12*600 -> 7200 | BU7: FM
A8: 4 | B8: Matador | C8: Cycle Oil | D8: SCOOTER GEAR OIL 80W90 GL5 | E8: 48 | F8: x | G8: 0.12 | H8: L | I8: adv 1217 | J8: Bottle | K8: 1532 | R8: 0 | S8: 0 | T8: 0 | U8: 0 | V8: 0 | W8: 0 | X8: 0 | Y8: 0 | Z8: 0 | AA8: 0 | AB8: 0 | AC8: 0 | AD8: 0 | AE8: 0 | AF8: 0 | AG8: 0 | AH8: 0 | AI8: 0 | AJ8: 0 | AK8: 0 | AL8: 0 | AM8: 0 | AN8: 0 | AO8: 0 | AP8: 0 | AQ8: 0 | AR8: 0 | AS8: 0 | AT8: 0 | AU8: 0 | AV8: 0 | AW8: 0 | AX8: 0 | AY8: 0 | AZ8: 0 | BA8: 216 | BB8: 566 | BC8: 600 | BD8: 220 | BE8: 186 | BF8: 328 | BG8: 359 | BH8: 414 | BI8: 460 | BJ8: 672 | BK8: 569 | BL8: 613 | BM8: 1026 | BN8: 432 | BO8: 1137 | BP8: 702 | BQ8: =BN8+BO8+BP8 -> 2271 | BR8: =(K8+M8+N8+L8)-(O8+P8+Q8+BQ8) -> -739 | BS8: =BR8-(BQ8*3) -> -7552 | BT8: =208*48 -> 9984 | BU8: FM
A9: 5 | B9: Matador | C9: Car Oil | D9: Premium 10W-40 Semi Mas Additive 4L | E9: 4 | F9: x | G9: 4 | H9: L | I9: adv 1002 | J9: Bottle | K9: 2821 | N9: =600*4 -> 2400 | O9: 800 | Q9: 400 | R9: 54 | S9: 34 | T9: 41 | U9: 16 | V9: 188 | W9: 144 | X9: 70 | Y9: 85 | Z9: 52 | AA9: 63 | AB9: 60 | AC9: 35 | AD9: 27 | AE9: 64 | AF9: 20 | AG9: 114 | AH9: 75 | AI9: 46 | AJ9: 64 | AK9: 99 | AL9: 48 | AM9: 14 | AN9: 16 | AO9: 12 | AP9: 32 | AQ9: 88 | AR9: 240 | AS9: 107 | AT9: 206 | AU9: 358 | AV9: 231 | AW9: 323 | AX9: 73 | AY9: 76 | AZ9: 16 | BA9: 718 | BB9: 324 | BC9: 145 | BD9: 25 | BE9: 706 | BF9: 436 | BG9: 565 | BH9: 382 | BI9: 365 | BJ9: 433 | BK9: 604 | BL9: 1144 | BM9: 531 | BN9: 405 | BO9: 585 | BP9: 418 | BQ9: =BN9+BO9+BP9 -> 1408 | BR9: =(K9+M9+N9+L9)-(O9+P9+Q9+BQ9) -> 2613 | BS9: =BR9-(BQ9*4) -> -3019 | BT9: =750*4 -> 3000 | BU9: FM
A10: 6 | B10: Matador | C10: Car Oil | D10: Premium 10W-40 Semi Mas Additive 1L | E10: 24 | F10: x | G10: 1 | H10: L | I10: adv 1003 | J10: Bottle | K10: 739 | N10: =30*24 -> 720 | O10: =30*24 -> 720 | R10: 22 | S10: 22 | T10: 22 | U10: 0 | V10: 18 | W10: 27 | X10: 24 | Y10: 24 | Z10: 0 | AA10: 0 | AB10: 35 | AC10: 11 | AD10: 7 | AE10: 0 | AF10: 23 | AG10: 5 | AH10: 7 | AI10: 12 | AJ10: 0 | AK10: 0 | AL10: 8 | AM10: 80 | AN10: 2 | AO10: 12 | AP10: 35 | AQ10: 1 | AR10: 176 | AS10: 53 | AT10: 64 | AU10: 76 | AV10: 40 | AW10: 353 | AX10: 7 | AY10: 38 | AZ10: 8 | BA10: 417 | BB10: 84 | BC10: 48 | BD10: 88 | BE10: 132 | BF10: 6 | BG10: 72 | BH10: 24 | BI10: 61 | BJ10: 147 | BK10: 728 | BL10: 350 | BM10: 213 | BN10: 115 | BO10: 576 | BP10: 135 | BQ10: =BN10+BO10+BP10 -> 826 | BR10: =(K10+M10+N10+L10)-(O10+P10+Q10+BQ10) -> -87 | BS10: =BR10-(BQ10*4) -> -3391 | BT10: =100*24 -> 2400 | BU10: FM
A11: 7 | B11: Matador | C11: Car Oil | D11: Premium 15W40, CI-4/SL Mas Additive | E11: 24 | F11: x | G11: 1 | H11: L | I11: adv 1013 | J11: Bottle | K11: 368 | O11: =10*24 -> 240 | Q11: =10*24 -> 240 | R11: 0 | S11: 0 | T11: 0 | U11: 0 | V11: 0 | W11: 48 | X11: 12 | Y11: 31 | Z11: 50 | AA11: 130 | AB11: 7 | AC11: 29 | AD11: 41 | AE11: 0 | AF11: 10 | AG11: 4 | AH11: 1 | AI11: 14 | AJ11: 24 | AK11: 10 | AL11: 0 | AM11: 256 | AN11: 49 | AO11: 10 | AP11: 42 | AQ11: 32 | AR11: 16 | AS11: 45 | AT11: 25 | AU11: 65 | AV11: 2 | AW11: 42 | AX11: 247 | AY11: 26 | AZ11: 105 | BA11: 43 | BB11: 70 | BC11: 10 | BD11: 18 | BE11: 80 | BF11: 32 | BG11: 49 | BH11: 44 | BI11: 48 | BJ11: 0 | BK11: 99 | BL11: 70 | BM11: 127 | BN11: 85 | BO11: 17 | BP11: 15 | BQ11: =BN11+BO11+BP11 -> 117 | BR11: =(K11+M11+N11+L11)-(O11+P11+Q11+BQ11) -> -229 | BS11: =BR11-(BQ11*3) -> -580 | BT11: =50*24 -> 1200 | BU11: FM | BV11: 1200
A12: 8 | B12: Matador | C12: Car Oil | D12: Premium 15W40, CI-4/SL Mas Additive | E12: 4 | F12: x | G12: 5 | H12: L | I12: adv 1004 | J12: Bottle | K12: 217 | N12: =150*4 -> 600 | O12: =50*4 -> 200 | Q12: =30*4 -> 120 | R12: 32 | S12: 44 | T12: 26 | U12: 16 | V12: 123 | W12: 106 | X12: 63 | Y12: 69 | Z12: 21 | AA12: 96 | AB12: 34 | AC12: 61 | AD12: 52 | AE12: 35 | AF12: 21 | AG12: 26 | AH12: 7 | AI12: 24 | AJ12: 29 | AK12: 10 | AL12: 34 | AM12: 74 | AN12: 55 | AO12: 49 | AP12: 27 | AQ12: 52 | AR12: 48 | AS12: 58 | AT12: 99 | AU12: 106 | AV12: 76 | AW12: 147 | AX12: 162 | AY12: 144 | AZ12: 133 | BA12: 191 | BB12: 127 | BC12: 40 | BD12: 40 | BE12: 17 | BF12: 22 | BG12: 8 | BH12: 24 | BI12: 10 | BJ12: 0 | BK12: 49 | BL12: 78 | BM12: 150 | BN12: 240 | BO12: 127 | BP12: 147 | BQ12: =BN12+BO12+BP12 -> 514 | BR12: =(K12+M12+N12+L12)-(O12+P12+Q12+BQ12) -> -17 | BS12: =BR12-(BQ12*4) -> -2073 | BT12: =150*4 -> 600 | BU12: FM | BV12: 600
A13: 9 | B13: Matador | C13: Car Oil | D13: Premium 20W50, CI-4/SL Mas Additive | E13: 24 | F13: x | G13: 1 | H13: L | I13: adv 1014 | J13: Bottle | K13: 96 | O13: =10*24 -> 240 | R13: 0 | S13: 0 | T13: 0 | U13: 0 | V13: 0 | W13: 0 | X13: 0 | Y13: 0 | Z13: 0 | AA13: 0 | AB13: 0 | AC13: 0 | AD13: 0 | AE13: 0 | AF13: 0 | AG13: 0 | AH13: 0 | AI13: 0 | AJ13: 0 | AK13: 0 | AL13: 0 | AM13: 0 | AN13: 0 | AO13: 0 | AP13: 0 | AQ13: 0 | AR13: 0 | AS13: 0 | AT13: 0 | AU13: 0 | AV13: 0 | AW13: 0 | AX13: 0 | AY13: 0 | AZ13: 0 | BA13: 0 | BB13: 24 | BC13: 48 | BD13: 0 | BE13: 0 | BF13: 72 | BG13: 0 | BH13: 0 | BI13: 0 | BJ13: 0 | BK13: 0 | BL13: 0 | BM13: 0 | BN13: 0 | BO13: 0 | BP13: 0 | BQ13: =BN13+BO13+BP13 -> 0 | BR13: =(K13+M13+N13+L13)-(O13+P13+Q13+BQ13) -> -144 | BS13: =BR13-(BQ13*3) -> -144 | BT13: 0 | BU13: SM
A14: 10 | B14: Matador | C14: Car Oil | D14: Premium 20W50, CI-4/SL Mas Additive | E14: 4 | F14: x | G14: 5 | H14: L | I14: adv 1005 | J14: Bottle | K14: 18 | R14: 8 | S14: 0 | T14: 0 | U14: 0 | V14: 4 | W14: 4 | X14: 2 | Y14: 6 | Z14: 0 | AA14: 0 | AB14: 8 | AC14: 1 | AD14: 5 | AE14: 2 | AF14: 4 | AG14: 6 | AH14: 1 | AI14: 2 | AJ14: 1 | AK14: 0 | AL14: 4 | AM14: 2 | AN14: 0 | AO14: 0 | AP14: 0 | AQ14: 8 | AR14: 0 | AS14: 1 | AT14: 3 | AU14: 4 | AV14: 6 | AW14: 19 | AX14: 4 | AY14: 139 | AZ14: 83 | BA14: 0 | BB14: 0 | BC14: 0 | BD14: 24 | BE14: 0 | BF14: 0 | BG14: 6 | BH14: 0 | BI14: 0 | BJ14: 16 | BK14: 5 | BL14: 0 | BM14: 0 | BN14: 0 | BO14: 0 | BP14: 13 | BQ14: =BN14+BO14+BP14 -> 13 | BR14: =(K14+M14+N14+L14)-(O14+P14+Q14+BQ14) -> 5 | BS14: =BR14-(BQ14*3) -> -34 | BT14: 0 | BU14: SM
A15: 11 | B15: Matador | C15: Car Oil | D15: Maxlife Dex/Merc AFT 3/1 GA | F15: x | G15: 4 | H15: L | J15: Bottle | K15: 0 | R15: 0 | S15: 0 | T15: 0 | U15: 0 | V15: 0 | W15: 0 | X15: 0 | Y15: 0 | Z15: 0 | AA15: 0 | AB15: 0 | AC15: 0 | AD15: 0 | AE15: 0 | AF15: 0 | AG15: 0 | AH15: 0 | AI15: 0 | AJ15: 0 | AK15: 0 | AL15: 0 | AM15: 0 | AN15: 0 | AO15: 0 | AP15: 0 | AQ15: 0 | AR15: 0 | AS15: 0 | AT15: 0 | AU15: 0 | AV15: 0 | AW15: 0 | AX15: 0 | AY15: 0 | AZ15: 0 | BA15: 0 | BB15: 0 | BC15: 0 | BD15: 0 | BE15: 0 | BF15: 0 | BG15: 0 | BH15: 0 | BI15: 0 | BJ15: 0 | BK15: 0 | BL15: 0 | BM15: 0 | BN15: 0 | BO15: 0 | BP15: 0 | BQ15: =BN15+BO15+BP15 -> 0 | BR15: =(K15+M15+N15+L15)-(O15+P15+Q15+BQ15) -> 0 | BS15: =BR15-(BQ15*3) -> 0 | BT15: 0
A16: 12 | B16: Matador | C16: Car Oil | D16: Prumium 5W-40 Fully Mas Additive 4L | E16: 4 | F16: x | G16: 4 | H16: L | I16: adv 1006 | J16: Bottle | K16: 90 | R16: 0 | S16: 0 | T16: 0 | U16: 0 | V16: 1 | W16: 0 | X16: 0 | Y16: 0 | Z16: 0 | AA16: 0 | AB16: 0 | AC16: 0 | AD16: 0 | AE16: 0 | AF16: 0 | AG16: 0 | AH16: 0 | AI16: 0 | AJ16: 0 | AK16: 0 | AL16: 0 | AM16: 0 | AN16: 0 | AO16: 0 | AP16: 0 | AQ16: 0 | AR16: 14 | AS16: 0 | AT16: 0 | AU16: 3 | AV16: 10 | AW16: 16 | AX16: 45 | AY16: 27 | AZ16: 29 | BA16: 16 | BB16: 4 | BC16: 4 | BD16: 0 | BE16: 1 | BF16: 0 | BG16: 0 | BH16: 0 | BI16: 0 | BJ16: 0 | BK16: 0 | BL16: 4 | BM16: 4 | BN16: 0 | BO16: 13 | BP16: 24 | BQ16: =BN16+BO16+BP16 -> 37 | BR16: =(K16+M16+N16+L16)-(O16+P16+Q16+BQ16) -> 53 | BS16: =BR16-(BQ16*3) -> -58 | BT16: 0 | BU16: SM
A17: 13 | B17: Matador | C17: Car Oil | D17: Prumium 5W-40 Fully Mas Additive 1L | E17: 24 | F17: x | G17: 1 | H17: L | I17: adv 1015 | J17: Bottle | K17: 168 | R17: 0 | S17: 0 | T17: 0 | U17: 0 | V17: 0 | W17: 0 | X17: 0 | Y17: 0 | Z17: 0 | AA17: 0 | AB17: 0 | AC17: 0 | AD17: 0 | AE17: 0 | AF17: 0 | AG17: 0 | AH17: 0 | AI17: 0 | AJ17: 0 | AK17: 0 | AL17: 0 | AM17: 0 | AN17: 0 | AO17: 0 | AP17: 0 | AQ17: 0 | AR17: 22 | AS17: 1 | AT17: 0 | AU17: 0 | AV17: 3 | AW17: 10 | AX17: 2 | AY17: 73 | AZ17: 94 | BA17: 35 | BB17: 6 | BC17: 26 | BD17: 16 | BE17: 1 | BF17: 3 | BG17: 0 | BH17: 0 | BI17: 0 | BJ17: 12 | BK17: 0 | BL17: 5 | BM17: 3 | BN17: 0 | BO17: 0 | BP17: 0 | BQ17: =BN17+BO17+BP17 -> 0 | BR17: =(K17+M17+N17+L17)-(O17+P17+Q17+BQ17) -> 168 | BS17: =BR17-(BQ17*3) -> 168 | BT17: 0 | BU17: SM
A18: 14 | B18: Matador | C18: Car Oil | D18: Prumium 5W-30 Fully Mas Additive 4L | E18: 4 | F18: x | G18: 4 | H18: L | I18: adv 1007 | J18: Bottle | K18: 135 | R18: 0 | S18: 0 | T18: 0 | U18: 4 | V18: 0 | W18: 0 | X18: 0 | Y18: 0 | Z18: 0 | AA18: 4 | AB18: 2 | AC18: 0 | AD18: 0 | AE18: 0 | AF18: 2 | AG18: 0 | AH18: 0 | AI18: 0 | AJ18: 0 | AK18: 0 | AL18: 0 | AM18: 0 | AN18: 4 | AO18: 0 | AP18: 0 | AQ18: 1 | AR18: 14 | AS18: 1 | AT18: 3 | AU18: 8 | AV18: 15 | AW18: 13 | AX18: 12 | AY18: 32 | AZ18: 25 | BA18: 8 | BB18: 2 | BC18: 2 | BD18: 1 | BE18: 0 | BF18: 0 | BG18: 0 | BH18: 0 | BI18: 3 | BJ18: 0 | BK18: 16 | BL18: 18 | BM18: 3 | BN18: 0 | BO18: 4 | BP18: 14 | BQ18: =BN18+BO18+BP18 -> 18 | BR18: =(K18+M18+N18+L18)-(O18+P18+Q18+BQ18) -> 117 | BS18: =BR18-(BQ18*3) -> 63 | BT18: 0 | BU18: SM
A19: 15 | B19: Matador | C19: Car Oil | D19: Prumium 5W-30 Fully Mas Additive 1L | E19: 24 | F19: x | G19: 1 | H19: L | I19: adv 1016 | J19: Bottle | K19: 74 | R19: 0 | S19: 0 | T19: 0 | U19: 0 | V19: 0 | W19: 0 | X19: 0 | Y19: 0 | Z19: 0 | AA19: 0 | AB19: 0 | AC19: 0 | AD19: 0 | AE19: 0 | AF19: 0 | AG19: 0 | AH19: 0 | AI19: 0 | AJ19: 0 | AK19: 0 | AL19: 0 | AM19: 0 | AN19: 0 | AO19: 0 | AP19: 0 | AQ19: 0 | AR19: 22 | AS19: 0 | AT19: 0 | AU19: 6 | AV19: 0 | AW19: 6 | AX19: 12 | AY19: 27 | AZ19: 202 | BA19: 19 | BB19: 8 | BC19: 2 | BD19: 42 | BE19: 12 | BF19: 0 | BG19: 0 | BH19: 0 | BI19: 0 | BJ19: 15 | BK19: 0 | BL19: 9 | BM19: 0 | BN19: 0 | BO19: 0 | BP19: 0 | BQ19: =BN19+BO19+BP19 -> 0 | BR19: =(K19+M19+N19+L19)-(O19+P19+Q19+BQ19) -> 74 | BS19: =BR19-(BQ19*3) -> 74 | BT19: 0 | BU19: SM
A20: 16 | B20: Matador | C20: Gear Oil | D20: GL4 80W90 1L | E20: 24 | F20: x | G20: 1 | H20: L | I20: adv 1008 | J20: Bottle | K20: 2 | O20: =30*24 -> 720 | R20: 2 | S20: 90 | T20: 338 | U20: 5 | V20: 0 | W20: 30 | X20: 19 | Y20: 83 | Z20: 74 | AA20: 96 | AB20: 80 | AC20: 74 | AD20: 40 | AE20: 93 | AF20: 47 | AG20: 56 | AH20: 56 | AI20: 16 | AJ20: 51 | AK20: 7 | AL20: 27 | AM20: 21 | AN20: 26 | AO20: 0 | AP20: 0 | AQ20: 31 | AR20: 14 | AS20: 50 | AT20: 51 | AU20: 58 | AV20: 37 | AW20: 40 | AX20: 10 | AY20: 14 | AZ20: 1 | BA20: 1 | BB20: 0 | BC20: 0 | BD20: 5 | BE20: 0 | BF20: 0 | BG20: 0 | BH20: 0 | BI20: 19 | BJ20: 12 | BK20: 1 | BL20: 20 | BM20: 0 | BN20: 0 | BO20: 0 | BP20: 0 | BQ20: =BN20+BO20+BP20 -> 0 | BR20: =(K20+M20+N20+L20)-(O20+P20+Q20+BQ20) -> -718 | BS20: =BR20-(BQ20*4) -> -718 | BT20: 0 | BU20: SM
A21: 17 | B21: Matador | C21: Grease | D21: Chessis Grease 1.5Kg | E21: 12 | F21: x | G21: 1.5 | H21: L | J21: Bottle | K21: 0 | R21: 0 | S21: 0 | T21: 0 | U21: 0 | V21: 0 | W21: 0 | X21: 0 | Y21: 0 | Z21: 0 | AA21: 0 | AB21: 0 | AC21: 0 | AD21: 0 | AE21: 0 | AF21: 0 | AG21: 0 | AH21: 0 | AI21: 0 | AJ21: 0 | AK21: 0 | AL21: 0 | AM21: 0 | AN21: 0 | AO21: 0 | AP21: 0 | AQ21: 0 | AR21: 0 | AS21: 0 | AT21: 0 | AU21: 0 | AV21: 0 | AW21: 0 | AX21: 0 | AY21: 0 | AZ21: 0 | BA21: 0 | BB21: 0 | BC21: 0 | BD21: 0 | BE21: 0 | BF21: 0 | BG21: 0 | BH21: 0 | BI21: 0 | BJ21: 0 | BK21: 0 | BL21: 0 | BM21: 0 | BN21: 0 | BO21: 0 | BP21: 0 | BQ21: =BN21+BO21+BP21 -> 0 | BR21: =(K21+M21+N21+L21)-(O21+P21+Q21+BQ21) -> 0 | BS21: =BR21-(BQ21*3) -> 0 | BT21: 0
A22: 18 | B22: Matador | C22: Grease | D22: Chessis Grease 0.5Kg | E22: 24 | F22: x | G22: 0.5 | H22: L | I22: adv 1017 | J22: Bottle | K22: 298 | R22: 0 | S22: 0 | T22: 0 | U22: 0 | V22: 0 | W22: 66 | X22: 41 | Y22: 0 | Z22: 26 | AA22: 39 | AB22: 36 | AC22: 0 | AD22: 48 | AE22: 0 | AF22: 0 | AG22: 2 | AH22: 72 | AI22: 25 | AJ22: 0 | AK22: 0 | AL22: 0 | AM22: 24 | AN22: 0 | AO22: 1 | AP22: 0 | AQ22: 0 | AR22: 36 | AS22: 0 | AT22: 5 | AU22: 0 | AV22: 0 | AW22: 0 | AX22: 0 | AY22: 0 | AZ22: 0 | BA22: 10 | BB22: 0 | BC22: 5 | BD22: 33 | BE22: 25 | BF22: 1 | BG22: 0 | BH22: 24 | BI22: 1 | BJ22: 48 | BK22: 24 | BL22: 24 | BM22: 1 | BN22: 48 | BO22: 144 | BP22: 48 | BQ22: =BN22+BO22+BP22 -> 240 | BR22: =(K22+M22+N22+L22)-(O22+P22+Q22+BQ22) -> 58 | BS22: =BR22-(BQ22*3) -> -662 | BT22: 0 | BU22: SM
A23: 19 | B23: Matador | C23: Grease | D23: Heavy Duty Grease 1.5Kg | F23: x | G23: 1.5 | H23: L | J23: Bottle | K23: 0 | R23: 0 | S23: 0 | T23: 0 | U23: 0 | V23: 0 | W23: 0 | X23: 0 | Y23: 0 | Z23: 0 | AA23: 0 | AB23: 0 | AC23: 0 | AD23: 0 | AE23: 0 | AF23: 0 | AG23: 0 | AH23: 0 | AI23: 0 | AJ23: 0 | AK23: 0 | AL23: 0 | AM23: 0 | AN23: 0 | AO23: 0 | AP23: 0 | AQ23: 0 | AR23: 0 | AS23: 0 | AT23: 0 | AU23: 0 | AV23: 0 | AW23: 0 | AX23: 0 | AY23: 0 | AZ23: 0 | BA23: 0 | BB23: 0 | BC23: 0 | BD23: 0 | BE23: 0 | BF23: 0 | BG23: 0 | BH23: 0 | BI23: 0 | BJ23: 0 | BK23: 0 | BL23: 0 | BM23: 0 | BN23: 0 | BO23: 0 | BP23: 0 | BQ23: =BN23+BO23+BP23 -> 0 | BR23: =(K23+M23+N23+L23)-(O23+P23+Q23+BQ23) -> 0 | BS23: =BR23-(BQ23*3) -> 0 | BT23: 0
A24: 20 | B24: Matador | C24: Grease | D24: Heavy Duty Grease 0.5Kg | F24: x | G24: 0.5 | H24: L | J24: Bottle | K24: 0 | R24: 0 | S24: 0 | T24: 0 | U24: 0 | V24: 0 | W24: 0 | X24: 0 | Y24: 0 | Z24: 0 | AA24: 0 | AB24: 0 | AC24: 0 | AD24: 0 | AE24: 0 | AF24: 0 | AG24: 0 | AH24: 0 | AI24: 0 | AJ24: 0 | AK24: 0 | AL24: 0 | AM24: 0 | AN24: 0 | AO24: 0 | AP24: 0 | AQ24: 0 | AR24: 0 | AS24: 0 | AT24: 0 | AU24: 0 | AV24: 0 | AW24: 0 | AX24: 0 | AY24: 0 | AZ24: 0 | BA24: 0 | BB24: 0 | BC24: 0 | BD24: 0 | BE24: 0 | BF24: 0 | BG24: 0 | BH24: 0 | BI24: 0 | BJ24: 0 | BK24: 0 | BL24: 0 | BM24: 0 | BN24: 0 | BO24: 0 | BP24: 0 | BQ24: =BN24+BO24+BP24 -> 0 | BR24: =(K24+M24+N24+L24)-(O24+P24+Q24+BQ24) -> 0 | BS24: =BR24-(BQ24*3) -> 0 | BT24: 0
A25: 21 | B25: Matador | C25: Brake Oil | D25: DOT 3 400g | E25: 30 | F25: x | G25: 0.4 | H25: L | I25: adv 1200-MAC | J25: Bottle | K25: 4195 | N25: =50*30 -> 1500 | O25: =6*30 -> 180 | R25: 0 | S25: 0 | T25: 0 | U25: 0 | V25: 0 | W25: 0 | X25: 0 | Y25: 0 | Z25: 0 | AA25: 0 | AB25: 0 | AC25: 0 | AD25: 0 | AE25: 14 | AF25: 28 | AG25: 0 | AH25: 36 | AI25: 4 | AJ25: 0 | AK25: 2 | AL25: 0 | AM25: 0 | AN25: 1 | AO25: 0 | AP25: 2 | AQ25: 12 | AR25: 0 | AS25: 24 | AT25: 0 | AU25: 0 | AV25: 0 | AW25: 0 | AX25: 0 | AY25: 0 | AZ25: 54 | BA25: 220 | BB25: 162 | BC25: 143 | BD25: 0 | BE25: 0 | BF25: 0 | BG25: 1 | BH25: 432 | BI25: 159 | BJ25: 310 | BK25: 195 | BL25: 238 | BM25: 108 | BN25: 200 | BO25: 272 | BP25: 500 | BQ25: =BN25+BO25+BP25 -> 972 | BR25: =(K25+M25+N25+L25)-(O25+P25+Q25+BQ25) -> 4543 | BS25: =BR25-(BQ25*4) -> 655 | BT25: =50*30 -> 1500 | BU25: FM
A26: 22 | B26: Matador | C26: Brake Oil | D26: DOT 4 400g | E26: 30 | F26: x | G26: 0.4 | H26: L | I26: adv 1201-MAC | J26: Bottle | K26: 1102 | N26: =30*30 -> 900 | O26: =6*30 -> 180 | R26: 0 | S26: 0 | T26: 0 | U26: 0 | V26: 0 | W26: 0 | X26: 0 | Y26: 0 | Z26: 0 | AA26: 0 | AB26: 0 | AC26: 0 | AD26: 0 | AE26: 12 | AF26: 24 | AG26: 11 | AH26: 0 | AI26: 11 | AJ26: 0 | AK26: 2 | AL26: 2 | AM26: 2 | AN26: 58 | AO26: 0 | AP26: 0 | AQ26: 0 | AR26: 0 | AS26: 36 | AT26: 1 | AU26: 0 | AV26: 0 | AW26: 1 | AX26: 1 | AY26: 0 | AZ26: 60 | BA26: 150 | BB26: 45 | BC26: 11 | BD26: 0 | BE26: 0 | BF26: 0 | BG26: 2 | BH26: 167 | BI26: 195 | BJ26: 193 | BK26: 407 | BL26: 194 | BM26: 93 | BN26: 163 | BO26: 421 | BP26: 657 | BQ26: =BN26+BO26+BP26 -> 1241 | BR26: =(K26+M26+N26+L26)-(O26+P26+Q26+BQ26) -> 581 | BS26: =BR26-(BQ26*4) -> -4383 | BT26: =60*30 -> 1800 | BU26: FM
A27: 23 | B27: Matador | C27: Flushing Oil | D27: Engine Flush 236ml | E27: 24 | F27: x | G27: 0.236 | H27: L | J27: Bottle | K27: 0 | R27: 0 | S27: 0 | T27: 0 | U27: 0 | V27: 0 | W27: 0 | X27: 0 | Y27: 0 | Z27: 0 | AA27: 0 | AB27: 0 | AC27: 0 | AD27: 0 | AE27: 0 | AF27: 0 | AG27: 0 | AH27: 0 | AI27: 0 | AJ27: 0 | AK27: 0 | AL27: 0 | AM27: 0 | AN27: 0 | AO27: 0 | AP27: 0 | AQ27: 0 | AR27: 0 | AS27: 0 | AT27: 0 | AU27: 0 | AV27: 0 | AW27: 0 | AX27: 0 | AY27: 0 | AZ27: 0 | BA27: 0 | BB27: 0 | BC27: 0 | BD27: 0 | BE27: 0 | BF27: 0 | BG27: 0 | BH27: 0 | BI27: 0 | BJ27: 0 | BK27: 0 | BL27: 0 | BM27: 0 | BN27: 0 | BO27: 0 | BP27: 0 | BQ27: =BN27+BO27+BP27 -> 0 | BR27: =(K27+M27+N27+L27)-(O27+P27+Q27+BQ27) -> 0 | BS27: =BR27-(BQ27*3) -> 0 | BT27: 0
A28: 24 | B28: Matador | C28: Heavy Duty | D28: SAE 40 200L | F28: x | G28: 200 | H28: L | J28: Drum | K28: 0 | R28: 0 | S28: 0 | T28: 0 | U28: 0 | V28: 0 | W28: 0 | X28: 0 | Y28: 0 | Z28: 0 | AA28: 0 | AB28: 0 | AC28: 0 | AD28: 0 | AE28: 0 | AF28: 0 | AG28: 0 | AH28: 0 | AI28: 0 | AJ28: 0 | AK28: 0 | AL28: 0 | AM28: 0 | AN28: 0 | AO28: 0 | AP28: 0 | AQ28: 0 | AR28: 0 | AS28: 0 | AT28: 0 | AU28: 0 | AV28: 0 | AW28: 0 | AX28: 0 | AY28: 0 | AZ28: 0 | BA28: 0 | BB28: 0 | BC28: 0 | BD28: 0 | BE28: 0 | BF28: 0 | BG28: 0 | BH28: 0 | BI28: 0 | BJ28: 0 | BK28: 0 | BL28: 0 | BM28: 0 | BN28: 0 | BO28: 0 | BP28: 0 | BQ28: =BN28+BO28+BP28 -> 0 | BR28: =(K28+M28+N28+L28)-(O28+P28+Q28+BQ28) -> 0 | BS28: =BR28-(BQ28*3) -> 0 | BT28: 0
A29: 25 | B29: Matador | C29: Heavy Duty | D29: SAE 50 200L | F29: x | G29: 200 | H29: L | J29: Drum | K29: 0 | R29: 0 | S29: 0 | T29: 0 | U29: 0 | V29: 0 | W29: 0 | X29: 0 | Y29: 0 | Z29: 0 | AA29: 0 | AB29: 0 | AC29: 0 | AD29: 0 | AE29: 0 | AF29: 0 | AG29: 0 | AH29: 0 | AI29: 0 | AJ29: 0 | AK29: 0 | AL29: 0 | AM29: 0 | AN29: 0 | AO29: 0 | AP29: 0 | AQ29: 0 | AR29: 0 | AS29: 0 | AT29: 0 | AU29: 0 | AV29: 0 | AW29: 0 | AX29: 0 | AY29: 0 | AZ29: 0 | BA29: 0 | BB29: 0 | BC29: 0 | BD29: 0 | BE29: 0 | BF29: 0 | BG29: 0 | BH29: 0 | BI29: 0 | BJ29: 0 | BK29: 0 | BL29: 0 | BM29: 0 | BN29: 0 | BO29: 0 | BP29: 0 | BQ29: =BN29+BO29+BP29 -> 0 | BR29: =(K29+M29+N29+L29)-(O29+P29+Q29+BQ29) -> 0 | BS29: =BR29-(BQ29*3) -> 0 | BT29: 0
A30: 26 | B30: Matador | C30: Grease | D30: Chessis Grease 15Kg | E30: 1 | F30: x | G30: 15 | H30: L | I30: adv 1009 | J30: Can | K30: 17 | O30: 15 | R30: 7 | S30: 4 | T30: 4 | U30: 3 | V30: 1 | W30: 0 | X30: 1 | Y30: 0 | Z30: 0 | AA30: 1 | AB30: 5 | AC30: 0 | AD30: 0 | AE30: 5 | AF30: 1 | AG30: 6 | AH30: 0 | AI30: 0 | AJ30: 1 | AK30: 1 | AL30: 0 | AM30: 2 | AN30: 1 | AO30: 0 | AP30: 0 | AQ30: 0 | AR30: 0 | AS30: 0 | AT30: 0 | AU30: 0 | AV30: 0 | AW30: 0 | AX30: 1 | AY30: 0 | AZ30: 0 | BA30: 0 | BB30: 2 | BC30: 0 | BD30: 1 | BE30: 0 | BF30: 0 | BG30: 0 | BH30: 0 | BI30: 0 | BJ30: 0 | BK30: 1 | BL30: 0 | BM30: 1 | BN30: 1 | BO30: 1 | BP30: 2 | BQ30: =BN30+BO30+BP30 -> 4 | BR30: =(K30+M30+N30+L30)-(O30+P30+Q30+BQ30) -> -2 | BS30: =BR30-(BQ30*3) -> -14 | BT30: 0 | BU30: SM
A31: 27 | B31: Matador | C31: Grease | D31: Heavy Duty Grease 15Kg | E31: 1 | F31: x | G31: 15 | H31: L | I31: adv 1010 | J31: Can | K31: 10 | O31: 20 | R31: 8 | S31: 4 | T31: 6 | U31: 0 | V31: 1 | W31: 0 | X31: 0 | Y31: 5 | Z31: 5 | AA31: 20 | AB31: 16 | AC31: 13 | AD31: 8 | AE31: 0 | AF31: 0 | AG31: 0 | AH31: 7 | AI31: 1 | AJ31: 2 | AK31: 1 | AL31: 13 | AM31: 1 | AN31: 4 | AO31: 1 | AP31: 4 | AQ31: 14 | AR31: 0 | AS31: 2 | AT31: 5 | AU31: 4 | AV31: 1 | AW31: 1 | AX31: 2 | AY31: 1 | AZ31: 3 | BA31: 0 | BB31: 0 | BC31: 0 | BD31: 2 | BE31: 1 | BF31: 0 | BG31: 0 | BH31: 0 | BI31: 2 | BJ31: 10 | BK31: 1 | BL31: 5 | BM31: 5 | BN31: 7 | BO31: 0 | BP31: 0 | BQ31: =BN31+BO31+BP31 -> 7 | BR31: =(K31+M31+N31+L31)-(O31+P31+Q31+BQ31) -> -17 | BS31: =BR31-(BQ31*3) -> -38 | BT31: 0 | BU31: SM
A32: 28 | B32: Matador | C32: Heavy Duty | D32: PREMIUM, SAE 15W40, CI-4/SL | F32: x | G32: 200 | H32: L | J32: Drum | K32: 0 | R32: 0 | S32: 0 | T32: 0 | U32: 0 | V32: 0 | W32: 0 | X32: 0 | Y32: 0 | Z32: 0 | AA32: 0 | AB32: 0 | AC32: 0 | AD32: 0 | AE32: 0 | AF32: 0 | AG32: 0 | AH32: 0 | AI32: 0 | AJ32: 0 | AK32: 0 | AL32: 0 | AM32: 0 | AN32: 0 | AO32: 0 | AP32: 0 | AQ32: 0 | AR32: 0 | AS32: 0 | AT32: 0 | AU32: 0 | AV32: 0 | AW32: 0 | AX32: 0 | AY32: 0 | AZ32: 0 | BA32: 0 | BB32: 0 | BC32: 0 | BD32: 0 | BE32: 0 | BF32: 0 | BG32: 0 | BH32: 0 | BI32: 0 | BJ32: 0 | BK32: 0 | BL32: 0 | BM32: 0 | BN32: 0 | BO32: 0 | BP32: 0 | BQ32: =BN32+BO32+BP32 -> 0 | BR32: =(K32+M32+N32+L32)-(O32+P32+Q32+BQ32) -> 0 | BS32: =BR32-(BQ32*3) -> 0 | BT32: 0
A33: 29 | B33: Matador | C33: Heavy Duty | D33: TURBO, SAE 15W40, CF-4/SG | F33: x | G33: 200 | H33: L | J33: Drum | K33: 0 | R33: 0 | S33: 0 | T33: 0 | U33: 0 | V33: 0 | W33: 0 | X33: 0 | Y33: 0 | Z33: 0 | AA33: 0 | AB33: 0 | AC33: 0 | AD33: 0 | AE33: 0 | AF33: 0 | AG33: 0 | AH33: 0 | AI33: 0 | AJ33: 0 | AK33: 0 | AL33: 0 | AM33: 0 | AN33: 0 | AO33: 0 | AP33: 0 | AQ33: 0 | AR33: 0 | AS33: 0 | AT33: 0 | AU33: 0 | AV33: 0 | AW33: 0 | AX33: 0 | AY33: 0 | AZ33: 0 | BA33: 0 | BB33: 0 | BC33: 0 | BD33: 0 | BE33: 0 | BF33: 0 | BG33: 0 | BH33: 0 | BI33: 0 | BJ33: 0 | BK33: 0 | BL33: 0 | BM33: 0 | BN33: 0 | BO33: 0 | BP33: 0 | BQ33: =BN33+BO33+BP33 -> 0 | BR33: =(K33+M33+N33+L33)-(O33+P33+Q33+BQ33) -> 0 | BS33: =BR33-(BQ33*3) -> 0 | BT33: 0
A34: 30 | B34: Matador | C34: Heavy Duty | D34: Hydraulic Oil 68 | E34: 1 | F34: x | G34: 200 | H34: L | I34: adv 1220 | J34: Drum | K34: 29 | O34: 40 | P34: 40 | R34: 0 | S34: 0 | T34: 0 | U34: 0 | V34: 0 | W34: 0 | X34: 0 | Y34: 0 | Z34: 0 | AA34: 0 | AB34: 0 | AC34: 0 | AD34: 0 | AE34: 0 | AF34: 0 | AG34: 0 | AH34: 0 | AI34: 0 | AJ34: 0 | AK34: 0 | AL34: 0 | AM34: 0 | AN34: 0 | AO34: 0 | AP34: 0 | AQ34: 0 | AR34: 0 | AS34: 0 | AT34: 0 | AU34: 0 | AV34: 0 | AW34: 0 | AX34: 0 | AY34: 0 | AZ34: 0 | BA34: 0 | BB34: 0 | BC34: 0 | BD34: 0 | BE34: 0 | BF34: 0 | BG34: 0 | BH34: 0 | BI34: 1 | BJ34: 3 | BK34: 30 | BL34: 5 | BM34: 1 | BN34: 0 | BO34: 2 | BP34: 10 | BQ34: =BN34+BO34+BP34 -> 12 | BR34: =(K34+M34+N34+L34)-(O34+P34+Q34+BQ34) -> -63 | BS34: =BR34-(BQ34*3) -> -99 | BT34: 0 | BU34: FM
A35: 31 | B35: Matador | C35: Heavy Duty | D35: Hydraulic Oil 46 | F35: x | G35: 200 | H35: L | J35: Drum | K35: 0 | R35: 0 | S35: 0 | T35: 0 | U35: 0 | V35: 0 | W35: 0 | X35: 0 | Y35: 0 | Z35: 0 | AA35: 0 | AB35: 0 | AC35: 0 | AD35: 0 | AE35: 0 | AF35: 0 | AG35: 0 | AH35: 0 | AI35: 0 | AJ35: 0 | AK35: 0 | AL35: 0 | AM35: 0 | AN35: 0 | AO35: 0 | AP35: 0 | AQ35: 0 | AR35: 0 | AS35: 0 | AT35: 0 | AU35: 0 | AV35: 0 | AW35: 0 | AX35: 0 | AY35: 0 | AZ35: 0 | BA35: 0 | BB35: 0 | BC35: 0 | BD35: 0 | BE35: 0 | BF35: 0 | BG35: 0 | BH35: 0 | BI35: 0 | BJ35: 0 | BK35: 0 | BL35: 0 | BM35: 0 | BN35: 0 | BO35: 0 | BP35: 0 | BQ35: =BN35+BO35+BP35 -> 0 | BR35: =(K35+M35+N35+L35)-(O35+P35+Q35+BQ35) -> 0 | BS35: =BR35-(BQ35*3) -> 0 | BT35: 0
A36: 32 | B36: Matador | C36: Heavy Duty | D36: Premium 15W40, CI-4/SL Mas Additive | E36: 1 | F36: x | G36: 18 | H36: L | I36: adv 1018 | J36: Can | K36: 7 | P36: 100 | R36: 0 | S36: 0 | T36: 0 | U36: 0 | V36: 2 | W36: 1 | X36: 1 | Y36: 3 | Z36: 3 | AA36: 2 | AB36: 5 | AC36: 4 | AD36: 3 | AE36: 3 | AF36: 1 | AG36: 5 | AH36: 1 | AI36: 12 | AJ36: 0 | AK36: 0 | AL36: 0 | AM36: 0 | AN36: 0 | AO36: 0 | AP36: 0 | AQ36: 2 | AR36: 1 | AS36: 2 | AT36: 3 | AU36: 7 | AV36: 15 | AW36: 16 | AX36: 35 | AY36: 24 | AZ36: 19 | BA36: 10 | BB36: 19 | BC36: 4 | BD36: 3 | BE36: 6 | BF36: 3 | BG36: 31 | BH36: 37 | BI36: 60 | BJ36: 59 | BK36: 41 | BL36: 12 | BM36: 0 | BN36: 5 | BO36: 2 | BP36: 3 | BQ36: =BN36+BO36+BP36 -> 10 | BR36: =(K36+M36+N36+L36)-(O36+P36+Q36+BQ36) -> -103 | BS36: =BR36-(BQ36*3) -> -133 | BT36: 0 | BU36: FM
A37: 33 | B37: Matador | C37: Heavy Duty | D37: Premium 20W50, CI-4/SL Mas Additive | E37: 1 | F37: x | G37: 18 | H37: L | I37: adv 1019 | J37: Can | K37: 0 | R37: 0 | S37: 0 | T37: 0 | U37: 0 | V37: 0 | W37: 0 | X37: 0 | Y37: 0 | Z37: 0 | AA37: 0 | AB37: 0 | AC37: 0 | AD37: 0 | AE37: 0 | AF37: 0 | AG37: 0 | AH37: 0 | AI37: 0 | AJ37: 0 | AK37: 0 | AL37: 0 | AM37: 0 | AN37: 0 | AO37: 0 | AP37: 0 | AQ37: 0 | AR37: 0 | AS37: 0 | AT37: 0 | AU37: 0 | AV37: 0 | AW37: 0 | AX37: 0 | AY37: 0 | AZ37: 0 | BA37: 5 | BB37: 0 | BC37: 16 | BD37: 2 | BE37: 25 | BF37: 0 | BG37: 0 | BH37: 0 | BI37: 0 | BJ37: 0 | BK37: 0 | BL37: 2 | BM37: 0 | BN37: 0 | BO37: 0 | BP37: 0 | BQ37: =BN37+BO37+BP37 -> 0 | BR37: =(K37+M37+N37+L37)-(O37+P37+Q37+BQ37) -> 0 | BS37: =BR37-(BQ37*3) -> 0 | BT37: 0 | BU37: SM
A38: 34 | B38: Matador | C38: Hydraulic | D38: Hydraulic Oil 46 | E38: 1 | F38: x | G38: 18 | H38: L | I38: adv 1223 | J38: Can | K38: 47 | N38: =50 -> 50 | R38: 0 | S38: 0 | T38: 0 | U38: 0 | V38: 0 | W38: 0 | X38: 0 | Y38: 0 | Z38: 0 | AA38: 0 | AB38: 0 | AC38: 0 | AD38: 0 | AE38: 0 | AF38: 0 | AG38: 0 | AH38: 0 | AI38: 0 | AJ38: 0 | AK38: 0 | AL38: 0 | AM38: 0 | AN38: 0 | AO38: 0 | AP38: 0 | AQ38: 0 | AR38: 0 | AS38: 0 | AT38: 0 | AU38: 0 | AV38: 0 | AW38: 0 | AX38: 0 | AY38: 0 | AZ38: 10 | BA38: 23 | BB38: 0 | BC38: 8 | BD38: 15 | BE38: 19 | BF38: 8 | BG38: 4 | BH38: 11 | BI38: 10 | BJ38: 13 | BK38: 5 | BL38: 28 | BM38: 3 | BN38: 12 | BO38: 5 | BP38: 27 | BQ38: =BN38+BO38+BP38 -> 44 | BR38: =(K38+M38+N38+L38)-(O38+P38+Q38+BQ38) -> 53 | BS38: =BR38-(BQ38*3) -> -79 | BT38: 80 | BU38: MF
A39: 35 | B39: Matador | C39: Hydraulic | D39: Hydraulic Oil 68 | E39: 1 | F39: x | G39: 18 | H39: L | I39: adv 1221 | J39: Can | K39: 61 | N39: =80 -> 80 | R39: 0 | S39: 0 | T39: 0 | U39: 0 | V39: 0 | W39: 0 | X39: 0 | Y39: 0 | Z39: 0 | AA39: 0 | AB39: 0 | AC39: 0 | AD39: 0 | AE39: 0 | AF39: 0 | AG39: 0 | AH39: 0 | AI39: 0 | AJ39: 0 | AK39: 0 | AL39: 0 | AM39: 0 | AN39: 0 | AO39: 0 | AP39: 0 | AQ39: 0 | AR39: 0 | AS39: 0 | AT39: 0 | AU39: 0 | AV39: 0 | AW39: 0 | AX39: 0 | AY39: 0 | AZ39: 8 | BA39: 7 | BB39: 7 | BC39: 6 | BD39: 9 | BE39: 10 | BF39: 13 | BG39: 7 | BH39: 19 | BI39: 26 | BJ39: 8 | BK39: 2 | BL39: 4 | BM39: 1 | BN39: 8 | BO39: 5 | BP39: 12 | BQ39: =BN39+BO39+BP39 -> 25 | BR39: =(K39+M39+N39+L39)-(O39+P39+Q39+BQ39) -> 116 | BS39: =BR39-(BQ39*3) -> 41 | BT39: 80 | BU39: FM
A40: 36 | B40: Matador | C40: Heavy Duty | D40: Premium 15W40, CI-4/SL Mas Additive | E40: 1 | F40: x | G40: 25 | H40: L | I40: adv 1020 | J40: Can | K40: 21 | R40: 0 | S40: 0 | T40: 0 | U40: 0 | V40: 0 | W40: 26 | X40: 5 | Y40: 16 | Z40: 1 | AA40: 0 | AB40: 0 | AC40: 0 | AD40: 0 | AE40: 0 | AF40: 0 | AG40: 4 | AH40: 2 | AI40: 14 | AJ40: 10 | AK40: 13 | AL40: 25 | AM40: 2 | AN40: 2 | AO40: 0 | AP40: 2 | AQ40: 51 | AR40: 5 | AS40: 6 | AT40: 1 | AU40: 29 | AV40: 2 | AW40: 28 | AX40: 27 | AY40: 96 | AZ40: 52 | BA40: 53 | BB40: 66 | BC40: 1 | BD40: 3 | BE40: 5 | BF40: 3 | BG40: 13 | BH40: 40 | BI40: 56 | BJ40: 28 | BK40: 48 | BL40: 9 | BM40: 6 | BN40: 15 | BO40: 3 | BP40: 10 | BQ40: =BN40+BO40+BP40 -> 28 | BR40: =(K40+M40+N40+L40)-(O40+P40+Q40+BQ40) -> -7 | BS40: =BR40-(BQ40*4) -> -119 | BT40: 0 | BU40: FM
A41: 37 | B41: Matador | C41: Heavy Duty | D41: Premium 20W50, CI-4/SL Mas Additive | E41: 1 | F41: x | G41: 25 | H41: L | I41: adv 1021 | J41: Can | K41: 3 | R41: 0 | S41: 0 | T41: 0 | U41: 0 | V41: 0 | W41: 3 | X41: 4 | Y41: 3 | Z41: 0 | AA41: 0 | AB41: 1 | AC41: 2 | AD41: 1 | AE41: 0 | AF41: 0 | AG41: 0 | AH41: 1 | AI41: 1 | AJ41: 1 | AK41: 0 | AL41: 0 | AM41: 0 | AN41: 0 | AO41: 1 | AP41: 0 | AQ41: 0 | AR41: 2 | AS41: 1 | AT41: 1 | AU41: 2 | AV41: 0 | AW41: 2 | AX41: 0 | AY41: 0 | AZ41: 0 | BA41: 0 | BB41: 10 | BC41: 0 | BD41: 0 | BE41: 7 | BF41: 2 | BG41: 0 | BH41: 0 | BI41: 0 | BJ41: 0 | BK41: 0 | BL41: 0 | BM41: 0 | BN41: 0 | BO41: 0 | BP41: 0 | BQ41: =BN41+BO41+BP41 -> 0 | BR41: =(K41+M41+N41+L41)-(O41+P41+Q41+BQ41) -> 3 | BS41: =BR41-(BQ41*3) -> 3 | BT41: 0 | BU41: SM
...

Sheet Sheet2
A1: FS 19624 | B1: 0 | D1: 3831236 | E1: 0 | F1: 0 | G1: 3831236 | H1: 0 | I1: FS 19624 | J1: 0 | K1: 3831236 | L1: 0 | M1: 0 | N1: 0 | O1: 0 | P1: 0 | Q1: 0
A2: FH 23600 | B2: 2 | D2: 21212204 | E2: 0 | F2: 0 | G2: 21212204 | H2: 0 | I2: FH 23600 | J2: 0 | K2: 21212204 | L2: 0 | M2: 0 | N2: 0 | O2: 0 | P2: 0 | Q2: 0
A3: AF 1934M | B3: 3 | D3: 21192875 | E3: 0 | F3: 0 | G3: 21192875 | H3: 0 | I3: AF 1934M | J3: 0 | K3: 21192875 | L3: 0 | M3: 0 | N3: 0 | O3: 0 | P3: 0 | Q3: 0
A4: AF 25413 | B4: 2 | D4: 477556 | E4: 0 | F4: 0 | G4: 477556 | H4: 0 | I4: AF 25413 | J4: 0 | K4: 477556 | L4: 0 | M4: 0 | N4: 0 | O4: 0 | P4: 0 | Q4: 0
A5: AF 25526 | B5: 0 | D5: 20998367 | E5: 0 | F5: 0 | G5: 20998367 | H5: 0 | I5: AF 25526 | J5: 0 | K5: 20998367 | L5: 0 | M5: 0 | N5: 0 | O5: 0 | P5: 0 | Q5: 0
A6: AF 820M | B6: 0 | D6: 21707133 | E6: 0 | F6: 0 | G6: 21707133 | H6: 0 | I6: AF 820M | J6: 0 | K6: 21707133 | L6: 0 | M6: 0 | N6: 0 | O6: 0 | P6: 0 | Q6: 0
A7: FF 185 | B7: 2 | D7: 21707132 | E7: 0 | F7: 0 | G7: 21707132 | H7: 0 | I7: FF 185 | J7: 0 | K7: 21707132 | L7: 0 | M7: 0 | N7: 0 | O7: 0 | P7: 0 | Q7: 0
A8: FS 19730 | B8: 6 | D8: 8193841 | E8: 0 | F8: 0 | G8: 8193841 | H8: 0 | I8: FS 19730 | J8: 0 | K8: 8193841 | L8: 0 | M8: 0 | N8: 0 | O8: 0 | P8: 0 | Q8: 0
A9: LF 678 | B9: 4 | D9: 8159975 | E9: 0 | F9: 0 | G9: 8159975 | H9: 0 | I9: LF 678 | J9: 4 | K9: 8159975 | L9: 0 | M9: 0 | N9: 0 | O9: 0 | P9: 0 | Q9: 0
A10: LF 701 | B10: 0 | D10: LF 3654 | E10: 0 | F10: 0 | G10: LF 3654 | H10: 0 | I10: LF 701 | J10: 1 | K10: LF 3654 | L10: 0 | M10: 0 | N10: 0 | O10: 0 | P10: 0 | Q10: 0
A11: P 821575(N) | B11: 0 | D11: FS 19573 | E11: 0 | F11: 0 | G11: FS 19573 | H11: 0 | I11: P 821575(N) | J11: 0 | K11: FS 19573 | L11: 0 | M11: 0 | N11: 0 | O11: 0 | P11: 0 | Q11: 0
A12: WF 2071 | B12: 11 | D12: FF 5135 | E12: 0 | F12: 0 | G12: FF 5135 | H12: 0 | I12: WF 2071 | J12: 0 | K12: FF 5135 | L12: 0 | M12: 0 | N12: 0 | O12: 0 | P12: 0 | Q12: 0
A13: WF 2073 | B13: 2 | D13: FS 19624 | E13: 0 | F13: 0 | G13: FS 19624 | H13: 0 | I13: WF 2073 | J13: 0 | K13: FS 19624 | L13: 0 | M13: 0 | N13: 0 | O13: 0 | P13: 0 | Q13: 0
A14: WF 2075 | B14: 6 | D14: LF 670 | E14: 0 | F14: 0 | G14: LF 670 | H14: 0 | I14: WF 2075 | J14: 0 | K14: LF 670 | L14: 0 | M14: 0 | N14: 0 | O14: 0 | P14: 0 | Q14: 0
A15: WF 2076 | B15: 6 | D15: FH 23600 | E15: 0 | F15: 0 | G15: FH 23600 | H15: 0 | I15: WF 2076 | J15: 0 | K15: FH 23600 | L15: 0 | M15: 0 | N15: 0 | O15: 0 | P15: 0 | Q15: 2
A16: WF 2126 | B16: 5 | D16: FF 4036 | E16: 0 | F16: 0 | G16: FF 4036 | H16: 0 | I16: WF 2126 | J16: 0 | K16: FF 4036 | L16: 0 | M16: 0 | N16: 0 | O16: 0 | P16: 0 | Q16: 0
A17: LF 3379 | B17: 0 | D17: LF 3356 | E17: 0 | F17: 0 | G17: LF 3356 | H17: 0 | I17: LF 3379 | J17: 0 | K17: LF 3356 | L17: 0 | M17: 0 | N17: 0 | O17: 0 | P17: 0 | Q17: 0
A18: 26560163 | B18: 0 | D18: LF 3642 | E18: 0 | F18: 0 | G18: LF 3642 | H18: 0 | I18: 691782 | J18: 0 | K18: LF 3642 | L18: 0 | M18: 0 | N18: 0 | O18: 0 | P18: 0 | Q18: 0
A19: 691782 | B19: 1.1 | D19: LF 3376 | E19: 0 | F19: 0 | G19: LF 3376 | H19: 0 | I19: 692250 | J19: 1.4 | K19: LF 3376 | L19: 0 | M19: 0 | N19: 0 | O19: 0 | P19: 0 | Q19: 0
A20: 692250 | B20: 5 | D20: 212013S | E20: 0 | F20: 0 | G20: 212013S | H20: 0 | I20: 692332 | J20: 83.05 | K20: 212013S | L20: 0 | M20: 0 | N20: 0 | O20: 0 | P20: 0 | Q20: 0
A21: 692332 | B21: 46.18 | D21: 256535 | E21: 0 | F21: 0 | G21: 256535 | H21: 0 | I21: 692334 | J21: 34 | K21: 256535 | L21: 0 | M21: 0 | N21: 0 | O21: 0 | P21: 0 | Q21: 0
A22: 692334 | B22: 10 | D22: 3A111-19130 | E22: 0 | F22: 0 | G22: 3A111-19130 | H22: 0 | I22: 692178 | J22: 0 | K22: 3A111-19130 | L22: 0 | M22: 0 | N22: 0 | O22: 0 | P22: 0 | Q22: 0
A23: 692178 | B23: 0 | D23: AA 2955 | E23: 0 | F23: 0 | G23: AA 2955 | H23: 0 | I23: 692027 | J23: 23 | K23: AA 2955 | L23: 0 | M23: 0 | N23: 0 | O23: 0 | P23: 0 | Q23: 0
A24: 692027 | B24: 37.78 | D24: AA 2956 | E24: 0 | F24: 0 | G24: AA 2956 | H24: 0 | I24: 692026 | J24: 3.48 | K24: AA 2956 | L24: 0 | M24: 0 | N24: 0 | O24: 0 | P24: 0 | Q24: 0
A25: 692026 | B25: 7 | D25: AF 1658K | E25: 0 | F25: 0 | G25: AF 1658K | H25: 0 | I25: 692079 | J25: 34 | K25: AF 1658K | L25: 0 | M25: 0 | N25: 0 | O25: 0 | P25: 0 | Q25: 0
A26: 692079 | B26: 51 | D26: AF 1791 | E26: 0 | F26: 0 | G26: AF 1791 | H26: 0 | I26: 692077 | J26: 3.88 | K26: AF 1791 | L26: 0 | M26: 0 | N26: 0 | O26: 0 | P26: 0 | Q26: 0
A27: 692077 | B27: 8 | D27: AF 1811 | E27: 0 | F27: 0 | G27: AF 1811 | H27: 0 | I27: 692030 | J27: 0 | K27: AF 1811 | L27: 0 | M27: 0 | N27: 0 | O27: 0 | P27: 0 | Q27: 0
A28: 692030 | B28: 1.28 | D28: AF 1828 | E28: 0 | F28: 0 | G28: AF 1828 | H28: 0 | I28: 686033 | J28: 18 | K28: AF 1828 | L28: 0 | M28: 0 | N28: 0 | O28: 0 | P28: 0 | Q28: 0
A29: 686033 | B29: 75 | D29: AF 1840 | E29: 0 | F29: 0 | G29: AF 1840 | H29: 0 | I29: 686032 | J29: 17 | K29: AF 1840 | L29: 0 | M29: 0 | N29: 0 | O29: 0 | P29: 0 | Q29: 0
A30: 686032 | B30: 400 | D30: AF 1841 | E30: 0 | F30: 0 | G30: AF 1841 | H30: 0 | I30: 690814 | J30: 0 | K30: AF 1841 | L30: 0 | M30: 0 | N30: 0 | O30: 0 | P30: 0 | Q30: 0
A31: 690814 | B31: 0 | D31: AF 1862 | E31: 0 | F31: 0 | G31: AF 1862 | H31: 0 | I31: 691848 | J31: 11 | K31: AF 1862 | L31: 0 | M31: 0 | N31: 0 | O31: 0 | P31: 0 | Q31: 0
A32: 691848 | B32: 1 | D32: AF 1863 | E32: 0 | F32: 0 | G32: AF 1863 | H32: 0 | I32: 691911 | J32: 0 | K32: AF 1863 | L32: 0 | M32: 0 | N32: 0 | O32: 0 | P32: 0 | Q32: 0
A33: 691911 | B33: 10 | D33: AF 1894 | E33: 0 | F33: 0 | G33: AF 1894 | H33: 0 | I33: 691781 | J33: 0 | K33: AF 1894 | L33: 0 | M33: 0 | N33: 0 | O33: 0 | P33: 0 | Q33: 0
A34: 691781 | B34: 19 | D34: AF 1902M | E34: 0 | F34: 0 | G34: AF 1902M | H34: 0 | I34: VOE15067197 | J34: 30 | K34: AF 1902M | L34: 0 | M34: 0 | N34: 0 | O34: 0 | P34: 0 | Q34: 0
A35: VOE15067197 | B35: 242.05 | D35: AF 1903M | E35: 0 | F35: 0 | G35: AF 1903M | H35: 0 | I35: VOE15067404 | J35: 11 | K35: AF 1903M | L35: 0 | M35: 0 | N35: 0 | O35: 0 | P35: 0 | Q35: 0
A36: VOE15067404 | B36: 34 | D36: AF 1913 | E36: 0 | F36: 0 | G36: AF 1913 | H36: 0 | I36: VOE15058186 | J36: 21 | K36: AF 1913 | L36: 0 | M36: 0 | N36: 0 | O36: 0 | P36: 0 | Q36: 0
A37: VOE15058186 | B37: 0 | D37: AF 1934M | E37: 0 | F37: 0 | G37: AF 1934M | H37: 0 | I37: VOE15058191 | J37: 17 | K37: AF 1934M | L37: 0 | M37: 0 | N37: 0 | O37: 0 | P37: 0 | Q37: 3
A38: VOE15058191 | B38: 66.98077 | D38: AF 1935M | E38: 0 | F38: 0 | G38: AF 1935M | H38: 0 | I38: VOE15067098 | J38: 6 | K38: AF 1935M | L38: 0 | M38: 0 | N38: 0 | O38: 0 | P38: 0 | Q38: 0
A39: VOE15067098 | B39: 92 | D39: AF 25064 | E39: 0 | F39: 0 | G39: AF 25064 | H39: 0 | I39: VOE15067157 | J39: 1 | K39: AF 25064 | L39: 0 | M39: 0 | N39: 0 | O39: 0 | P39: 0 | Q39: 0
A40: VOE15067157 | B40: 1 | D40: AF 25088 | E40: 0 | F40: 0 | G40: AF 25088 | H40: 0 | I40: VOE15058290 | J40: 18 | K40: AF 25088 | L40: 0 | M40: 0 | N40: 0 | O40: 0 | P40: 0 | Q40: 0
...

Sheet Sheet1
A1: FS 19624 | B1: =C1+D1 -> 0 | C1: 0 | D1: =VLOOKUP(A1,Sheet2!A:B,2,) -> 0 | E1: FS 19624 | F1: =G1+H1 -> 0 | G1: 0 | H1: 0
A2: FH 23600 | B2: =C2+D2 -> 2 | C2: 0 | D2: =VLOOKUP(A2,Sheet2!A:B,2,) -> 2 | E2: FH 23600 | F2: =G2+H2 -> 0 | G2: 0 | H2: 0
A3: AF 1934M | B3: =C3+D3 -> 3 | C3: 0 | D3: =VLOOKUP(A3,Sheet2!A:B,2,) -> 3 | E3: AF 1934M | F3: =G3+H3 -> 0 | G3: 0 | H3: 0
A4: AF 25413 | B4: =C4+D4 -> 2 | C4: 0 | D4: =VLOOKUP(A4,Sheet2!A:B,2,) -> 2 | E4: AF 25413 | F4: =G4+H4 -> 0 | G4: 0 | H4: 0
A5: AF 25526 | B5: =C5+D5 -> 0 | C5: 0 | D5: =VLOOKUP(A5,Sheet2!A:B,2,) -> 0 | E5: AF 25526 | F5: =G5+H5 -> 0 | G5: 0 | H5: 0
A6: AF 820M | B6: =C6+D6 -> 0 | C6: 0 | D6: =VLOOKUP(A6,Sheet2!A:B,2,) -> 0 | E6: AF 820M | F6: =G6+H6 -> 0 | G6: 0 | H6: 0
A7: FF 185 | B7: =C7+D7 -> 2 | C7: 0 | D7: =VLOOKUP(A7,Sheet2!A:B,2,) -> 2 | E7: FF 185 | F7: =G7+H7 -> 0 | G7: 0 | H7: 0
A8: FS 19730 | B8: =C8+D8 -> 6 | C8: 0 | D8: =VLOOKUP(A8,Sheet2!A:B,2,) -> 6 | E8: FS 19730 | F8: =G8+H8 -> 0 | G8: 0 | H8: 0
A9: LF 678 | B9: =C9+D9 -> 8 | C9: 4 | D9: =VLOOKUP(A9,Sheet2!A:B,2,) -> 4 | E9: LF 678 | F9: =G9+H9 -> 4 | G9: 0 | H9: 4
A10: LF 701 | B10: =C10+D10 -> 1 | C10: 1 | D10: =VLOOKUP(A10,Sheet2!A:B,2,) -> 0 | E10: LF 701 | F10: =G10+H10 -> 1 | G10: 0 | H10: 1
A11: P 821575(N) | B11: =C11+D11 -> 0 | C11: 0 | D11: =VLOOKUP(A11,Sheet2!A:B,2,) -> 0 | E11: P 821575(N) | F11: =G11+H11 -> 0 | G11: 0 | H11: 0
A12: WF 2071 | B12: =C12+D12 -> 11 | C12: 0 | D12: =VLOOKUP(A12,Sheet2!A:B,2,) -> 11 | E12: WF 2071 | F12: =G12+H12 -> 0 | G12: 0 | H12: 0
... A17: LF 3379 | B17: =C17+D17 -> 0 | C17: 0 | D17: =VLOOKUP(A17,Sheet2!A:B,2,) -> 0 | E17: LF 3379 | F17: =G17+H17 -> 0 | G17: 0 | H17: 0
A18: 691782 | B18: =C18+D18 -> 1.1 | C18: 0 | D18: =VLOOKUP(A18,Sheet2!A:B,2,) -> 1.1 | E18: 26560163 | F18: =G18+H18 -> 1 | G18: 0 | H18: 1
A19: 692250 | B19: =C19+D19 -> 6.67 | C19: 1.67 | D19: =VLOOKUP(A19,Sheet2!A:B,2,) -> 5 | E19: 691782 | F19: =G19+H19 -> 1.1 | G19: 1.1 | H19: 0
A20: 692332 | B20: =C20+D20 -> 78.23 | C20: 32.05 | D20: =VLOOKUP(A20,Sheet2!A:B,2,) -> 46.18 | E20: 692250 | F20: =G20+H20 -> 1.4 | G20: 0 | H20: 1.4
A21: 692334 | B21: =C21+D21 -> 65 | C21: 55 | D21: =VLOOKUP(A21,Sheet2!A:B,2,) -> 10 | E21: 692332 | F21: =G21+H21 -> 111.23 | G21: 28.18 | H21: 83.05
A22: 692178 | B22: =C22+D22 -> 0 | C22: 0 | D22: =VLOOKUP(A22,Sheet2!A:B,2,) -> 0 | E22: 692334 | F22: =G22+H22 -> 34 | G22: 0 | H22: 34
A23: 692027 | B23: =C23+D23 -> 82.78 | C23: 45 | D23: =VLOOKUP(A23,Sheet2!A:B,2,) -> 37.78 | E23: 692178 | F23: =G23+H23 -> 0 | G23: 0 | H23: 0
A24: 692026 | B24: =C24+D24 -> 10.58 | C24: 3.58 | D24: =VLOOKUP(A24,Sheet2!A:B,2,) -> 7 | E24: 692027 | F24: =G24+H24 -> 23.78 | G24: 0.78 | H24: 23
A25: 692079 | B25: =C25+D25 -> 84 | C25: 33 | D25: =VLOOKUP(A25,Sheet2!A:B,2,) -> 51 | E25: 692026 | F25: =G25+H25 -> 8.48 | G25: 5 | H25: 3.48
A26: 692077 | B26: =C26+D26 -> 10.88 | C26: 2.88 | D26: =VLOOKUP(A26,Sheet2!A:B,2,) -> 8 | E26: 692079 | F26: =G26+H26 -> 74 | G26: 40 | H26: 34
A27: 692030 | B27: =C27+D27 -> 4.28 | C27: 3 | D27: =VLOOKUP(A27,Sheet2!A:B,2,) -> 1.28 | E27: 692077 | F27: =G27+H27 -> 7.88 | G27: 4 | H27: 3.88
A28: 686033 | B28: =C28+D28 -> 98 | C28: 23 | D28: =VLOOKUP(A28,Sheet2!A:B,2,) -> 75 | E28: 692030 | F28: =G28+H28 -> 0.28 | G28: 0.28 | H28: 0
A29: 686032 | B29: =C29+D29 -> 406 | C29: 6 | D29: =VLOOKUP(A29,Sheet2!A:B,2,) -> 400 | E29: 686033 | F29: =G29+H29 -> 65 | G29: 47 | H29: 18
... A33: 691781 | B33: =C33+D33 -> 20 | C33: 1 | D33: =VLOOKUP(A33,Sheet2!A:B,2,) -> 19 | E33: 691911 | F33: =G33+H33 -> 0 | G33: 0 | H33: 0
A34: VOE15067197 | B34: =C34+D34 -> 494.05 | C34: 252 | D34: =VLOOKUP(A34,Sheet2!A:B,2,) -> 242.05 | E34: 691781 | F34: =G34+H34 -> 0 | G34: 0 | H34: 0
A35: VOE15067404 | B35: =C35+D35 -> 90 | C35: 56 | D35: =VLOOKUP(A35,Sheet2!A:B,2,) -> 34 | E35: VOE15067197 | F35: =G35+H35 -> 30.05 | G35: 0.05 | H35: 30
A36: VOE15058186 | B36: =C36+D36 -> 37 | C36: 37 | D36: =VLOOKUP(A36,Sheet2!A:B,2,) -> 0 | E36: VOE15067404 | F36: =G36+H36 -> 56 | G36: 45 | H36: 11
A37: VOE15058191 | B37: =C37+D37 -> 181.98077 | C37: 115 | D37: =VLOOKUP(A37,Sheet2!A:B,2,) -> 66.98077 | E37: VOE15058186 | F37: =G37+H37 -> 28 | G37: 7 | H37: 21
A38: VOE15067098 | B38: =C38+D38 -> 100 | C38: 8 | D38: =VLOOKUP(A38,Sheet2!A:B,2,) -> 92 | E38: VOE15058191 | F38: =G38+H38 -> 34.48077 | G38: 17.48077 | H38: 17
A39: VOE15067157 | B39: =C39+D39 -> 2 | C39: 1 | D39: =VLOOKUP(A39,Sheet2!A:B,2,) -> 1 | E39: VOE15067098 | F39: =G39+H39 -> 56 | G39: 50 | H39: 6
A40: VOE15058290 | B40: =C40+D40 -> 32.8 | C40: 31 | D40: =VLOOKUP(A40,Sheet2!A:B,2,) -> 1.8 | E40: VOE15067157 | F40: =G40+H40 -> 2 | G40: 1 | H40: 1
A41: VOE15058299 | B41: =C41+D41 -> 0 | C41: 0 | D41: =VLOOKUP(A41,Sheet2!A:B,2,) -> 0 | E41: VOE15058290 | F41: =G41+H41 -> 18.8 | G41: 0.8 | H41: 18
A42: VOE15067515 | B42: =C42+D42 -> 105.025 | C42: 82 | D42: =VLOOKUP(A42,Sheet2!A:B,2,) -> 23.025 | E42: VOE15058299 | F42: =G42+H42 -> 0 | G42: 0 | H42: 0
A43: VOE15067522 | B43: =C43+D43 -> 142.8 | C43: 113 | D43: =VLOOKUP(A43,Sheet2!A:B,2,) -> 29.8 | E43: VOE15067515 | F43: =G43+H43 -> 41.025 | G43: 0.025 | H43: 41
A44: VOE15067640 | B44: =C44+D44 -> 32 | C44: 16 | D44: =VLOOKUP(A44,Sheet2!A:B,2,) -> 16 | E44: VOE15067522 | F44: =G44+H44 -> 98.8 | G44: 16.8 | H44: 82
A45: VOE15161234 | B45: =C45+D45 -> 27.777778 | C45: 26 | D45: =VLOOKUP(A45,Sheet2!A:B,2,) -> 1.7777778 | E45: VOE15067640 | F45: =G45+H45 -> 31 | G45: 14 | H45: 17
A46: 692070 | B46: =C46+D46 -> 1 | C46: 0 | D46: =VLOOKUP(A46,Sheet2!A:B,2,) -> 1 | E46: VOE15161234 | F46: =G46+H46 -> 16.777778 | G46: 0.77777778 | H46: 16
A47: 692053 | B47: =C47+D47 -> 645.03889 | C47: 150 | D47: =VLOOKUP(A47,Sheet2!A:B,2,) -> 495.03889 | E47: 692070 | F47: =G47+H47 -> 1 | G47: 1 | H47: 0
...

Sheet INQ (3)
A4: PO No. | B4: Brand | C4: Segment | D4: Description | E4: Pack Size | I4: Part No | J4: Unit Code | K4: Final Order Bottle | L4: Order Liter Q'ty | M4: Remark
A6: PO 058 | B6: Matador | C6: Cycle Oil | D6: 4T 20W-50 SG (Competitive Grade) | E6: 24 | F6: x | G6: 1 | H6: L | I6: adv 1001 | J6: Bottle | K6: =400*24 -> 9600 | L6: =K6*G6 -> 9600
B7: Matador | C7: Car Oil | D7: Premium 15W40, CI-4/SL Mas Additive | E7: 4 | F7: x | G7: 5 | H7: L | I7: adv 1004 | J7: Bottle | K7: =150*4 -> 600 | L7: =K7*G7 -> 3000
B8: Matador | C8: Car Oil | D8: Premium 15W40, CI-4/SL Mas Additive | E8: 24 | F8: x | G8: 1 | H8: L | I8: adv 1013 | J8: Bottle | K8: 1200 | L8: =K8*G8 -> 1200
B9: Matador | C9: Car Oil | D9: Power Steering Fluid | E9: 24 | F9: x | G9: 1 | H9: L | I9: adv 1203 | J9: Bottle | K9: 1200 | L9: =K9*G9 -> 1200
J10: Total Liters | L10: =SUM(L6:L9) -> 15000
A12: PO No. | B12: Brand | C12: Segment | D12: Description | E12: Pack Size | I12: Part No | J12: Unit Code | K12: Final Order Bottle | L12: Order Liter Q'ty | M12: Remark
A14: PO 059 | B14: Matador | C14: Car Oil | D14: 15W40 CI-4 MAS 7L | E14: 4 | F14: x | G14: 7 | H14: L | I14: adv 1192 | J14: Bottle | K14: =500*4 -> 2000 | L14: =K14*G14 -> 14000
J15: Total Liters | L15: =SUM(L14:L14) -> 14000
