Workbook

Sheet Budget received from HO
A1: Power System Weekly Budget Request
A2: No. | B2: Date | C2: RV Number | D2: Descriptions | E2: Amount
E3: Kyat | F3: USD
A4: 1 | E4: 0 | F4: 0
A5: 2 | E5: 0 | F5: 0
A6: 3 | E6: 0 | F6: 0
B7: Actual Expense | E7: =SUM(E4:E6) -> 0 | F7: =SUM(F4:F6) -> 0
B8: Total Budget | E8: 0 | F8: 0
B9: Difference | E9: =E7-E8 -> 0 | F9: =F7-F8 -> 0

Sheet 1nd time budget (Total)
A1: Power System Weekly Budget Request Sep'23
A2: No. | B2: Dept. | C2: Amount
C3: Kyat | D3: USD
A4: 1 | B4: Spare Part Department | C4: ='First Time Budget'!F39 -> 300000
A5: 2 | B5: Procurement Dept | C5: ='First Time Budget'!F35 -> 3500000
A6: 3 | B6: Sale & Marketing Dept(Hnin Hnin) | C6: ='First Time Budget'!F32 -> 3220000 | D6: 600
A7: 4 | B7: Finance & Account Dept | C7: ='First Time Budget'!F14 -> 530000
A8: 5 | B8: Rental Dept | C8: ='First Time Budget'!F11 -> 3242000
A9: 6 | B9: Service & Tech Support Dept | C9: ='First Time Budget'!F58 -> 3859000
A10: 7 | B10: Sale & Marketing Dept(HTZ) | C10: ='First Time Budget'!F26 -> 7780000
A11: 8 | B11: Administration Department | C11: ='First Time Budget'!F44 -> 765000
B12: Total Request | C12: =SUM(C4:C11) -> 23196000 | D12: =SUM(D4:D11) -> 600
B14: Cash In Hand
B15: HO Transfer
B16: Actual Paid

Sheet First Time Budget
C1: Power System Weekly Budget Request-Sep'2023
A2: No. | B2: Dept. | C2: Descriptions | D2: Amount
D3: Kyat | E3: USD
A4: 1 | B4: Rental Dept | C4: Car Fuel(3Units) | D4: 340000
C5: Car Fuel Extra | D5: 600000
C6: Trip Fuel(Kayan Thone Gwa) | D6: 30000
C7: Car repair ( 5M/1382 Body and Paint) | D7: 1200000
C8: TA (Myo Myint Aung -MLM ,Aung Aung -Latputtar ,Min Khant Kyaw -MDY ,Kyaw Min Khaing -TGO) | D8: 472000
C9: OT (5Person) | D9: 100000
C10: Machine Repair (200KVA radiator Repair) | D10: 500000
F11: =SUM(D4:D11) -> 3242000
A12: 2 | B12: Finance & Account Dept | C12: Taxi Charges For taking weekly budget and for going to tax office, AR collect | D12: 30000
C13: TA Charges To go to Mandalay PIC Ma Thiri Kyaw For Legal Case | D13: 500000
F14: =SUM(D12:D13) -> 530000
A15: 3 | B15: Sale And Marketing Dept(HTZ) | C15: Transport and crane charge | D15: 4000000
C16: Taxi and bank charge | D16: 20000
C17: Branch Support to NYU (Phyo Hein Pyae Kyaw)for Sept'23 | D17: 250000
C18: AGM and Marketing ADH Branch support to MYK | D18: 300000
C19: Machine repair and maintenance charge | D19: 700000
C20: AGM , ASM Aug'23 monthly fuel extra charge | D20: 500000
C21: September'23 monthly car fuel charge | D21: 360000
C22: 4flyer 1000pcs For Marketing | D22: 750000
C23: event for Khayan Tsp For Marketing | D23: 300000
C24: FB promote and post bosting For Marketing (for Sept'23) | D24: 300000
C25: Billboard for HPN ( Sticker and installation charge) For Marketing | D25: 300000
F26: =SUM(D15:D26) -> 7780000
A27: 4 | B27: Sale And Marketing Dept(HH) | C27: ASM TA advance for Sep'23 | D27: 1200000
C28: ASM TA clear | D28: 400000
C29: ASM incentive | D29: 1300000
C30: ASM Fuel | D30: 20000
C31: Brokers' fee | D31: 300000 | E31: 600
F32: =SUM(D27:D32) -> 3220000
A33: 5 | B33: Procurement Dept | C33: ADV for DHL and Border Duty Charges | D33: 1000000
C34: Advance for Local Purchased | D34: 2500000
F35: =SUM(D33:D34) -> 3500000
A36: 6 | B36: Spare Part | C36: Transportation charges for Local buying(if need) | D36: 50000
C37: Travelling Expenses For TGY BR visit | D37: 200000
C38: Sensor adaptor Modify charges | D38: 50000
F39: =SUM(D36:D39) -> 300000
A40: 7 | B40: Admin Dept | C40: General Expense for Office | D40: 100000
...

Sheet 2nd time budget (Total)
A1: Power System Weekly Budget Request Sep'23
A2: No. | B2: Dept. | C2: Amount
C3: Kyat | D3: USD
A4: 1 | B4: Rental Dept | C4: ='2nd time budget'!F9 -> 280000
A5: 2 | B5: Sale & Marketing dept -HTZ | C5: ='2nd time budget'!F12 -> 2050000
A6: 3 | B6: Procurement Dept | C6: ='2nd time budget'!F22 -> 5541000
A7: 4 | B7: Administrataion Dept | C7: ='2nd time budget'!#REF! -> #REF!
A8: 5 | B8: Service & Tech support Dept | C8: ='2nd time budget'!F32 -> 1830000
A9: 6 | B9: Spare part | C9: ='2nd time budget'!F18 -> 0
A10: 7 | B10: Sale and Mkt -HH | C10: ='2nd time budget'!F15 -> 0 | D10: ='2nd time budget'!G15 -> 0
A11: 8 | B11: Finance and Account Dept | C11: ='2nd time budget'!#REF! -> #REF!
A12: 9
B13: Total Request | C13: =SUM(C4:C12) -> #REF! | D13: =SUM(D4:D12) -> 0
B14: Cash In Hand
B15: HO Transfer
B16: Actual Paid

Sheet 2nd time budget
C1: Power System Weekly Budget Request-Sep '2023
A2: No. | B2: Dept. | C2: Descriptions | D2: Amount
D3: Kyat | E3: USD
A4: 1 | B4: Rental Dept | C4: Bridge Pass charges | D4: 20000
C5: Trip Fuel (For 3 Units) | D5: 30000
C6: Car Repair Charges | D6: 80000
C7: Transportation And Ferry charges | D7: 50000
C8: OT charges | D8: 100000
F9: =SUM(D4:D9) -> 280000
A10: 3 | B10: Sale And Marketing Dept(HTZ) | C10: Transport and crane charge | D10: 2000000
C11: AHM Machine name plate new making charge | D11: 50000
F12: =SUM(D10:D12) -> 2050000
A13: 3 | B13: Sale And Marketing Dept(HH)
F15: =SUM(D13:D15) -> 0 | G15: =SUM(E13:E15) -> 0
A16: 5 | B16: Spare Part
F18: =SUM(D16:D17) -> 0
A19: 4 | B19: Procurement Dept | C19: Cash Claim for Local Purchased | D19: 2041000
C20: ADV for DHL and Border Duty Charges | D20: 1000000
C21: Advance for Local Purchased | D21: 2500000
F22: =SUM(D19:D21) -> 5541000
A23: 6 | B23: Service and Tech Support | C23: Travelling Expenses - Local Trip Shwe Kan Maw stand by and Urgent job | D23: 400000
C24: OT Charges For AMS,PPA,ABM,KZTH,HOZ,SPO (Service) | D24: 100000
C25: Buying Distilled water & other needed accessories (machine repair) | D25: 300000
C26: Service laptop repairing | D26: 60000
C27: Delivery charges | D27: 80000
C28: Car repair roof for 2I/3938 for Body repair And Painting (Tech Support) | D28: 300000
C29: TA Charges For PTC Stand by & Urgent job warranty case | D29: 250000
C30: Baifa supplier (warranty parts) | D30: 40000
C31: Installtion charges | D31: 300000
F32: =SUM(D23:D32) -> 1830000
B33: Total Request | D33: =SUM(D4:D32) -> 9701000

Sheet 3nd time budget (Total)
A1: Power System Weekly Budget Request Sep'23
A2: No. | B2: Dept. | C2: Amount
C3: Kyat | D3: USD
A4: 1 | B4: Rental Dept | C4: 0
A5: 2 | B5: Sale & Marketing dept -HTZ | C5: 2550000
A6: 3 | B6: Procurement Dept | C6: 3000000
A7: 4 | B7: Administrataion Dept | C7: 550000
A8: 5 | B8: Service & Tech support Dept | C8: 1995000
A9: 6 | B9: Spare part
A10: 7 | B10: Sale and Mkt -HH | D10: ='2nd time budget'!G15 -> 0
A11: 8 | B11: Finance and Account Dept | C11: 20000
A12: 9
B13: Total Request | C13: =SUM(C4:C12) -> 8115000 | D13: =SUM(D4:D12) -> 0
B14: Cash In Hand
B15: HO Transfer
B16: Actual Paid

Sheet 3nd time budget 
C1: Power System Weekly Budget Request-Sep '2023
A2: No. | B2: Dept. | C2: Descriptions | D2: Amount
D3: Kyat | E3: USD
A5: 2 | B5: Finance & Account Dept | C5: Office ooredoo ph bill | D5: 20000
A7: 3 | B7: Sale And Marketing Dept(HTZ) | C7: TA Charges Branch require support and market condition servery to MKN branch | D7: 250000
C8: Transport and crane charge | D8: 2000000
A10: 5 | B10: Admin Dept | C10: Advance for SSB charge ( Sep'23 ) | D10: 550000
B13: Total Request | D13: =SUM(D4:D12) -> 2820000

Sheet Mar'23 first week
A1: First Time Weekly Budget Request for PG BU(05-05-23)
B2: Total Income | C2: MMK | G2: US$
A4: No. | B4: Description | C4: Categories | D4: Kyats | F4: US$ | H4: Remarks
D5: Cash | E5: Bank | F5: Cash | G5: Bank
A6: 1
A95: 2
A96: 3
A97: 4
A98: 5
A99: 6
A100: 7
A101: 8
A102: 9
A103: 10
A104: 11
A105: 12
... A107: 48
B108: Total | D108: =SUM(D6:D107) -> 0 | E108: =SUM(E6:E107) -> 0 | F108: =SUM(F6:F107) -> 0 | G108: =SUM(G6:G107) -> 0
F109: 0
B111: Received amount from corp cash | D111: 7266600 | E111: =E108 -> 0 | F111: =SUM(F108) -> 0
E113: =F111 -> 0
