Workbook

Sheet budget request for Jan'25
A1: Monthly Cash Budget Request - Jan'25
A2: BU: Renewable Energy
A3: COA | B3: Description | C3: Project Sales | D3: Service | F3: Sales Support | G3: HR&GA | H3: Procurement | I3: Project Implementation | K3: Sale and Marketing | M3: Budget (MMK) | N3: Budget (USD)
A4: OPEX | C4: (MMK) | D4: (MMK) | E4: (USD) | F4: (MMK) | G4: (MMK) | H4: (MMK) | I4: (MMK) | J4: (USD) | K4: (MMK) | L4: (USD) | M4: (MMK) | N4: (USD)
A5: [21060011] PERSONAL INCOME TAX-PSG | M5: =SUM(C5:K5) -> 0 | N5: =L5+E5+J5 -> 0
A6: 61010009 Tools and Equipment | B6: To buy Oscilloscope Meter. Tool charges (DC Angle Grinder), (Network Tester),(Cable Cutter),(DC Drill),(Fuel Hand Pump) | D6: =420000+150000+150000+470000+120000 -> 1310000 | I6: 1500000 | M6: =SUM(C6:K6) -> 2810000 | N6: =L6+E6+J6 -> 0
A7: 61010027 Employee Social Insurance | M7: =SUM(C7:K7) -> 0 | N7: =L7+E7+J7 -> 0
A8: 61001032 Admin - Commission and Incentive | M8: =SUM(C8:K8) -> 0 | N8: =L8+E8+J8 -> 0
A9: 62010001 Admin - Advertising Expenses | B9: For Taungoo Billboard vinyl charges,For Taungoo Billboard location transfer and vinyl installation charges,Matador Lectro and Winning Way facebook boosting for Jan'24,RE products pamphlet to all branch.1Sheet cataloge for solar,inverter and battery,X stand | K9: =700000+1400000+1000000+1500000+100000+900000+150000+18500+300000 -> 6068500 | L9: 200 | M9: =SUM(C9:K9) -> 6068500 | N9: =L9+E9+J9 -> 200
A10: 62010002 Admin - Audit Fees | M10: =SUM(C10:K10) -> 0 | N10: =L10+E10+J10 -> 0
A11: 62010003 Admin - Bank Charges | M11: =SUM(C11:K11) -> 0 | N11: =L11+E11+J11 -> 0
A12: 62010005 Admin - Car Fuel Expenses | B12: Trip Fuel Charges For Mandaly/MeikhtilarMonthly Fuel Charges of 9L/7702 (Jan'25) & Clear for (Dec'24).Cash Claim for Monthly Fuel Charges of Oct'24(1D/8707).(1H/5025).Trip Fuel Charges for Belin,Mudo and Kyauk Pa Daung.Monthly Fuel Charges4D/2109,5I/4841,Trip Fuel Charges,Mandalay,Taunggyi,fuel charges 3I-1627,5E/4761,1F/6973,Cycle fuel charges,Visiting card for RE BU | C12: 300000 | D12: =240000+220000+1000000 -> 1460000 | I12: =200000+500000+300000+200000+700000 -> 1900000 | K12: =500000+250000+300000+240000+50000 -> 1340000 | M12: =SUM(C12:K12) -> 5000000 | N12: =L12+E12+J12 -> 0
A13: 62010006 Admin - Car Licence Charges | M13: =SUM(C13:K13) -> 0 | N13: =L13+E13+J13 -> 0
A14: 62010007 Admin - Car Repair & Maintenance Charges | B14: Car Repair 4D/2109,5I/4841,Car Repair-Repair 1F/6973 and 5E/4761 | D14: =50000+50000 -> 100000 | K14: 1000000 | M14: =SUM(C14:K14) -> 1100000 | N14: =L14+E14+J14 -> 0
A15: 62010008 Admin - Communication & Telephone Expenses | B15: Internet WiFi Bill & Other Necessary Charges | D15: 80000 | M15: =SUM(C15:K15) -> 80000 | N15: =L15+E15+J15 -> 0
A16: 62010009 Admin - Computer & Copier Repair Chgs | B16: Computer repair 'Phway Yu Mon (Ram 8GBKVR21N15S8 1pc - 100,000) | G16: 100000 | M16: =SUM(C16:K16) -> 100000 | N16: =L16+E16+J16 -> 0
A17: 62010010 Admin - Copy and Binding Charges | M17: =SUM(C17:K17) -> 0 | N17: =L17+E17+J17 -> 0
A18: 62010012 Admin - Dhl Charges | M18: =SUM(C18:K18) -> 0 | N18: =L18+E18+J18 -> 0
A19: 62010013 Admin - Donation Expenses | M19: =SUM(C19:K19) -> 0 | N19: =L19+E19+J19 -> 0
A20: 62010014 Admin - Electricity Expenses | M20: =SUM(C20:K20) -> 0 | N20: =L20+E20+J20 -> 0
A21: 62010015 Admin - Employee Bonus | M21: =SUM(C21:K21) -> 0 | N21: =L21+E21+J21 -> 0
A22: 62010016 Admin - Employee Overtime Charges | B22: Overtime Charges For Dec,2024 | D22: 250000 | M22: =SUM(C22:K22) -> 250000 | N22: =L22+E22+J22 -> 0
A23: 62010017 Admin - Employee Salary Expenses | M23: =SUM(C23:K23) -> 0 | N23: =L23+E23+J23 -> 0
A24: 62010019 Admin - Employee Training Expenses - Local | M24: =SUM(C24:K24) -> 0 | N24: =L24+E24+J24 -> 0
A25: 62010021 Admin - Employee Travelling Expenses - Local Trip | B25: TA Charges For Mandaly/Meikhtilar,Taxi Charges,For Travelling,TA & MA Charges (Myeik,Kyauk Pa Daung,Mandalay)TA charges TGY,YGN,MDY,MLM,Myeik,Dawei,Nyaung-U,TCL,NLP,ect…Mandalay,Taunggyi,For ASM Tint Lwin Oo,San Naing Lin,Arkar Kyaw,Taxi charges | C25: =800000+30000 -> 830000 | D25: 6000000 | I25: 900000 | K25: =800000+900000+50000 -> 1750000 | M25: =SUM(C25:K25) -> 9480000 | N25: =L25+E25+J25 -> 0
A26: 62010023 Admin - Employee Uniform Expenses | M26: =SUM(C26:K26) -> 0 | N26: =L26+E26+J26 -> 0
A27: 62010024 Admin - Employee Welfare Expenses | B27: Birthday Cake Birthday Cake For Dec'24 | G27: 25000 | M27: =SUM(C27:K27) -> 25000 | N27: =L27+E27+J27 -> 0
A28: 62010025 Admin - Entertainment Expenses | B28: For dealer customer birthday cake charges | K28: 240000 | M28: =SUM(C28:K28) -> 240000 | N28: =L28+E28+J28 -> 0
A29: 62010026 Admin - Gift & Present Expenses | M29: =SUM(C29:K29) -> 0 | N29: =L29+E29+J29 -> 0
A30: 62010027 Admin - Miscellaneous Expenses | M30: =SUM(C30:K30) -> 0 | N30: =L30+E30+J30 -> 0
A31: 62010028 Admin - Office Rental Expenses | M31: =SUM(C31:K31) -> 0 | N31: =L31+E31+J31 -> 0
A32: 62010029 Admin - Office Repair & Maintenance Charges | M32: =SUM(C32:K32) -> 0 | N32: =L32+E32+J32 -> 0
A33: 62010030 Admin - Office Supplies Expenses | B33: General Expense for Office for drinking water | G33: 50000 | M33: =SUM(C33:K33) -> 50000 | N33: =L33+E33+J33 -> 0
A34: 62010031 Admin - Printing and Stationery | M34: =SUM(C34:K34) -> 0 | N34: =L34+E34+J34 -> 0
A35: 62010032 Admin - Business License Expenses | M35: =SUM(C35:K35) -> 0 | N35: =L35+E35+J35 -> 0
A36: 62010035 Admin - Employee Party Expenses | M36: =SUM(C36:K36) -> 0 | N36: =L36+E36+J36 -> 0
A37: 62010036 Admin - Legal Fees | M37: =SUM(C37:K37) -> 0 | N37: =L37+E37+J37 -> 0
A38: 62010037 Admin - R & D Expenses | M38: =SUM(C38:K38) -> 0 | N38: =L38+E38+J38 -> 0
A39: 62010038 Admin- Labour Cost | M39: =SUM(C39:K39) -> 0 | N39: =L39+E39+J39 -> 0
A40: 62010040 Admin- Taxes, fees and charges | M40: =SUM(C40:K40) -> 0 | N40: =L40+E40+J40 -> 0
...

Sheet Budget Vs Actual Comparison 
A1: Cash Budget Vs Actual Comparison -Nov'24 | E1: Income | F1: MMK
F2: USD
A3: BU: -----------REN---------------- | E3: Exchange Rate
A4: COA | B4: Budget (USD) | C4: Budget (MMK) | D4: Actual (USD) | E4: Actual (MMK) | F4: Variance (USD) | G4: Variance (MMK) | J4: Cash COA | K4: Actual Net(out) (USD) | L4: Actual Net(out) (MMK)
A5: OPEX
A6: [21060011] PERSONAL INCOME TAX-PSG | B6: =SUMIF('budget request for Jan''25'!$A:$A,'Budget Vs Actual Comparison '!$A:$A,'budget request for Jan''25'!$N:$N) -> 0 | C6: =SUMIF('budget request for Jan''25'!$A:$A,'Budget Vs Actual Comparison '!$A:$A,'budget request for Jan''25'!$M:$M) -> 0 | D6: =K6 -> 0 | E6: =L6 -> 0 | F6: =D6-B6 -> 0 | G6: =E6-C6 -> 0 | J6: PERSONAL INCOME TAX-PSG | K6: =SUMIFS('Cash Book'!$E:$E,'Cash Book'!$H:$H,'Budget Vs Actual Comparison '!$J:$J) -> 0 | L6: =SUMIFS('Cash Book'!$F:$F,'Cash Book'!$H:$H,'Budget Vs Actual Comparison '!$J:$J) -> 0
A7: 61010009 Tools and Equipment | B7: =SUMIF('budget request for Jan''25'!$A:$A,'Budget Vs Actual Comparison '!$A:$A,'budget request for Jan''25'!$N:$N) -> 0 | C7: =SUMIF('budget request for Jan''25'!$A:$A,'Budget Vs Actual Comparison '!$A:$A,'budget request for Jan''25'!$M:$M) -> 2810000 | D7: =K7 -> 0 | E7: =L7 -> 1300000 | F7: =D7-B7 -> 0 | G7: =E7-C7 -> -1510000 | J7: Tools and Equipment | K7: =SUMIF('Cash Book'!H:H,'Budget Vs Actual Comparison '!J:J,'Cash Book'!E:E) -> 0 | L7: =SUMIFS('Cash Book'!$F:$F,'Cash Book'!$H:$H,'Budget Vs Actual Comparison '!$J:$J) -> 1300000
A8: 61010011 Travelling cost of sale team | B8: =SUMIF('budget request for Jan''25'!$A:$A,'Budget Vs Actual Comparison '!$A:$A,'budget request for Jan''25'!$N:$N) -> 0 | C8: =SUMIF('budget request for Jan''25'!$A:$A,'Budget Vs Actual Comparison '!$A:$A,'budget request for Jan''25'!$M:$M) -> 0 | D8: =K8 -> 0 | E8: =L8 -> 0 | F8: =D8-B8 -> 0 | G8: =E8-C8 -> 0 | J8: Travelling cost of sale team | K8: =SUMIF('Cash Book'!H:H,'Budget Vs Actual Comparison '!J:J,'Cash Book'!E:E) -> 0 | L8: =SUMIFS('Cash Book'!$F:$F,'Cash Book'!$H:$H,'Budget Vs Actual Comparison '!$J:$J) -> 0
A9: 61010027 Employee Social Insurance | B9: =SUMIF('budget request for Jan''25'!$A:$A,'Budget Vs Actual Comparison '!$A:$A,'budget request for Jan''25'!$N:$N) -> 0 | C9: =SUMIF('budget request for Jan''25'!$A:$A,'Budget Vs Actual Comparison '!$A:$A,'budget request for Jan''25'!$M:$M) -> 0 | D9: =K9 -> 0 | E9: =L9 -> 0 | F9: =D9-B9 -> 0 | G9: =E9-C9 -> 0 | J9: Employee Social Insurance | K9: =SUMIF('Cash Book'!H:H,'Budget Vs Actual Comparison '!J:J,'Cash Book'!E:E) -> 0 | L9: =SUMIFS('Cash Book'!$F:$F,'Cash Book'!$H:$H,'Budget Vs Actual Comparison '!$J:$J) -> 0
A10: 61001032 Admin - Commission and Incentive | B10: =SUMIF('budget request for Jan''25'!$A:$A,'Budget Vs Actual Comparison '!$A:$A,'budget request for Jan''25'!$N:$N) -> 0 | C10: =SUMIF('budget request for Jan''25'!$A:$A,'Budget Vs Actual Comparison '!$A:$A,'budget request for Jan''25'!$M:$M) -> 0 | D10: =K10 -> 0 | E10: =L10 -> 0 | F10: =D10-B10 -> 0 | G10: =E10-C10 -> 0 | J10: Commission and Incentive | K10: =SUMIF('Cash Book'!H:H,'Budget Vs Actual Comparison '!J:J,'Cash Book'!E:E) -> 0 | L10: =SUMIFS('Cash Book'!$F:$F,'Cash Book'!$H:$H,'Budget Vs Actual Comparison '!$J:$J) -> 0
A11: 62010001 Admin - Advertising Expenses | B11: =SUMIF('budget request for Jan''25'!$A:$A,'Budget Vs Actual Comparison '!$A:$A,'budget request for Jan''25'!$N:$N) -> 200 | C11: =SUMIF('budget request for Jan''25'!$A:$A,'Budget Vs Actual Comparison '!$A:$A,'budget request for Jan''25'!$M:$M) -> 6068500 | D11: =K11 -> 0 | E11: =L11 -> 131500 | F11: =D11-B11 -> -200 | G11: =E11-C11 -> -5937000 | J11: Advertising Expenses | K11: =SUMIF('Cash Book'!H:H,'Budget Vs Actual Comparison '!J:J,'Cash Book'!E:E) -> 0 | L11: =SUMIFS('Cash Book'!$F:$F,'Cash Book'!$H:$H,'Budget Vs Actual Comparison '!$J:$J) -> 131500
A12: 62010002 Admin - Audit Fees | B12: =SUMIF('budget request for Jan''25'!$A:$A,'Budget Vs Actual Comparison '!$A:$A,'budget request for Jan''25'!$N:$N) -> 0 | C12: =SUMIF('budget request for Jan''25'!$A:$A,'Budget Vs Actual Comparison '!$A:$A,'budget request for Jan''25'!$M:$M) -> 0 | D12: =K12 -> 0 | E12: =L12 -> 0 | F12: =D12-B12 -> 0 | G12: =E12-C12 -> 0 | J12: Audit Fees | K12: =SUMIF('Cash Book'!H:H,'Budget Vs Actual Comparison '!J:J,'Cash Book'!E:E) -> 0 | L12: =SUMIFS('Cash Book'!$F:$F,'Cash Book'!$H:$H,'Budget Vs Actual Comparison '!$J:$J) -> 0
A13: 62010003 Admin - Bank Charges | B13: =SUMIF('budget request for Jan''25'!$A:$A,'Budget Vs Actual Comparison '!$A:$A,'budget request for Jan''25'!$N:$N) -> 0 | C13: =SUMIF('budget request for Jan''25'!$A:$A,'Budget Vs Actual Comparison '!$A:$A,'budget request for Jan''25'!$M:$M) -> 0 | D13: =K13 -> 0 | E13: =L13 -> 0 | F13: =D13-B13 -> 0 | G13: =E13-C13 -> 0 | J13: Bank Charges | K13: =SUMIF('Cash Book'!H:H,'Budget Vs Actual Comparison '!J:J,'Cash Book'!E:E) -> 0 | L13: =SUMIFS('Cash Book'!$F:$F,'Cash Book'!$H:$H,'Budget Vs Actual Comparison '!$J:$J) -> 0
A14: 62010005 Admin - Car Fuel Expenses | B14: =SUMIF('budget request for Jan''25'!$A:$A,'Budget Vs Actual Comparison '!$A:$A,'budget request for Jan''25'!$N:$N) -> 0 | C14: =SUMIF('budget request for Jan''25'!$A:$A,'Budget Vs Actual Comparison '!$A:$A,'budget request for Jan''25'!$M:$M) -> 5000000 | D14: =K14 -> 0 | E14: =L14 -> 1551000 | F14: =D14-B14 -> 0 | G14: =E14-C14 -> -3449000 | J14: Car Fuel Expenses | K14: =SUMIF('Cash Book'!H:H,'Budget Vs Actual Comparison '!J:J,'Cash Book'!E:E) -> 0 | L14: =SUMIFS('Cash Book'!$F:$F,'Cash Book'!$H:$H,'Budget Vs Actual Comparison '!$J:$J) -> 1551000
A15: 62010006 Admin - Car Licence Charges | B15: =SUMIF('budget request for Jan''25'!$A:$A,'Budget Vs Actual Comparison '!$A:$A,'budget request for Jan''25'!$N:$N) -> 0 | C15: =SUMIF('budget request for Jan''25'!$A:$A,'Budget Vs Actual Comparison '!$A:$A,'budget request for Jan''25'!$M:$M) -> 0 | D15: =K15 -> 0 | E15: =L15 -> 0 | F15: =D15-B15 -> 0 | G15: =E15-C15 -> 0 | J15: Car Licence Charges | K15: =SUMIF('Cash Book'!H:H,'Budget Vs Actual Comparison '!J:J,'Cash Book'!E:E) -> 0 | L15: =SUMIFS('Cash Book'!$F:$F,'Cash Book'!$H:$H,'Budget Vs Actual Comparison '!$J:$J) -> 0
A16: 62010007 Admin - Car Repair & Maintenance Charges | B16: =SUMIF('budget request for Jan''25'!$A:$A,'Budget Vs Actual Comparison '!$A:$A,'budget request for Jan''25'!$N:$N) -> 0 | C16: =SUMIF('budget request for Jan''25'!$A:$A,'Budget Vs Actual Comparison '!$A:$A,'budget request for Jan''25'!$M:$M) -> 1100000 | D16: =K16 -> 0 | E16: =L16 -> 446500 | F16: =D16-B16 -> 0 | G16: =E16-C16 -> -653500 | J16: Car Repair & Maintenance Charges | K16: =SUMIF('Cash Book'!H:H,'Budget Vs Actual Comparison '!J:J,'Cash Book'!E:E) -> 0 | L16: =SUMIFS('Cash Book'!$F:$F,'Cash Book'!$H:$H,'Budget Vs Actual Comparison '!$J:$J) -> 446500
A17: 62010008 Admin - Communication & Telephone Expenses | B17: =SUMIF('budget request for Jan''25'!$A:$A,'Budget Vs Actual Comparison '!$A:$A,'budget request for Jan''25'!$N:$N) -> 0 | C17: =SUMIF('budget request for Jan''25'!$A:$A,'Budget Vs Actual Comparison '!$A:$A,'budget request for Jan''25'!$M:$M) -> 80000 | D17: =K17 -> 0 | E17: =L17 -> 0 | F17: =D17-B17 -> 0 | G17: =E17-C17 -> -80000 | J17: Communication & Telephone Expenses | K17: =SUMIF('Cash Book'!H:H,'Budget Vs Actual Comparison '!J:J,'Cash Book'!E:E) -> 0 | L17: =SUMIFS('Cash Book'!$F:$F,'Cash Book'!$H:$H,'Budget Vs Actual Comparison '!$J:$J) -> 0
A18: 62010009 Admin - Computer & Copier Repair Chgs | B18: =SUMIF('budget request for Jan''25'!$A:$A,'Budget Vs Actual Comparison '!$A:$A,'budget request for Jan''25'!$N:$N) -> 0 | C18: =SUMIF('budget request for Jan''25'!$A:$A,'Budget Vs Actual Comparison '!$A:$A,'budget request for Jan''25'!$M:$M) -> 100000 | D18: =K18 -> 0 | E18: =L18 -> 250000 | F18: =D18-B18 -> 0 | G18: =E18-C18 -> 150000 | J18: Computer & Copier Repair Chgs | K18: =SUMIF('Cash Book'!H:H,'Budget Vs Actual Comparison '!J:J,'Cash Book'!E:E) -> 0 | L18: =SUMIFS('Cash Book'!$F:$F,'Cash Book'!$H:$H,'Budget Vs Actual Comparison '!$J:$J) -> 250000
A19: 62010010 Admin - Copy and Binding Charges | B19: =SUMIF('budget request for Jan''25'!$A:$A,'Budget Vs Actual Comparison '!$A:$A,'budget request for Jan''25'!$N:$N) -> 0 | C19: =SUMIF('budget request for Jan''25'!$A:$A,'Budget Vs Actual Comparison '!$A:$A,'budget request for Jan''25'!$M:$M) -> 0 | D19: =K19 -> 0 | F19: =D19-B19 -> 0 | G19: =E19-C19 -> 0 | J19: Copy and Binding Charges | K19: =SUMIF('Cash Book'!H:H,'Budget Vs Actual Comparison '!J:J,'Cash Book'!E:E) -> 0 | L19: =SUMIFS('Cash Book'!$F:$F,'Cash Book'!$H:$H,'Budget Vs Actual Comparison '!$J:$J) -> 0
A20: 62010012 Admin - Dhl Charges | B20: =SUMIF('budget request for Jan''25'!$A:$A,'Budget Vs Actual Comparison '!$A:$A,'budget request for Jan''25'!$N:$N) -> 0 | C20: =SUMIF('budget request for Jan''25'!$A:$A,'Budget Vs Actual Comparison '!$A:$A,'budget request for Jan''25'!$M:$M) -> 0 | D20: =K20 -> 0 | E20: =L20 -> 0 | F20: =D20-B20 -> 0 | G20: =E20-C20 -> 0 | J20: Dhl Charges | K20: =SUMIF('Cash Book'!H:H,'Budget Vs Actual Comparison '!J:J,'Cash Book'!E:E) -> 0 | L20: =SUMIFS('Cash Book'!$F:$F,'Cash Book'!$H:$H,'Budget Vs Actual Comparison '!$J:$J) -> 0
A21: 62010013 Admin - Donation Expenses | B21: =SUMIF('budget request for Jan''25'!$A:$A,'Budget Vs Actual Comparison '!$A:$A,'budget request for Jan''25'!$N:$N) -> 0 | C21: =SUMIF('budget request for Jan''25'!$A:$A,'Budget Vs Actual Comparison '!$A:$A,'budget request for Jan''25'!$M:$M) -> 0 | D21: =K21 -> 0 | E21: =L21 -> 0 | F21: =D21-B21 -> 0 | G21: =E21-C21 -> 0 | J21: Donation Expenses | K21: =SUMIF('Cash Book'!H:H,'Budget Vs Actual Comparison '!J:J,'Cash Book'!E:E) -> 0 | L21: =SUMIFS('Cash Book'!$F:$F,'Cash Book'!$H:$H,'Budget Vs Actual Comparison '!$J:$J) -> 0
A22: 62010014 Admin - Electricity Expenses | B22: =SUMIF('budget request for Jan''25'!$A:$A,'Budget Vs Actual Comparison '!$A:$A,'budget request for Jan''25'!$N:$N) -> 0 | C22: =SUMIF('budget request for Jan''25'!$A:$A,'Budget Vs Actual Comparison '!$A:$A,'budget request for Jan''25'!$M:$M) -> 0 | D22: =K22 -> 0 | E22: =L22 -> 0 | F22: =D22-B22 -> 0 | G22: =E22-C22 -> 0 | J22: Electricity Expenses | K22: =SUMIF('Cash Book'!H:H,'Budget Vs Actual Comparison '!J:J,'Cash Book'!E:E) -> 0 | L22: =SUMIFS('Cash Book'!$F:$F,'Cash Book'!$H:$H,'Budget Vs Actual Comparison '!$J:$J) -> 0
A23: 62010015 Admin - Employee Bonus | B23: =SUMIF('budget request for Jan''25'!$A:$A,'Budget Vs Actual Comparison '!$A:$A,'budget request for Jan''25'!$N:$N) -> 0 | C23: =SUMIF('budget request for Jan''25'!$A:$A,'Budget Vs Actual Comparison '!$A:$A,'budget request for Jan''25'!$M:$M) -> 0 | D23: =K23 -> 0 | E23: =L23 -> 0 | F23: =D23-B23 -> 0 | G23: =E23-C23 -> 0 | J23: Employee Bonus | K23: =SUMIF('Cash Book'!H:H,'Budget Vs Actual Comparison '!J:J,'Cash Book'!E:E) -> 0 | L23: =SUMIFS('Cash Book'!$F:$F,'Cash Book'!$H:$H,'Budget Vs Actual Comparison '!$J:$J) -> 0
A24: 62010016 Admin - Employee Overtime Charges | B24: =SUMIF('budget request for Jan''25'!$A:$A,'Budget Vs Actual Comparison '!$A:$A,'budget request for Jan''25'!$N:$N) -> 0 | C24: =SUMIF('budget request for Jan''25'!$A:$A,'Budget Vs Actual Comparison '!$A:$A,'budget request for Jan''25'!$M:$M) -> 250000 | D24: =K24 -> 0 | E24: =L24 -> 136500 | F24: =D24-B24 -> 0 | G24: =E24-C24 -> -113500 | J24: Employee Overtime Charges | K24: =SUMIF('Cash Book'!H:H,'Budget Vs Actual Comparison '!J:J,'Cash Book'!E:E) -> 0 | L24: =SUMIFS('Cash Book'!$F:$F,'Cash Book'!$H:$H,'Budget Vs Actual Comparison '!$J:$J) -> 136500
A25: 62010017 Admin - Employee Salary Expenses | B25: =SUMIF('budget request for Jan''25'!$A:$A,'Budget Vs Actual Comparison '!$A:$A,'budget request for Jan''25'!$N:$N) -> 0 | C25: =SUMIF('budget request for Jan''25'!$A:$A,'Budget Vs Actual Comparison '!$A:$A,'budget request for Jan''25'!$M:$M) -> 0 | D25: =K25 -> 0 | E25: =L25 -> 0 | F25: =D25-B25 -> 0 | G25: =E25-C25 -> 0 | J25: Employee Salary Expenses | K25: =SUMIF('Cash Book'!H:H,'Budget Vs Actual Comparison '!J:J,'Cash Book'!E:E) -> 0 | L25: =SUMIFS('Cash Book'!$F:$F,'Cash Book'!$H:$H,'Budget Vs Actual Comparison '!$J:$J) -> 0
A26: 62010019 Admin - Employee Training Expenses - Local | B26: =SUMIF('budget request for Jan''25'!$A:$A,'Budget Vs Actual Comparison '!$A:$A,'budget request for Jan''25'!$N:$N) -> 0 | C26: =SUMIF('budget request for Jan''25'!$A:$A,'Budget Vs Actual Comparison '!$A:$A,'budget request for Jan''25'!$M:$M) -> 0 | D26: =K26 -> 0 | E26: =L26 -> 0 | F26: =D26-B26 -> 0 | G26: =E26-C26 -> 0 | J26: Employee Training Expenses - Local | K26: =SUMIF('Cash Book'!H:H,'Budget Vs Actual Comparison '!J:J,'Cash Book'!E:E) -> 0 | L26: =SUMIFS('Cash Book'!$F:$F,'Cash Book'!$H:$H,'Budget Vs Actual Comparison '!$J:$J) -> 0
A27: 62010021 Admin - Employee Travelling Expenses - Local Trip | B27: =SUMIF('budget request for Jan''25'!$A:$A,'Budget Vs Actual Comparison '!$A:$A,'budget request for Jan''25'!$N:$N) -> 0 | C27: =SUMIF('budget request for Jan''25'!$A:$A,'Budget Vs Actual Comparison '!$A:$A,'budget request for Jan''25'!$M:$M) -> 9480000 | D27: =K27 -> 0 | E27: =L27 -> 3632900 | F27: =D27-B27 -> 0 | G27: =E27-C27 -> -5847100 | J27: Employee Travelling Expenses - Local Trip | K27: =SUMIF('Cash Book'!H:H,'Budget Vs Actual Comparison '!J:J,'Cash Book'!E:E) -> 0 | L27: =SUMIFS('Cash Book'!$F:$F,'Cash Book'!$H:$H,'Budget Vs Actual Comparison '!$J:$J) -> 3632900
A28: 62010023 Admin - Employee Uniform Expenses | B28: =SUMIF('budget request for Jan''25'!$A:$A,'Budget Vs Actual Comparison '!$A:$A,'budget request for Jan''25'!$N:$N) -> 0 | C28: =SUMIF('budget request for Jan''25'!$A:$A,'Budget Vs Actual Comparison '!$A:$A,'budget request for Jan''25'!$M:$M) -> 0 | D28: =K28 -> 0 | E28: =L28 -> 0 | F28: =D28-B28 -> 0 | G28: =E28-C28 -> 0 | J28: Employee Uniform Expenses | K28: =SUMIF('Cash Book'!H:H,'Budget Vs Actual Comparison '!J:J,'Cash Book'!E:E) -> 0 | L28: =SUMIFS('Cash Book'!$F:$F,'Cash Book'!$H:$H,'Budget Vs Actual Comparison '!$J:$J) -> 0
A29: 62010024 Admin - Employee Welfare Expenses | B29: =SUMIF('budget request for Jan''25'!$A:$A,'Budget Vs Actual Comparison '!$A:$A,'budget request for Jan''25'!$N:$N) -> 0 | C29: =SUMIF('budget request for Jan''25'!$A:$A,'Budget Vs Actual Comparison '!$A:$A,'budget request for Jan''25'!$M:$M) -> 25000 | D29: =K29 -> 0 | E29: =L29 -> 0 | F29: =D29-B29 -> 0 | G29: =E29-C29 -> -25000 | J29: Employee Welfare Expenses | K29: =SUMIF('Cash Book'!H:H,'Budget Vs Actual Comparison '!J:J,'Cash Book'!E:E) -> 0 | L29: =SUMIFS('Cash Book'!$F:$F,'Cash Book'!$H:$H,'Budget Vs Actual Comparison '!$J:$J) -> 0
A30: 62010025 Admin - Entertainment Expenses | B30: =SUMIF('budget request for Jan''25'!$A:$A,'Budget Vs Actual Comparison '!$A:$A,'budget request for Jan''25'!$N:$N) -> 0 | C30: =SUMIF('budget request for Jan''25'!$A:$A,'Budget Vs Actual Comparison '!$A:$A,'budget request for Jan''25'!$M:$M) -> 240000 | D30: =K30 -> 0 | E30: =L30 -> 30000 | F30: =D30-B30 -> 0 | G30: =E30-C30 -> -210000 | J30: Entertainment Expenses | K30: =SUMIF('Cash Book'!H:H,'Budget Vs Actual Comparison '!J:J,'Cash Book'!E:E) -> 0 | L30: =SUMIFS('Cash Book'!$F:$F,'Cash Book'!$H:$H,'Budget Vs Actual Comparison '!$J:$J) -> 30000
A31: 62010026 Admin - Gift & Present Expenses | B31: =SUMIF('budget request for Jan''25'!$A:$A,'Budget Vs Actual Comparison '!$A:$A,'budget request for Jan''25'!$N:$N) -> 0 | C31: =SUMIF('budget request for Jan''25'!$A:$A,'Budget Vs Actual Comparison '!$A:$A,'budget request for Jan''25'!$M:$M) -> 0 | D31: =K31 -> 0 | E31: =L31 -> 0 | F31: =D31-B31 -> 0 | G31: =E31-C31 -> 0 | J31: Gift & Present Expenses | K31: =SUMIF('Cash Book'!H:H,'Budget Vs Actual Comparison '!J:J,'Cash Book'!E:E) -> 0 | L31: =SUMIFS('Cash Book'!$F:$F,'Cash Book'!$H:$H,'Budget Vs Actual Comparison '!$J:$J) -> 0
... A55: 62010060 Admin - Sales and Marketing Expenses | B55: =SUMIF('budget request for Jan''25'!$A:$A,'Budget Vs Actual Comparison '!$A:$A,'budget request for Jan''25'!$N:$N) -> 0 | C55: =SUMIF('budget request for Jan''25'!$A:$A,'Budget Vs Actual Comparison '!$A:$A,'budget request for Jan''25'!$M:$M) -> 0 | D55: =K55 -> 0 | E55: =L55 -> 0 | F55: =D55-B55 -> 0 | G55: =E55-C55 -> 0 | J55: Sales and Marketing Expenses | K55: =SUMIF('Cash Book'!H:H,'Budget Vs Actual Comparison '!J:J,'Cash Book'!E:E) -> 0 | L55: =SUMIFS('Cash Book'!$F:$F,'Cash Book'!$H:$H,'Budget Vs Actual Comparison '!$J:$J) -> 0
A56: TOTAL OPEX | B56: =SUM(B6:B55) -> 200 | C56: =SUM(C6:C55) -> 25963500 | D56: =SUM(D6:D55) -> 0 | E56: =SUM(E6:E55) -> 8207000 | F56: =B56-D56 -> 200 | G56: =E56-C56 -> -17756500 | K56: =SUM(K6:K55) -> 0 | L56: =SUM(L6:L55) -> 8207000
A57: Conbined Amount(MMK) | B57: =B56 -> 200 | C57: =C56 -> 25963500 | D57: =D56 -> 0 | E57: =E56 -> 8207000 | F57: =F56 -> 200 | G57: =G56 -> -17756500
B58: OPEX Variance % | G58: =G57/C57 -> -0.6839024 | H58: Measurement for Salary | K58: =K56 -> 0 | L58: =L56 -> 8207000
A60: COGS
A61: COGS - DHL Charges / Border Charges | B61: =SUMIF('budget request for Jan''25'!$A:$A,'Budget Vs Actual Comparison '!$A:$A,'budget request for Jan''25'!$N:$N) -> 0 | C61: =SUMIF('budget request for Jan''25'!$A:$A,'Budget Vs Actual Comparison '!$A:$A,'budget request for Jan''25'!$M:$M) -> 400000 | D61: =K61 -> 0 | E61: =L61 -> 0 | F61: =D61-B61 -> 0 | G61: =E61-C61 -> -400000 | J61: COGS - DHL Charges / Border Charges | K61: =SUMIF('Cash Book'!H:H,'Budget Vs Actual Comparison '!J:J,'Cash Book'!E:E) -> 0 | L61: =SUMIFS('Cash Book'!$F:$F,'Cash Book'!$H:$H,'Budget Vs Actual Comparison '!$J:$J) -> 0
A62: [51010001] COGS - Units & Parts | B62: =SUMIF('budget request for Jan''25'!$A:$A,'Budget Vs Actual Comparison '!$A:$A,'budget request for Jan''25'!$N:$N)+3131 -> 3131 | C62: =SUMIF('budget request for Jan''25'!$A:$A,'Budget Vs Actual Comparison '!$A:$A,'budget request for Jan''25'!$M:$M)+20545228 -> 54632728 | D62: =K62 -> 5155 | E62: =L62 -> 41547346 | F62: =D62-B62 -> 2024 | G62: =E62-C62 -> -13085382 | J62: COGS - Units & Parts | K62: =SUMIF('Cash Book'!H:H,'Budget Vs Actual Comparison '!J:J,'Cash Book'!E:E) -> 5155 | L62: =SUMIFS('Cash Book'!$F:$F,'Cash Book'!$H:$H,'Budget Vs Actual Comparison '!$J:$J) -> 41547346
A63: COGS - Part | B63: =SUMIF('budget request for Jan''25'!$A:$A,'Budget Vs Actual Comparison '!$A:$A,'budget request for Jan''25'!$N:$N) -> 0 | C63: =SUMIF('budget request for Jan''25'!$A:$A,'Budget Vs Actual Comparison '!$A:$A,'budget request for Jan''25'!$M:$M) -> 0 | D63: =K63 -> 0 | E63: =L63 -> 0 | F63: =D63-B63 -> 0 | G63: =E63-C63 -> 0 | J63: COGS - Part | K63: =SUMIF('Cash Book'!H:H,'Budget Vs Actual Comparison '!J:J,'Cash Book'!E:E) -> 0 | L63: =SUMIFS('Cash Book'!$F:$F,'Cash Book'!$H:$H,'Budget Vs Actual Comparison '!$J:$J) -> 0
A64: Transportation Charges-Units | B64: =SUMIF('budget request for Jan''25'!$A:$A,'Budget Vs Actual Comparison '!$A:$A,'budget request for Jan''25'!$N:$N) -> 0 | C64: =SUMIF('budget request for Jan''25'!$A:$A,'Budget Vs Actual Comparison '!$A:$A,'budget request for Jan''25'!$M:$M) -> 0 | D64: =K64 -> 0 | E64: =L64 -> 0 | F64: =D64-B64 -> 0 | G64: =E64-C64 -> 0 | J64: Transportation Charges-Units | K64: =SUMIF('Cash Book'!H:H,'Budget Vs Actual Comparison '!J:J,'Cash Book'!E:E) -> 0 | L64: =SUMIFS('Cash Book'!$F:$F,'Cash Book'!$H:$H,'Budget Vs Actual Comparison '!$J:$J) -> 0
...

Sheet Cash Book
A1: Date | B1: Voucher No | C1: Comer | D1: Note | E1: USD | F1: Amount | G1: Exp | H1: dd | I1: Remark
A2: 45601 | B2: ADV-REN-2024-11-00007 | C2: Ei Thwe Phyo | D2: ADV-REN-2024-11-00007-Advance request TA charges for 6kW Solar system installation U Sai Sam TGY. Total Amount-350,000/-MMK, PIC- Nay Win Myint, Cho Zin Thet | E2: 0 | F2: 350000 | G2: OPEX | H2: Employee Travelling Expenses - Local Trip
A3: 45601 | B3: ADV-REN-2024-11-00008 | C3: Ei Thwe Phyo | D3: ADV-REN-2024-11-00008-Advance Request TA Charges for Solar PV installation U Phyo Maung Maung Nyunt (MLM). Total amount- MMK 300,000/-, PIC- Maung Maung, Zwel Pyae Sone Aung | E3: 0 | F3: 300000 | G3: OPEX | H3: Employee Travelling Expenses - Local Trip
A4: 45601 | B4: ADV-REN-2024-11-00009 | C4: Ei Thwe Phyo | D4: ADV-REN-2024-11-00009-Advance request material charges for Solar watt power 4.4kWp, Inverter Capacity 5kW ( Single Phase), Battery Capacity 10.24Wh Off Grid Hybrid Solar Energy Storage System for Ma Yar Yar (or) Daw Hla Myat Chae (MDY).Total amount-MMK 1,246,000/-,PIC- Nay Win Myint,Kyaw Swar Myint | E4: 0 | F4: 1246000 | G4: COGS | H4: COGS - Units & Parts
A5: 45601 | B5: ADV-REN-2024-11-00011 | C5: Ei Thwe Phyo | D5: ADV-REN-2024-11-00011-Advance request Material charges for Solar watt power 4.4kWp, Inverter Capacity 6kW ( Single Phase), Battery Capacity 10.24Wh Off Grid Hybrid Solar Energy Storage System for U Sai Sam( Taunggyi). Total amount-MMK 1,046,000/-,PIC Nay Win Myint,Cho Zin Thet | E5: 0 | F5: 1046000 | G5: COGS | H5: COGS - Units & Parts
A6: 45601 | B6: ADV-REN-2024-11-00012 | C6: Ei Thwe Phyo | D6: ADV-REN-2024-11-00012-Advance request material charges for 7.7kWp solar PV installation U Phyo Mg Mg Nyunt MLM. Total amount- MMK600,000/-, PIC Mg Mg, Zwel Pyae Sone Aung | E6: 0 | F6: 600000 | G6: COGS | H6: COGS - Units & Parts
A7: 45602 | B7: UBG-REN-2024-10-00003 | C7: Ei Thwe Phyo | D7: UBG-REN-2024-10-00003-Advance request for to buy Materials cost of Cu/XLPE/PVC 1Cx70mmsq , 1Cx6mmsq Earth Cable (100KW On Grid Solar System Mibamyinttar Ice Factory) - Total Adv - 17,781,228 MMK. | E7: 0 | F7: 17781228 | G7: COGS | H7: COGS - Units & Parts
A8: 45604 | B8: UBG-REN-2024-11-00001 | C8: Ei Thwe Phyo | D8: UBG-REN-2024-11-00001-Advance request for Materials Cost of T8 30KW On-Grid Solar System Installation site Lightning Protection System. (Total ADV - 2764,000 MMK). | E8: 0 | F8: 2764000 | G8: COGS | H8: COGS - Units & Parts
A9: 45607 | B9: EX-REN-2024-11-00007 | C9: Ei Thwe Phyo | D9: Cash claim Transportation charges to transport DC Battery Gun use in Solar Installation from Myeik Branch to Yangon HO. Total amount-15,000/-, PIC-Aung Ko Ko Oo,Aung Than Kyaw | E9: 0 | F9: 15000 | G9: COGS | H9: COGS - Units & Parts
A10: 45607 | B10: EX-REN-2024-11-00005 | C10: Ei Thwe Phyo | D10: Cash claim transportation charges from YGN to TCL ( BMS Software cable for Battery inspection of Dr. Khaing Myat Thu Soe TCL).Total amount-MMK 15,000/-, PIC- Aung Ko Ko Oo | E10: 0 | F10: 15000 | G10: COGS | H10: COGS - Units & Parts
A11: 45607 | B11: EX-REN-2024-11-00006 | C11: Ei Thwe Phyo | D11: Cash claim OT charges for October 2024. Total amount-MMK136,500/- | E11: 0 | F11: 136500 | G11: OPEX | H11: Employee Overtime Charges
A12: 45607 | B12: EX-REN-2024-11-00003 | C12: Ei Thwe Phyo | D12: Cash claim Taxi charges for inspection of CW's Woman( How to use ATS 13.10.2024) from Ywama(Bayintnaung) to Mindhama and Mindhama to Ywama(Bayintnaung). Cash Claim Taxi charges for inspection of U Khin Maung Ohm ( Change new ATS 16.10.2024) from Ywama(Bayintnaung) to Minzayti Bus stop(Insein) and Minzayti bus stop(Insein) to Ywama(Bayintnaung). Total amount- 38,600/-MMK,PIC- Nay Win Myint | E12: 0 | F12: 38600 | G12: OPEX | H12: Employee Transportation & Ferry Charges
A13: 45607 | B13: EX-REN-2024-11-00004 | C13: Ei Thwe Phyo | D13: Cash claim taxi charges for reinstall solar PV@10Units inn U Toe Ice Factory Myeik( From U Toe Ice Factory to Myeik Branch 9.92024). Total Amount- MMK10,000/-,PIC Thet Khine Htwe, Aung Than Kyaw | E13: 0 | F13: 10000 | G13: OPEX | H13: Employee Transportation & Ferry Charges
... A66: 45618 | B66: UBG-REN-2024-11-00002 | C66: Nann Oo | D66: UBG-REN-2024-11-00002-Advance Request for Materials Cost of 12KWx3 Inverter & Busbar Panel (Golden Gate Installation), (Total Adv - $ 1,575 ) | E66: 1181 | F66: 0 | G66: COGS | H66: COGS - Units & Parts
E67: 0 | F67: 0
E68: 0 | F68: 0
E69: 0 | F69: 0
E70: 0 | F70: 0
E71: 0 | F71: 0
E72: 0 | F72: 0
E73: 0 | F73: 0
E74: 0 | F74: 0
E75: 0 | F75: 0
E76: 0 | F76: 0
E77: 0 | F77: 0
E78: 0 | F78: 0
D79: Out | E79: =SUBTOTAL(9,E2:E78) -> 5155 | F79: =SUBTOTAL(9,F2:F78) -> 52101746

Sheet COA - for reference only
A1: OPEX | B1: Description(BU/BR)
A2: 61010009 Tools and Equipment | B2: Tools & S'part Packing Expense , Purchase equipment for CE Job
A3: 61010011 Travelling cost of sale team | B3: Travelling Charges for sale team , Sale & Marketing & Rental Transporter Way Job.
A4: 61010027 Employee Social Insurance | B4: Insurance for Employee
A5: 61001032 Admin - Commission and Incentive | B5: Commission give to agents and Incentive give to employee
A6: 62010001 Admin - Advertising Expenses | B6: Making Sign Board /Signboard installation /Repair Signboard /Pamphlet Charges/Sticker Printing/Article Fees for Online Facebook Page/Booklets/ Vinyl
A7: 62010002 Admin - Audit Fees | B7: Audit Charges
A8: 62010003 Admin - Bank Charges | B8: Bank Charges
A9: 62010005 Admin - Car Fuel Expenses | B9: Expenses for diesel, gasoline, Octane and CNG of all company's cars and motor cycle
A10: 62010006 Admin - Car Licence Charges | B10: Car/ Cycle Licence Extension, Wheel Tax Fee
A11: 62010007 Admin - Car Repair & Maintenance Charges | B11: Repair Body & Paint / Buying Tyre/Change Engine and Engine Oil/Change Car Battery / Cycle Repair / Motor Bike Repair/ Forklift Repair
A12: 62010008 Admin - Communication & Telephone Expenses | B12: Telephone Bill / Internet Bill /Wifi Adapter
... A49: 62010059 Admin - Machine Repair & Maintenance | B49: Machine Repair Charges/ Installation Charges
A50: COGS
A51: 51020046COGS - Mecc Alte Spare Parts | B51: S'part Dept; for local part purchase order; Customer urgent order & inventory stock
A52: 51010054 COGS - Commission Units | B52: Broker Fee
A53: 51010061 COGS - Units Licence And Duty Cost | B53: Duty & Clearance Charges
A54: Repossess Expenses | B54: Repossess machine transportation charges
A55: Fixed Assets(CAPX)
A56: [15025000] FA - Furniture and Fixture | B56: Watercooler,…....
A57: [15020001] FA - Computer and Electrical Equipment | B57: Computer ,Color Printer , Printer,…......
A58: [15024000] FA - Motor Vehicle | B58: Purchase Cycle , Car,Forklift ,Bike,.....
